{"text_format":"1","workbook":"xlsx","n_sheets":45,"sheets":["Summary","Outline and Conclusions","Composite","Plate Layout","Compound 1","Compound 1 Kinome Tree","Compound 2","Compound 2 Kinome Tree","Compound 3","Compound 3 Kinome Tree","Compound 4","Compound 4 Kinome Tree","Compound 5","Compound 5 Kinome Tree","Compound 6","Compound 6 Kinome Tree","Compound 7","Compound 7 Kinome Tree","Compound 8","Compound 8 Kinome Tree","Compound 9","Compound 9 Kinome Tree","Compound 10","Compound 10 Kinome Tree","Compound 11","Compound 11 Kinome Tree","Compound 12","Compound 12 Kinome Tree","Compound 13","Compound 13 Kinome Tree","Compound 14","Compound 14 Kinome Tree","Compound 15","Compound 15 Kinome Tree","Compound 16","Compound 16 Kinome Tree","Compound 17","Compound 17 Kinome Tree","Compound 18","Compound 18 Kinome Tree","Compound 19","Compound 19 Kinome Tree","No Inhibitor Info","Table of 400+ Kinases","Assay Conditions"],"not_rendered":{"charts":0,"images":71,"macros":1,"external_links":2,"defined_names":52,"comments":0,"pivot_tables":0},"unopened":[],"bounds":{"document_bytes":16777216,"sheet_cells":100000,"rows_first":2000,"rows_last":500,"rows_between":2000,"halvings":0,"cell_chars":16384,"cell_head_chars":4096},"cells_cut":0,"cells_raw":0,"read":"whole","date_system":"1900"}

{"sheet":"Summary","index":0,"n_rows":28,"n_cols":29,"rows_kept":28,"cut":false,"hidden":false,"merged":[[6,10,7,10],[6,6,6,9],[6,0,7,0],[6,2,7,2],[6,3,7,3],[6,4,7,4],[6,5,7,5],[6,1,7,1]]}
[]
[]
[]
[]
[]
[]
["Compound Number","Run Number","Compound Name","Test Concentration, \nµM","# Kinases Tested","ATP Concentration","# Kinases inhibited at or above a set percentage",null,null,null,"Helper"]
[null,null,null,null,null,null," >30% (all)",">50% (all)",">70% (all)",">90% (all)"]
["Column1","Column12","Column2","Column3","Column4","Column5"," >30% (all)",">50% (all)",">70% (all)",">90% (all)","Column6"]
[1,2,"Gefitinib",0.15,399,"1 mM",{"$f":"COUNTIF('Compound 1'!$D$3:$D$405,\">30\")","v":3},{"$f":"COUNTIF('Compound 1'!$D$3:$D$405,\">50\")","v":2},{"$f":"COUNTIF('Compound 1'!$D$3:$D$405,\">70\")","v":2},{"$f":"COUNTIF('Compound 1'!$D$3:$D$405,\">90\")","v":0},null,null,null,null,null,null,null,null,null,null,null,null,null,null,null,null,null,{"$f":"Table1[[#This Row],[Column3]] &\" µM \" &Table1[[#This Row],[Column2]] &\", % inhibition at \" &Table1[[#This Row],[Column5]]","v":"0.15 µM Gefitinib, % inhibition at 1 mM"},{"$f":"\"Kinome Hit View for \" & Table1[[#This Row],[Column2]] & \" (\" & Table1[[#This Row],[Column3]] & \" µM) with \" &Table1[[#This Row],[Column4]]&  \" Kinases (Coral Names) at \" & Table1[[#This Row],[Column5]]","v":"Kinome Hit View for Gefitinib (0.15 µM) with 399 Kinases (Coral Names) at 1 mM"}]
[2,1,"Gefitinib",0.15,386," ATP Km ",{"$f":"COUNTIF('Compound 2'!$D$3:$D$520,\">30\")","v":6},{"$f":"COUNTIF('Compound 2'!$D$3:$D$520,\">50\")","v":4},{"$f":"COUNTIF('Compound 2'!$D$3:$D$520,\">70\")","v":1},{"$f":"COUNTIF('Compound 2'!$D$3:$D$520,\">90\")","v":1},null,null,null,null,null,null,null,null,null,null,null,null,null,null,null,null,null,{"$f":"Table1[[#This Row],[Column3]] &\" µM \" &Table1[[#This Row],[Column2]] &\", % inhibition at \" &Table1[[#This Row],[Column5]]","v":"0.15 µM Gefitinib, % inhibition at  ATP Km "},{"$f":"\"Kinome Hit View for \" & Table1[[#This Row],[Column2]] & \" (\" & Table1[[#This Row],[Column3]] & \" µM) with \" &Table1[[#This Row],[Column4]]&  \" Kinases (Coral Names) at \" & Table1[[#This Row],[Column5]]","v":"Kinome Hit View for Gefitinib (0.15 µM) with 386 Kinases (Coral Names) at  ATP Km "}]
[3,2,"Gefitinib",1.4999999999999999E-2,399,"1 mM",{"$f":"COUNTIF('Compound 3'!$D$3:$D$520,\">30\")","v":1},{"$f":"COUNTIF('Compound 3'!$D$3:$D$520,\">50\")","v":0},{"$f":"COUNTIF('Compound 3'!$D$3:$D$520,\">70\")","v":0},{"$f":"COUNTIF('Compound 3'!$D$3:$D$520,\">90\")","v":0},null,null,null,null,null,null,null,null,null,null,null,null,null,null,null,null,null,{"$f":"Table1[[#This Row],[Column3]] &\" µM \" &Table1[[#This Row],[Column2]] &\", % inhibition at \" &Table1[[#This Row],[Column5]]","v":"0.015 µM Gefitinib, % inhibition at 1 mM"},{"$f":"\"Kinome Hit View for \" & Table1[[#This Row],[Column2]] & \" (\" & Table1[[#This Row],[Column3]] & \" µM) with \" &Table1[[#This Row],[Column4]]&  \" Kinases (Coral Names) at \" & Table1[[#This Row],[Column5]]","v":"Kinome Hit View for Gefitinib (0.015 µM) with 399 Kinases (Coral Names) at 1 mM"}]
[4,1,"Gefitinib",1.4999999999999999E-2,386," ATP Km ",{"$f":"COUNTIF('Compound 4'!$D$3:$D$520,\">30\")","v":1},{"$f":"COUNTIF('Compound 4'!$D$3:$D$520,\">50\")","v":1},{"$f":"COUNTIF('Compound 4'!$D$3:$D$520,\">70\")","v":1},{"$f":"COUNTIF('Compound 4'!$D$3:$D$520,\">90\")","v":1},null,null,null,null,null,null,null,null,null,null,null,null,null,null,null,null,null,{"$f":"Table1[[#This Row],[Column3]] &\" µM \" &Table1[[#This Row],[Column2]] &\", % inhibition at \" &Table1[[#This Row],[Column5]]","v":"0.015 µM Gefitinib, % inhibition at  ATP Km "},{"$f":"\"Kinome Hit View for \" & Table1[[#This Row],[Column2]] & \" (\" & Table1[[#This Row],[Column3]] & \" µM) with \" &Table1[[#This Row],[Column4]]&  \" Kinases (Coral Names) at \" & Table1[[#This Row],[Column5]]","v":"Kinome Hit View for Gefitinib (0.015 µM) with 386 Kinases (Coral Names) at  ATP Km "}]
[5,1,"Gefitinib",2.5000000000000001E-3,386," ATP Km ",{"$f":"COUNTIF('Compound 5'!$D$3:$D$520,\">30\")","v":1},{"$f":"COUNTIF('Compound 5'!$D$3:$D$520,\">50\")","v":1},{"$f":"COUNTIF('Compound 5'!$D$3:$D$520,\">70\")","v":0},{"$f":"COUNTIF('Compound 5'!$D$3:$D$520,\">90\")","v":0},null,null,null,null,null,null,null,null,null,null,null,null,null,null,null,null,null,{"$f":"Table1[[#This Row],[Column3]] &\" µM \" &Table1[[#This Row],[Column2]] &\", % inhibition at \" &Table1[[#This Row],[Column5]]","v":"0.0025 µM Gefitinib, % inhibition at  ATP Km "},{"$f":"\"Kinome Hit View for \" & Table1[[#This Row],[Column2]] & \" (\" & Table1[[#This Row],[Column3]] & \" µM) with \" &Table1[[#This Row],[Column4]]&  \" Kinases (Coral Names) at \" & Table1[[#This Row],[Column5]]","v":"Kinome Hit View for Gefitinib (0.0025 µM) with 386 Kinases (Coral Names) at  ATP Km "}]
[6,3,"Osimertinib ",1,398,"1 mM",{"$f":"COUNTIF('Compound 6'!$C$3:$C$405,\">30\")","v":15},{"$f":"COUNTIF('Compound 6'!$C$3:$C$405,\">50\")","v":9},{"$f":"COUNTIF('Compound 6'!$C$3:$C$405,\">70\")","v":6},{"$f":"COUNTIF('Compound 6'!$C$3:$C$405,\">90\")","v":3},null,null,null,null,null,null,null,null,null,null,null,null,null,null,null,null,null,{"$f":"Table1[[#This Row],[Column3]] &\" µM \" &Table1[[#This Row],[Column2]] &\", % inhibition at \" &Table1[[#This Row],[Column5]]","v":"1 µM Osimertinib , % inhibition at 1 mM"},{"$f":"\"Kinome Hit View for \" & Table1[[#This Row],[Column2]] & \" (\" & Table1[[#This Row],[Column3]] & \" µM) with \" &Table1[[#This Row],[Column4]]&  \" Kinases (Coral Names) at \" & Table1[[#This Row],[Column5]]","v":"Kinome Hit View for Osimertinib  (1 µM) with 398 Kinases (Coral Names) at 1 mM"}]
[7,3,"Osimertinib ",0.09,398,"1 mM",{"$f":"COUNTIF('Compound 7'!$C$3:$C$405,\">30\")","v":3},{"$f":"COUNTIF('Compound 7'!$C$3:$C$405,\">50\")","v":2},{"$f":"COUNTIF('Compound 7'!$C$3:$C$405,\">70\")","v":0},{"$f":"COUNTIF('Compound 7'!$C$3:$C$405,\">90\")","v":0},null,null,null,null,null,null,null,null,null,null,null,null,null,null,null,null,null,{"$f":"Table1[[#This Row],[Column3]] &\" µM \" &Table1[[#This Row],[Column2]] &\", % inhibition at \" &Table1[[#This Row],[Column5]]","v":"0.09 µM Osimertinib , % inhibition at 1 mM"},{"$f":"\"Kinome Hit View for \" & Table1[[#This Row],[Column2]] & \" (\" & Table1[[#This Row],[Column3]] & \" µM) with \" &Table1[[#This Row],[Column4]]&  \" Kinases (Coral Names) at \" & Table1[[#This Row],[Column5]]","v":"Kinome Hit View for Osimertinib  (0.09 µM) with 398 Kinases (Coral Names) at 1 mM"}]
[8,4,"Osimertinib ",0.09,396," ATP Km ",{"$f":"COUNTIF('Compound 8'!$C$3:$C$520,\">30\")","v":16},{"$f":"COUNTIF('Compound 8'!$C$3:$C$520,\">50\")","v":8},{"$f":"COUNTIF('Compound 8'!$C$3:$C$520,\">70\")","v":6},{"$f":"COUNTIF('Compound 8'!$C$3:$C$520,\">90\")","v":3},null,null,null,null,null,null,null,null,null,null,null,null,null,null,null,null,null,{"$f":"Table1[[#This Row],[Column3]] &\" µM \" &Table1[[#This Row],[Column2]] &\", % inhibition at \" &Table1[[#This Row],[Column5]]","v":"0.09 µM Osimertinib , % inhibition at  ATP Km "},{"$f":"\"Kinome Hit View for \" & Table1[[#This Row],[Column2]] & \" (\" & Table1[[#This Row],[Column3]] & \" µM) with \" &Table1[[#This Row],[Column4]]&  \" Kinases (Coral Names) at \" & Table1[[#This Row],[Column5]]","v":"Kinome Hit View for Osimertinib  (0.09 µM) with 396 Kinases (Coral Names) at  ATP Km "}]
[9,4,"Osimertinib ",1.4999999999999999E-2,396," ATP Km ",{"$f":"COUNTIF('Compound 9'!$C$3:$C$405,\">30\")","v":6},{"$f":"COUNTIF('Compound 9'!$C$3:$C$405,\">50\")","v":3},{"$f":"COUNTIF('Compound 9'!$C$3:$C$405,\">70\")","v":3},{"$f":"COUNTIF('Compound 9'!$C$3:$C$405,\">90\")","v":1},null,null,null,null,null,null,null,null,null,null,null,null,null,null,null,null,null,{"$f":"Table1[[#This Row],[Column3]] &\" µM \" &Table1[[#This Row],[Column2]] &\", % inhibition at \" &Table1[[#This Row],[Column5]]","v":"0.015 µM Osimertinib , % inhibition at  ATP Km "},{"$f":"\"Kinome Hit View for \" & Table1[[#This Row],[Column2]] & \" (\" & Table1[[#This Row],[Column3]] & \" µM) with \" &Table1[[#This Row],[Column4]]&  \" Kinases (Coral Names) at \" & Table1[[#This Row],[Column5]]","v":"Kinome Hit View for Osimertinib  (0.015 µM) with 396 Kinases (Coral Names) at  ATP Km "}]
[10,3,"Afatinib ",0.02,398,"1 mM",{"$f":"COUNTIF('Compound 10'!$D$3:$D$405,\">30\")","v":4},{"$f":"COUNTIF('Compound 10'!$D$3:$D$405,\">50\")","v":1},{"$f":"COUNTIF('Compound 10'!$D$3:$D$405,\">70\")","v":1},{"$f":"COUNTIF('Compound 10'!$D$3:$D$405,\">90\")","v":1},null,null,null,null,null,null,null,null,null,null,null,null,null,null,null,null,null,{"$f":"Table1[[#This Row],[Column3]] &\" µM \" &Table1[[#This Row],[Column2]] &\", % inhibition at \" &Table1[[#This Row],[Column5]]","v":"0.02 µM Afatinib , % inhibition at 1 mM"},{"$f":"\"Kinome Hit View for \" & Table1[[#This Row],[Column2]] & \" (\" & Table1[[#This Row],[Column3]] & \" µM) with \" &Table1[[#This Row],[Column4]]&  \" Kinases (Coral Names) at \" & Table1[[#This Row],[Column5]]","v":"Kinome Hit View for Afatinib  (0.02 µM) with 398 Kinases (Coral Names) at 1 mM"}]
[11,4,"Afatinib ",0.02,396," ATP Km ",{"$f":"COUNTIF('Compound 11'!$C$3:$C$405,\">30\")","v":6},{"$f":"COUNTIF('Compound 11'!$C$3:$C$405,\">50\")","v":4},{"$f":"COUNTIF('Compound 11'!$C$3:$C$405,\">70\")","v":2},{"$f":"COUNTIF('Compound 11'!$C$3:$C$405,\">90\")","v":2},null,null,null,null,null,null,null,null,null,null,null,null,null,null,null,null,null,{"$f":"Table1[[#This Row],[Column3]] &\" µM \" &Table1[[#This Row],[Column2]] &\", % inhibition at \" &Table1[[#This Row],[Column5]]","v":"0.02 µM Afatinib , % inhibition at  ATP Km "},{"$f":"\"Kinome Hit View for \" & Table1[[#This Row],[Column2]] & \" (\" & Table1[[#This Row],[Column3]] & \" µM) with \" &Table1[[#This Row],[Column4]]&  \" Kinases (Coral Names) at \" & Table1[[#This Row],[Column5]]","v":"Kinome Hit View for Afatinib  (0.02 µM) with 396 Kinases (Coral Names) at  ATP Km "}]
[12,3,"Afatinib ",2E-3,398,"1 mM",{"$f":"COUNTIF('Compound 12'!$C$3:$C$405,\">30\")","v":2},{"$f":"COUNTIF('Compound 12'!$C$3:$C$405,\">50\")","v":1},{"$f":"COUNTIF('Compound 12'!$C$3:$C$405,\">70\")","v":0},{"$f":"COUNTIF('Compound 12'!$C$3:$C$405,\">90\")","v":0},null,null,null,null,null,null,null,null,null,null,null,null,null,null,null,null,null,{"$f":"Table1[[#This Row],[Column3]] &\" µM \" &Table1[[#This Row],[Column2]] &\", % inhibition at \" &Table1[[#This Row],[Column5]]","v":"0.002 µM Afatinib , % inhibition at 1 mM"},{"$f":"\"Kinome Hit View for \" & Table1[[#This Row],[Column2]] & \" (\" & Table1[[#This Row],[Column3]] & \" µM) with \" &Table1[[#This Row],[Column4]]&  \" Kinases (Coral Names) at \" & Table1[[#This Row],[Column5]]","v":"Kinome Hit View for Afatinib  (0.002 µM) with 398 Kinases (Coral Names) at 1 mM"}]
[13,4,"Afatinib ",5.0000000000000001E-4,396," ATP Km ",{"$f":"COUNTIF('Compound 13'!$C$3:$C$405,\">30\")","v":3},{"$f":"COUNTIF('Compound 13'!$C$3:$C$405,\">50\")","v":3},{"$f":"COUNTIF('Compound 13'!$C$3:$C$405,\">70\")","v":2},{"$f":"COUNTIF('Compound 13'!$C$3:$C$405,\">90\")","v":0},null,null,null,null,null,null,null,null,null,null,null,null,null,null,null,null,null,{"$f":"Table1[[#This Row],[Column3]] &\" µM \" &Table1[[#This Row],[Column2]] &\", % inhibition at \" &Table1[[#This Row],[Column5]]","v":"0.0005 µM Afatinib , % inhibition at  ATP Km "},{"$f":"\"Kinome Hit View for \" & Table1[[#This Row],[Column2]] & \" (\" & Table1[[#This Row],[Column3]] & \" µM) with \" &Table1[[#This Row],[Column4]]&  \" Kinases (Coral Names) at \" & Table1[[#This Row],[Column5]]","v":"Kinome Hit View for Afatinib  (0.0005 µM) with 396 Kinases (Coral Names) at  ATP Km "}]
[14,3,"Lapatinib ",1,398,"1 mM",{"$f":"COUNTIF('Compound 14'!$C$3:$C$520,\">30\")","v":3},{"$f":"COUNTIF('Compound 14'!$C$3:$C$520,\">50\")","v":2},{"$f":"COUNTIF('Compound 14'!$C$3:$C$520,\">70\")","v":2},{"$f":"COUNTIF('Compound 14'!$C$3:$C$520,\">90\")","v":1},null,null,null,null,null,null,null,null,null,null,null,null,null,null,null,null,null,{"$f":"Table1[[#This Row],[Column3]] &\" µM \" &Table1[[#This Row],[Column2]] &\", % inhibition at \" &Table1[[#This Row],[Column5]]","v":"1 µM Lapatinib , % inhibition at 1 mM"},{"$f":"\"Kinome Hit View for \" & Table1[[#This Row],[Column2]] & \" (\" & Table1[[#This Row],[Column3]] & \" µM) with \" &Table1[[#This Row],[Column4]]&  \" Kinases (Coral Names) at \" & Table1[[#This Row],[Column5]]","v":"Kinome Hit View for Lapatinib  (1 µM) with 398 Kinases (Coral Names) at 1 mM"}]
[15,3,"Lapatinib ",8.5000000000000006E-2,398,"1 mM",{"$f":"COUNTIF('Compound 15'!$D$3:$D$520,\">30\")","v":2},{"$f":"COUNTIF('Compound 15'!$D$3:$D$520,\">50\")","v":1},{"$f":"COUNTIF('Compound 15'!$D$3:$D$520,\">70\")","v":1},{"$f":"COUNTIF('Compound 15'!$D$3:$D$520,\">90\")","v":1},null,null,null,null,null,null,null,null,null,null,null,null,null,null,null,null,null,{"$f":"Table1[[#This Row],[Column3]] &\" µM \" &Table1[[#This Row],[Column2]] &\", % inhibition at \" &Table1[[#This Row],[Column5]]","v":"0.085 µM Lapatinib , % inhibition at 1 mM"},{"$f":"\"Kinome Hit View for \" & Table1[[#This Row],[Column2]] & \" (\" & Table1[[#This Row],[Column3]] & \" µM) with \" &Table1[[#This Row],[Column4]]&  \" Kinases (Coral Names) at \" & Table1[[#This Row],[Column5]]","v":"Kinome Hit View for Lapatinib  (0.085 µM) with 398 Kinases (Coral Names) at 1 mM"}]
[16,4,"Lapatinib ",8.5000000000000006E-2,396," ATP Km ",{"$f":"COUNTIF('Compound 16'!$D$3:$D$477,\">30\")","v":5},{"$f":"COUNTIF('Compound 16'!$D$3:$D$477,\">50\")","v":2},{"$f":"COUNTIF('Compound 16'!$D$3:$D$477,\">70\")","v":1},{"$f":"COUNTIF('Compound 16'!$D$3:$D$477,\">90\")","v":1},null,null,null,null,null,null,null,null,null,null,null,null,null,null,null,null,null,{"$f":"Table1[[#This Row],[Column3]] &\" µM \" &Table1[[#This Row],[Column2]] &\", % inhibition at \" &Table1[[#This Row],[Column5]]","v":"0.085 µM Lapatinib , % inhibition at  ATP Km "},{"$f":"\"Kinome Hit View for \" & Table1[[#This Row],[Column2]] & \" (\" & Table1[[#This Row],[Column3]] & \" µM) with \" &Table1[[#This Row],[Column4]]&  \" Kinases (Coral Names) at \" & Table1[[#This Row],[Column5]]","v":"Kinome Hit View for Lapatinib  (0.085 µM) with 396 Kinases (Coral Names) at  ATP Km "}]
[17,4,"Lapatinib ",5.0000000000000001E-3,396," ATP Km ",{"$f":"COUNTIF('Compound 17'!$D$3:$D$520,\">30\")","v":4},{"$f":"COUNTIF('Compound 17'!$D$3:$D$520,\">50\")","v":2},{"$f":"COUNTIF('Compound 17'!$D$3:$D$520,\">70\")","v":2},{"$f":"COUNTIF('Compound 17'!$D$3:$D$520,\">90\")","v":0},null,null,null,null,null,null,null,null,null,null,null,null,null,null,null,null,null,{"$f":"Table1[[#This Row],[Column3]] &\" µM \" &Table1[[#This Row],[Column2]] &\", % inhibition at \" &Table1[[#This Row],[Column5]]","v":"0.005 µM Lapatinib , % inhibition at  ATP Km "},{"$f":"\"Kinome Hit View for \" & Table1[[#This Row],[Column2]] & \" (\" & Table1[[#This Row],[Column3]] & \" µM) with \" &Table1[[#This Row],[Column4]]&  \" Kinases (Coral Names) at \" & Table1[[#This Row],[Column5]]","v":"Kinome Hit View for Lapatinib  (0.005 µM) with 396 Kinases (Coral Names) at  ATP Km "}]
[18,3,"Staurosporine",0.1,398,"1 mM",{"$f":"COUNTIF('Compound 18'!$D$3:$D$520,\">30\")","v":217},{"$f":"COUNTIF('Compound 18'!$D$3:$D$520,\">50\")","v":181},{"$f":"COUNTIF('Compound 18'!$D$3:$D$520,\">70\")","v":135},{"$f":"COUNTIF('Compound 18'!$D$3:$D$520,\">90\")","v":94},null,null,null,null,null,null,null,null,null,null,null,null,null,null,null,null,null,{"$f":"Table1[[#This Row],[Column3]] &\" µM \" &Table1[[#This Row],[Column2]] &\", % inhibition at \" &Table1[[#This Row],[Column5]]","v":"0.1 µM Staurosporine, % inhibition at 1 mM"},{"$f":"\"Kinome Hit View for \" & Table1[[#This Row],[Column2]] & \" (\" & Table1[[#This Row],[Column3]] & \" µM) with \" &Table1[[#This Row],[Column4]]&  \" Kinases (Coral Names) at \" & Table1[[#This Row],[Column5]]","v":"Kinome Hit View for Staurosporine (0.1 µM) with 398 Kinases (Coral Names) at 1 mM"}]
[19,4,"Staurosporine",0.1,396," ATP Km ",{"$f":"COUNTIF('Compound 19'!$D$3:$D$520,\">30\")","v":290},{"$f":"COUNTIF('Compound 19'!$D$3:$D$520,\">50\")","v":257},{"$f":"COUNTIF('Compound 19'!$D$3:$D$520,\">70\")","v":229},{"$f":"COUNTIF('Compound 19'!$D$3:$D$520,\">90\")","v":175},null,null,null,null,null,null,null,null,null,null,null,null,null,null,null,null,null,{"$f":"Table1[[#This Row],[Column3]] &\" µM \" &Table1[[#This Row],[Column2]] &\", % inhibition at \" &Table1[[#This Row],[Column5]]","v":"0.1 µM Staurosporine, % inhibition at  ATP Km "},{"$f":"\"Kinome Hit View for \" & Table1[[#This Row],[Column2]] & \" (\" & Table1[[#This Row],[Column3]] & \" µM) with \" &Table1[[#This Row],[Column4]]&  \" Kinases (Coral Names) at \" & Table1[[#This Row],[Column5]]","v":"Kinome Hit View for Staurosporine (0.1 µM) with 396 Kinases (Coral Names) at  ATP Km "}]

{"sheet":"Outline and Conclusions","index":1,"n_rows":231,"n_cols":43,"rows_kept":231,"cut":false,"hidden":false,"merged":[[53,20,53,26],[53,28,53,34],[53,36,53,42],[62,20,62,26],[62,28,62,34],[62,36,62,42],[172,20,172,26],[172,28,172,34],[172,36,172,42],[71,20,71,26],[71,28,71,34],[71,36,71,42]]}
[]
[null,null,null,null,null,null,null,null,null,null,null,null,null,null,null,null,null,null,null,"Control data for May 2023:"]
[]
[]
[]
[]
[]
[]
[]
[]
[]
[]
[]
[]
[]
[]
[]
[]
[]
[]
[]
[]
[]
[]
[]
[]
[]
[]
[]
[]
[]
[]
[]
[]
[]
[]
[]
[]
[]
[]
[]
[]
[]
[]
[]
[]
[]
[]
[]
[]
[]
[]
[]
[null,null,null,null,null,null,null,null,null,null,null,null,null,null,null,null,null,null,null,null,"Compound-Kinase Pairs with Compound-Specific Lag",null,null,null,null,null,null,null,"Compound-Kinase Pairs with Time-Dependent Inhibition",null,null,null,null,null,null,null,"Compound-Kinase Pairs with Noise"]
[null,null,null,null,null,null,null,null,null,null,null,null,null,null,null,null,null,null,null,null,null,null,null,null,null,".15µM Gefitinib",".015µM Gefitinib",null,null,null,null,null,null,".15µM Gefitinib",".015µM Gefitinib",null,null,null,null,null,null,".15µM Gefitinib",".015µM Gefitinib"]
[null,null,null,null,null,null,null,null,null,null,null,null,null,null,null,null,null,null,null,null,null,null,null,null,null,"RIPK2","EGFR"]
[null,null,null,null,null,null,null,null,null,null,null,null,null,null,null,null,null,null,null,null,null,null,null,null,null,"DDR1"]
[]
[]
[]
[]
[]
[null,null,null,null,null,null,null,null,null,null,null,null,null,null,null,null,null,null,null,null,"Compound-Kinase Pairs with Compound-Specific Lag",null,null,null,null,null,null,null,"Compound-Kinase Pairs with Time-Dependent Inhibition",null,null,null,null,null,null,null,"Compound-Kinase Pairs with Noise"]
[null,null,null,null,null,null,null,null,null,null,null,null,null,null,null,null,null,null,null,null,null,null,null,null,".15µM Gefitinib",".015µM Gefitinib",".0025µM Gefitinib",null,null,null,null,null,".15µM Gefitinib",".015µM Gefitinib",".0025µM Gefitinib",null,null,null,null,null,".15µM Gefitinib",".015µM Gefitinib",".0025µM Gefitinib"]
[null,null,null,null,null,null,null,null,null,null,null,null,null,null,null,null,null,null,null,null,null,null,null,null,"DDR1"]
[null,null,null,null,null,null,null,null,null,null,null,null,null,null,null,null,null,null,null,null,null,null,null,null,"RIPK2"]
[]
[]
[]
[]
[]
[null,null,null,null,null,null,null,null,null,null,null,null,null,null,null,null,null,null,null,null,"Compound-Kinase Pairs with Compound-Specific Lag",null,null,null,null,null,null,null,"Compound-Kinase Pairs with Time-Dependent Inhibition",null,null,null,null,null,null,null,"Compound-Kinase Pairs with Noise"]
[null,null,null,null,null,null,null,null,null,null,null,null,null,null,null,null,null,null,null,null,"1µM Osimertinib","0.09µM Osimertinib","0.02µM Afatinib","0.002µM Afatinib","1µM Lapatinib","0.085µM Lapatinib","0.1µM Staurosporine",null,"1µM Osimertinib","0.09µM Osimertinib","0.02µM Afatinib","0.002µM Afatinib","1µM Lapatinib","0.085µM Lapatinib","0.1µM Staurosporine",null,"1µM Osimertinib","0.09µM Osimertinib","0.02µM Afatinib","0.002µM Afatinib","1µM Lapatinib","0.085µM Lapatinib","0.1µM Staurosporine"]
[null,null,null,null,null,null,null,null,null,null,null,null,null,null,null,null,null,null,null,null,"ALK",null,null,null,"HER2",null,"ALK",null,"BTK","EGFR","HER2","EGFR"]
[null,null,null,null,null,null,null,null,null,null,null,null,null,null,null,null,null,null,null,null,"FLT3",null,null,null,"HER4",null,"AXL",null,"HER2","HER2"]
[null,null,null,null,null,null,null,null,null,null,null,null,null,null,null,null,null,null,null,null,"LTK",null,null,null,null,null,"BLK",null,"JAK3(JH1)"]
[null,null,null,null,null,null,null,null,null,null,null,null,null,null,null,null,null,null,null,null,"PDGFRB",null,null,null,null,null,"BMX",null,"TEC"]
[null,null,null,null,null,null,null,null,null,null,null,null,null,null,null,null,null,null,null,null,"ROS",null,null,null,null,null,"EPHA3",null,"TXK"]
[null,null,null,null,null,null,null,null,null,null,null,null,null,null,null,null,null,null,null,null,"MYO3B",null,null,null,null,null,"EPHA4"]
[null,null,null,null,null,null,null,null,null,null,null,null,null,null,null,null,null,null,null,null,null,null,null,null,null,null,"EPHA5"]
[null,null,null,null,null,null,null,null,null,null,null,null,null,null,null,null,null,null,null,null,null,null,null,null,null,null,"EPHA6"]
[null,null,null,null,null,null,null,null,null,null,null,null,null,null,null,null,null,null,null,null,null,null,null,null,null,null,"EPHA8"]
[null,null,null,null,null,null,null,null,null,null,null,null,null,null,null,null,null,null,null,null,null,null,null,null,null,null,"FER"]
[null,null,null,null,null,null,null,null,null,null,null,null,null,null,null,null,null,null,null,null,null,null,null,null,null,null,"FES"]
[null,null,null,null,null,null,null,null,null,null,null,null,null,null,null,null,null,null,null,null,null,null,null,null,null,null,"FGFR1"]
[null,null,null,null,null,null,null,null,null,null,null,null,null,null,null,null,null,null,null,null,null,null,null,null,null,null,"FGFR2"]
[null,null,null,null,null,null,null,null,null,null,null,null,null,null,null,null,null,null,null,null,null,null,null,null,null,null,"FGFR3"]
[null,null,null,null,null,null,null,null,null,null,null,null,null,null,null,null,null,null,null,null,null,null,null,null,null,null,"FGFR4"]
[null,null,null,null,null,null,null,null,null,null,null,null,null,null,null,null,null,null,null,null,null,null,null,null,null,null,"FGR"]
[null,null,null,null,null,null,null,null,null,null,null,null,null,null,null,null,null,null,null,null,null,null,null,null,null,null,"FLT1"]
[null,null,null,null,null,null,null,null,null,null,null,null,null,null,null,null,null,null,null,null,null,null,null,null,null,null,"FLT4"]
[null,null,null,null,null,null,null,null,null,null,null,null,null,null,null,null,null,null,null,null,null,null,null,null,null,null,"FRK"]
[null,null,null,null,null,null,null,null,null,null,null,null,null,null,null,null,null,null,null,null,null,null,null,null,null,null,"FYNB"]
[null,null,null,null,null,null,null,null,null,null,null,null,null,null,null,null,null,null,null,null,null,null,null,null,null,null,"HCK"]
[null,null,null,null,null,null,null,null,null,null,null,null,null,null,null,null,null,null,null,null,null,null,null,null,null,null,"INSR"]
[null,null,null,null,null,null,null,null,null,null,null,null,null,null,null,null,null,null,null,null,null,null,null,null,null,null,"INSRR"]
[null,null,null,null,null,null,null,null,null,null,null,null,null,null,null,null,null,null,null,null,null,null,null,null,null,null,"ITK"]
[null,null,null,null,null,null,null,null,null,null,null,null,null,null,null,null,null,null,null,null,null,null,null,null,null,null,"JAK2(JH1)"]
[null,null,null,null,null,null,null,null,null,null,null,null,null,null,null,null,null,null,null,null,null,null,null,null,null,null,"JAK2(JH1JH2)"]
[null,null,null,null,null,null,null,null,null,null,null,null,null,null,null,null,null,null,null,null,null,null,null,null,null,null,"KDR"]
[null,null,null,null,null,null,null,null,null,null,null,null,null,null,null,null,null,null,null,null,null,null,null,null,null,null,"KIT"]
[null,null,null,null,null,null,null,null,null,null,null,null,null,null,null,null,null,null,null,null,null,null,null,null,null,null,"LCK"]
[null,null,null,null,null,null,null,null,null,null,null,null,null,null,null,null,null,null,null,null,null,null,null,null,null,null,"LTK"]
[null,null,null,null,null,null,null,null,null,null,null,null,null,null,null,null,null,null,null,null,null,null,null,null,null,null,"LYNA"]
[null,null,null,null,null,null,null,null,null,null,null,null,null,null,null,null,null,null,null,null,null,null,null,null,null,null,"LYNB"]
[null,null,null,null,null,null,null,null,null,null,null,null,null,null,null,null,null,null,null,null,null,null,null,null,null,null,"MERTK"]
[null,null,null,null,null,null,null,null,null,null,null,null,null,null,null,null,null,null,null,null,null,null,null,null,null,null,"PTK2"]
[null,null,null,null,null,null,null,null,null,null,null,null,null,null,null,null,null,null,null,null,null,null,null,null,null,null,"PTK2B"]
[null,null,null,null,null,null,null,null,null,null,null,null,null,null,null,null,null,null,null,null,null,null,null,null,null,null,"SRC"]
[null,null,null,null,null,null,null,null,null,null,null,null,null,null,null,null,null,null,null,null,null,null,null,null,null,null,"SYK"]
[null,null,null,null,null,null,null,null,null,null,null,null,null,null,null,null,null,null,null,null,null,null,null,null,null,null,"TEK"]
[null,null,null,null,null,null,null,null,null,null,null,null,null,null,null,null,null,null,null,null,null,null,null,null,null,null,"TYRO3"]
[null,null,null,null,null,null,null,null,null,null,null,null,null,null,null,null,null,null,null,null,null,null,null,null,null,null,"ZAP70"]
[null,null,null,null,null,null,null,null,null,null,null,null,null,null,null,null,null,null,null,null,null,null,null,null,null,null,"AKT1"]
[null,null,null,null,null,null,null,null,null,null,null,null,null,null,null,null,null,null,null,null,null,null,null,null,null,null,"AKT2"]
[null,null,null,null,null,null,null,null,null,null,null,null,null,null,null,null,null,null,null,null,null,null,null,null,null,null,"AKT3"]
[null,null,null,null,null,null,null,null,null,null,null,null,null,null,null,null,null,null,null,null,null,null,null,null,null,null,"AURA"]
[null,null,null,null,null,null,null,null,null,null,null,null,null,null,null,null,null,null,null,null,null,null,null,null,null,null,"CDK1/B1"]
[null,null,null,null,null,null,null,null,null,null,null,null,null,null,null,null,null,null,null,null,null,null,null,null,null,null,"CDK1/A2"]
[null,null,null,null,null,null,null,null,null,null,null,null,null,null,null,null,null,null,null,null,null,null,null,null,null,null,"CDK2/A2"]
[null,null,null,null,null,null,null,null,null,null,null,null,null,null,null,null,null,null,null,null,null,null,null,null,null,null,"CDK2/E1"]
[null,null,null,null,null,null,null,null,null,null,null,null,null,null,null,null,null,null,null,null,null,null,null,null,null,null,"CDK3/E1"]
[null,null,null,null,null,null,null,null,null,null,null,null,null,null,null,null,null,null,null,null,null,null,null,null,null,null,"CDK6/D1"]
[null,null,null,null,null,null,null,null,null,null,null,null,null,null,null,null,null,null,null,null,null,null,null,null,null,null,"IKKE"]
[null,null,null,null,null,null,null,null,null,null,null,null,null,null,null,null,null,null,null,null,null,null,null,null,null,null,"DYRK1A"]
[null,null,null,null,null,null,null,null,null,null,null,null,null,null,null,null,null,null,null,null,null,null,null,null,null,null,"DYRK1B"]
[null,null,null,null,null,null,null,null,null,null,null,null,null,null,null,null,null,null,null,null,null,null,null,null,null,null,"TSSK3"]
[null,null,null,null,null,null,null,null,null,null,null,null,null,null,null,null,null,null,null,null,null,null,null,null,null,null,"TAOK2"]
[null,null,null,null,null,null,null,null,null,null,null,null,null,null,null,null,null,null,null,null,null,null,null,null,null,null,"PAK3"]
[null,null,null,null,null,null,null,null,null,null,null,null,null,null,null,null,null,null,null,null,null,null,null,null,null,null,"PAK5"]
[null,null,null,null,null,null,null,null,null,null,null,null,null,null,null,null,null,null,null,null,null,null,null,null,null,null,"PKD1"]
[null,null,null,null,null,null,null,null,null,null,null,null,null,null,null,null,null,null,null,null,null,null,null,null,null,null,"PKD2"]
[null,null,null,null,null,null,null,null,null,null,null,null,null,null,null,null,null,null,null,null,null,null,null,null,null,null,"PKD3"]
[null,null,null,null,null,null,null,null,null,null,null,null,null,null,null,null,null,null,null,null,null,null,null,null,null,null,"ERN2"]
[null,null,null,null,null,null,null,null,null,null,null,null,null,null,null,null,null,null,null,null,null,null,null,null,null,null,"RSK2"]
[null,null,null,null,null,null,null,null,null,null,null,null,null,null,null,null,null,null,null,null,null,null,null,null,null,null,"RSK3"]
[null,null,null,null,null,null,null,null,null,null,null,null,null,null,null,null,null,null,null,null,null,null,null,null,null,null,"RSK4"]
[null,null,null,null,null,null,null,null,null,null,null,null,null,null,null,null,null,null,null,null,null,null,null,null,null,null,"MSK2"]
[null,null,null,null,null,null,null,null,null,null,null,null,null,null,null,null,null,null,null,null,null,null,null,null,null,null,"KHS1"]
[null,null,null,null,null,null,null,null,null,null,null,null,null,null,null,null,null,null,null,null,null,null,null,null,null,null,"MINK"]
[null,null,null,null,null,null,null,null,null,null,null,null,null,null,null,null,null,null,null,null,null,null,null,null,null,null,"TNIK"]
[null,null,null,null,null,null,null,null,null,null,null,null,null,null,null,null,null,null,null,null,null,null,null,null,null,null,"MAP3K10"]
[null,null,null,null,null,null,null,null,null,null,null,null,null,null,null,null,null,null,null,null,null,null,null,null,null,null,"MST3"]
[null,null,null,null,null,null,null,null,null,null,null,null,null,null,null,null,null,null,null,null,null,null,null,null,null,null,"P70S6KA"]
[null,null,null,null,null,null,null,null,null,null,null,null,null,null,null,null,null,null,null,null,null,null,null,null,null,null,"MELK"]
[null,null,null,null,null,null,null,null,null,null,null,null,null,null,null,null,null,null,null,null,null,null,null,null,null,null,"HASPIN"]
[null,null,null,null,null,null,null,null,null,null,null,null,null,null,null,null,null,null,null,null,null,null,null,null,null,null,"ROCK1"]
[null,null,null,null,null,null,null,null,null,null,null,null,null,null,null,null,null,null,null,null,null,null,null,null,null,null,"ROCK2"]
[null,null,null,null,null,null,null,null,null,null,null,null,null,null,null,null,null,null,null,null,null,null,null,null,null,null,"MEK2"]
[null,null,null,null,null,null,null,null,null,null,null,null,null,null,null,null,null,null,null,null,null,null,null,null,null,null,"NDR1"]
[null,null,null,null,null,null,null,null,null,null,null,null,null,null,null,null,null,null,null,null,null,null,null,null,null,null,"NDR2"]
[null,null,null,null,null,null,null,null,null,null,null,null,null,null,null,null,null,null,null,null,null,null,null,null,null,null,"PLK4"]
[null,null,null,null,null,null,null,null,null,null,null,null,null,null,null,null,null,null,null,null,null,null,null,null,null,null,"PGK"]
[null,null,null,null,null,null,null,null,null,null,null,null,null,null,null,null,null,null,null,null,null,null,null,null,null,null,"GCN2"]
[null,null,null,null,null,null,null,null,null,null,null,null,null,null,null,null,null,null,null,null,null,null,null,null,null,null,"CAMK1B"]
[null,null,null,null,null,null,null,null,null,null,null,null,null,null,null,null,null,null,null,null,null,null,null,null,null,null,"CAMK1D"]
[null,null,null,null,null,null,null,null,null,null,null,null,null,null,null,null,null,null,null,null,null,null,null,null,null,null,"PHKG2"]
[null,null,null,null,null,null,null,null,null,null,null,null,null,null,null,null,null,null,null,null,null,null,null,null,null,null,"PKCA"]
[null,null,null,null,null,null,null,null,null,null,null,null,null,null,null,null,null,null,null,null,null,null,null,null,null,null,"PKCB1"]
[null,null,null,null,null,null,null,null,null,null,null,null,null,null,null,null,null,null,null,null,null,null,null,null,null,null,"PKCB2"]
[null,null,null,null,null,null,null,null,null,null,null,null,null,null,null,null,null,null,null,null,null,null,null,null,null,null,"PKCE"]
[null,null,null,null,null,null,null,null,null,null,null,null,null,null,null,null,null,null,null,null,null,null,null,null,null,null,"PKCQ"]
[null,null,null,null,null,null,null,null,null,null,null,null,null,null,null,null,null,null,null,null,null,null,null,null,null,null,"CDC7"]
[null,null,null,null,null,null,null,null,null,null,null,null,null,null,null,null,null,null,null,null,null,null,null,null,null,null,"BCR RET"]
[null,null,null,null,null,null,null,null,null,null,null,null,null,null,null,null,null,null,null,null,null,null,null,null,null,null,"CDK1/E1"]
[null,null,null,null,null,null,null,null,null,null,null,null,null,null,null,null,null,null,null,null,null,null,null,null,null,null,"CDK4/D2"]
[null,null,null,null,null,null,null,null,null,null,null,null,null,null,null,null,null,null,null,null,null,null,null,null,null,null,"CDK6/D2"]
[]
[]
[]
[]
[]
[null,null,null,null,null,null,null,null,null,null,null,null,null,null,null,null,null,null,null,null,"Compound-Kinase Pairs with Compound-Specific Lag",null,null,null,null,null,null,null,"Compound-Kinase Pairs with Time-Dependent Inhibition",null,null,null,null,null,null,null,"Compound-Kinase Pairs with Noise"]
[null,null,null,null,null,null,null,null,null,null,null,null,null,null,null,null,null,null,null,null,"0.015µM Osimertinib ","0.09µM Osimertinib ","0.02µM Afatinib ","0.0005µM Afatinib ","0.005µM Lapatinib ","0.085µM Lapatinib ","0.1µM Staurosporine",null,"0.015µM Osimertinib ","0.09µM Osimertinib ","0.02µM Afatinib ","0.0005µM Afatinib ","0.005µM Lapatinib ","0.085µM Lapatinib ","0.1µM Staurosporine",null,"0.015µM Osimertinib ","0.09µM Osimertinib ","0.02µM Afatinib ","0.0005µM Afatinib ","0.005µM Lapatinib ","0.085µM Lapatinib ","0.1µM Staurosporine"]
[null,null,null,null,null,null,null,null,null,null,null,null,null,null,null,null,null,null,null,null,"ROS","ROS",null,null,null,null,"ALK",null,"CDK1/E1","CDK1/E1","CDK1/E1","CDK1/E1","CDK1/E1","CDK1/E1","CDK1/E1"]
[null,null,null,null,null,null,null,null,null,null,null,null,null,null,null,null,null,null,null,null,null,null,null,null,null,null,"CLK1",null,"EGFR","HER2","HER2"]
[null,null,null,null,null,null,null,null,null,null,null,null,null,null,null,null,null,null,null,null,null,null,null,null,null,null,"ABL1",null,"HER2","JAK3(JH1)"]
[null,null,null,null,null,null,null,null,null,null,null,null,null,null,null,null,null,null,null,null,null,null,null,null,null,null,"BMX",null,"JAK3(JH1)","TEC"]
[null,null,null,null,null,null,null,null,null,null,null,null,null,null,null,null,null,null,null,null,null,null,null,null,null,null,"EPHA1",null,null,"TXK"]
[null,null,null,null,null,null,null,null,null,null,null,null,null,null,null,null,null,null,null,null,null,null,null,null,null,null,"EPHA3"]
[null,null,null,null,null,null,null,null,null,null,null,null,null,null,null,null,null,null,null,null,null,null,null,null,null,null,"EPHA4"]
[null,null,null,null,null,null,null,null,null,null,null,null,null,null,null,null,null,null,null,null,null,null,null,null,null,null,"EPHA5"]
[null,null,null,null,null,null,null,null,null,null,null,null,null,null,null,null,null,null,null,null,null,null,null,null,null,null,"EPHA6"]
[null,null,null,null,null,null,null,null,null,null,null,null,null,null,null,null,null,null,null,null,null,null,null,null,null,null,"EPHA7"]
[null,null,null,null,null,null,null,null,null,null,null,null,null,null,null,null,null,null,null,null,null,null,null,null,null,null,"FGFR1"]
[null,null,null,null,null,null,null,null,null,null,null,null,null,null,null,null,null,null,null,null,null,null,null,null,null,null,"FGFR3"]
[null,null,null,null,null,null,null,null,null,null,null,null,null,null,null,null,null,null,null,null,null,null,null,null,null,null,"FGFR4"]
[null,null,null,null,null,null,null,null,null,null,null,null,null,null,null,null,null,null,null,null,null,null,null,null,null,null,"FGR"]
[null,null,null,null,null,null,null,null,null,null,null,null,null,null,null,null,null,null,null,null,null,null,null,null,null,null,"FLT1"]
[null,null,null,null,null,null,null,null,null,null,null,null,null,null,null,null,null,null,null,null,null,null,null,null,null,null,"FRK"]
[null,null,null,null,null,null,null,null,null,null,null,null,null,null,null,null,null,null,null,null,null,null,null,null,null,null,"FYNA"]
[null,null,null,null,null,null,null,null,null,null,null,null,null,null,null,null,null,null,null,null,null,null,null,null,null,null,"FYNB"]
[null,null,null,null,null,null,null,null,null,null,null,null,null,null,null,null,null,null,null,null,null,null,null,null,null,null,"HCK"]
[null,null,null,null,null,null,null,null,null,null,null,null,null,null,null,null,null,null,null,null,null,null,null,null,null,null,"IGF1R"]
[null,null,null,null,null,null,null,null,null,null,null,null,null,null,null,null,null,null,null,null,null,null,null,null,null,null,"INSR"]
[null,null,null,null,null,null,null,null,null,null,null,null,null,null,null,null,null,null,null,null,null,null,null,null,null,null,"ITK"]
[null,null,null,null,null,null,null,null,null,null,null,null,null,null,null,null,null,null,null,null,null,null,null,null,null,null,"LYNA"]
[null,null,null,null,null,null,null,null,null,null,null,null,null,null,null,null,null,null,null,null,null,null,null,null,null,null,"LYNB"]
[null,null,null,null,null,null,null,null,null,null,null,null,null,null,null,null,null,null,null,null,null,null,null,null,null,null,"RET"]
[null,null,null,null,null,null,null,null,null,null,null,null,null,null,null,null,null,null,null,null,null,null,null,null,null,null,"TEC"]
[null,null,null,null,null,null,null,null,null,null,null,null,null,null,null,null,null,null,null,null,null,null,null,null,null,null,"TXK"]
[null,null,null,null,null,null,null,null,null,null,null,null,null,null,null,null,null,null,null,null,null,null,null,null,null,null,"TYRO3"]
[null,null,null,null,null,null,null,null,null,null,null,null,null,null,null,null,null,null,null,null,null,null,null,null,null,null,"YES"]
[null,null,null,null,null,null,null,null,null,null,null,null,null,null,null,null,null,null,null,null,null,null,null,null,null,null,"AKT3"]
[null,null,null,null,null,null,null,null,null,null,null,null,null,null,null,null,null,null,null,null,null,null,null,null,null,null,"CDK5/P25"]
[null,null,null,null,null,null,null,null,null,null,null,null,null,null,null,null,null,null,null,null,null,null,null,null,null,null,"CDK5/P35"]
[null,null,null,null,null,null,null,null,null,null,null,null,null,null,null,null,null,null,null,null,null,null,null,null,null,null,"GRK6"]
[null,null,null,null,null,null,null,null,null,null,null,null,null,null,null,null,null,null,null,null,null,null,null,null,null,null,"GSK3B"]
[null,null,null,null,null,null,null,null,null,null,null,null,null,null,null,null,null,null,null,null,null,null,null,null,null,null,"CDK16"]
[null,null,null,null,null,null,null,null,null,null,null,null,null,null,null,null,null,null,null,null,null,null,null,null,null,null,"DYRK1A"]
[null,null,null,null,null,null,null,null,null,null,null,null,null,null,null,null,null,null,null,null,null,null,null,null,null,null,"DYRK1B"]
[null,null,null,null,null,null,null,null,null,null,null,null,null,null,null,null,null,null,null,null,null,null,null,null,null,null,"DYRK3"]
[null,null,null,null,null,null,null,null,null,null,null,null,null,null,null,null,null,null,null,null,null,null,null,null,null,null,"TSSK2"]
[null,null,null,null,null,null,null,null,null,null,null,null,null,null,null,null,null,null,null,null,null,null,null,null,null,null,"PASK"]
[null,null,null,null,null,null,null,null,null,null,null,null,null,null,null,null,null,null,null,null,null,null,null,null,null,null,"TAOK2"]
[null,null,null,null,null,null,null,null,null,null,null,null,null,null,null,null,null,null,null,null,null,null,null,null,null,null,"NEK1"]
[null,null,null,null,null,null,null,null,null,null,null,null,null,null,null,null,null,null,null,null,null,null,null,null,null,null,"PIM1"]
[null,null,null,null,null,null,null,null,null,null,null,null,null,null,null,null,null,null,null,null,null,null,null,null,null,null,"SGK3"]
[null,null,null,null,null,null,null,null,null,null,null,null,null,null,null,null,null,null,null,null,null,null,null,null,null,null,"PKACA"]
[null,null,null,null,null,null,null,null,null,null,null,null,null,null,null,null,null,null,null,null,null,null,null,null,null,null,"PKACB"]
[null,null,null,null,null,null,null,null,null,null,null,null,null,null,null,null,null,null,null,null,null,null,null,null,null,null,"MYO3A"]
[null,null,null,null,null,null,null,null,null,null,null,null,null,null,null,null,null,null,null,null,null,null,null,null,null,null,"CLK2"]
[null,null,null,null,null,null,null,null,null,null,null,null,null,null,null,null,null,null,null,null,null,null,null,null,null,null,"YSK4"]
[null,null,null,null,null,null,null,null,null,null,null,null,null,null,null,null,null,null,null,null,null,null,null,null,null,null,"TOPK"]
[null,null,null,null,null,null,null,null,null,null,null,null,null,null,null,null,null,null,null,null,null,null,null,null,null,null,"CAMK1A"]
[null,null,null,null,null,null,null,null,null,null,null,null,null,null,null,null,null,null,null,null,null,null,null,null,null,null,"CAMK1B"]
[null,null,null,null,null,null,null,null,null,null,null,null,null,null,null,null,null,null,null,null,null,null,null,null,null,null,"DAPK1"]
[null,null,null,null,null,null,null,null,null,null,null,null,null,null,null,null,null,null,null,null,null,null,null,null,null,null,"DAPK3"]
[null,null,null,null,null,null,null,null,null,null,null,null,null,null,null,null,null,null,null,null,null,null,null,null,null,null,"DCAML2"]
[null,null,null,null,null,null,null,null,null,null,null,null,null,null,null,null,null,null,null,null,null,null,null,null,null,null,"SRC N1"]
[null,null,null,null,null,null,null,null,null,null,null,null,null,null,null,null,null,null,null,null,null,null,null,null,null,null,"CDK6/D2"]

{"sheet":"Composite","index":2,"n_rows":422,"n_cols":47,"rows_kept":422,"cut":false,"hidden":false,"merged":[[7,3,7,4],[8,3,8,4],[9,3,9,4],[2,6,2,8],[17,9,17,10],[3,2,3,8],[2,2,2,3],[17,13,17,14],[17,11,17,12],[17,15,17,16],[17,17,17,18],[17,19,17,20],[17,29,17,30],[17,33,17,34],[17,35,17,36],[17,37,17,38],[17,21,17,22],[17,23,17,24],[17,25,17,26],[17,27,17,28],[17,39,17,40],[17,41,17,42],[17,43,17,44],[17,45,17,46],[17,31,17,32]]}
["Composite"]
[]
[null,null,"ADJUSTABLE*",null,null,70,"% Inhibition Cutoff"]
[null,null,"*toggles the conditional formatting in the table!"]
[null,"Variability = Rate Replicate Variability = (SEM / mean x 100)"]
[null,"NA for Rate Replicate Variability means that one replicate was rejected for a particular enzyme"]
[]
[null,"Key #1:",null,"Key #2:"]
[null,"Run 1",null,"ATP Km"]
[null,"Run 2",null,"1 mM ATP"]
[null,"Run 3"]
[null,"Run 4"]
[]
[]
[]
[]
[]
["Kinase Targets Inhibited by Compounds:"]
["Panel #","Recombinant Enzyme Name Complex, HGNC (Common) Name or [Form]","HGNC Name","Manning Name","Coral Name","AQT Common Name ","Group","Plate Number and Enzyme Location","ATP Km (µM)","0.15 μM Gefitinib, % inhibition","0.15 μM Gefitinib, % variability","0.15 μM Gefitinib, % inhibition","0.15 μM Gefitinib, % variability","0.015 μM Gefitinib, % inhibition","0.015 μM Gefitinib, % variability","0.015 μM Gefitinib, % inhibition","0.015 μM Gefitinib, % variability","0.0025 μM Gefitinib, % inhibition","0.0025 μM Gefitinib, % variability","1 μM Osimertinib, % inhibition","1 μM Osimertinib, % variability","0.09 μM Osimertinib, % inhibition","0.09 μM Osimertinib, % variability","0.09 μM Osimertinib , % inhibition","0.09 μM Osimertinib , % variability","0.015 μM Osimertinib , % inhibition","0.015 μM Osimertinib , % variability","0.02 μM Afatinib, % inhibition","0.02 μM Afatinib, % variability","0.02 μM Afatinib , % inhibition","0.02 μM Afatinib , % variability","0.002 μM Afatinib, % inhibition","0.002 μM Afatinib, % variability","0.0005 μM Afatinib , % inhibition","0.0005 μM Afatinib , % variability","1 μM Lapatinib, % inhibition","1 μM Lapatinib, % variability","0.085 μM Lapatinib, % inhibition","0.085 μM Lapatinib, % variability","0.085 μM Lapatinib , % inhibition","0.085 μM Lapatinib , % variability","0.005 μM Lapatinib , % inhibition","0.005 μM Lapatinib , % variability","0.1 μM Staurosporine, % inhibition","0.1 μM Staurosporine, % variability","0.1 μM Staurosporine, % inhibition","0.1 μM Staurosporine, % variability"]
[1,"AAK1","AAK1","AAK1","AAK1","AAK1","Other","08_11",17.41,-14.789177172018242,1.5508100519342565,-20.538405844796955,2.1424340156651276,-13.041673734395346,2.7612864108329536,-20.226420061870627,1.9815046402948522,-13.699401039952647,6.0557493582570867,-10.917873087975934,1.3844086476459965,-8.9011721777864778,0.68001881983394741,-5.6639985717261254,0.60255303954533079,1.3271044722825422,3.7239265629184599,-8.5254524714571431,2.4438705222503998,9.050197875442592,2.0278513404945433,-5.0305822301503156,3.8675435716389219,-1.3271044722825422,3.374297021453855,-7.7709666828011592,1.5871618945750829,-12.480325488350985,0.41566108051572365,8.2229892581902391,3.155592584878153,-6.1162852977058435,5.3099056744130673,40.500891911194749,0.82996821614375638,79.934239890499015,1.4729074299997031]
[2,"ABL1","ABL1","ABL1","ABL1","ABL1","TK","01_01",55.4,4.8396271824268098,2.8426246007088705,7.6603158232170472,3.428619214205078,0.68918741521900984,1.5654399859974546,7.0704818185619303,3.2856207055150617,6.5815551436256925,1.3605764540272369,0.28036582230437546,3.53273179152536,-3.1409542232397598,2.9640421650607887,9.8504434986675165,"NA",10.665844636251535,3.3351895310449131,2.6732697510988004,1.9576635365271366,3.6116304045185217,0.63641064396802116,3.6833212943351441,5.1965621518382941,12.344377709717179,2.933455312040091,9.0200663573256179,3.0503556605737092,7.0636271256993837,5.2326791464146263,15.924187582037291,3.5360566405473111,9.7072511037746949,1.6685891571536569,7.7890277794781895,1.4973248937915484,31.912016228471416,1.0122906805616325]
[3,"ABL2 (ARG)","ABL2","ARG","ABL2","ABL2","TK","01_02",53.32,8.0672762588937701,5.4999144359742909,8.1997631749209745,6.1806462639012629,5.0122876997743333,3.0754533570207458,8.1423880269052944,3.1641783756729396,3.90517230855626,2.0752713112061876E-2,6.4722714266248857,1.9571653309219723,2.6979152473088845,0.77791128342974292,-7.2938648659018384,6.9734873191881288,1.6191535893795788,1.5136400260906344,1.4740675593652668,0.17961327404030628,-4.2358899589456342,2.5879599432145115,10.981183961153988,5.008113565137684,2.2906035375820153,4.3394850938111462,12.480025765214478,4.1026149215275778,11.614165913116722,5.0477523566500277,6.8487894716648299,2.9256033457391846,6.890994896980402,4.1668265357019552,22.082523009079765,3.8474402011668669,52.148639834247795,0.93619307063653678]
[4,"AKT1 (PKB)","AKT1","AKT1","AKT1","AKT1","AGC","08_01",25.6,-0.8763968618978879,1.4257688888393909,-2.3446587906213807,2.8126491887494156,-3.8053292798586398,1.4688277774375091,-1.2789047948844114,0.93127399627491358,-4.7269719810921202,1.1410627954357611,-3.3323614265545416,3.6837824565711177,2.1622368178748985,1.2084893499478255,3.1343542042896075,0.95242807312669742,0.3859189075526217,1.6055216089849933,-1.093395126143264,0.96142041618071294,1.5412017910595637,2.7286445835291735,-3.4581977779141937,0.14732060646982886,-0.31170373302330745,0.91037280756004302,-1.0872567675403531,1.6312687987232197,-0.92382296973788414,5.3848750844024327,1.0489078000148453,0.29686069811740096,4.6038146599708227,1.2344457363382071,62.304339819532252,2.2504757227917267,92.061450164510305,0.97716646463646917]
[5,"AKT2 (PKBb)","AKT2","AKT2","AKT2","AKT2","AGC","08_02",45.47,-1.9404613466334126,3.0548628428927596,8.1028151774785897,1.8335373317013453,-4.7862115544472061,0.90139235245218186,7.9706242350061274,0.62423500611994631,21.826193390452872,0.98408812729497019,4.6556625014071784,1.1271529888551131,9.5793932230102428,1.0392040977147334,0.9710774763974257,0.60542484639592353,1.3567111244317971,2.8552874768969483,2.238123381740408,1.4149217606664417,-3.9672311304261001,4.0351665917378483,3.9978047956771405,2.3281830462681485,2.0090913632049308,0.20580448573854462,7.899217606664422,2.8143645164921787,6.3879038613081178,0.72540245412585591,2.9901593486188034,2.4087117238623317,2.277836055747045,2.3487686697637313,67.865585950692335,1.0399076888438603,89.589889604875367,1.9781207852540055]
[6,"AKT3 (PKBg)","AKT3","AKT3","AKT3","AKT3","AGC","08_03",24.17,-3.9096040023354419,0.69262384228783735,-7.7743866373293713,0.71450540610878022,-15.859368739195645,0.32742217999061524,-11.118603165590187,5.9786594742943517,-7.0634300991317218,3.3631438237868823,-5.2424457972674361,3.4189060609139785,-3.4761803586109892,2.483117938864309,8.5608162534682037,0.63881679047704165,-2.4545780005369977,2.2744562785285911,-6.2613740288773272,2.3648742274898127,-8.0853396581043597,1.616620424236997,-8.7084645869322088,1.6240034734090174,10.337420567439381,1.7452787971001558,-3.9759447949672477,1.692363119047402,-8.9477233466665496,0.18290824103242231,8.1793162087174522,1.8571556430681064,3.3350487783048663,2.3404636176496876,53.012905192561739,1.37365936573334,88.219368119573971,0.20137832274232506]
[7,"ALK","ALK","ALK","ALK","ALK","TK","01_03",75.8,10.961984055295915,5.3617012920708413,-9.5240289832808287,5.2123819033719947,4.1442485174567167,3.8968306955189838,-2.6335868090227024,3.4636556827201237,-9.9915508103540986,2.073892003994156,36.914345717285855,2.21636081804091,6.4040702035101731,2.3038651932596581,32.539466983534211,8.9051094890510853,8.1921575284331993,0.21897810218978186,6.2028101405070259,3.1389069453472676,3.7362077745713833,2.7397725343744739,9.2029601480074064,2.9988999449972513,8.5876761161093214,4.5611950432863511,11.305565278263913,3.6064303215160622,12.536876843842208,4.4377218860943177,10.743507044644375,4.5900526226447136,6.5421829910032443,3.2354438974707098,84.979248962448125,0.19875993799689956,96.498047869631648,0.8131047360380238]
[8,"AURKA (AURA)","AURKA","AurA","AurA","AURA","Other","08_04",21.62,-4.855073104717107,3.1400090219977486,-1.0589865399841898,1.1939465918088279,-4.7436248971757777,0.26800640384937785,8.8632764701648199,5.1212840999064326,-3.9390340459224262,2.0819837328150888,5.2805980436338587,4.4137528828566097,5.8425894016912849,0.35787185536675009,11.437824500077113,1.4198324165938347,-0.17889271577648458,4.7797254922120054,-4.787530154017432,3.1863849640802724,-8.6598468102606319,1.3447797254922138,4.1910770617395059,4.9041698698406782,1.1000873901197821,2.7337685704004442,6.8817432335710151,0.4665588632929496,6.5689367229541773,0.35522095273440624,-4.0620983909936683,2.5600164499049063,-2.8180743330077576,2.9363080244692363,75.733637303501837,0.8827505765713235,99.088058397162385,1.0178378656248392]
[9,"AURKB (AURB)","AURKB","AurB","AurB","AURB","Other","08_05",17.010000000000002,-6.6979540534211424,0.99549327815028121,-3.6268596702854836,4.7848813831925989,-7.911375768842916,1.1866585740024786,8.2348210695617325,4.8090068355448397,-3.5625251306795604,5.0743868114193846,9.0202580177192857,4.3909641987461816,8.1938759649759021,0.55437542096264436,-2.750648323150628,1.0047909981978793,3.1040393828842667,2.9203111951122946,1.227915652038746,2.0905652556862333,-8.5103951474660562,4.8929717375060431,2.5050515517330751,0.11916481011346659,-7.0405696452903186,1.3045580414047795,3.1760012434588987,3.6267550904095613E-2,1.196829179835234,0.23832962022693319,1.2069799129708656,0.63293921146323029,-3.405564590567451,1.2579666827831868,56.007460753328843,0.5673281177141084,97.929761329172351,0.20746340820183745]
[10,"AURKC (AURC)","AURKC","AurC","AurC","AURC","Other","08_06",60.27,-2.1149135099862093,0.41453160602915673,-3.2182903042939301,1.9898728825773311,-2.9600231067940399,5.883674408150491E-3,-4.7085331052970361,0.34541733524218943,-4.4750521248690944,3.524794142798112,-1.3710948204987687,3.8469443683200946,-1.6691216771718445,1.8532474650589132,5.6291457489062253,3.7944313393415134,-0.12903485957377825,5.0384080324199987,-1.3582488352973456,3.23290627569197,7.0323998467710993,2.360934696264041,1.6348657166347067,1.5346670320635734,3.8710457872134612,1.0826831186112471,9.3347492463706772E-2,1.1321594957522541,-0.55580295971499538,1.7890175390517966,9.0727635637819048E-2,0.79437085425108656,2.7399745962620159,5.306558599971777,80.274561523705131,2.6848109070978436,99.435472489364699,1.2500252021210105]
[11,"AXL","AXL","AXL","AXL","AXL","TK","01_04",46.96,6.6050887741127013,5.5094608454267933,7.4939686369119158,2.9886991302139698,-0.28987465377787203,3.6860755762180042,8.8835629483842382,3.3283601041203648,6.3003936258015329,0.10792965525997734,8.923913566581632,1.2426007026324564,3.4332739785360218,1.1155493527118638,7.8761750793365621,2.2956709179091059,-0.97598946170887757,2.6453505778097077,4.8727080225227297,2.3230184320708425,-1.0490389797018196,2.1280162864499155,4.1407189951393093,3.8356032532845696,7.1552601640620281,"NA",10.755570527936854,3.2970787814620448,15.51229606814573,6.0185764473747616,10.636488833004009,3.107598347404346,6.3888389916771473,4.4703909945512228,91.504884739400353,0.26180278165455495,96.639722172325008,1.3172863900364897E-2]
[12,"BCKDK","BCKDK","BCKDK","BCKDK","BCKDK","Atypical","32_04",14.97,-5.4524392148695995,3.9604701410943939,22.055239642567031,7.2048071868877503,-6.217459780288479,0.59223199875046173,21.966837100396617,7.9000812347683924,20.817604052181395,1.0608305060448184,8.0905185248202116,6.5932196180186367,8.2734271980942822,8.6987962057084562,-1.2971189713021829,2.2718326491593133,14.528857148212722,1.3252357120096061,14.330681866519129,5.4064400867752891,-25.102626103582082,5.10974901122795,8.5669318133480061,10.829894933855011,-19.85229338881706,9.7752535192787171,8.9923008209621003,"NA",10.791611723169765,"NA",-4.9935331496372868,6.084462689085079,-24.658381600404866,"NA",17.767663448041134,0.59551661065974493,-14.766912219535499,15.173667735102804]
[13,"BCR RET (fusion)","RET","RET","RET","BCR RET","TK","32_11",5,-6.7929035049762234,0.20285590653398369,3.3760358740851188,4.2076983100066183,-5.4147987884033171,1.3614885331025555,1.5931965666762125,4.0941102100886066,1.5645526110447037,3.5874085121934374,0.72515037636840418,0.30063874333613227,-2.7441264871396385,2.9373833941931617,-12.242349796849481,2.4560290484996727,-8.9757434229175317,3.1160995100090463,4.1162277285283864,6.9004039168161238E-2,-2.6787522103586667,1.5934829853002719,1.9885018599932636,2.072933013645005,-4.9458040306143261,3.4198129125440362,2.6018626530837281,3.4061244884543589,9.234001968287032,0.10692586245548623,3.6513100171429329,6.2294993453288861,-6.681019937097588,2.3547912476546551,51.554756756962156,0.10396203257932157,100,0.12283519835859759]
[14,"BLK","BLK","BLK","BLK","BLK","TK","01_05",61.19,14.652838093291777,2.613293823123688,12.08589901477832,3.8069581280788176,3.7500638634854226,1.7805139733306081,10.971366995073893,2.9125615763546673,6.4901477832512313,3.1634852216748754,14.466379396733117,0.80468984868222837,6.0096202024250829,0.15031566289207202,10.014801375095487,7.4006875477479653E-2,0.7352941176470722,1.7928762414056503,9.0930955005511436,3.9192303838060001,3.3064362108479912,6.5651260504201767,13.214750977051807,3.5614791061228628,4.2327158135981762,4.743601986249053,14.617697164044486,3.4392223669706379,17.837458663192692,5.2470187393526366,7.4006875477464007,5.4359243697478838,1.3440603514133187,3.7648013750955065,75.951498146106829,2.0743561479106107,92.164820473643999,0.65412528647822765]
[15,"BMP2K (BIKE)","BMP2K","BIKE","BIKE","BIKE","Other","21_03",11.72,-8.4972107961909273,0.4186623091226585,12.514784918345768,0.14940549065177264,-4.0040570237223392,1.4284104355665894,12.9152746363429,0.81135481728953907,0.30711128633980422,3.9862214936398876,-6.9280611397242353,1.6068731592444021E-14,-8.1242731350722721,3.289582987207166,0.25472135028043397,2.4520146143158472,-6.6073174496989822,3.0566562033654145,-7.2520352217976694,7.3766406379797091,-27.780064838161906,2.5626511603972628,2.1847482970593006,2.8576175444425966,-5.5009519888848928,5.5086708176812635,-2.3342747964778283,2.8576175444426135,-3.8959960126266822,0.92208007974745076,-6.0361241187670771,1.7393094221170007,-9.9264138321412076,4.5489631039983536,14.063797973085229,2.168134241568374,76.442134513456494,0.18267894818092584]
[16,"BMX","BMX","BMX","BMX","BMX","TK","01_06",47.8,16.548385650894204,5.2053607446474741,-6.314263116266801,4.2475905908544637E-2,9.9236527169771733,1.2445652985910893,-3.8521252599818041,18.131353077306137,7.4215660427102961,3.5152473855343064E-2,-12.841788148791139,26.103551277796168,3.3968189129158333,1.6594756057085953,7.7823695337616101,0.95882621204528928,4.5182503532962102,3.2413167955048379,8.0497332073833832,3.8665781613010326,2.0082989420819359,2.3506162274157876,8.372692690648222,3.6099977022645486,9.4697460208430613,"NA",12.338839388291746,3.4032015113993208,9.4424161964819007,5.205647323138197,9.4987416461632819,2.3328810391131305,8.2547448666482666,4.4374567176952207,49.665551839464875,2.6436722918634628,77.539650813848084,0.37750615101372076]
[17,"BRAF (BRAF1, RAFB1)","BRAF","BRAF","BRAF","BRAF","TKL","32_10",19,7.6609957206972581,12.086421041644847,7.7941131521838827,6.6937677659932238,2.5988936436697969,8.3498590961263705E-2,12.886267078277385,"NA",17.623865268820509,0.79775040498826499,0.98164239746137127,10.670541831015278,-2.9212016963729752,5.6199768676413884,3.7591162591162686,1.3689710118281646,-0.69329533615248806,3.9100324814610494,5.4301728995521898,6.4740947240428239,-10.876693019550146,"NA",6.3554672439870785,5.4776238915744813,-17.667156952871238,0.27425384568243349,14.202675049675264,11.76488033452951,0.98164239746137127,6.5096829680595487,-9.3123735980879019,1.3383281240424107,-19.891830606116315,"NA",10.958213470150355,6.9248791482546963,-18.06168413311272,3.2381871667586002]
[18,"BRAF, b-[V600E]","BRAF, V->E","BRAF","BRAF","BRAF(V600E)","TKL","21_04",158.9,5.3078479549067623,6.8976730741436549,0.63462949376375377,2.0726338958180412,0.43358866888279124,2.4317097846509759,-4.8679383712399158,0.40535583272194309,2.2945707997065341,0.2751283932501824,10.576311173886722,1.0632188368230751,-2.1823148679901294,2.0674561907274764,6.1959880584507516,0.65818188166693159,4.2458841809389156,3.8967160739538236,-12.038431092554362,1.6701072531702399,-7.6642399483231145,1.5712564814329804,-6.6649075698076672,1.2727583156130104,-1.1819340421446043,2.110721206724981,0.65190060067983779,2.6029459698573425,-7.0793300945255879,0.5649805205891929,-9.2739049215244762,5.2706925749401972,-5.6652525358333889,3.0796627036086615,-9.1235041209430534,0.66742204355315649,2.9347579392098311,2.2695926954031935]
[19,"BRSK1","BRSK1","BRSK1","BRSK1","BRSK1","CAMK","08_07",114.8,-4.6715375351264328,4.2610999598554935,0.23297896403528284,3.2096810676317635,-13.408590927338409,4.0745082296266508,8.6609364397195208,2.8364623388373711,13.01515494232072,8.9957023297895571,21.376286051610734,0.44526901669758656,17.81750716815651,4.0546466520492475,3.7637418792936614,2.5066432043796421,3.083868788937167,0.61499631179957293,23.774666891550012,0.50936076910103223,5.5727375334382003,1.4903884608206437,14.504975543936567,1.5044695564176085,-1.0944623670248035,2.70393970903207,20.252993759487268,0.90065778377467021,17.493675156012813,1.0355877888345415,-3.9797015668186191,1.44328614214234,-2.7505976662134231,0.56522782413949191,96.765053128689487,1.5044695564176083,97.090765279370075,0.66209863047786688]
[20,"BRSK2","BRSK2","BRSK2","BRSK2","BRSK2","CAMK","08_08",39.979999999999997,-17.435130273726202,1.3997969760111153,0.76424270495601831,0.30106530801296061,-12.086605759470004,1.0916991683140103,5.504091400339675,3.3811949976841205,7.8894549945962922,0.95723328701559152,-1.2390526569942324,2.5428565157268488,-0.83298579863470934,3.5942404354792861,-8.009736510875598E-2,1.7964694745820904,0.8228183870263166,1.4469536995620553,0.63214732544611252,1.971070480036875,1.852641652710318,3.8810814184515205,-2.5845606795583507,1.5781733576241845,-0.86442740786203842,9.1539845838574094E-2,-1.1743014552558293,0.53227682784961217,-3.7226453609605272,1.2994139467503627,-3.2194979871636349,0.21012555522037479,-4.9525137049712527,3.3942558746736351,92.931144230558175,2.8391755745297309,100,0.24445299740983761]
[21,"BTK","BTK","BTK","BTK","BTK","TK","01_07",79.2,15.336115395082999,0.72348725392361568,20.419979499681418,2.9531540017175892,15.624149505579226,1.712328767123283,21.181815663351529,4.5488544754411713,20.059838767764617,3.9033714713134113,88.926936319951565,2.3216997729425777,6.8643519841210008,0.63756522262154547,57.231326344516312,0.51432095201858097,19.79610847973548,3.4834748153299206,-3.3998466234606326,"NA",-3.0478764580080764,1.2556253854127077,9.664225674029737,3.5968302181856453,10.025322434627441,5.3452641799073763,12.139301986376523,4.50957099679714,6.8237523119257446,1.3803888546381486,6.6966687222010819,3.1042943175407038,11.712610047627152,0.65077344949291982,51.73601190923717,3.278047606874873,56.424419748874918,2.4010391382499914]
[22,"BUB1","BUB1","BUB1","BUB1","BUB1","Other","24_11",22.58,12.765402208030395,0.80282129161803906,15.086815323718994,8.0636086351387402,4.5389304898116052,2.7498894535016101,11.161124107909615,1.1410860059028385,6.6333027332760821,0.39187815254621827,-8.4121475700391812,4.2850121386336255,5.2754650660550055,5.5271741558809033,13.093623679749626,"NA",8.9568392228452183,8.3491980701525623,-5.0326923936193992,0.86683248685602265,-2.6476724475159727,1.1233537618985432,-3.2290254836836141,1.7798364635617583,11.202894771156608,3.1451297431216516,6.7529527412460482,"NA",3.739890677827276,1.4179115592558926,13.694745077585097,5.3207719389750849,2.0830616768809591,5.9883948363541464,0.26362431301292588,0.99492113611652555,5.3814056591472195,4.0774546877037459]
[23,"CAMK1 (CAMK1a)","CAMK1","CaMK1a","CaMK1a","CAMK1A","CAMK","29_01",52.27,13.578523664221251,1.3054043275428668,3.1729091249981991,0.39805587204522702,-5.6644809452704266,3.0100815240073704,5.0665589800539408,2.5585185398849095,8.0966871944272327,5.1415550139175368,10.584486156906806,6.0170943319763399,4.1474017720632759,1.6946967045517423,7.3304568756859254,4.2560548431228122,-2.1468196100245081,7.4702707578513685,20.38517508795843,2.0142943982905663,2.4459912503570393,0.77874828991084655,3.6988597638477074,13.08140070366759,5.8060345475592925,0.56526902897004061,3.7909628456168178,3.2337392009136523,12.262604306740101,11.667618398511674,7.4567403821579745,0.77724491483379998,8.4700151840882825,4.8423711231715139,45.103800173153793,0.44025273085637717,86.55381331088293,0.35028639295217739]
[24,"CAMK1D (CAMK1δ)","CAMK1D","CaMK1d","CaMK1d","CAMK1D","CAMK","29_03",194.9,14.148151741534889,1.9671097312506067,-4.1856583424279563,4.5435578095910669,-16.297176676045396,19.608033375375911,-12.634011683892936,0.88110675996661891,-7.4179880593182475,2.4122103100725467,14.507479537115429,7.993853294446021,8.2792360523097273,1.3202872644024259,11.278244448785586,2.2856026567688899,4.9277202578628589,2.0039721299732962,8.5520745131244666,0.1442594160629686,4.3921338803151713,2.25630005860519,7.0122620503653366,0.20070875278326966,7.957283323565818,0.40860845217165043,9.6465644306457108,1.7154326214444844,9.4740803462225927,0.32928779753504023,9.8993944129712901,3.3860780100280041,9.7789281760760645,2.2611838249658183,88.688180136105629,0.32928779753504517,98.76277918864362,1.255127954678648]
[25,"CAMK1G (CAMK1γ)","CAMK1G","CaMK1g","CaMK1g","CAMK1G","CAMK","29_04",37.03,4.315923518635131,0.62203833536102626,21.606923571720969,7.1019238641015114,0.82701748240162942,3.2380077731122352,2.5451727969124534,6.4513771124495536,-23.022045494415522,8.3269984211449604,8.2903471786130893,1.3007984210998484,-9.2222122544181957,8.9160760742800775,19.963855046271817,6.3798959274608134,9.3119995014489518,6.4640264232075415,-7.2620435991746604,3.633264555485785,-15.90689558470693,18.178418969868911,-16.576208845429264,5.5822194312370854,6.3471785124481528,"NA",-3.9337938458778012,1.0967076343410882,-1.9601686552435496,3.7678299093926593,-2.8635527996759151,7.2788458542361267,14.300626304801696,35.012307979933325,83.029066116443886,2.8034448730601517E-2,100,8.0516000373913226]
[26,"CAMK2A (CAMK2α)","CAMK2A","CaMK2a","CaMK2a","CAMK2A","CAMK","29_05",21.16,5.3135274679542022,2.2143981058527249,17.280945443357538,"NA",3.9261607538122405,3.4932459655690939,15.845768217973202,6.6492321892334436,19.518772226696456,5.4674279922902214,11.604233045855679,3.6308034999852952,5.0371989349084885,5.017456553049934,5.1090417674286357,1.0865878078939089,8.0733583551270982,5.4362217820915424,4.0816875947547118,9.0652929425471935,12.97449308982678,5.9056539770426877,5.6835625227773079,0.18745291865690739,9.1566634203989565,1.9718340683029343,13.364794846241267,0.37355976582343259,19.139441539865913,0.96159358911017589,4.8278201494742063,2.0659393568013051,10.235591495508118,1.5997899044721868,99.723307526982495,0.12413770411055321,100,0.22869773600183896]
[27,"CAMK2B (CAMK2β)","CAMK2B","CaMK2b","CaMK2b","CAMK2B","CAMK","29_06",14.54,6.440884190822274,6.5855699617364456,-4.8693996158329469,2.848418183907675,11.335755773942253,3.0683513639992279,4.7528361051370211,2.0291901298616035,-12.950041864359477,2.1211275467485349,-0.16736760159125197,5.0910476798241424,16.092697720521215,3.309830963154027,12.98491638957158,4.7106163558382708,5.9611584983856147,3.2371933882704438,1.4151647160142886,1.3040787174294288,13.668015999228956,6.6310057346633862,9.5522141123534396,4.6975196210076415,10.324803623921738,3.7106645462869299,8.5778480928513545,5.7540183735059935,20.189880242793819,0.91690265055329079,22.339887234350172,2.9721459206785248,20.248421762806615,1.5324562671678432,97.342503837046294,9.7052528018931883E-2,100,0.6361139222206158]
[28,"CAMK2D (CAMK2δ)","CAMK2D","CaMK2d","CaMK2d","CAMK2D","CAMK","29_07",16.07,11.397665234533051,1.120045339068418,15.235213033880228,3.0190595624281,6.7844805417101526,9.4337366566694847,14.087908215614547,12.096966430710911,-1.9981966482531277,1.1918704074123956,-1.6261638812506476,5.098688512986385,12.501827280099363,0.51963999119827753,2.2786335083039262,5.8118922640048165,7.164615781774387,5.7034678599087858,25.316792665643902,2.8777930457181626,17.874537475260297,0.16177609500042839,14.084290315184674,9.347518669032155,10.059375268909733,5.1148782376731843,11.096937401615406,1.8891383393370713,21.608837419003422,3.3781985095549456,19.333964374838658,2.3199380431976748,14.563290594613221,3.1856122536786877,99.972456156818339,0.20311660893743852,99.666121676275708,2.5815334308579314E-2]
[29,"CAMK2G (CAMK2γ)","CAMK2G","CaMK2g","CaMK2g","CAMK2G","CAMK","29_08",22.04,6.5969330302556699,4.5294107223118196,-13.827613186505204,4.3651396073943483,-1.556199586624416,1.2841063048636878,5.3273854705545745,1.8532575058680583,1.1689418798827518,11.823712820991853,0.56573790583773587,13.690484512109236,14.581343076079492,6.7978644248408964,7.2905735711909045,3.6561644186225117,10.853318317934026,5.5757467175142699,-7.2393326094622097,11.264273542510256,11.502137134959426,2.4365897980599422,26.746416760257304,"NA",16.348442578894833,3.7124721660566657,12.616017435041883,5.6758641794081974,26.634574011162542,2.8883389953725032,19.06145222799519,2.9459189680325655,8.5370223439379487,2.5389675206674975,99.880701067632245,0.16621075212695394,100,0.20731488828031019]
[30,"CAMK4","CAMK4","CaMK4","CaMK4","CAMK4","CAMK","29_09",334.9,-0.13662629493597933,2.4721322542535016,-5.1101692751551155,1.6174330431230357,1.4249318877735391,6.8948057897401744,-1.0314805831439884,1.3659458217376848,3.9637960527995517,1.1910536931600673,4.2744608264534207,3.1677290642791132,5.7401910693721163,1.9274541925507798,18.602988430780485,"NA",4.6661654566218971,2.667510809899952,1.7247065565882025,4.3247422401721503,4.2036149888182592,6.0064702487266226,6.5625354808362886,3.0439178412512908,-2.4830364050413891,3.283016756879912,-5.8640022923999453,0.50551743899999368,0.19301574943635558,0.3152049913764654,-4.4732314266884856,6.5884105865385596,3.6387303467218288,0.43471557239597219,16.85022085975811,0.77476629955827292,13.899300443584536,5.1254412308481596]
[31,"CAMKK1","CAMKK1","CaMKK1","CaMKK1","CAMKK1","Other","29_10",113,9.6696206248767709,"NA",-2.573453763684995,1.4467251789781366,1.8608729932057315,1.9795408559372185,1.3984773554516607,1.3275246737950568,-6.2544788880295812,5.3924038059007307E-2,13.15898236590742,4.4751102130786178,16.479151359294647,0.78756429096252734,0.1345604300268235,1.2822192555975382,-1.6678411195427714,6.4298639169124829,4.4314842027920491,0.89777736958119481,-3.8367427877380038,1.010619650780288,-0.18598457016901193,8.7412747979426815,3.3360363454803661,3.0531053360292617,9.4415870683320975,2.7668074944893375,8.6195811903012469,5.8550698016164562,-3.4404977319485255,1.7195406531846373,4.1076341797656539,1.5460285197290418,91.929188096987502,0.37426524614254064,100,1.9252764685677457]
[32,"CAMKK2","CAMKK2","CaMKK2","CaMKK2","CAMKK2","Other","29_11",239.61873033681286,13.760450435079335,0.3229580520145286,-3.0775111082798361,1.8824353808666823,-12.029882760133574,7.265946815511735,4.0735137201191236,1.0100173591756791,1.6562883215769375E-2,7.6928222197448655,24.604008234948097,1.382294861560434,18.501323473803623,7.0333179278181435,1.1747409289446011,2.096834051785661,1.6800365411516225,1.6814639298866638,14.295617831183563,3.3738078232007043,6.1563276142624801,0.53812555311315469,9.1172639805049442,3.6006890466787138,5.5982186188586667,4.2793114276742132,23.847737490021416,13.885971177681617,2.663753623797291,1.2604512415444797,3.6755259927488595,4.7574866539153131,-2.5521710582660262,5.5568243455422657,89.744128397966477,3.2267551783538546,100,1.7742441976647927]
[33,"CDC42BPA (MRCKA)","CDC42BPA","MRCKa","MRCKa","MRCKA","AGC","08_09",21.36,-6.1326762279196032,1.7452055300219629,-15.078828066851614,1.5867108735367799,-8.7463314690735814,3.3805858574671861,-8.4613302659178373,3.904188375397514,-20.272007578320597,2.726842140875565,2.1524356067894388,2.7447109311605331,-0.43165828725354061,0.39735985745238728,13.097111436684941,4.3228968835350106,9.1287282724691181,5.0138368875142429,0.14388609575121336,0.87502823346356318,-1.1033335142076766,3.4474650460325202,-3.2985050903889004,1.6605459306167853,6.1027004539946148,2.7203501727349995,1.4288223926919272,0.27020470306761823,-4.2923230075540033,9.4529818720252817E-2,3.0766726355200973,1.759907392334545,-3.5252410150668254,1.5591368676180617,18.408218238399201,0.75874819096696278,83.844303362454099,3.2557382386454316E-2]
[34,"CDC42BPB (MRCKB)","CDC42BPB","MRCKb","MRCKb","MRCKB","AGC","08_10",9.2750000000000004,-2.1100932254051372,3.2216890439952821,-1.6119836210024232,3.5401440937127502,-13.880406508005748,2.4235373951820049,-3.1151194733840981,3.8874203078836773,-7.2979837246669632,2.4257502721194193,-6.5538827737844514,1.3320243946718902,-13.941541544233814,3.233571587065708,-0.62996341572231529,4.4918354599803649,0.86017667529220887,1.0957437315963237,-14.919211140323171,1.6023291935906878,-0.82270009815296419,1.1118051217988765,-11.821464352714131,4.8917099804331707,-5.8963148032479751,1.456232711698046,-11.43214475427142,1.7475675930097305,-11.473161154107345,0.13851439944593938,-14.1786383510306,3.3746765414473066,-6.5012938342107702,0.9904523958240381,14.031643143873438,2.4273639902905573,62.600160613902027,3.7244579280806649]
[35,"CDC42BPG (DMPK2)","CDC42BPG","DMPK2","DMPK2","DMPK2","AGC","21_10",4.931,5.0335213365967775,0.71299350856657151,18.129913115432331,4.9317335539925535,-3.7458763435138991,6.0923699052889235,20.248241621845239,4.0463384360777859,25.022755482002481,7.5299958626396339,-8.7826485413174282E-2,7.1254009469986261,-3.6963494730410957,6.1249427218573329,9.3716694118786847,16.696541032845673,2.850983431838003,3.2530762523011325,-6.2394990071788499,"NA",10.774149791686838,10.451991086134973,4.3034977852451419,"NA",14.223427962406745,8.0394341633562654,18.481747365205436,"NA",4.4447838704750069,"NA",18.312179052417392,5.5856990601685839,10.030520298420697,1.4412363143106324,26.317397281197486,"NA",100,5.2005619610502869]
[36,"CDC7/DBF4 (CDC7)","CDC7/DBF4","CDC7","CDC7","CDC7","Other","32_01",14.79,-2.995902717738602,4.3215677429863861,-1.1923185910150806,0.73457287965645701,-18.525479582503237,"NA",24.262702443490227,"NA",-9.3728883754380377E-2,6.1664886544455833,-5.8690542942699437,3.6369167631023158,-0.60843941255770062,4.8919721788095938,8.772122850586257,8.5567885322687403,0.63500047153497974,3.965609380402999,0.83869197456485267,2.369931162835091,27.602087328282664,11.604476438967641,9.7839443576192053,0.37997637823455821,-3.2913143252334294,4.5424538681588151,12.23977284928597,6.9016117679340461,5.0530296703689999,1.6010307679459737,-4.8238030869825081,5.2513281569268404,-4.1510798151582833,5.4980981421520845,24.897102158170384,1.187053363715536,100,3.5585174939486359]
[37,"CDK1 (CDC2)/CycA1 ","CDK1/CycA1","CDC2","CDC2","CDK1/A1","CMGC","33_01",94,14.755383409415771,2.9787430257758092,-5.1367610185811969,1.0439408528853995,11.089592843639053,0.47032784617512735,-3.9207367648320428,0.94765041805299555,-1.081598993240604,0.65544231630931338,2.6504485374447881,2.244995306898105,2.5058086753142987,1.1217282924802752,14.755231571670961,3.6511028718657754,16.351410796204362,1.0871614403318113,-0.84168089984459016,2.9251104032990138,13.787469364670386,0.23251429648715347,4.8862115127175372,3.8591146193971424,10.381449129642419,4.5560233771130534,5.8902275769745671,1.2902183446429416,5.5001615658034382,2.6442936496945695,17.111795387419107,1.0494564192798288,15.766982969898805,3.5065669578332077,76.404468448506677,0.39006601117112427,92.942876893106259,2.0172186262804015]
[38,"CDK1 (CDC2)/CycA2 ","CDK1/CycA2","CDC2","CDC2","CDK1/A2","CMGC","09_02",33.57,14.206321768578519,1.861847461218489,16.132547764193035,0.20433879371998145,10.224640994472267,1.7821097592255946,20.232946224840802,0.59598814834996205,18.788952082552868,3.7462112181997617E-2,8.9577251594767091,1.270407611633688,13.833927992215379,2.1623959346955771E-2,12.424393073162662,4.3002734277902039,15.183528047062723,2.2785649183859511,9.6388798789058256,0.52978700400043233,9.3379733200762161,3.484132902477425,11.07687317547844,4.9464807006162834,14.955671555224129,0.1367138951031576,17.764082603524713,1.6596388798789046,17.904638339279913,5.0978484160449735,22.126936780180642,4.6275582069765502,11.164968100091158,0.44328444775872283,65.834144231808835,1.6434209103686894,94.253873560361257,0.59656972408650477]
[39,"CDK1 (CDC2)/CycB1 ","CDK1/CycB1","CDC2","CDC2","CDK1/B1","CMGC","09_01",51,11.130396763522185,0.49042331275416984,18.737268181697928,1.911426228207096,7.7395752122885,0.20886449356286493,22.960924892192907,0.52117780893674082,18.894679753432641,2.7130347363686904,0.99029032413892537,3.6906429641080178,5.7774986715617729,1.096565383314815,9.8673516236707428,2.2223876707739265,11.295586246261891,2.4879325962600389,6.7436355731607165,1.6810782087821805,5.3183436945488864,1.2470684584744807,9.9801941935172209,4.94662093618666,18.759384035042004,1.7645088039310597,11.762716776967281,6.3909956040771005,18.032945268344534,9.6613690159898388E-2,22.213949794636974,1.2433458660611212,12.203898795120907,1.7980121356512686,77.088063378580742,8.2121636635912112E-2,93.975604611051139,0.442988497189443]
[40,"CDK1 (CDC2)/CycE1 ","CDK1/CycE1","CDC2","CDC2","CDK1/E1","CMGC","33_02",74,1.3741457030681943,6.5689981096408276,-0.30268828237224454,0.4873794377180416,-3.4880761960156832,1.7249527410207972,-8.6856146111225172,1.7648265955263698,-6.6488815924482054,3.1756618099733216,3.3198011511188099,3.3791590261068714,-1.6344614862787807,2.4622918499517721,74.441687344913149,1.5457836716430045,76.142049383720462,2.2129113615099869,-1.4897766659953504,1.7584770465217372,66.057844852133584,2.5546109099784395,4.752339866232802,4.2446180426740732,67.916853109872676,1.1593377537322547,7.9990036356698511,3.8704514378385251,4.8986146295962669,2.9387447929364128,63.637473050482036,0.22373184721148748,74.807794003986487,2.1315543261603547,65.872931749043389,1.8061753389228656,91.730057356709921,2.9939389008664521]
[41,"CDK12 (CRK7)/CycK","CDK12/CycK","CRK7","CRK7","CDK12/K","CMGC","33_12",87]
[42,"CDK13 (CHED)/CycK","CDK13/CycK","CHED","CHED","CDK13/K","CMGC","34_01",41,6.9891223064983592,3.0628468011034786,-2.1938913157033682,3.9251252791155538,2.213452478953684,0.84143452332325441,-7.907652214842912,5.7651353818071165,3.1131788463415262,5.2490944888669535,-1.5715837219702706,1.0448831249955639,-1.3030870901566942,1.8611980663983527,-1.19444451966325,1.5112661220223522,2.8698079844459556,5.3136669257202342,-2.6872732951440241,1.0106333894106221,-0.62010382000197239,0.4635885326827251,2.3399845255080436,1.8611980663983452,12.999163266024553,7.8390329629860283,-1.1921747339878266,1.5497561702762004,12.465661534530085,14.415589485863595,7.8157452212741561,3.193399279163168,8.3838578039659524,2.7555355774412185,1.9958900317297861,0.52013458548946434,24.624078983354678,0.98079302884159325]
[43,"CDK14 (PFTAIRE1, PFTK1)/CycY","CDK14/CycY","PFTAIRE1","PFTAIRE1","CDK14","CMGC","21_08",20.260000000000002,6.5173103082710213,1.8124572910213794,5.6656448950719351,0.18674840839424275,4.2970820587164553,1.5132549510483357,2.947418061777924,4.2442820089607716E-2,-2.3579344494208954E-2,3.9830228719641667,-1.1547163922914905,6.6669267379261825,-3.1481625965514581,1.6735585550440679,0.14711144686096134,0.28428293109616437,1.9482326746451548,1.490994393861089,-8.1532339861121841,1.8686119996879105,-3.0634964812531962,3.1410281897340067,-1.6618553483654779,0.5305453694312261,0.59242177249416272,2.693729871575691,5.5941327923851105,1.4043848014355997,5.3561675899196359,0.98697042989778794,-1.1073118365074492,1.3458709395252582,0.42940638543200293,2.7831895352091664E-2,8.8125146290083336,1.7008660372942186,41.054033636833537,8.3495686056215171E-2]
[44,"CDK16 (PCTAIRE1, PCTK1)/CycY ","CDK16/CycY","PCTAIRE1","PCTAIRE1","CDK16","CMGC","11_01",18.059999999999999,-2.6309220707902625,4.4955319255154569,5.0015240100861291,3.5412452547867694,-11.162697818381488,3.3373271429284639,2.5575660173459625,4.0123029177865881,-2.2222837983873518,3.9596552966277789,4.0363245867961552,3.3803342982538127,2.3975161079466005,1.7882155196563572,-0.21344391761064685,4.4243874921864341,6.1075452424875323,2.3539814913631463,2.9624614809972911,2.0310019609674081,0.45280602521688706,2.8662468936286998,1.8745914651227906,5.4206741992716374,-1.925569056730339,0.5625771828452113,1.6388084788495689,0.5742833131011329,3.1048650667662798,3.4597067886824222,3.5263984388101903,2.4500312542879397,0.17227973350001946,0.76839810339833303,24.955644784760494,1.3750116724250658,76.213199981704804,1.0306292021771282]
[45,"CDK17 (PCTAIRE2, PCTK2)/CycY","CDK17/CycY","PCTAIRE2","PCTAIRE2","CDK17","CMGC","21_06",29.29,-7.3881663819253163,1.8595353486028281E-3,-1.2725528342616741,2.8169389441142765,-8.4016131469149258,0.55623351115139963,-0.1998774085227808,3.0181488686938698,-0.38909468859101537,0.32246888575007165,5.0146755760944188,9.6046961843501659,4.2090801224005503,0.90551426965590831,5.2450384771162106,4.5227487511813038,4.3674902119616519,6.9258809234507961,-1.4175982014613169,2.5916442890151754,-0.81679492372082052,3.7667071688942726,-0.15612314994065457,1.28020982951352,0.47927636019980469,1.8023491292021021,-4.2403047523886812,0.65571722975082403,1.5612314994067304,3.3597701867232916,1.5660861347373896,2.5921425678412402,1.822600243013369,4.4484946672066839,13.776306750765002,0.4808593018172681,62.589442419333054,0.50627784528148434]
[46,"CDK17 (PCTAIRE2, PCTK2)/p35NCK","CDK17/P35","PCTAIRE2","PCTAIRE2","CDK17/P35","CMGC","34_02",32,10.220675373178992,2.876800057458198,-0.43305080820707076,2.5797786114584942,6.9165300039502569,3.4229521540837324,-8.799962947520612E-2,6.8894446760224204,-2.4153582511231235,6.2734472696957084,-5.3026018584213688,3.7572878427985241,-8.1445606386224085,2.3627863295321636,5.4547334677628072,0.32314771728452263,-4.4982162246005828,0.90222842665840208,-8.6417277628679017,0.45260888491293555,7.2385088671722997E-2,4.3637867742102499,-6.90772674145596,1.2476307013124097,11.188666563259403,1.8587456698205889,-1.1679400040445245,1.0906485965868318,-6.6604285131600989,0.70093538027029867,8.5285145545731922,2.4817744687451588,8.4638850111162895,2.0061010289023389,101.24488865581502,2.3219984027584983,100,0.71351015976423349]
[47,"CDK18 (PCTAIRE3, PCTK3)/CycY ","CDK18/CycY","PCTAIRE3","PCTAIRE3","CDK18","CMGC","11_02",24.69,-0.6040869494423049,1.8871611169909617,4.7733847637415749,3.64934908389584,-5.1111292029634399,0.70829601888789484,6.1776759884267562E-2,0.64338235294116985,0.2350530376084663,2.1154773384763752,3.3182778465797185,1.1801558971370305,-0.29868143075690057,1.7884461280687745,2.0920783102186107,0.82272742536686505,5.3678766916283109,2.5252694852077044,-11.124062067458297,0.77948568514606054,1.7159743443366011,1.299573524967258,9.1862752240110694,8.1044656516354596,2.0752879545988776,0.27032472547768777,6.8296058862096487,2.2728928389305665,5.0921541487579134,5.6093829678735325,6.0982571610866785,5.3729137983135611E-2,8.2977937472715695,6.9008361597098524,5.4309026007139209,1.9122896481387048,57.649686020349918,0.14103898720575395]
[48,"CDK2/CycA1","CDK2/CycA1","CDK2","CDK2","CDK2/A1","CMGC","33_03",112,10.227554234349014,7.6724351488126823,-5.1986717050269107,0.64048246116264018,11.933326255441116,1.8084014580458025,-3.5146379632810465,1.3336386884995577,-7.1376770105729292,0.62979503034466489,5.6514889646839208,1.5937351830042343,4.421773909851467,3.7044401278658974,7.1114738297341091,1.6568580202833127,8.7672765264376267,1.609368459192386,4.5670760618528021,2.148942353283076,3.9901784552173609,1.8049550959816776,15.634511555344815,3.9904559428580288,11.740826599782636,3.8051450542260348,19.254829384683589,0.76627766476498982,21.438950153714359,1.5279668405194142,17.724159522712327,1.0226085488245333,11.667305723723331,3.4487974587808119,90.751135651030111,0.17895107141218286,98.074034466868113,0.29936012213611457]
[49,"CDK2/CycA2","CDK2/CycA2","CDK2","CDK2","CDK2/A2","CMGC","09_03",33.18,21.02740751834655,2.5410613548999041,10.498892390253019,3.0763470718542316,11.222604962308424,1.7023613399231159,16.330223705968606,"NA",17.103990515116521,1.0764094724033577,5.1648192071252197,2.1443438694999695,8.3982767800958413,1.7716249576455863,7.3650439391825842,2.4727678514817261E-2,-1.7011374732116735,0.17499587872025354,8.286945157074399,2.7010019846071875,3.5246452529197683,4.1713691525380705,8.703228617067623,4.6226826080642844,11.044395693579673,1.3765074373248456,16.046275231134132,1.7716249576455785,19.381383416428676,3.0495183697177941,21.501033490153318,0.12680860776829547,13.740346694733631,2.2882613271788927,87.806767026477559,0.51793407231714972,97.381402249584696,0.24854487122585883]
[50,"CDK2/CycD1","CDK2/CycD1","CDK2","CDK2","CDK2/D1","CMGC","33_04",65]
[51,"CDK2/CycE1","CDK2/CycE1","CDK2","CDK2","CDK2/E1","CMGC","09_04",43.57,7.6940025558542402,6.5570880888379683,11.43413600687289,2.2549649264748806,9.2451416736438858,1.1236945313532714,17.966736452277488,2.4697433502097765,15.366040820411882,0.12302841747921596,6.655534351145036,2.1045377438507211,7.8191263782866685,4.031488549618321,2.7895839568991221,0.82011373840167112,-10.248428614187347,3.2385513319365553,5.1897794741306171,3.2469253604749775,-5.2918287937743003,1.2391499551032596,-0.52480916030535241,0.61757845631891817,-2.8015564202334389,0.67045794672255121,16.653413910093306,3.8273960983884643,8.0576759966072871,5.8391645462256179,10.900927865908429,1.9574977551631196,9.0751272074229092,1.8557318168213155,82.172391857506369,1.0496183206106848,96.767434899730617,0.41903621670158514]
[52,"CDK2/CycE2","CDK2/CycE2","CDK2","CDK2","CDK2/E2","CMGC","33_05",215,11.340405014464807,3.3992285438765637,-2.0452235177282176,4.8249661549701693E-2,7.1552555448408839,1.673095467695275,-4.0973175374247433,0.17629083459422656,-4.329040831080917,1.7878919894631393,0.39376060368179822,1.7911254041005125,-3.863468188251062,6.0210624643027122E-2,45.116109549099235,6.768718108924382E-2,49.323128189107571,1.1298552535666004,1.1428764359811794,0.25617651279192866,32.495053629074249,3.6030407164427811,-0.30555485216042655,2.510135924078333,23.362490888264077,3.5613870665417138,4.8459705305568548,4.4375793078028893,3.2651602756183422,4.7595936064194513,29.995834635009885,2.0930959075289048,28.76184525669062,1.4943246902009855,88.249924736719194,9.6224456205212236E-2,97.297719462667914,3.2750182234718315]
[53,"CDK2/CycO","CDK2/CycO","CDK2","CDK2","CDK2/O","CMGC","32_05",78.180000000000007,-11.329523738844884,0.72357557654131621,1.954452275982149,4.9816068068855159,-13.015083767787914,4.1466446501790468,0.29766083513520414,5.8970542809806004,4.5688130072168747,7.0455758052287196,5.8403634003893643,3.8476757252971554,1.6033301150662282,1.5590129944128801,12.150062337073564,6.4830556500056593,9.3278930069137544,3.7402244134648024,4.5456703755875907,3.3965907472183039,1.263742491216135,0.17567720729911315,4.6691252116933839,5.6535983919216237,6.7890740111073455,3.1961917715062773,7.7016824678304943,0.65367752963708348,11.065035374558818,4.6058150393314445,6.29604442933244,2.085458460840965,5.4063243794627738,3.5758812195398386,82.113293553441707,1.3105205678922458,98.073217726396919,2.6124900827382982]
[54,"CDK3/CycE1","CDK3/CycE1","CDK3","CDK3","CDK3/E1","CMGC","09_05",69.59,12.959839357429729,1.2208835341365469,13.233253437618302,5.4623438879777968,6.0080321285140599,0.65060240963854632,0.16399646776842758,2.2959505487574106,0.93351835498928892,1.7408855809259591,2.0527175180779125,4.959762071378595,8.8465127128527854,3.3473291345929539,9.6512570965125519,1.8383346850500157,-4.7445255474452637,4.9067315490673291,5.257172848145558,5.1084674597620676,7.0559610705595901,2.7845363611787048,9.9515978539771197,4.7002565896897579,-0.52716950527168649,0.68937550689378335,7.828901329601095,1.5570328901329591,17.039888033589918,3.3444133426638616,22.465531224655294,0.25682616923492746,23.492835901595015,0.36496350364963809,93.628994634942856,1.0613482621880113,90.483914571505807,0.43254933765882631]
[55,"CDK3/CycE2","CDK3/CycE2","CDK3","CDK3","CDK3/E2","CMGC","33_06",405,10.549192875391014,1.2676438514665462,8.0396588924278376,2.1344909072228577,10.50669915985317,0.49302949473435298,13.112606596116294,5.0652419603411065,11.520086304325488,0.79626014589537564,5.0188545709893901,2.2431963197646834,0.56784880956331563,1.4044167247232626,10.610758022012092,2.8367694931018486,25.104634940319329,1.4028832739110237,1.9744772141680187,2.4859281867542484,11.610603007285675,0.27902650751821323,4.3951608444193795,5.6182198188634223,8.8125871957836068,0.10075957215935712,4.2934235698725161,1.0372778644019083,6.0246159970805735,4.6439748310829438,14.044334211750126,1.0541001395132501,13.300263525034879,3.3870717718183272,90.7817182540999,0.40529033827643696,88.482405828553709,0.69756626879553663]
[56,"CDK4 /CycD3","CDK4 /CycD3","CDK4","CDK4","CDK4/D3","CMGC","09_06",116.2,16.771919552408036,0.19586795293592796,1.1727833383884274,3.9935294712364739,15.452192419933453,0.68937154965706349,10.459003134162387,2.0624810433727632,4.4029926195531317,7.4411080780507577,2.5123152709359573,0.99417823555754181,-0.21197193610984755,1.2151067323481055,5.4186495782876989,3.7098116822943688,-5.4704801394713343,1.068023684995838,3.8946111359904592,3.4258844603672194,-5.9982094897045641,7.5421319637500188,6.445738169876094,4.9081952530228241,3.6344217751181986,1.170114184296916,7.1577847439916411,2.3018360949395529,14.554411106135234,2.3660247798178777,13.257629301543915,0.73348097190155415,11.977571502615078,3.2307716471124079,61.192715330646365,0.9329750709061071,66.826870219416037,1.2439334684069181]
[57,"CDK4/CycD1","CDK4/CycD1","CDK4","CDK4","CDK4/D1","CMGC","33_07",630,10.991990918837104,3.9919278552059003,-7.4150026983270436,3.7560712358337827,11.811818124487601,0.8198272056504915,-3.3675121424716679,3.0005396654074512,-3.2271991365353614,4.9001618996222316,-2.1009923099907297,0.75327493748918706,-3.3480633442891161,1.3665885609146218,32.716234697621658,2.3916741719203349,47.976917175356078,3.2656192668201069,2.1733318655742124,5.0496154995360847,40.601754561526391,8.4359051335935042,-2.9674943779584595,0.62432181666641473,15.190633443410377,0.28686747389839828,1.0489235559609398,3.3118935664973508,-0.31609240591927801,4.53852081334822,39.611061076086592,8.3625204309683649,33.653557490243159,7.2650855598918458,29.585305634622344,2.2425262230889018,51.749558023950094,0.57373494779679324]
[58,"CDK4/CycD2","CDK4/CycD2","CDK4","CDK4","CDK4/D2","CMGC","33_08",375,12.478997707928968,1.4926046854546244,-11.154645015105743,2.2322927156764005,9.7380418591354356,1.9570374605658378,-9.7258937562940559,0.55151686807653855,-15.009493538100031,3.1774504867405171,4.0856632956573407,1.9869125520523465,-6.1487209994051284,2.2034503271861983,13.159332874549648,2.6100068817552526,20.855766506092365,0.48880702748653443,2.8054729327781018,1.7037477691850031,8.7823341294579222,1.7254989272557919,-2.3033908387864415,3.5883402736466419,10.081771444763788,2.4814799821883793,1.7632361689470315,4.8375966686496161,1.349196906603197,0.5068411659726374,14.005383961462172,1.7922924341173196,13.922398089300884,0.25098166214629458,59.926234384295064,2.1344437834622214,76.082864429421534,1.4148079180666311]
[59,"CDK5/p25","CDK5/p25","CDK5","CDK5","CDK5/P25","CMGC","09_07",13.24,15.443987970461038,2.8213145632830789,12.028287126853996,4.668627573690463,10.52241143673163,1.0472274726272424,21.359284060329173,8.0230302271731588,22.304274360097608,2.4907691344890162,4.3765611990008182,3.3045378850957556,9.3099500416319643,2.7893422148209779,-1.8057335041639959,0.81278026905829437,10.63020499679692,2.8026905829596416,9.4140299750208101,3.9550374687760228,5.0208199871877071,2.2461563100576618,7.5718151540383047,7.946502914238132,6.1058616271620707,6.4181614349775717,12.049854288093243,6.382701915070772,16.975437135720242,4.189217318900913,10.966527866752074,3.667520819987184,6.9867072389493927,2.1300448430493302,35.077539550374681,1.1214612822647845,88.757206918641899,0.50848814862267844]
[60,"CDK5/p35NCK","CDK5/p35NCK","CDK5","CDK5","CDK5/P35","CMGC","09_08",19.72,8.9181864498938666,2.0947534119305837,2.0516548783793809,9.5793183330458049,5.7452301474376242,2.2466009136538609,20.100056682357007,1.9555413165093545,13.639500209478271,1.9345934889222982,-1.9352867280073411,4.0097782908362465,6.6309034733303776,2.2680202356296464,-2.1227690643591188,2.7339102217414748,-7.2850189291509082,0.64359113034072013,1.8979390893966581,6.6852273113095455,3.0827474310438134,4.0616549486208768,7.8328183886191738,4.33232607883747,-14.921579232017308,2.6095186587344443,7.8260279088717652,1.7757104539435642,14.728550572097916,2.1491868400502536,11.749594375338035,2.5878853434288804,3.1422390481341296,1.8929150892374249,39.523987369707662,6.4509557600241504E-2,90.922120064899943,0.76798269334775504]
[61,"CDK6/CycD1","CDK6/CycD1","CDK6","CDK6","CDK6/D1","CMGC","09_09",132.9,10.97969662269891,1.5500975691212233,17.2416929420325,2.152558816395826,7.9623617863758938,0.30864346751766703,16.711132670385652,3.0105505699733146,19.394251758428339,0.74581615328644157,9.0501284787247869,1.0191193763337822,13.740690736466178,0.79700361482514182,6.9216030656235006,2.6345201979881825,2.7223375379211348,1.484911384320615,9.9995644788989893,0.67505770654588071,9.4150832934163731,0.77971153334397958,10.064892644048612,4.4292495971429835,7.7438927031773943,0.63334930012241297,15.29114585601674,3.9719524410957585,14.594312094420971,0.44858673402726401,17.965298845068943,4.8884985896003004,8.3240193730374159,2.8394273244983732,87.14341709855843,1.4023779452114506,88.275054553196014,0.63068816860929233]
[62,"CDK6/CycD2","CDK6/CycD2","CDK6","CDK6","CDK6/D2","CMGC","33_09",1000,12.826444108562782,3.3856870605244165,15.045056810761395,0.91419616037612694,12.476835118617331,2.2645725175790248,14.257106786818156,1.7543859649122826,17.321840581602899,0.62252405206564831,-1.2488922172333758,1.0176885519848504,-5.4622274690883899,1.4356210614439335,28.586649925282742,0.88511225274774019,22.709628358961211,1.8192991608676019,-1.5500783214679643,1.1462077039546543,15.568160717285778,3.0417444050471731,0.95293844488553248,0.3237505354964717,16.257858576569731,0.6490233701466912,-0.99087285106496381,1.092903322857774,5.353983603179941,5.4386819755977029,17.829131776502521,3.1279566374576628,17.039074036412501,1.1410962659050488,42.793280377774344,0.61578005892913767,55.828389024961758,0.89660721706913948]
[63,"CDK6/CycD3","CDK6/CycD3","CDK6","CDK6","CDK6/D3","CMGC","09_10",223.5,10.718812673743173,2.3188513176331456,9.6261147176695516,6.3918566174686813,1.828393525550382,0.42922320696344313,14.024822178878821,1.0227746887523874,9.0021639350625549,0.96746334410449131,6.1197495664442556,3.2421151641633115,8.2507862790629218,3.2744481349754557,-0.12852562744515694,0.90532887024561481,-4.1518956353073406,7.0618476618218046E-2,3.3743864083948125,2.9746333147173836,4.4113008394182884,3.8341124905253618,12.310043796478652,4.4061021134005509,2.9824536625095703,2.6194746926919215,13.532817965374306,1.8576761412069005,22.345022192175421,5.878721965844793E-2,5.6377083833547488,0.15488985871597397,2.2513170345889222,0.64968998488765051,54.381117545045704,2.022280356250552,50.513867114858591,4.0487926594454507E-2]
[64,"CDK7/CycH/MAT1","CDK7/CycH/MAT1","CDK7","CDK7","CDK7","CMGC","24_12",42.03,3.3725765164736288,3.762602372120242,1.2886079664342276,0.93588482420908325,1.5849365295002826,0.1028554635842609,-1.3494785241063738,0.40571313662722591,-1.5769278846937738,0.30516801904379276,8.7812046076411292,0.62324764381988818,6.391244130662443,0.78708239029827221,-1.96158582385074,0.5216929216336309,-0.45935547164418722,0.58913999867148192,14.028983548964632,3.5976083505050189,-1.5538375853946889,3.3192137305898179,8.6123028071479268,2.2159916224706948,3.8455053165669284,0.40161668599808981,6.0078370435429065,1.9609499037259739,4.6768908556565236,2.2936864506975638,0.66936114333012142,2.6897076782365703,0.16708480448006924,1.1491551231675632,17.373239198729863,2.1974124244164464,47.606906171918503,1.8261807070701925]
[65,"CDK7/CycH1","CDK7/CycH1","CDK7","CDK7","CDK7/H1","CMGC","33_10",69,8.3773702207025309,0.97528753497047416,10.146632494432993,5.3569177765640177,4.8336959900528456,2.8753497046938175,6.6887945884626703,1.9957144657787713,12.247384563673776,1.6091760850384507,5.0861305916797335,1.604593631556249,2.4783822427997819,2.1856063185129697,14.351875808538168,4.5148771021992262,10.282018111254857,2.3285899094433925E-2,5.1564875967408881,2.4942693084587297,10.739974126778776,5.1151358344113786,6.3979482989492169,1.1052858537028414,9.5679172056920976,0.75808538163001105,6.9993872131816914,5.1746442432082791,4.9159120310478528,4.0489321622296552,18.957309184993534,2.8589909443725601,9.7050452781371348,5.723156532988356,29.86541385806045,2.8052018792129001,73.327296248382922,3.9249676584734958]
[66,"CDK9 (TAK)/CycK","CDK9/CycK","CDK9","CDK9","CDK9/K","CMGC","09_11",46.62,8.5757438453405967,2.1265669838392913,-7.793838516571725,0.6190684771499505,6.4703217036701659,3.3016160700800468,1.7929624762739564,4.4006424295517572,6.6579062636881332,3.098262520075914,1.7186618595639374,0.65913717411031536,-2.507787015917387,4.6715963995781564,10.630136986301352,3.4946727549467309,4.2191780821917746,0.56012176560122251,-4.6501361194908384,4.5201481372476904,0.7366818873667853,1.1993911719939099,0.45189218355284311,3.2490864052191419,22.67884322678843,1.7960426179604343,7.1671203983027851,4.8610600152061467,9.0715669683368958,6.3467245481078169,25.814307458143048,2.8371385083713831,12.377473363774726,4.8828006088280045,58.311873053246025,0.13428003826061383,92.68797564687975,1.9360730593607305]
[67,"CDK9 (TAK)/CycT1","CDK9/CycT1","CDK9","CDK9","CDK9/T1","CMGC","09_12",31.54,13.222866204065099,4.6286792499216345,11.032579429186868,1.0366182014001022,-6.16952361050501,3.7042955569350138,12.452880990845458,8.7641357027463673,7.0880452342488098,0.48465266558966569,0.87233685623219515,4.0345579600738173,4.8733433987585926,7.9013588324106721,9.7323014185174515,4.038499484773415,15.178356098309607,1.9381289601192644,5.0327126321093374E-2,2.3737627914779393,13.124027098726174,0.89452105851658115,-2.0298607616172006,4.8230162724375285,12.194426783012872,1.6903817061673634,14.779399429625911,8.8659620868981825,5.4017782251300162,9.7886260694514373,15.277016509175411,0.21924535747955537,18.109666527811271,1.8898949814737678,31.035061231337039,1.4091595369904433,90.638223235622988,0.67746815461182552]
[68,"CDK9 (TAK)/CycT2","CDK9/CycT2","CDK9","CDK9","CDK9/T2","CMGC","33_11",28,11.979695431472095,3.9912411665173599,-11.229008875472232,1.1663744328555212,4.3097442022494192,0.95749975116949171,-6.5856546338641522,0.3913522893657041,-11.144502087814743,2.2392039189457842,14.134872589046921,0.14078558355623419,16.373363367591196,2.9424186963254941,2.2529441884280601,3.2770097286226334,1.2800819252432092,10.701484895033218,-4.2235675066820022E-2,2.6186118541461347,5.0691244239631317,13.824884792626685,12.797409545262624,2.1821765451217665,9.3189964157706129,16.948284690220177,16.204420667323703,3.1395185133042611,17.020977051949899,3.4633253554835854,-5.2227342549923179,2.099334357398885,13.927291346646186,14.951356886840786,38.701956919611447,1.9569196114318042,98.566308243727605,7.9877112135176631]
[69,"CDKL5","CDKL5","CDKL5","CDKL5","CDKL5","CMGC","32_06",346,13.064127290260387,4.7299903567984662,5.8036421219319152,8.4402216943784616,9.7203471552555385,5.8847637415622049,-0.19794140934283178,2.1536025336500413,-10.712589073634206,6.2549485352335719,10.677372512172212,0.33313402237977097,-1.7041086529426792,1.6229606218501773,-14.88231898929007,7.6880651574424492,-16.332969922401091,15.097800295004079,9.7206799350815913,0.89262834201758123,-15.982812800615648,0.81703328416595955,7.0983172460920798,0.22636029725806261,-5.92188802667863,6.7568780863207802,14.44007858546172,4.3520970359613873,17.224737336636224,0.74741607585205205,-14.357724620021784,2.8204963765792366,-22.584493041749511,5.9629320849098955,23.477406679764243,5.6846331254804721,-7.296863977425744,5.3960110305906328]
[70,"CHEK1 (CHK1)","CHEK1","CHK1","CHK1","CHK1","CAMK","07_11",40.99,-1.0588862467932643,1.1339648409724146,-3.8033750373283937,2.6149119416083009,1.3543542803935367,3.0584397476405916,1.6310909420681696,0.28177219688877997,2.8164395206574966,0.54925425635407765,-1.3416975487788534,1.4421574317988972,5.308746707148245,0.1361789525382856,12.898928467998815,6.3191427743990722,9.9739357080798925,5.270779032725164,4.2818234584989057,3.6344153234808245,17.914856646394426,0.46915725456125001,6.1927936777247083,0.32147162566415466,14.682884448305799,2.5543006081668067,4.4581863642452078,3.9715140420592037,3.8018484618475412,1.6765638255123494,10.362004054445393,7.6165653055314042,12.927888792354452,1.9519258615696495,94.541679689244091,0.363888020717061,95.123081378511444,1.9866782507964105]
[71,"CHEK2 (CHK2)","CHEK2","CHK2","CHK2","CHK2","CAMK","07_12",38.82,-1.0389172340784256,5.4540614897581428,2.6408137257657813,2.656040630065867,-3.3583461851845016,3.4160525208931416,2.3835961731275432,0.8693391055013735,7.1976405326136899,0.63882720040479868,-15.154471544715449,6.8455284552845468,2.2317073170731732,3.4065040650406462,-2.5896917635169814,5.103587670540688,-4.5714375947448502,0.16106619504802658,7.0040650406504028,0.54471544715447184,4.0724482061646938,0.6947953511874756,2.2439024390243816,3.5731707317073078,-3.6539919151086906,0.95850176856998559,-5.849593495934954,3.365853658536587,-0.22764227642275614,1.2520325203252018,-4.3203638201111829,2.8012885295603853,-3.5813542193027246,0.18159423951489251,50.963414634146339,0.79268292682926866,78.875063163213738,4.7372410308236246E-2]
[72,"CHUK (IKKA, IKKa)","CHUK","IKKa","IKKa","IKKA","Other","10_08",63.83,-7.4072952011633504,8.9947891420261676,17.89885057471264,"NA",13.505816771691698,1.1118516723218654,12.418390804597706,"NA",8.9839080459770173,2.4735632183908334,-7.3830639715481823,0.44118309098276504,-1.8907846756403899,9.0037365506684952E-2,8.4673153432373169,2.6143255204064926,8.5686400143046768,4.5514148202232159,10.736955836672237,3.2593526313420127,-9.574436381517188,8.7794847342462479,8.5400441183090834,4.5468869580876214,13.130485315373022,0.26299712416742971,13.888263629406197,8.9767253410164418,5.0691036780263659,8.4094899383243913,23.384393020518246,"NA",-3.3615949695280847,"NA",3.1017872417053098,1.6296763156710063,59.961854241480538,6.744795935092605]
[73,"CIT (CRIK)","CIT","CRIK","CRIK","CRIK","AGC","08_12",18.7,-20.960047118876986,5.2433408308116327,-7.7221496511116641,4.0520936583060365,-16.205564636941389,1.3974332162474865,-11.677092837778417,4.4564496753992877,-17.241583027550078,3.3891073315784808,3.446669771774566,0.64659305734404338,-1.0959204361763142,6.6549768486807741,2.1652504798572494,0.88338627664470115,-1.4277856974486127,5.8267575121507704,-7.4248609550946583,4.2357324858215319,1.5153385939902932,1.5377880546419926,-3.1535110550973968,6.2248280774815701,-8.3781387152173608,2.457093468329413,-11.649634236554419,1.5699060248226142,-13.375708923532159,1.0657826241814761,-16.543007554243488,0.97318411925153958,-11.792701680342105,1.6769747106825734,-12.079783007753633,1.6055234389983142,11.469429446957548,6.6371830416774431]
[74,"CLK1","CLK1","CLK1","CLK1","CLK1","CMGC","22_08",25.6,-1.1944901315789451,0.48108552631579538,-4.3776941968502712,1.1214728562350793,2.4629934210526301,1.6837993421052615,4.1372559122056742,0.21639445618011313,-1.6933724904254177,1.8548096244010599,7.3974874051399837,1.8493718512849973,-4.2408009693259316,0.35712008162744141,1.5679766453760209,0.47183406316533466,10.828010673211921,1.2528007884045067,4.967795421210397,1.0522288119380139,2.2838628101786043,5.7944941845870561,-5.8350870480199006,2.8123206428161409,12.713022620143363,0.85534450859527911,3.909189464957592,1.5687775014348562,-1.3838403163063617,3.8836808876984845,11.925082977714538,1.2435035654849951,11.065089857659501,0.69729171896355369,34.685287928065819,1.2244117084369648,92.464600823733946,1.120315361801429]
[75,"CLK2","CLK2","CLK2","CLK2","CLK2","CMGC","22_09",40.840000000000003,-0.11187630634010759,7.3690980224024219E-2,0.85650404173595973,4.0142177377744668,-2.4847258695535999,0.19762581060078374,-3.955741558218179,7.8323682852720289,3.8158573639855717,1.0514246402568359,7.9186558942343197,1.2004223283143582,5.7702901211898734,2.4915075284612516,-12.036848089088394,2.1630761157916312,-14.759642013818024,0.73462962423111045,8.2262210796915411,5.217131839882474,-8.0663498819345136,0.65883450427077472,4.3472273228057361,1.6824274697025405,-6.8186455995102193,0.12243827070518641,6.8008630187293448,5.7381564450920998E-3,6.5357601909658598,0.82744215938302601,-7.2821619100370043,0.88038947030871817,-7.1801300177826874,0.28860449523365589,52.638404333455753,2.4846217407271416,87.796985686383124,2.8044194385330785]
[76,"CLK3","CLK3","CLK3","CLK3","CLK3","CMGC","22_10",53.61,2.288549035723733,1.4062876097102777,6.2849635531445927,3.7209696558738896,0.37983972759560913,2.1994305339478193,9.8660789964400664,3.9625360230547595,8.6709611798609956,5.7467367350398355,-0.2833274915293913,6.5457413249211367,5.2985161817969413,1.1917280056081345,-0.22298548796057105,1.2857630959017425,5.2113866460464919,2.6182812134726294,-1.3523776142072848,5.1933637107138662,0.69233397471634817,5.6717437824812489,4.8399345717957658,2.3425633835728354,-5.7544642054324413E-2,0.69772878490890955,6.1718658721813284,1.1566771819137822,-9.0547961210418748E-2,3.5868676247225117,11.487349170098369,0.28412667014331705,6.122210433562941,0.8281033645632967,0.93760953382405887,2.2169645986680613,22.216727508137168,2.8439641065295223]
[77,"CLK4","CLK4","CLK4","CLK4","CLK4","CMGC","22_11",32.57,-24.365317782882656,1.634564410673256,-16.823587710604571,0.14866204162536426,-12.007421805972768,0.34163868763621424,4.3483647175421112,7.5198216055500531,-4.4474727452923872,1.1273538156590692,8.7785501489572937,5.4568023833167878,11.857000993048658,6.7974180734856056,1.1834319526627155,4.0105193951347866,1.4135437212360245,5.5226824457593615,4.2204568023832962,0.43197616683217854,13.806706114398395,2.5641025641025634,15.968222442899688,4.6425024826216452,5.3911900065746039,4.8323471400394462,10.819265143992055,2.770605759682228,0.31777557100298282,3.0585898709036732,5.3911900065746181,3.977646285338591,13.31360946745562,6.8704799474030169,75.575968222442896,2.2542204568023831,99.93425378040763,2.4983563445101908]
[78,"CSF1R (FMS)","CSF1R","FMS","FMS","FMS/CSF1R","TK","01_08",139.80000000000001,13.573318081075271,2.405805390719951,10.699007438939574,1.9640486375993107,7.1137484807320988,3.539000500464712,15.596484942996227,3.1294122605525465,11.236381261458732,3.0366889343139527,12.613769185077317,1.7589913583322154,6.3729904769204211,1.6286957021594513,5.4402076262726951,0.6604778066147623,6.1605776269381778,2.86317961003527,8.84669183161202,3.3934353982639998,4.9976708591202623,2.2251613761895195,6.8194447105712044,3.9816819636321923,8.4248352964663695,5.9842283888999788,12.510299105175434,4.1234742953495944,19.31249880242963,5.273141849815091,9.5486457709456261,5.8852399015106149,3.2749384441338805,3.2832568044187176,98.469026039970103,1.2282281706873097,98.988487389365815,1.5122778997803952]
[79,"CSK","CSK","CSK","CSK","CSK","TK","01_09",63.72,5.6546288014311159,0.49847197376267116,5.1829204006325682,7.5564927077842068,6.2816785927251004,0.55437537268932569,9.4331400456861729,6.0207344930592201,4.3437005798629684,1.8548585485854843,3.5913076629813077,1.842165459397644,0.32634388105222456,0.35989325200152561,-0.7332193893546588,0.88087460431436426,-0.12540579900687021,0.63613102883322814,4.187571483034688,3.5348837209302264,-2.2977578656742139,1.3744071036317125,2.7815478459778831,0.6984369043080374,1.387554485785671,2.2542703708573026,5.1208539839878,3.9603507434235694,3.2085398398779859,3.0423179565383105,7.5142345695243762,5.0020732410319688,-0.15170056331476189,0.38430809373072372,14.749523446435376,1.0735798703774266,41.757097058020406,0.52589528615782977]
[80,"CSNK1A1 (CK1A1, CK1α)","CSNK1A1","CK1a","CK1a","CK1A1","CK1","11_03",13.16,-1.3580343826045862,0.52332731506920793,3.2846226035661488,0.79099074943022218,-4.3122170761702847,3.498443101237672,-0.16087947446037276,3.3985788979755993,1.6423113017830815,0.9987934039415397,1.0792664752851238,0.94592686714669127,0.83454907681931445,3.0307308579227215,4.0212299578293766,0.53816682058756715,0.56004955140403467,2.3418230911026323,-3.7790013647701102,0.98200699640767308,4.2133529165229504,1.1249207214625097,-6.4755988517106715,3.4605550065101132,5.8686516899773551,1.6886792102930426,6.9446405321034774,7.1375907885861274,-5.9375343153403293,0.9098467378857038,6.524762720728134,2.3214239352567856,-3.4470864442046008,1.3311376423768349,-4.7123786217390773,2.8550363154344502,-0.71619581706036683,1.6512189422852228]
[81,"CSNK1A1L (CK1A1L, CK1a2)","CSNK1A1L","CK1a2","CK1a2","CK1A1L","CK1","25_11",12.43,4.6339574263507899,4.5751983120108948,0.52115583075334371,0.60268317853457931,6.4474773643866143,2.8978926844902655,0.72342621259026885,3.8947368421052739,-3.3508771929824519,5.5624355005159911,-3.3913730231062544,0.68213208557656257,-1.0029972470426429,0.30022059153609126,15.947747267395329,4.3721674220208007,11.586243668355067,2.980538523060523,-1.3809938416021197,1.5137611326691562,9.0215942415355528,0.89576113036522598,3.0244164450833608,1.011140237963267,15.313249800053327,5.8651026392963393E-2,0.84105090517697079,3.5898323274651784,4.2166338337096647,2.1783283692407682,17.174086910157271,0.8744334844041558,15.243934950679815,2.7619301519594788,4.1959631644498074,0.79717793165942819,21.65289256198345,1.6795521194348204]
[82,"CSNK1D (CK1D, CK1δ)","CSNK1D","CK1d","CK1d","CK1D","CK1","11_04",14.19,-1.0941704035874409,6.5426008968609883,14.151743043156785,2.1731681364857813,-5.3497757847533762,1.3273542600896775,0.93779869790257919,1.3922703745784386,4.0812277949106317,0.44004400440044061,-4.8410335222360885,2.4013063106328884E-2,-1.4167707232734585,1.5272308135625678,0.40618955512572086,1.1577783918209708,0.43796628903011481,3.1058303398728886,-8.8272019978868599,5.5470175775621886,-5.7598784194528747,0.21276595744681906,-8.9904908270098929,2.747094419364128,1.5750207239568823,2.670627245095321,-3.0304485640188403,3.673998655268452,-4.5336663144750702,0.60512919027951861,-4.9046697982868181,0.73086487980106218,-4.1710417242332198,2.4164133738601832,-14.916914801652126,0.46105081164153133,60.367504835589948,1.3719259463940374]
[83,"CSNK1E (CK1E, CK1ε)","CSNK1E","CK1e","CK1e","CK1E","CK1","11_05",14.97,-0.30586674528302638,2.6201356132075375,16.989683551640212,1.5497855569722969,-4.8533313679245396,2.1926591981132182,13.917932073722056,0.22719369421583291,11.311000347745448,2.2023878520922557,0.88447775302141451,1.6339207345891587,-1.4111133616906386,0.47262170008777538,-6.8421662994317956,2.0429858131354268,9.0494414163670598,6.3280374193049589,-8.0615758557828627,3.8518668557153579,-8.6532142719084959,4.6116973984305458,-4.554047667274304,6.3871446897576165,-7.7931114461324285,10.106691406703002,-7.8657754371750741,0.6312875565458167,-5.6478293160488704,3.6223077442441411,-9.134485291275297,1.3394410298040211,-17.696857242259071,1.1461594959217611,-10.752143676996823,4.0476672743231292,-17.385673972708659,3.5447833314005299]
[84,"CSNK1G1 (CK1G1, CK1γ1)","CSNK1G1","CK1g1","CK1g1","CK1G1","CK1","11_06",16.23,7.1954162050473514,0.5281151658091302,4.1981229409643106E-2,0.94351034232490749,14.02597755680469,2.5447402584161942,-2.9628786315542328,0.83677840314788277,-0.37854261094784647,0.77487387842520905,-5.0385501721244026,0.31508720020483749,-1.1045833451876348,0.35278386298330189,0.59417706476531862,3.9308803575704356,-3.9654667837284308,8.4286677131277834,-7.3942359668838549,2.5591055222054706,-9.5398675073828798,1.9818465604242452,-5.1473726137301412,1.9922330649520636,-10.322274545277196,3.6838978015448616,-1.7127087541608574,0.19132834504537605,-3.6153233377905565,3.009331702182144,-10.055338281852741,2.5141671322531818,-13.001170617500705,1.7847482728957778,-5.2441036729352106,0.20910978975220004,2.6170395792871659,0.79637463307349976]
[85,"CSNK1G2 (CK1G2, CK1γ2)","CSNK1G2","CK1g2","CK1g2","CK1G2","CK1","11_07",15.09,1.8030816144023731,1.8498482649426267,1.1109225634934177,0.44120142541998447,-2.8970400668513747,1.9058509624530024E-3,-2.170937270207574,6.6972113807342168,4.7038859664008186,0.34277956898016104,-8.4608294930875729,0.38018433179722777,-5.5875576036866335,3.5345622119815792,-3.447125461441928,6.7013337394747703,2.0655193171021864,2.4056627720603836,-4.6152073732718861,0.31566820276497803,7.7449721865639845,5.7628569149206212,-1.9447004608294804,3.5483870967741931,-1.5520404981034517,1.0298586482742644,-4.0944700460829324,8.6428571428571548,-4.4700460829492954,4.9976958525345623,-6.6440387865073802,4.9578265631005998,2.0959799250089191,0.69986872928496702,-8.7004608294930819,2.5875576036866237,21.122255825591267,7.5208691426789276]
[86,"CSNK1G3 (CK1G3, CK1γ3)","CSNK1G3","CK1g3","CK1g3","CK1G3","CK1","11_08",14.99,1.1791030983635125,0.48691083349101555,-1.4944956077323752,2.3067214814999906,-1.2761332283076854E-2,2.9483078033335369E-2,7.6186786959401331,4.0086470816099578,6.0354630312269535,0.52982118534994538,-8.3354382419802846,0.58376133142487341,-6.2193034155650793,3.1798153293480418,-1.5577730618142311,2.3908430035670731,1.6503363886756688,4.0073147604641779,-3.2527854957761519,4.5887008503830913,-0.86241928929426592,3.8786291597055969,-7.950941595801396,1.8888046925430204,-0.12417031652142896,0.87596514200569098,-5.5990570009261518,4.2042042042041938,-12.101821447615819,2.9160001122617953,7.102542105025492,0.85113107870139582,5.6486205806655505,2.1447600126427888,-8.4196345878588659,1.7849625326261025,22.655438659863634,2.5082403937327817]
[87,"CSNK2A1 (CK2A1, CK2α1)","CSNK2A1","CK2a1","CK2a1","CK2A1","Other","25_01",15.56,-1.8148071767374887,6.7617034440090746,7.580726052235633,2.2259943675012552,-14.667972777892373,0.23458445040214099,3.1518845723544615,7.885498244666497,1.4042668106940397,9.2589020485321E-2,1.9751721365029766,2.0580992109363199,-9.4536864853998281,1.4826355732019854,7.4707098552722186,2.1571330117160623,-3.3631977946244263,6.0889042039972541,-7.0563401517816828,3.103482937126206,-5.1447277739490005,10.885596140592792,-8.3128109765291356,5.608885761672612,-3.5079255685733983,9.7760165403170252,-9.144594662511949,6.6115494798210825,-3.6060712670251718,6.2421470573453233,2.3535492763611359,5.616815988973114,5.6857339765678887,4.048931771192283,-11.185103281901817,"NA",-3.2908339076498976,5.6753962784286687]
[88,"CSNK2A2 (CK2A2, CK2α2)","CSNK2A2","CK2a2","CK2a2","CK2A2","Other","25_02",13.62,8.4976401570288118,6.0870715892549896,4.3209476954945814,5.6350336613153837,1.2571126108244073,1.3762074897446039,3.6574313827032654,5.1042206110823409,4.0523045054376041,5.5379337131020163,10.594602403747317,1.8144791602998336,6.2851102134256251,0.66997649595208819,9.9138354683353498,5.834944140484204,6.5360547783638339,4.9864036955738422,6.0546538570531396,2.5643305235901526,3.5579726763424162,2.7094322314320398,5.1556101328562107,1.0154526612916637,8.8195786783736736,4.5506667103495815,3.0888653045802243,1.7755835727264049,4.4700754018747517,1.0937994876895503,18.009369983291293,12.341512957441978,3.3155325492251535,5.3336827965796383,4.8005489834360162,5.6440275825280901,3.3548471644333659,5.2878157455033961]
[89,"DAPK1","DAPK1","DAPK1","DAPK1","DAPK1","CAMK","29_12",7.532,-9.4474223553523444,0.82111514004939301,-7.1549708586534848,3.5231124149127044,-8.4476325608281826,1.1863471543433681,1.903573342723476,4.1592766835568256,0.3099261821599697,1.1224143689752712,-3.1225636733229862,5.6192753796484558,-3.3432978596197813,0.43070668420422997,-2.8676926066730601,4.4369678492912721,3.643827962736168E-2,3.567307575518329,-2.7236637570249798,2.7258160947028713,-5.587202876196784E-2,2.1364977954840816,-6.2025588903503461,2.1958627286858676,-1.0506370625888053,6.855255007226928,-2.822671290206884,2.2542149946191485,-1.8837737653952047,1.9320817888317436,-4.0580097411667566,2.6879304271781006,-5.9467272351847953,3.9001105294482064,6.9769221571206401,1.3117302403443716,82.100302437720913,2.4972367637949286]
[90,"DAPK2 (DRP-1)","DAPK2","DAPK2","DAPK2","DAPK2","CAMK","30_01",9.91,-2.7501885843600746,4.1530466851060144,-1.4740801692723551,8.2379217115316852,-4.0514206688458643,6.0043164864638321,9.4204772540261104,5.1240155166333601,-3.640531327142341,3.1644528035735302,-9.9760894799061361E-2,0.32897024290307314,-3.7176312002867178,4.2923930311799579,0.53463876516232745,0.52609462980081922,-3.9129338599882715,2.3233044793680087,3.0267936901902601,0.84542677871268057,-5.3486287363083846,0.54738493430820034,-3.715491556430436,4.4753325808919104,-0.68591198139901621,0.1226993865030571,-3.3774278271382059,4.2100167427131678,-2.3667135605278418,3.5841709147512515,0.99714261702662554,3.6045045802168216,1.4062806398296743,0.47426954646048891,4.9310767222795704,0.91630248145194715,94.115471888393984,0.95344146566938259]
[91,"DAPK3 (ZIPK)","DAPK3","DAPK3","DAPK3","DAPK3","CAMK","30_02",12.45,-2.0143860597055152,1.0164798054842605,-5.6329215835115747,0.69422400110413374,-6.1799270565986575,6.1427799540726742,-5.5754146251696,4.292779426310573,6.959722126377315,3.590734478871934,10.354154232962117,3.3066246777818717,5.1669185153204467,1.0171299412070907,-5.0096425345626017,3.6617219857930212E-2,-0.55088572986257134,1.343038252788999,-6.4761082398953533,0.22856852611395201,-8.0419551967972183,1.035046747983994,1.2304605655801311,1.7574380007872956,-1.9858738902947835,2.3154288690161144,-2.9637718886109354,0.27301240619166656,-7.2519714035377376,5.5529453594240152,-1.0903794357693499,0.50246962805040307,-1.0553896479050877,2.261316755226098,6.2056354839938592,0.31364681083415002,89.00913803064455,0.21726217115702265]
[92,"DCLK1 (DCAMKL1)","DCLK1","DCAMKL1","DCAMKL1","DCAML1","CAMK","30_10",152.6,3.0118275377217287,3.1323479021185494,-4.4289404885293067,5.1902647728955307,-2.6691715997305892,1.9448678411494298,-9.3796477797839231,3.1462913894112967,-4.7929175847125265,1.2271796084428503,-8.8012025554302653,2.5509207065013131,-11.679819616685421,0.33370913190530233,-2.2496918039370826,3.0906068533879156,1.7582515660822651,1.0994650497297382,-6.3254415633220447,0.71251409244644115,-0.55782092832555463,2.0714680173370774,-8.7065013152949717,1.2777151446824504,10.475877033954575,3.3304698525679211,-10.00526118000748,1.1364148816234456,-11.875234874107434,1.1694851559564174,7.3174949377750806,0.13527157511896004,2.9051313947196746,1.1463220077091041,-5.9932356257046138,1.0146561443066502,21.719036754820991,1.0079824174843315]
[93,"DCLK2 (DCAMKL2)","DCLK2","DCAMKL2","DCAMKL2","DCAML2","CAMK","30_11",145.57667636416264,9.9628055260361208,2.2392591468043133,2.9178702065309494,3.4920723732523773,8.3915287687869977,0.21064217397905391,-1.8317119057776949,1.6169980626796521,-7.2506137179065604,3.222106433721962,-12.785399021829889,0.65847548610283235,2.2593343671716468,1.2215197423356816,-1.2441831190663635,2.3714195219802949,-0.7975116337618573,0.59447914044164252,-8.1999284265775998,0.74197781223905168,4.6905920156795418,2.6613499224415813,-5.1890731241798989,0.54634379100561314,3.074994788832683,0.47672029431591323,-3.6836454729810271,1.5292854586663451,96.643206489323632,"NA",10.989742798437476,1.9691444752151441,6.3245975219207651,2.3803529516863775,21.429082667302879,"NA",50.499053868581136,0.87006191137495514]
[94,"DDR1 [SRC treated]","DDR1","DDR1","DDR1","DDR1","TK","07_01",66.12,26.152753137525437,2.8313018814201416,61.982899640791274,2.929321888122502,8.4992443655956151,1.0513174321571723,11.332782434187223,0.27826028298227734,8.329257803936116,4.551663659207045,6.962523293533053,1.9711505279867587,4.1783421906273901,3.8525778176547689,-10.960928166478197,6.7743786700444284,0.28024229255467503,1.3933261280565818,1.58050935192216,0.50245013458487353,12.681683431347196,1.2837450083015118,5.9424390917247649,2.9001311339637019,0.12960736665492334,9.4373688515509119E-2,6.2060873766305633,6.1784802263786354,-6.6312374905100455,13.820139416108784,-8.7753762274681293,1.5285658766520887,-4.1376103555722779,9.0869095308055176E-2,98.300779901994616,4.141072537787286E-2,99.893172489193645,1.2053923173058689]
[95,"DDR2","DDR2","DDR2","DDR2","DDR2","TK","07_02",33.965144969224447,-3.316433349747598,3.2195389939066112,9.028743968503008,5.0708978419821822,-0.61712576334663538,1.6972005319558676,-1.2048192771084274,7.4006098102484486E-2,-3.6144578313253106,1.0508865930552584,2.1836551125959858,1.1484467859552123,2.1836551125959858,0.25940441389059066,2.4094577969814281,1.9893779818165449,2.436462927956299,5.1279743151198875,-7.7765106492338276,1.9371004529538443,0.94818015422929136,0.34206499234853088,0.54129589771595477,5.1302643836936728,1.0201938368290087,5.725087766675645,-10.042886054804214,"NA",-7.3396190047865275,2.3932667287738139,-0.68412998469709407,5.3710204938938331,0.43508266570648857,5.1999879977195516,98.370490539368433,0.41681390343409697,99.567917904401838,1.1762234824616675]
[96,"DMPK (DMPK1)","DMPK","DMPK1","DMPK1","DMPK1","AGC","26_03",18.09,19.066715275246082,11.810061975938774,-23.935288958191251,23.613682876912602,3.4414874225300736,2.1509296390812951,17.376474027872533,18.052171653185162,-21.927687359906471,3.2907773771237339,17.311271975180972,2.9719194972555965,21.785060854347307,16.143504892212267,-19.538869764773366,13.098823866896042,21.90189328743547,17.480636833046471,10.759684989261004,24.91925861108902,-23.289586919104963,1.4665806081468691,-7.6016227825942764,6.6549996022592,14.436316695352843,15.153471026965009,18.922917826744097,3.1516983533529643,10.525813380001566,8.7057513324318023,-6.1460126219162134,"NA",-16.845955249569727,8.5843373493975932,60.801845517460819,4.2781003897860046,100,20.431726907630527]
[97,"DSTYK (RIPK5, SGK496)","DSTYK","SGK496","SGK496","RIPK5","TKL","28_06",525.29999999999995,-2.9076930658912374,2.9668325858755042,-2.1411015020482864,0.39144287664999489,-1.5277709329259324,0.69981765314669742,-7.4726141708390372,3.5029585798816627,-6.2430587164315199,2.2418449400697882,-19.181577520492468,3.9246643064459388,-15.305552897649363,1.9455873441138023,-3.2964766069807894,2.809637758891014,-3.7503094314712513,1.8772175922105629,-21.742735942334079,2.0524351736676065,-4.3114118326594877,1.1139532964765944,-14.652505342391464,2.2589544860141078,-3.8630800121021878,7.5638804081735928E-2,1.2726054922973731,3.6718974260836235,-6.3789748987375106E-3,4.5155168564411721,-2.3599306873504418,1.6668041917649912,-1.7479439997799773,3.5729020546249823,9.7438841578157991,0.61955793703950568,11.768022664136197,1.8730918392606672]
[98,"DYRK1A","DYRK1A","DYRK1A","DYRK1A","DYRK1A","CMGC","11_09",40.26,2.3061328881169629E-2,0.30871252971079022,-8.5814807826771897,1.2918835529017332,-2.1577739134550455,1.0085936058666942,1.0554821811078625,0.99332970777239893,0.88900234181640769,0.81797094371871804,1.6316736652669448,1.4507098580283908,-2.4775044991001636,1.1827634473105353,11.687209916002047,4.6857351425198847E-2,10.207750699161039,0.89670173569494893,-1.9426114777044603,1.9996000799846425E-2,10.253128344751758,1.2570101063908468,-3.2253549290142018,1.1617676464706983,-1.0350542312188082,1.2286490778966441,-2.0945810837832539,1.4927014597080706,-4.766046790641866,2.1175764847030485,10.3219346660551,0.69398203637115674,11.602620065797609,2.5068683012483794,18.823235352929416,0.8458308338332271,83.29412112871961,0.26018160922941819]
[99,"DYRK1B","DYRK1B","DYRK1B","DYRK1B","DYRK1B","CMGC","11_10",41.32,-4.7137127771719634E-2,0.37488851500423148,0.7882196486950761,0.62337230564638046,-2.4513760338155777,0.3779001156900807,0.81592508450157197,3.0517537540865427,4.1987587964758433,3.4645647476034833,-0.9414733572745746,0.59280717341476541,1.8530823733192108,0.22099612510172642,-7.2307390194409464,0.38554690056947716,-8.1564443280748833,1.75976958826994,0.35314583504431596,1.4319951619767242,-10.094128428356328,2.165477515218956,5.3292916924868763,5.2867350062341778,-5.3079793153105754,2.8580218629312073,4.4774113589022022,0.70330523596562855,-2.0822911922591629,4.0085412015917665,-4.6160895463768981,0.13863978529815393,-2.6565425148916688,1.6741506840348277,51.54361313732371,0.3509060094520659,93.264646200170191,0.29495319761733296]
[100,"DYRK2","DYRK2","DYRK2","DYRK2","DYRK2","CMGC","11_11",49.25,-1.286926367551132,0.76898369881898054,-0.17131762287280594,2.577378459664212,0.15178431846280205,9.306027315491075E-2,1.560893897285581,4.1934747020976868,2.7677313739673366,2.5335972893744994,2.3214132181665406,1.7923161883849934,-4.2612152036031574,3.3359567727726676,8.3904109589041127,1.3417318982387481,4.5450097847358109,2.7703033268101693,-1.1236698169985715,1.3862342180276623,6.6377201565557726,0.7534246575342427,-2.6917811390136563,0.82671410903367382,7.2235812133072557,1.3967710371819841,-1.0238027526272901,1.7427133418429761,-0.6633554010886229,1.6600419309396148,6.9165851272015573,1.4090019569471477,12.476761252446167,8.4699119373776881,-1.3597793665385893,1.9146698765219836,18.594667318982388,2.3520058708414937]
[101,"DYRK3","DYRK3","DYRK3","DYRK3","DYRK3","CMGC","11_12",49.18,-4.2110825215953014,0.82705385039514279,0.45622065030018177,1.245318908636974,-0.75124058077558686,0.87529865833486598,-1.9407953397134889,3.9677822029364709,1.9170183677108383,5.9397848184033739,0.25369059411920603,3.0160992856395028,0.30040187811574981,2.0472428261937559,-1.4700699793586125,3.9420027186225686,-4.1282787091577262,3.2044504858279339,-2.3565037409295542,0.92858811117285633,-3.5392438201681387,6.0413834768162054E-2,-7.8660191516264462,0.13208018233507768,-0.70734531541056356,7.2849015757941924,3.8963653788848944,1.6848276917377385,-1.4552981065822621,0.21905981460452673,-5.054624175602882,2.9879675779086718,-0.3574485223782915,0.16865528872778934,-4.1113983586621288,2.14308149508323,28.945778583295564,0.2466898253033277]
[102,"DYRK4","DYRK4","DYRK4","DYRK4","DYRK4","CMGC","12_01",40.340000000000003,1.3665996764864445,4.3027302583206719,5.7690326568455674,3.3687029978366172,-0.58820646046761738,3.3836576638400082,5.0272998866797138,3.2759864015659015,8.3393427423508655,7.9375708251777102,3.5298850775769921,1.4220993895292882,5.4120239990204482,0.34983994822369152,3.0099101175385954,1.3735883844203673,1.4565568103249547,2.3991703157409527,-1.528800573737513,3.4144378946631928,0.88730122147960344,1.1638626411615591,3.8237506340849166,5.4347635956549896,2.4729200276561443,3.0168241530306594,4.862775280309279,4.7718168937711019,5.800346341548746,3.3164827091605593,3.6022124913574629,2.8024890527771364,4.5263885687946726,1.8990550818160823,0.24138956427434266,2.0500620965908083,2.3692094952754132,3.357916570638392]
[103,"EEF2K (eEF2K)","EEF2K","eEF2K","eEF2K","EEF2K","Atypical","30_09",25.04,0.16524373450839391,0.51638667033875352,-9.3418535906798752,5.2512606503216759,4.1655191407325702,6.6235196915450159,-6.9813945400799753,1.4258389845244253,-1.1215440792905724,1.9474873934967871,-11.267605633802816,3.6124152321335421,-4.1818814119283587,8.8680229525299943,3.0936030970596278,3.2641257258733556,5.9671398285556307,0.21200110609272946,2.1213701964875895,2.3256824900017334,4.6997419116969326,3.2560604664024337,-1.7866458007303123,2.6169361850113044,-0.80998248686516661,0.9447875380219356,-0.47817770822463501,1.6866631890105934,-6.5771170231264051,0.63901930099113102,11.711908931698773,3.7618674532214911,-6.913079546507106E-3,0.88717854180108779,-7.2074421839679843,0.44340114762650412,6.036270624020645,4.7504378283712771]
[104,"EGFR (ERBB1)","EGFR","EGFR","EGFR","EGFR","TK","01_10",44.29,88.01495381908812,1.1698057884502087,100,0.76501305483028714,36.222625465750895,1.3753309009634425,92.288076588337688,0.69625761531766761,69.382071366405569,1.6614447345517844,97.377786480869688,0.60160824716219619,48.983443771358537,2.0602745264009021,100,0.39052551150352305,92.558791068851349,1.7276509041514541,100,1.0689221711968366,100,2.4195602343153064,66.622365121376532,1.5228445634802845,75.592155531029803,5.0513625944477401,96.651485386175139,1.1662002792008042,49.013132544580522,5.1134174304682718,98.314797521011968,3.9561932252313441,28.84794974106461,7.224721962815142,0.87537663683048095,3.1823838189869251,52.644536887681475,4.2278631462772731]
[105,"EIF2AK1 (HRI)","EIF2AK1","HRI","HRI","HRI","Other","23_07",103.1,3.9743426799027759,3.4287730836107491,1.2076294277929094,1.1782016348773854,-1.0432750941732962,1.938090357682738,-4.4588555858310457,4.2495912806539584,-1.983651226158031,1.1978201634877501,7.1613288243485016,4.3584642928187822,8.4642928187786026,1.9454943306146826,1.5922875381787094,0.40096695279591132,6.9785620195996074,4.9606994484894962,7.2687487567137339,5.1362641734633021,5.4137776298076119,0.5037418757147244,12.582056892778979,1.5018897951064207,12.919242071131833,1.4287161819839882,12.482593992440812,3.5030833499104839,14.630992639745358,3.3499104833896918,7.8499775632210458,1.3476542709494339,8.8632514511529479,4.485908255287117,6.4949273920827437,2.6278098269345511,5.4441758464455745,2.4130393874035541]
[106,"EIF2AK2 (PKR)","EIF2AK2","PKR","PKR","PKR","Other","23_08",19.970977849589723,4.3661674752162014,0.24842391431718508,6.5355276761016086,2.9422448238285486,-4.9825400173427852,0.1921769903208429,3.7776970577551907,0.43309396742015538,9.9499846321495369,3.4144569560479483,1.3770442460118204,5.4003210594963349,-6.5014548008427653,2.1019363900872823,7.4862385321100788,4.8016937191249109,10.16231474947071,3.6104446012702907,-10.645128925454003,1.3193538677636167,11.53987297106562,2.5716302046577288,-12.516303802548407,4.1411658472960822,14.433309809456603,3.8899082568807302,2.5459014748670654,1.5952643724290134,-5.578408748871297,0.94311227049263513,13.44530698659139,5.2194777699364865,17.100917431192656,7.5398729710656305,2.6487408447877812,8.3249724089495452,39.026111503175727,1.5187014820042393]
[107,"EIF2AK3 (PERK/PEK)","EIF2AK3","PEK","PEK","PEK","Other","23_09",17.89,1.0551891704269423,2.9364803887539108,9.0803448706734997,2.9251530675996507,2.8383001933852512,2.8710269251747831,9.0241159565163116,0.89966262651505358,7.2860177433462354,1.8080719730101256,12.259168652814395,2.364478229371175,2.5629180097225088,0.93760171351174337,13.356138100406767,1.7531164687695187,13.367101930730513,1.6730805074060668,5.9552933023949066,1.7156116460002395,8.8774134131500233,5.8086373055290599,0.436777505958446,0.79165922954966772,5.8722275214069128,2.2760911752129696,10.893189000766441,10.975084783133676,9.2374242726499602,5.8660478985332087,13.339692354921127,4.6431821421131856,13.356138100406753,1.8879715817518028,6.4141196728368612,3.4837205883896853,16.839346994265924,1.8309596640682393]
[108,"EIF2AK4 (GCN2)","EIF2AK4","GCN2","GCN2","GCN2","Other","28_11",233.2,-4.8501558379285825,3.9031407336370174,4.8482991112473144,3.665338645418327,-5.5981778949892202,3.3565092304004819E-2,4.2169782408826251,5.0689549494330324,3.9595464296659486,2.1881703953417193,3.7595501651579752,4.7536498650999732,0.37696361481630447,6.9517637862780219,-8.741839684969321,1.0400722163350209,-11.292960215602406,3.0194800947185447,7.0822511914067547,3.1405229582188117,-3.1856299959443675,0.7587948244959688,1.7511787992637124,0.36750800574900633,2.7225034996140494,0.88962151837461856,6.7178950553468297,4.9673466300209288,-1.6093446632542197,1.7385713205073359,4.5396862775880749,0.13736802857255836,-1.1565079738869883,0.62011852898467412,40.173100683325352,2.8392042159408959,53.102555045331442,1.1839815796015116]
[109,"EPHA1","EPHA1","EphA1","EphA1","EPHA1","TK","02_01",34.590000000000003,-2.667275362810031,1.0384069631091295,4.9844457430920812,1.031834575903015,-7.1244108508836348,4.7310487525931224,-3.2513414439780917,0.43032460287945618,-0.99287514683571487,0.60800321120142942,3.2064695389681646,3.1996089462129556,2.7596734357848618,0.40391739846322766,1.010379741461648,2.0207594829233035,4.1518965846617562,0.33537814947678596,1.3909851811196461,0.94247392974752797,5.0540213538239556,0.48608605208974126,-0.386765916575186,0.2015299121844184,4.2898686081806687,4.2452930313505235E-2,1.7597420417124141,0.7941136114160301,-2.5024012074643451,1.1542947310647682,-6.1408163698499152,8.5118125278597336,-1.3139181932032642,2.494109655919007,7.6632821075740907,1.3240944017563006,57.472777058436471,2.0950521109719591]
[110,"EPHA2","EPHA2","EphA2","EphA2","EPHA2","TK","02_02",68.53,6.9984447900452551E-2,1.6448391585495621,7.6660317583720428,2.7584497871761489,-7.6553163624458023,1.5187852991732809,3.0747701696760146,1.9960739344230427,-2.7822588482245578,1.1812209675225027,-7.321735276192598,2.9207527656195187,1.6935379614752435,0.84584556854488746,6.1798974002260678,4.2191983305799452,0.37605425615164734,3.8257542822363244,-5.0279793894398495,11.582359133470057,-1.8802712807581798,2.7345448221893633,-7.1324357766820015,2.6945167783995436,6.8515781236414313,3.62359794800452,-1.2105933846750645,0.29641531386780318,-3.9088038118455444,0.24193399449645805,7.6341187722806723,2.2650204330058212,6.8167985392574479,2.7367185462133694,-4.8506842484348311,1.4100504183057205,22.113294496130763,0.15868185375184921]
[111,"EPHA3","EPHA3","EphA3","EphA3","EPHA3","TK","02_03",180.9,-3.4444535676164065,0.11671143537472391,4.515445977109394,0.50867980553341474,-9.8237012187254606,0.3694884637490769,-0.83177666766050606,2.5269703736606042,-0.6358497569167838,1.1141061291048848,-3.5612271654575665,0.89607551787431428,4.6499431867857766E-2,2.1616991521720132,-2.5732987577899422,3.3617047973566461,-1.5893596553599139,0.90551675101427032,-8.1783060921248136,5.6033563499694132,7.7878623112635381,13.418587142916905,-2.733677126125329,1.2817061445677786,0.40570496465767292,0.31787193107198247,2.142470063805618,0.82440346123590613,-5.4330915129796438,6.628091950004368,-4.4188380944414547,3.3930737379229554,-2.6715881048977508,0.70475553138985436,31.788130408181118,2.8029018442443823,35.485591199966535,0.33564766405956054]
[112,"EPHA4","EPHA4","EphA4","EphA4","EPHA4","TK","02_04",174.2,-2.8522495700307786,2.0320561922793381,16.206254920203236,1.0305589350890942,-4.886473674321806,1.6476131288751454,4.9452515565733961,8.2301581621699649E-2,1.1486438130680483,2.1648894296142589,4.8285007072135784,1.5629420084865591,1.5629420084865586,0.15028288543140028,-9.7559396646597918,3.2562957208519281,-1.6831747264841255,2.1233896549491824,-6.9324611032531891,3.0940594059403432E-2,-3.638246908784879,1.8191234543924435,0.35272277227723237,0.48090523338047925,12.915129151291524,11.465009386935913,5.6232319660537513,7.0491513437057947,-1.9784299858557546,2.4425388967468167,4.6287304978312989,1.0746423253706365,-2.8549232860749356,"NA",21.329561527581319,2.3373408769448343,42.875639282708619,1.0422735806305463]
[113,"EPHA5","EPHA5","EphA5","EphA5","EPHA5","TK","02_05",42.07,-3.9709194820472078,0.83228473611133535,1.2090389032340738,3.1427878511205929,-9.7462936913702123,0.52401667171987854,0.72257015278826486,3.0536256901151191,-4.312595403512276,0.94583220394595624,-2.0834522518408534,0.7089445744620203,1.6770363605228482,1.0148981106227493,-1.875931541347569,3.6490723133062684,-3.2790255435061795,1.2129310787891268,-3.6771505222900913,5.7434785090473204,-2.0815130801253758,3.7415840057562821,-3.6668759632399031,1.3356926765226427,-2.698257696458839,4.4148635452536338,-2.2558365203493196,3.1873965408984524,-6.4672641132484614,2.5800559392659368,5.396515392917749,3.9317469291257545,-2.9500950814616971,3.1916533895256332,30.37273816998686,3.4488269878417679,59.603227630158827,1.6857686179781024]
[114,"EPHA6","EPHA6","EphA6","EphA6","EPHA6","TK","02_06",154.4,3.6859156993308773,5.291177571919321,11.400536495835098,3.042496117464359,-4.255734822460596,1.2959314914608508,2.4459974587039426,3.1095580968516079,5.4249611746435136,0.11294649159959023,-1.7276525611184184,7.0103659153667008,-2.3623299454958016,2.7960502537263747,6.1860191351114224,2.5540411093286557,2.6082841875656442,0.96714254388496435,2.7541239572641132,0.60142549407971568,6.0140570360196932,8.5403995522058879E-2,-4.087091037892705,1.9647529962844614,7.0689117915219413,3.1634101584590337,-3.5940956208706041,2.2437797279127922,1.7074122800676719,0.9411730688603096,2.7109998038016414,5.6978314309785683,3.0399205973663044,4.4052304176716994,36.00456852058003,2.8105075973340665,59.792029729823312,1.0502383233118278]
[115,"EPHA7","EPHA7","EphA7","EphA7","EPHA7","TK","02_07",56.26,0.90824500755417148,3.2540126245088801,2.9376292970641487,1.7263083762489504,-1.1694017189915087,1.3847109188653686,2.2043223733439277,0.27818125797791649,-0.15845767859498494,3.1427439588010149,5.2511432613072344,0.50670239280288187,0.86072046044802164,1.493162885733756,-4.1751758565918209,0.48218742909008733,-2.2832992965736594,0.95019287497161775,7.4149196536161242,0.27393364219475413,4.3793964147946269,0.98422963467211244,4.6763316842428111,2.7677776197711306,3.3441116405718105,1.5373269798048599,5.2810813642793306,0.65714136023769898,0.24773780209416429,2.5597078041149879,5.1083503517131561,0.4368050828227798,8.7843203993646171,1.3643067846607664,7.646939951649955,2.1547949614172732,35.730088495575203,2.2152257771726829]
[116,"EPHA8","EPHA8","EphA8","EphA8","EPHA8","TK","02_08",124.4,4.8403470731181102,0.78880254114683468,3.4582994838644936,2.5909412732734816,-0.36857948335202195,0.29818858394026293,2.7189748960162348,3.5979883412861535,1.3001675222537159,0.75167565743352427,10.352000000000018,1.6965333333333363,2.9146666666666761,1.0421333333333338,-0.41113510037209267,1.8374753089254452E-2,-0.42261932105286348,0.73269327943405604,5.3957333333333253,1.2762666666666707,0.58110156644768551,0.9003629013735146,1.986133333333342,2.4688000000000012,2.9698194680509005,2.3358904864715861,5.557866666666655,0.68053333333333277,7.8437333333333186,0.63306666666666289,3.1995038816665868,1.5228076622720346,0.26873076393036399,"NA",25.620266666666666,2.2757333333333349,24.803619826358585,3.0777711424502696]
[117,"EPHB1","EPHB1","EphB1","EphB1","EPHB1","TK","02_09",47.07,-0.25902752866306855,0.5576545895857915,5.3617213449099808,0.1668026338791449,-0.10785049080129738,1.1078551495697693,0.52881533710156248,0.62496358021094078,0.27387681370548478,0.31466697744885919,-1.3256250690429709,0.15097396619656156,-1.1286224546157229,0.17398829031188726,3.6761003836362534,1.9139264921748118,0.49709613598169256,0.58999141959593882,1.0494531796590252,3.2744780351290643,5.4084910543969471,1.9990214084626878,-1.4738373163456657,3.4742423684501227,2.3932945205965268,0.33541579503470925,1.5898295098869681,2.4339949184372314,-3.9216408292521265,0.84876827337334371,1.0218481197569247,0.51340599493685524,2.6613435069033358,1.3934292542139788,11.908531870236047,6.4099495526015353,30.195221920450436,2.5095909061899473]
[118,"EPHB2","EPHB2","EphB2","EphB2","EPHB2","TK","02_10",48.47,7.8038343312786651,0.52239415409843726,1.3168511561058125,1.9680274338737567,-6.6907088188312542,1.9329759676476308,2.9974280743337118,1.686880657606104,-0.19856779041327854,2.4502634963060159,3.3681219727731389,1.2640245198384672,7.4096446189469418,0.25727932704677103,3.4815157674428008,0.83013020466483045,1.439898573182262,2.262985248837821,4.2204995693367522,1.5515062026689987,1.2497232899317794,4.4152864703869881,2.3938163473047069,3.2607358188753515,0.62083677124628878,7.3453945382461736E-2,8.0371824557871037,4.2395158674228446,2.8636307706075144,6.0214548586641561,4.1949246342396123,1.6310800748626439,3.9272705318870607,1.4328550441729837,13.714106737362542,5.7843104354732215,37.54100340101828,2.7137711054315754]
[119,"EPHB3","EPHB3","EphB3","EphB3","EPHB3","TK","02_11",41.86,-1.8328707195903462,4.9639358487031275,6.4112326633107273,2.2925700733575929,-0.90682153955883393,0.66195671644490128,5.6814350651615513,1.8484718137112444,2.4370182638315612,0.42200960275294774,-2.3313364941055852,0.81528703229113275,1.1300294720656154,2.3593669912865209,2.1873741924352714,1.9515748710771927,5.2853555201963047,3.558077564557248,-0.25948231676062505,2.2424397744746272,4.6393037210283268,0.38533059831681393,-0.54379164531009394,5.2513134290107661,4.3958361290569741,0.6805590169276976,-2.7413826242952553,2.9039595079446436,-4.6947078421322459,1.4687980522808819,8.8453501524068656,0.78408067020684558,3.4526388436248112,2.4902708816594159,-2.1879805228088287,2.002178370066634,11.295362613346612,9.7770450319180191E-2]
[120,"EPHB4","EPHB4","EphB4","EphB4","EPHB4","TK","02_12",43.33,2.2287787568278929,0.26254934013795156,3.2364234777838732,"NA",-6.150671823292555,2.906183963956773,0.80201259765070176,0.9022641723570467,12.056670512796259,6.2818015018820796,0.18754262332349469,1.1820868379177114,-2.8832310373569783,0.42433886489353834,8.3644799587575704,6.3603557159427737,4.0018043562314745,4.2080164969712559,1.3980450102295947,0.29552170947942785,9.4857584740301775,2.8483051939682893,-5.1356368871713158,2.1993634917026599,4.4786699316922238,1.8301327490656043,-2.4020610744866104,0.18185951352579996,2.6862165643706959,1.9303629612790802,7.8231730893156168,2.1072303131846981,3.1962881814666844,8.3773682175536976E-2,2.0686519663560006,4.8439039175570189,11.534991622631793,3.7891480860935647]
[121,"ERBB2 (HER2)","ERBB2","HER2/ErbB2","ErbB2","HER2","TK","01_11",232.72740156671156,27.744487617620905,6.9097888675623773,35.186513629842196,1.8056478986597595,6.869996722999872,0.19583977029789976,13.946530426566824,2.264933337999087,6.954018966301561,0.92207019631172293,100,1.1773445300275247,59.743357088397836,2.1794572410458022,76.247681702068093,0.13192427476641516,25.318612870490256,9.4131644329330313E-2,49.597991216297125,1.3235242741118405,52.117787031528856,2.1748259089477582,8.4319050622321043,3.3832796115110066E-2,7.0801693669734505,1.4578157259334363,88.053713241310575,2.4183094266628187,16.016703104342923,"NA",34.899744549812795,4.118346922350141,6.7260384225076422,2.3886342163278282,26.127009052111688,3.2599002300262381,10.447562725268597,0.26069916366309254]
[122,"ERBB4 (HER4)","ERBB4","HER4/ErbB4","ErbB4","HER4","TK","01_12",25.43,15.811461392616835,1.0901892263653117,57.953646432681239,2.5707530207134619,-5.0155210230863361,4.7143945871593624,15.905494821634079,5.3410888952819393,1.9908839182968734,1.6694836018411925,99.849627426004076,1.4931447198674928,52.449709632390949,1.2642284198060389,100,1.3635985266268498,84.324946760174527,0.44239346832317128,47.829263031950617,1.6540983139551446,96.912090122711732,1.413543379185483,18.20322069973102,3.0432641633058344,28.184504609493658,2.4856235129267032,37.518465914871634,4.4979509447630042,0.72113721548247156,0.14793080012860893,44.933719018583631,2.1150257701565596,9.051810847744477,0.45921517213631463,4.5787329635402614,1.1059200807413194,29.37294931291143,1.5420473227478055]
[123,"ERN1 (IRE1)","ERN1","IRE1","IRE1","ERN1","Other","17_03",61.58,-16.336401549737189,4.6886953088376572E-2,-1.2721347186412686,1.3078736204358508,-18.688152407274885,"NA",3.989993107497483,1.2185263659493373,-3.3815808507560376,6.5691505203413767,5.1077316502530294,4.3065455139017317,5.9728494477392928,1.1548506447576059,-2.8873997846117021,2.6349168361852242,1.3054924015795137,1.7386621993538482,2.6007943848958348,3.709396593938731,-2.5679071437118637,3.6795500777791084,7.9302464769574215,2.5681484302736721,-5.3404331697977625,0.53129113318176113,9.0007617389411934,4.3500734533978873,13.535828935197813,2.0907013439251303,-4.3316979777432323,2.997487136532238,-2.2508077061146423,4.6440110087351743,16.267207138582108,2.3124217857326095E-2,28.711260021538834,0.86155318894340172]
[124,"ERN2 (IRE2)","ERN2","IRE2","IRE2","ERN2","Other","17_04",92.37,-5.6618464058913531,0.40714036610190141,6.1507275054038786,0.40703739151943003,-8.3317788465437559,0.33658018313206201,5.1608254739808217,0.94796158685435117,8.9209476389680589,4.64355999096668,-1.1722534392559112,2.7514047665181116,-2.7320286766130408,1.5694632823096113,8.737080421301286,1.8151392853627428,8.1819076680775567,2.0061029628900391,-4.504940902925739,3.410191823290059,-3.4924697312727631,0.38980214588049322,1.3078860685914009,9.2327068397597323,20.687075499557039,1.175312530760902,14.783956597558642,1.8891687657430625,6.0065878705677562,3.9042821158690177,7.3589920267743025,0.25789939954719349,2.9097352101585017,0.48823703120385537,60.7731059872118,1.1335012594458425,76.214194310463625,2.3604685500541378]
[125,"FAM20C","FAM20C","None","None","FAM20C","Other","25_10",291,11.684037301151946,6.1848601206802183,9.3463666382383224,5.176693126899778,7.9360943499725778,2.2888096544157839,11.608060530516724,0.24437446696844528,11.86063548295391,1.8729908810601616,7.1114161138492022,5.8962574777659906,12.586215262614289,0.86509867531765394,-1.5185915379618962,8.2752317835116003,4.7638480948631354,5.836978451174585,14.369788092415831,2.3596120919721888,2.5261959914241459,8.8730119498554458,5.8546661952988046,0.26410464366668995,3.3010110531851922,1.2225753978974272,10.700050602727003,5.2134672572628782,23.099105094238908,1.5679913490132469,5.0196290314237046,4.2718290348724288,-3.3625134356840505,3.821194755628623,8.9920352694075234,0.56009593722488948,14.948527678946064,4.8793806077814885]
[126,"FER","FER","FER","FER","FER","TK","03_01",18.510000000000002,-8.7835141312629332,3.9745310742662188,9.6621073012303924,0.79528657381383594,-1.0884156296498304E-2,2.2784167180640664,8.3650823392251255,2.2380446776174678,5.3629796181791676,2.6336060624987048,12.093912093912081,2.4242424242424301,4.4799344799344709,4.3297843297843261,10.425245703618259,4.367759292812833,3.1364959095151619,0.60945478504365702,3.0767130767130766,2.2358722358722334,1.9011145884807377,2.0136715532861187,-0.36855036855037326,3.4370734370734346,5.7321693295996994,4.0026354801515529,7.2426972426972469,0.67431067431067548,4.7392847392847273,3.1995631995631997,13.332509745785927,6.1810245429089195,4.7617086696315312,4.2044144292538261,92.642642642642642,1.4878514878514877,100,0.5723933454126171]
[127,"FES","FES","FES","FES","FES","TK","03_02",45.35,0.61874645101917736,1.8160991560768356,13.022100819468605,0.48671467593742435,0.91930841377688921,2.6844980517319024,10.379935435808306,0.15644400297988179,16.342190216041715,0.61832629749192813,9.210393541876897,0.43516649848637745,6.6675075681130238,0.92457114026236253,1.3217305639931283,0.32929243174707162,4.2306324056590796,0.46702970929225313,-11.923562058526727,8.2719475277497416,-0.79814647584124998,3.3294110135091906,3.411957618567115,0.72780020181634275,4.7751963440330485,1.0298369956854481,9.0350655903128256,0.25227043390514908,3.0688698284561013,2.9288597376387489,3.4498171104361006,3.0101524231712178E-2,5.9345611106550251,0.4050023260268697,78.0436427850656,0.64581231079717438,97.434073101095507,0.15415629076248075]
[128,"FGFR1","FGFR1","FGFR1","FGFR1","FGFR1","TK","03_03",67.66,3.336902454561482,2.3203805857876687,6.0619845691662562,2.250667723614217,-1.8460037136932215,0.93384475678020207,4.9409295433355993,0.71704282889609905,3.8568076280385384,2.5479342230309516,3.169861694677877,1.9159226190476202,4.9632352941176521,1.5668767507002819,2.2673743051848305,0.89187576547435121,2.7949627861696058,2.04754577144113,0.21555497198880857,2.029718137254906,-2.0318437333165917,0.46478032848663187,-10.560005252100822,1.8809086134453898,-0.27949627861696058,1.4226046540841022,2.4531687675070089,0.2100840336134438,2.112876400560225,1.2167366946778728,2.6348019972992347,3.8218760795150941,5.706120654460932,3.1435480325346226,84.307160364145659,4.923844537815214E-2,93.031435480325342,2.2014257450617079]
[129,"FGFR2","FGFR2","FGFR2","FGFR2","FGFR2","TK","03_04",40.67,3.3607244006542061,2.1934460887949259,2.6973608153614919,3.9500132388094764,-2.0443575730979546E-2,3.3716941242171581,1.3112015245141748,4.414676805232876,2.5101528616339408,4.3277854641601188,4.5802114338499393,1.4061377399158417,2.3940264805501528,1.9321564199938412,4.6796600681899747,0.23103149966922135,3.0542974912218455,2.4426237850481862E-2,-5.3705224263573825,3.0355126757672157,-4.1514426746729782,1.2793242074194513,2.8328030380786231,1.6447706045365864,2.06401709836652,0.57808762912828504,4.4878374217386749,1.4728523042184214,2.3196140819049589,1.885969413938213,3.1876240394891084,0.22492494020661322,1.7505470459518904,0.32568317133989005,92.476649902494103,0.16678641075644074,98.328838227062235,0.38064220650348513]
[130,"FGFR3","FGFR3","FGFR3","FGFR3","FGFR3","TK","03_05",51.45,-3.0893069219829101,1.4456842074395646,4.2565004163967615,5.1226057185157767,-15.846810257613299,3.2183335043913179,7.5395576940871649,2.146756731747939,10.39881558249283,2.9721476820579298,6.7901234567901128,2.2780194191819363,6.4518254909714017,3.1896665348622619,5.9740181451005157,1.0202851372939155,0.73243512071614703,3.5747656509027328,-1.1730591801766366,3.5960634418522965,-4.7593212165054126,8.4094402748892261,-0.45692192785905661,0.6458415711084714,0.49733248937513963,2.5770865358531578,3.50160362022757,0.10983700188921329,4.3275778744343398,1.7244409296603813,5.2445971606835826,0.90424088977302586,-0.36772462850768761,5.7087741507670966,80.130486358244369,0.53820130925706233,95.225608101998375,0.27579347138077515]
[131,"FGFR4","FGFR4","FGFR4","FGFR4","FGFR4","TK","03_06",274.2,9.3118147329803804,0.41915065104708377,3.9034299817000431,1.4304182126487928,8.2935548422061913,0.81884631953418519,11.557510535063713,2.7046992260295912,11.480281382737587,0.83608951866091852,6.3933699962939272,4.4964664687264362,6.6003978683796873,3.0596248791272536,3.9135819457822976,3.8970689417916655,9.5280033026008084,4.1310031649924301,4.8683498685841613,2.0958377174112162,4.6374019540388076,0.28072106784092749,1.9580321276586545,0.84238192808551005,0.82840236686392643,1.7916609329847284,3.0131927020545248,1.8012702821287259,4.5705875587324414,0.1220442085443714,0.89170221549470341,1.1586624466767625,1.2852621439383682,3.7512040732076528,24.595209392079269,1.5497271577117897,22.614558965185097,1.2604926379523897]
[132,"FGR","FGR","FGR","FGR","FGR","TK","03_07",40.71,2.8328924272755529,0.64917945361063834,17.555803235232105,1.0061150103925072,1.6739727757634029,1.0406318573088091,7.5112208934542224,0.10994969424947497,9.9361388077235802,1.001596529806916,0.32922795837392016,4.3874131184890466,2.9136605526296933,1.8046314793107965,4.5175695791420765,0.83900942757905539,2.8508277324191766,5.9226848301682598,-3.9316119375058349,0.26511586953053351,-4.8806892507555233,1.3690288240335606,-1.3232404946261482,0.50257824151271258,2.9635978167711841,5.7670621137624574,-3.3169063303120936,1.4496761376456169,-4.3457265027818295,0.16055538128806915,3.1733501736659377,0.91569308493842949,1.0577833912220171,1.3532410122242786,59.138861831569571,6.2323554176095398E-2,96.398123505796377,0.84577563264017352]
[133,"FLT1","FLT1","FLT1","FLT1","FLT1","TK","03_08",364.2,4.84893323468836,1.1607446361800344,4.9815428917913636,0.52655591743380759,-2.0635460198756306,0.13197096638738554,6.1217556867446348,1.8243799734944584,6.516178855205041,2.1498729037011213,5.2608225408358322,2.3849801713857799,6.6280262902465097,2.1076568956432511,5.0686249571439532,2.8766077926099771,5.0984859376900431,9.3509107599066557,8.3169250395185514,2.7122216367619556,1.4067839723951892,1.5936915913690632,2.9146676280539907,3.3861171968163308,4.7456839823488224,6.7463696789396732E-2,1.7554563354502193,1.0510552150642121,10.424581935161797,0.31060206883165037,3.8421128302679364,3.2869197845585578,9.0644665391123311,4.375186631128412,95.080285088327457,0.92625974098006092,92.949490704387358,1.7927647950098995]
[134,"FLT3","FLT3","FLT3","FLT3","FLT3","TK","03_09",111,-16.143417830267055,7.7391158657222503,6.92531159216567,2.1834879580170545,-6.7768061798854404,0.44773512332324333,-1.2446648094666273,3.4647856126630403,3.0822705548597895,0.56567928370009046,39.088987715204084,0.38747743384264127,4.1455682268504148,0.16731980097751351,8.2778235162038953,0.19532051638014325,1.3121965470036798,0.36456610597526268,-1.4530403769098541,0.57901457443529714,-3.043040529610721,0.55916231883358913,-2.7563735634714135,0.69789969618248049,-2.7117923856384891,2.1985026231859353,2.5340143542776872,0.54599092950552397,-2.4217339615164377,0.25097970146625315,0.8298104014814669,1.0994927461002397,1.0294767389924004,2.7496976032796412,99.359341288362472,0.31702699132578904,100,0.16369259592796556]
[135,"FLT4","FLT4","FLT4","FLT4","FLT4","TK","03_10",53.38,9.9378124495024451,7.2402407010861243,12.795418297810627,0.97143685660431855,4.7368843620516827,"NA",14.273206856938913,1.7359833149306714,9.5571095571095412,3.3398021436298984,4.5036850452467689,1.3737288926205773,0.22156917622912431,2.3253101968467202,4.2142880139081456,1.4294452850841795,-0.28653295128935952,4.8646212291941611,0.81164287713406225,4.7485772926578944,8.8020347059013204,1.9413412317697369,-2.4862393880025877,0.11661535591006224,-3.5221016709055988,2.1023147999098706,3.9276051870510429,0.16092919115589088,1.5789719190223082,2.5515439873122467,6.3681143556228079,1.693441936833959,-0.6921863430024473,8.3770644860114043,95.883477936374661,0.17958764810150205,99.050255947973341,0.98193876565467897]
[136,"FRK","FRK","FRK","FRK","FRK","TK","03_11",37.78,6.3445298021017038,1.6281253209062208,13.756634204153144,1.7480805894780234,0.46124919926259622,2.7626051961134204,1.0344205698974491,2.1641675684031538,5.928273303447213,1.4788478384088244,11.20915812067733,0.48379952982862517,3.0544104119110358,0.97441313754216252,2.5845484906780456,3.2024372277964086,9.1374587895387975,0.66866431621028166,3.0118224251303332,0.72399577527171588,1.2672440302937105,"NA",5.2894279581615535,1.691594834928966,2.9106564352682938,2.9757349943860723,4.8362917788150384,1.228237538755069,5.357568737010709,1.6626350039180924,5.1776787693716244,0.32110190158119833,6.9898663386516802,0.57068890303294972,61.117168069231042,1.7069265101700124,88.639858114438141,1.0619962669222129]
[137,"FYNa (FYN)","FYNa","FYN","FYN","FYNA","TK","03_12",27.78,-8.3770667400709726,"NA",13.415139908760466,1.4978897806835676,-6.6778967273249492,"NA",12.156326998609444,1.7516040106364823,10.075382401014849,2.3419775072576883,11.083390669821313,1.6775037312204537,8.0655779558130263,2.6731916526637258,2.3122864169141764,2.3186739484526284,4.1295391395995011,1.3318003257641156,6.8565742137541861,0.25397990158731493,4.713998275366464,2.5901440388361929,5.5644359093138718,5.1944048151425767E-2,3.0085273546037854,1.6863083261473646,6.793992474134356,1.1628803175411018,5.0512174737529705,6.5712833712402413E-2,-6.9879595030500639,2.8424515346044434,-2.1110791734534189,0.89106064961195564,19.375170102707912,4.1201585457593275,82.280987512375845,0.75053495576634432]
[138,"FYNb (FYN)","FYNb","FYN","FYN","FYNB","TK","04_01",16.96,3.010951584015956,3.6207390117149707,0.60873008017422592,0.73245570622587064,-0.1789174667488993,2.360242520332354,7.8887459170543934,3.7464119568444789,-5.4241314461050933,3.7018707314659061,-6.9581178041047593,3.1703654263307173,-3.0827632237610203,3.5332888369764794,-6.6913005060647208,5.0311939379334367,-3.7031086834283684,1.8528931373336568,-6.0153512431169531,4.3008509928249614,4.3055667121857368,1.3414732106996521,4.6429167361922339,3.2287668947104859,4.2091734275845596,0.10710364955686091,3.6417487068246288,2.185883530785917,-0.53812781578508861,3.9170699149007269,4.578681018555713,1.9198329183066947,3.0711971510429379,2.5276461295418602,40.785082596362429,6.2573001835476483E-2,90.317830080059977,1.3120197070715121]
[139,"GAK","GAK","GAK","GAK","GAK","Other","23_06",143.69999999999999,16.026012912884809,3.0331243566950614,33.803535010197152,5.4016542034896942,6.3731636567792691,0.42902591934125139,7.0813505551797107E-2,1.2803081803761449,-0.22660321776569958,8.0047586675730855,22.877316372927467,1.6841353352473367,-12.387873126639832,1.7541931673008524,11.820692744102701,1.5265750970438954,10.603911615407569,1.2055837563451788,-7.2077146036237707,1.0426253829141328,-3.1352642579874868,14.720812182741149,-13.386540654147822,0.11538937044109358,-4.3856375037324682,7.1551209316213855,-0.33517864747173576,1.1113095319862081,-2.3380084344134957,1.537151256233074,-1.5825619587936899,1.7505225440430034,-5.2627650044789647,4.1990146312332159,53.39505748863278,1.2775251727406318,48.245744998507007,1.2765004478948994]
[140,"GRK1 (RHOK)","GRK1","RHOK","RHOK","GRK1","AGC","10_01",21.36,6.4505304928532041,2.0380846089598439,2.678617157490379,2.3559539052504835E-2,-3.9207962681313973,3.6118739947260683,7.8903969270166527,0.19257362355953744,2.5710627400768402,0.56235595390525983,10.52784171776986,3.6700579267042706,1.0293850632273944,9.2193659105152417,1.559559602863871,11.055352469122431,11.613419566957234,0.97337284506067245,7.0759607105832032,7.1280888873269834,-4.7803421946313023,8.552702731933115,8.7903334446182129,12.228743125230579,15.84434686682097,6.869849235361551,10.503827613876652,6.3253735364575112,10.421535379803558,7.3237159775790248,10.499448422054471,5.4919858969089965,3.0693690380913381,16.15582617724035,52.61080166107314,1.52284561274036,92.28872401635266,6.5929787372109656]
[141,"GRK2 (ADRBK1, BARK1)","GRK2 ","BARK1","BARK1","GRK2","AGC","10_02",57.81,14.044920965678727,0.30149209204775784,14.233696519233831,0.4786170781835109,-10.041449512504897,6.5311232953492535,4.6515010745422529,4.0180372945935048,-2.2602926133431112,5.1892414388543218,3.4496238288709833,4.0462427745664717,0.3588685387642272,4.8158876228804273,-0.56378907353659713,4.7812909357100661,0.95934040531169273,5.2487606914442733,-4.226958717301315,6.1866372736244486,-8.0895384378290771,9.9542804304831289,3.291337169808898,3.5297284134165565,-12.855418282690792,4.2085120591785952,9.7246965638337457,1.1874703613037181,-1.4079181779731726,1.7584558399446362,12.0501887858629,18.210772352502989,2.2230498548788944,8.6969922687694243,0.57867551875727941,3.0253899491175678,5.2834356458531317,0.54324095240541059]
[142,"GRK3 (ADRBK2, BARK2)","GRK3","BARK2","BARK2","GRK3","AGC","10_03",39.590000000000003,0.38380789922581471,4.287026449472318,10.087777300228126,6.2179720302839909,7.7487956211220705,1.9396592123268461,7.1781223482218621,4.0541210698581738,9.4871667713602506,3.6317651337322716,-10.09247151130208,0.67252008219690051,-17.390248458808145,0.74257425742574179,13.300083125519535,6.7588381986211017,9.6278910566720413,5.6439782895701933,-28.117877825518406,0.10274612366897359,11.215832966603088,8.5986015353772434,-17.251074164020153,2.5994769288249593,2.9558456799178572,10.24155298029441,-23.134690827573337,2.8731552400523039,-3.0580982626564577,2.8012329534840292,6.8028458266099392,11.509217153195458,14.182680553518153,5.4899515916092163,-22.432280963945473,1.5888286941901741,24.261649797075933,2.2407217250990272]
[143,"GRK4 (GPRK4)","GRK4","GPRK4","GPRK4","GRK4","AGC","10_04",72.77367471001881,10.283393501805023,12.718411552346545,18.320652925715862,"NA",10.490974729241856,11.483754512635356,9.0081615714483263,1.0181214552496887,15.158389818785452,5.2759717803292281,10.92781539048346,3.9978068084294862,13.240202155049104,2.4601888051873781,33.736479393911722,4.5182784902560407,26.279037926155809,1.1546711697320984,3.0776199103652004,6.3078096691141425,9.9904157728994392,4.2353155949066714,30.33279298178698,14.672928387527381,21.149194468531775,"NA",25.700867741012686,12.937446362162653,17.862591780299411,6.6510918279774938,14.755145817169449,"NA",21.108119209529477,"NA",25.510155430533047,5.087250882044434,41.709643558030216,1.0542649810597453]
[144,"GRK5 (GPRK5)","GRK5","GPRK5","GPRK5","GRK5","AGC","10_05",21.66,13.616749663941931,2.3119619026328695,20.869561066652665,6.8593031387159176,8.8778160490159621,0.82654108732802767,26.078051423293498,2.820333513925056,15.531524393008951,3.7862207721847412,-8.2855343492738598,2.9822040705501585,-6.3464229012757585,6.3441602274741342,7.1774774444810845,0.12208670597859209,2.9964147204010914,2.6203876659870526,-12.676252861339592,12.658905695527114,-13.394132512910673,16.257472723795139,-7.786991888314418,3.0791219317200502,4.0215360949346177,6.9565005066598378,-6.1005456814985024,5.826007926900548,2.0375377583690693,6.3237961632594573,10.322430990489437,14.767200999483221,6.6451794064144423,8.8740757018968157,2.8841548724794848,7.9947807657645212E-2,54.902391678570126,5.3010047735902468]
[145,"GRK6 (GPRK6)","GRK6","GPRK6","GPRK6","GRK6","AGC","10_06",30,20.480180277368234,3.2351636760281446,11.231657277974833,11.222384495908365,10.399510949692541,6.1095328850372246,14.885133412151987,3.9780235065025433,21.661218907202624,11.393930964137473,1.5986711501843445,8.3786411700360564,4.0582587205769016,0.23660008913017641,7.3889305269294141,0.70316240917703243,29.490922907167985,0.40623113276289119,-11.4495806830612,8.2186120001620502,7.6647825453334377,4.5169466824891034,0.21472268362842328,10.602844062715178,-7.667645160618747,6.5356109341494415,17.897338248997286,11.838917473564775,-2.8440627152290716,3.5502167483693108,21.070149688755635,"NA",15.592665459163484,4.5809651697791072,13.155613175059756,2.1472268362840654,70.653509045864297,2.6216351258509771]
[146,"GRK7 (GPRK7)","GRK7","GPRK7","GPRK7","GRK7","AGC","10_07",25.8,1.7916476370447043,4.5231141819217857,3.7735522095277929,1.6573408032661692,-3.7104620322379418,2.5179856115107917,1.2981116642897064,8.7019056646605595,-5.1222644085889186,2.0597190284004214,-1.2011473646468005,5.8354248834707656,23.538902832556488,0.68124775905342105,-16.948721136031352,1.627214556733481,12.00906836195314,1.5922907084805764,24.78486912871999,1.0666905700968055,13.612605733430414,1.0352849253280771,20.374686267479404,2.3305844388669801,11.765193353814112,2.4488128851242128,-0.36751523843669531,1.2190749372535008,11.482610254571554,20.984223736106127,2.6737461450582742,1.5922907084805638,10.376526438536985,0.25867324892417182,57.583363212621016,3.262818214413763,88.83798294058802,0.15390170416540899]
[147,"GSK3A (GSK3α)","GSK3A","GSK3A","GSK3A","GSK3A","CMGC","10_11",23.88,6.7789181489462749,6.6803024215639777,21.113654826083746,6.7572557418211332,-4.8522590306439213,2.370429891522702,16.468503064766253,0.35447898973487435,21.220737020899463,2.5847426334834531E-2,1.1710287487557878,1.7023830435037208,4.9022190994788986,5.4174717489314306,19.697577180823643,7.1581992095767157,9.6540466235179565,0.85342803138781931,6.2606124480356016,2.8865858656829992,12.885904118219827,9.5237413368463493,7.6673107324784979,6.0205515545406589,17.959218741050449,5.8265078183171948,9.112067451255939,5.9063762515369707,10.047426664324618,6.8827214708121076,19.727647631594024,4.1969757718082361,4.7740420413540221,6.4393722435420102,16.974061713215065,3.0944434685871602,79.902915401798495,2.6003780285239659]
[148,"GSK3B (GSK3β)","GSK3B","GSK3B","GSK3B","GSK3B","CMGC","10_12",35.26,-0.81720306126861431,3.1203608953201778,8.5136837283865816,2.2100080155731021,-7.328884597091502,5.3889281236037636,4.2448185045230389,4.8345356693003643,1.8676285354402893,3.4592923394022672,7.70143671443725,3.4398432021289982,5.2182043766745068,1.7819574559905043,-0.27060528291343644,0.59707746294453623,4.7172611253688217,4.0398749978176944,6.0327621239637921,5.854746192437017,5.5325686551790483,10.564081076834478,5.869131318216958,6.674698361893812,3.9560746521412682,6.9589203722131971,9.763904123136669,5.7738298599248328,12.649919982737856,7.1691870605793602,2.6170149618533998,5.7403236788351757,2.2311842036348537,6.6097522652280931,23.947638142160997,3.2024886267599308,77.197576773337531,0.9252954835105357]
[149,"HASPIN","Haspin","Haspin","Haspin","HASPIN","Other","21_07",47.38,-3.6849768365321154,1.3686300463269341,0.41133520260753187,5.8355513172700241E-2,-7.7855724685638847,2.0013236267372512,-14.77960118988311,3.4159324784023823E-2,-9.0322947949728558,0.74011870365363475,6.3677993601116185,1.1395168994222731,6.9750868095043188,0.65277714597643044,-2.4138193493032247,1.4963119801829481,13.314235894881065,2.864269799753667,3.385191587438797,8.7188585118798081E-2,-6.1180996664867422,0.31725273660758097,4.5413880422750879,0.47081835964154045,2.3902935193257946,1.5149942569297463,6.8803166082882257,1.4556702906791599,5.6793886184779154,1.0053222945002898,-4.0716984265371394,1.7768920994727397,-2.5065387968613493,5.2587149361332138E-2,40.391059758298084,0.70357397382826259,96.594290142677238,0.47466821660369929]
[150,"HCK","HCK","HCK","HCK","HCK","TK","04_02",21.36,-1.3290928453071587,0.84515091833839673,2.8573449324563285,6.8463116203408987,2.4702830052916909,1.1724387466027502,7.9213522879977489,3.3029209986561963,5.5449466015984257,0.6082466935426829,5.1042352424840942,1.7906517445687993,9.1990344524906646,2.8044766293614236,11.421068278664166,1.1594490139728499,10.900802695471214,2.0017837677138077,-3.0721966205845774E-2,7.6322141759929725,0.2626102467545337,0.67386780299276294,4.6916831248628341,3.1950844854070617,8.2598354969775016,3.26033098800912,7.4961597542242657,3.0195303928022867,6.7149440421329842,2.8746982664033416,12.39718561094044,1.2337726687146955,12.887721732236642,0.183331681696563,71.011630458635068,0.75488259820057002,95.36715885442473,2.3089882073134471]
[151,"HIPK1","HIPK1","HIPK1","HIPK1","HIPK1","CMGC","23_02",30.07,9.4684701847971127,9.2081031307549729E-2,22.229152373230207,1.1699084923060505,3.2990410871912133,1.1970534069981462,23.446284894547844,1.8283718402223992,3.8367296023380248,7.9095793497340265,6.226111446389055,1.5691007845503882,29.611748139207393,8.2780124723396042,5.2877955081721382,1.1756414552665497,0.50473469472360932,6.9657533536701219,4.6067189700261224,0.49285857976262315,-1.0274339371033534,1.6233732583889149,27.107221886944259,0.79460873063769943,11.203313768098425,1.3421589931561984,7.3023536511768015,8.4087708710521269,28.505330919332124,0.72420036210017902,8.7369886581519438,2.3879029499860107,3.6799684929471823,6.8897494982018177,21.705894186280403,5.190102595051294,1.6219913701076791,0.62634086347288553]
[152,"HIPK2","HIPK2","HIPK2","HIPK2","HIPK2","CMGC","23_03",51.69,18.611229985160819,3.5508450555496966,9.6756342584709927,6.1786991316192612,10.815377176552971,0.50964547126921989,9.2946534990635143,8.0112378682104541,6.7576196151881476,1.091861059083947,7.7386343053794491,6.9597898931353042,-5.0036225321499614,8.0556058685020844,10.408728220159588,3.7160071649568449,0.4070998208760841,0.16609672691743671,5.1100344140554199,2.9863249411338493,6.3442436085328069,1.5502361178961148,2.9908531063213246,3.2399021916319466,2.3416381696792286,5.5626119524507507,10.06611121173701,2.0376743343600519E-2,8.2842782104691111,8.1642818330012705,7.3082559843673778,10.167725126200972,2.7454811919882616,8.6272594040058621,-4.2700597717804669,1.1569462053975819,9.7280573196547806,3.3512457254518799]
[153,"HIPK3","HIPK3","HIPK3","HIPK3","HIPK3","CMGC","23_04",43.46,5.5505363364720353,0.91530808337007452,-15.372562377586632,1.2620284424763692,4.377335016828809,0.77719727629196389,-2.8101847909392887,0.44962956655028369,-5.3172102529166239,4.4860768117176129,11.521459698404229,1.5675455372008403E-3,4.9910649904379625,1.1411731510800363,7.1964875293369204,0.41320259357970712,-5.4661084370897441,0.7025935796968843,7.5916230366492101,1.9045678276953864,-8.2173117466883667,1.3659055650582757,16.532902780825793,7.2107094711103395E-2,10.957078642746353,3.0112574088070425,5.7137034830861779,3.5379502774555678,4.9832272627519956,4.8499858920901628,8.4097418353952236,5.4725724969171452,-1.0203269819801903,0.97507856318866504,8.1794526130984053,1.5597078095118717,10.898404868928779,1.9566211862046958]
[154,"HIPK4","HIPK4","HIPK4","HIPK4","HIPK4","CMGC","23_05",29,-0.91699946582555469,3.475313509526115,0.71278720016178454,6.4169805120946322,-1.4378195507846954,2.3268384503853472,-0.93774486262414314,6.3929681773374201,2.1857543664535228,1.4875009478553229,4.0457829160945948,1.071433154119563,-3.3028370523398394,2.2429522795221546,-8.5192595031276142,5.9496374334168944,2.8524155629279022,0.80532833590802255,-6.3002835769186447,8.575314693390478,-3.5184575514304157,2.3265040815120623,4.1651161895474189,2.9935970641448466,-2.3484522332244353,4.5002152607187043,6.8404911911513722,4.1112237434719558,-4.6668291994405422,1.0521858519497536,0.24480630756113442,8.6551692118080918,1.1792910746997052,2.9165716987025072,-2.7151527594215565,2.1967587543145997,4.1988502545141415,9.6073813322528121]
[155,"HUNK","HUNK","HUNK","HUNK","HUNK","CAMK","32_03",100.4,-0.11430753838043017,5.1785349270045566,7.050872225774043,10.402776509270234,-1.165130014738935,7.3156824563480785E-2,13.613115353000268,3.182939081194633,16.439857521234799,3.2468718604438784,8.8602698851862982,0.14011295867259593,8.8839509486239336,1.6036026791176476,0.48519577754193222,2.0835185059316261,-1.6061653325525498,0.40624689563586913,6.2624572260791638,0.68083057383163537,-12.603587729984383,4.5152486366939879,2.7939708012487898,0.8276531671448919,-7.9780197947329157,2.2879490544433598,9.5482047780492252,4.2132558699435991,10.446506451116363,1.6908279294462214,-10.132121738130223,2.3914714293930341,-10.949843932177174,1.9862702143122242,12.511889867267655,3.8284385890821518E-2,7.9733142322352109,2.6591656514851154]
[156,"ICK","ICK","ICK","ICK","ICK","CMGC","21_12",58.6,83.163989644517443,0.87019458285778006,5.3921642070567088,4.2460109371488439,-13.66700999359746,2.6334103499151102,-5.3037680725148135,5.3966589257622388,7.5226608734736544,5.8536219941568648,-1.3588516746411443,7.2727272727272778,-5.7799043062200894,1.2822966507177038,-1.1447581334110453,0.83118083962330047,-0.87841844477725317,0.41709800295486171,-1.6459330143540569,0.30622009569378561,-2.7427962652140394,0.6764023035870449,-1.1291866028708029,0.89952153110047561,-0.8412313939114,2.7438013206428287,-0.86124401913875204,4.8803827751196138,-2.5645933014354085,0.86124401913874293,-3.7780033568851223,1.6352251826688271,-8.3118083962330616,1.9709136958903279,50.39234449760766,2.2392344497607666,75.33995999879393,1.2241575122868031]
[157,"IGF1R","IGF1R","IGF1R","IGF1R","IGF1R","TK","04_03",24.77,1.2603235161151503,1.577885346947316,4.8295454545454533,0.33459595959596217,-6.4052662336946753,0.16870472262958605,9.005681818181813,1.3888888888888906,5.6881313131312936,3.5542929292929197,13.343969116836064,1.5047664066808526,2.2039706925076814,2.7712124793193138,7.9706002921494985,0.8510441746199483,0.14722948746818076,2.1287651776280376,0.30331678878123114,3.637831875837076,-6.3187431798105251,1.2927326370244649,4.8117072402111205,0.44709682502165726,0.65185133863360534,1.4538190174308081,2.7633341211691516,3.3798156464192943,2.231544946033253,0.70314346490192148,3.6940167091034084,0.29041738116271298,-2.9636429771534409,0.73037373194994892,14.139683290002367,1.717482076735211,47.856511873625124,0.49942551631360615]
[158,"IKKB (IKKβ)","IKBKB","IKKb","IKKb","IKKB","Other","10_09",14.6,11.6460102067214,5.3009101385197841,9.7124948903120298,1.7904346641231785,3.8475106418005254,2.2388937231015262,13.846573102602548,3.8097833492301447,5.9245128764136865,2.4662760594086381,-0.30859973540925978,"NA",-12.653662542164128,2.8680991061341734,5.5435059191314622,9.4124489573361991,12.614959589962325,5.7470707266536722,-4.2675318193161758,3.8121459488905192,0.3295811169407159,5.2938966908601852,-7.7474634443487531,0.96336786966892929,2.1374304789831484,7.6821480933974602,7.0178263308028193,"NA",5.6621342757694038E-2,4.9569167934608851,11.351161409928636,8.1377455197566917,20.470380108810247,"NA",-6.3732554051914718,5.2268744750450225,25.083304050697322,5.2999551672745424]
[159,"IKKE (IKKe)","IKBKE","IKKe","IKKe","IKKE","Other","10_10",18.32,11.808328579577875,3.2420612283704116,2.2059744552238953,0.24930602415479391,1.4698611903403673,3.835329910629405,6.251035407920412,4.4006351848784053,4.3808361651319245,0.49598564773097964,5.9166695433049199,3.0722496461734963,7.8946460008975237,4.4323242086368184,1.3922732479433506,4.4142455482661669,0.87472664792251464,1.6307403936269875,9.3306638130415251,2.7753805792398776,2.3190669582422174,8.1797354993231313,11.38113155442025,7.1904449584038046,-3.2541913985213,7.9256482349265829,25.226966757568448,"NA",4.9432151610342032,9.9830853671165389,9.0909090909090935,7.3768613974799573,3.8425492033739346,3.2271165260855916,93.065000517794886,1.0183299389002018,97.490367593460377,0.12808497344579819]
[160,"INSR (IR)","INSR","INSR","INSR","INSR","TK","04_04",21.23,-0.12446034771110703,2.1236046828205852,3.3012865827796105,1.0476459776615192,2.6447823888608042,0.20030337209754043,1.5947971157924741,1.3275837692633885,1.1239926480984366,0.82708892973278136,11.950807969368569,1.012395353364921,8.2257122460899552,7.6611071451748876,5.5606988791931684,1.9067504481257567,9.8114917170602922,1.0380759154568906,-4.4259848140696789,1.9209552858718855,-15.407646699627676,1.5758268166328464E-2,-1.3271464728405391,1.2784736193133897,7.1660724486379053,0.43138259105324495,5.3118307482640148,2.8165357907716198,5.461094165747312,7.7552079953274022,3.1575629838280861,1.9678137372702698,-1.4871865581972514,4.2448834873047323,31.90992277240575,3.8548899993510264,76.608820690606109,1.2488427521815324]
[161,"INSRR (IRR)","INSRR","IRR","IRR","INSRR","TK","04_05",126.3,3.0109245936584017,0.40936947411767727,-10.074301461610915,2.8639201869745659,-15.456725528667988,16.851972967080929,-9.3208218509087004,0.60696968639899351,-1.3674259601632599,1.9255590051278508,26.460276509889539,0.74750281140437846,13.789111596216173,1.6934576966329409,8.4827536544970172,1.2457694246417552,1.9346631141835218,0.47286430954609676,10.24674207845473,3.7672818680955262,10.237392285350808,2.2947120808429977,18.538731229741359,0.88641926308130026,8.5787667122728379,0.11041501644223554,11.229079843884378,2.8808626050142174,14.715221274062316,5.2292121452669242,16.324620148340173,1.7138330812990592,9.6349103478072919,0.5160701855452352,47.178673017133036,2.2193556922669768,62.206860132978079,2.1602937999569308E-2]
[162,"IRAK1","IRAK1","IRAK1","IRAK1","IRAK1","TKL","12_11",48.58,-6.0156177659804371,3.8581437698696597E-2,12.083932164415089,0.28456453003736631,-8.0797246828605864,0.35726411308990585,-1.5435469962632737,0.7847082494969827,-1.1353837309571446,3.0928427709111852,-1.7900187483260481,2.7676100348183219,2.2319435764657669E-2,0.32139987501113948,-1.3502644847959857,1.3471710953691931,3.0841092585145304,1.5776286076654136,-2.5131684671011385,3.3345237032407846,0.98215114300737127,0.11445540879141348,-4.2764038925095917,0.94634407642175244,4.3987997649024067,6.7899897918149028,-0.85706633336307902,0.62494420141057816,-4.5665565574502267,2.6604767431479348,-1.0486590156834836,0.31861911095987777,1.1677545086151184,"NA",2.9417016337826993,9.3741630211586727E-2,43.44046772048133,0.67590558975468717]
[163,"IRAK4","IRAK4","IRAK4","IRAK4","IRAK4","TKL","12_12",56.11,-7.4807778441326036,3.7221931919975999,13.341599504029759,0.49597024178549243,-6.7454837264855456,3.7352567930725762,1.0415375077495241,2.0210787352758772,1.8598884066956032,6.3980161190328522,2.8811666416099371,0.74096346727947771,2.9692231696054705,1.3831318055883777,7.7049086649269611,9.3849406655365097,2.019086077830039,0.6590601725747145,2.554713171967947,0.54981636992331939,-0.91239833139678694,0.81906322025181477,-4.3770537574364852,0.53263460836322196,-7.8325301434313133,1.7162231661555494,-0.65827623977151006,1.7181761560097483E-2,-6.209059083782563,1.1919847082322192,-1.030495818967978,2.9276748128535846,-5.1258119202270507,4.2248423779500515,60.890015248813384,0.48538476407293651,87.38071201356216,0.35238766452694376]
[164,"ITK","ITK","ITK","ITK","ITK","TK","04_06",49.5,0.28688916515251606,0.73634885722482168,-1.1069288296765762,4.489624089941068,5.0875011953715159,4.5902266424404736,0.58194244960627373,3.479272943390614,5.4628299737506865,0.99796939230349779,7.2436593308990496,1.7763742228362682,3.4737984802131479,0.31579986183756148,9.1655600422775905,2.98111059920322E-2,3.1952085422369123,0.90246348139517241,4.1300700680943407,2.3043521168459509,2.4797419984281532,0.78050895688230537,3.7353202407973782,1.741833612947798,8.0246077129461355,1.1843139380470973,6.1531629329912221,6.9081219776970307E-2,7.6482779038784088,2.9458205862034932,10.395945689585048,2.7805631588931927,2.1626602346947124,0.36315347299386258,40.905950853646495,1.9984210006908092,79.639014607441936,3.6748963386541806]
[165,"JAK1 [JH1]","JAK1 [JH1]","JAK1","JAK1","JAK1(JH1)","TK","04_07",67.650000000000006,4.4080450602923946,3.2546076386227409,-1.1016095501403811,2.088557405859536,7.6214289117541512,1.5043574993112176,3.9981568400523031,1.3491502175357384,4.197475299513485,1.0405280867571052,5.6968500825552866,0.10743937578362203,-0.88471947215866464,0.51989550826513775,-6.6661038887950923,1.4500909824225579,4.1476729135010402,4.9064850770067805,-2.7650153469565595,2.3207332363602182,-6.1342788001575883,3.8522145309246358,0.37016389310743136,2.1005145555790339,2.4405800363929586,2.1704466580374073,4.3943345487012238,1.1901634231936624,3.1287713250073352,1.5746383265943453,2.560639315662101,0.41082784624909197,0.33016301799013092,0.93608719305156907,92.192809892112066,0.36204720070230717,99.391261935580687,3.5642598533025711E-2]
[166,"JAK1 [JH1-JH2]","JAK1 [JH1-JH2]","JAK1","JAK1_b","JAK1(JH1JH2)","TK","04_08",199.1,3.6636628915941429,0.60289750742373582,4.1836345125986156,2.7646983965385452,6.5830237431065086,9.1000244244192849,4.0022906592008241,3.232374650038182,5.5484856197505792,2.2206668363451203,1.0107235301368291,4.1106865524466789,-2.890422778257161,5.5774682608159614,3.2352847096240538,4.1126500546049639E-2,3.7214913383020161,0.15079716866892115,-8.3323061752742689,0.62862073215826841,-0.79602626612501126,2.7321705196104897,3.7655614445950789,4.1599901392826144,6.1461270260513601,0.82390089427289026,12.473807469493394,4.1168495008011803,0.22186614076171907,"NA",8.2892746656186915,1.7775787458245227,6.068900597248188,0.71971375955619155,95.316159250585486,1.3805004314063851,93.28495638306137,0.61095701366770705]
[167,"JAK2 [JH1]","JAK2 [JH1]","JAK2","JAK2","JAK2(JH1)","TK","04_09",16.329999999999998,-1.6577943626416101,3.6162632791146772,12.533541493877152,3.1955895984778326,0.16847414627611101,1.1390079148108649,12.879933648826665,3.3346343367322069,4.615309557496218,0.44396740986485872,-5.9277874110861717E-2,3.9164689120944298,-6.4998091967446356,1.0020981429868863,5.8125229672945835,1.9492243045902666,0.73655115116075365,1.9572129287893993,-4.1258398045243467,5.1462838814340509E-2,8.3561009123008745,4.8714630366358351,3.0031628722638146,2.282045732367187,7.619549761140135,2.1776989566856768,-1.6057403374155399,0.11514706261367609,-2.1624646071739164,5.9076124263495275,7.5093067471919994,0.94425538033840095,9.6790170796785304,2.3326782661490024,75.276165888257736,0.53261405448187993,99.279426097237533,0.15977248398280805]
[168,"JAK2 [JH1-JH2]","JAK2 [JH1-JH2]","JAK2","JAK2_b","JAK2(JH1JH2)","TK","04_10",173.8,1.0783385598485324,3.4968345068338991,7.2274881516587612,5.0947867298578222,-0.22483876693686966,0.12869061002307886,3.3357637623040404,7.3459715639810339,6.3981042654028357,2.2238425082026954,2.2559072670530611,0.66428889879625819,3.3392777530093696,2.1355327686134737,2.2565213466919545,0.74013900171494629,5.6819207509703062,0.35653037277732524,6.9282211324119487,2.737405260811411,7.6496073652856609,1.6201823269248141,4.1818992420865015,0.17833259028087317,8.0196768661431435,2.9740951349399807,6.6696388765046777,0.58403923316985407,0.6419973250111326,2.3183236736513577,8.0512681649968272,0.42873905587145966,4.5356079068507995,3.4840689592923426,90.053499777084269,7.7619259919750316,100,0.64536510515389456]
[169,"JAK3 [JH1]","JAK3 (JH1)","JAK3","JAK3","JAK3(JH1)","TK","04_11",21.52,2.9034399096034633,1.3405060603405898,8.119223407164327,2.8230790265244918,1.6206938024609627,0.58398430829858072,3.1337161607875004,2.025704129067555,1.6767842493847525,3.6029532403609377,51.860113301320645,0.66736022460373723,6.1436664380045301,4.9291071728744293E-2,92.423099116694033,2.3214523503040523,30.161125660260112,1.7311021350259626,1.4360283662167603,0.4397581330268337,1.7044697944871103,1.6290114962936748,0.84430835767599888,2.3500710972601504,4.3233166141417598,3.7995472502108418,7.2569177861267207,5.5558079419955453,5.5012924709591573,4.2760572594164081,-6.724665986062405,0.66136979004838103,8.8019885480935756,0.49269829996893122,99.309697848001775,2.385051857841829E-2,100,3.3601136313196318]
[170,"KDR (VEGFR2)","KDR","KDR","KDR","KDR","TK","04_12",50.53,-1.1343926122741124,2.6843928525097307,10.124875605919584,0.60190684087187951,0.17224894176207783,1.3630969254644898,13.550126801707862,0.70784244486532988,13.681743764245155,3.2535071105261522,3.722079539263774,2.527434041559653,4.827223908475375,1.3561366643318524,5.8394160583941641,2.218146061041566,7.5810294618206484,2.9310540448545837,1.7861312164370986,0.29574285936649669,7.6472145531560898,1.6867743277485641,3.3154331076348598,1.0253716242509248,6.7092772588026151,0.5786467985325856,4.7766363141100499,0.20429605416763924,8.5609775079774408E-2,0.68682387734453976,3.6420710260580051,0.19288226617752549,-1.1724216179418505,0.25528535229378241,73.163281189197605,0.21402443769943305,96.017548504216933,1.4447259937218717]
[171,"KIT (SCFR, CD117)","KIT","KIT","KIT","KIT","TK","05_01",144,6.1954180251513549,2.8440847694457396,7.1527128677616076,8.2654560021364709,6.1466581276199435,4.3694690265486713,10.339609204611207,10.121511550273835,6.7120665865491418,1.3530956513998316,9.2002973332920277,3.0104995818750591,1.0669929073620921,2.5675968656115478,1.7770352369380475,8.2725799918995389,-0.79316862427431545,3.9962197920885489,15.260011769442826,8.6722210177472794E-2,3.6688267854732288,4.2341703793708687,3.0739926286121317,6.5800476972155995,-1.751721344673939,6.7267449709734004,9.1584848390993301,3.5432217301080935,6.2176727475454499,4.5420757580450362,10.976103685702725,8.2540164709058921,8.2962062913460244,7.0541379775887743,96.239972744448224,1.4773747948090554,96.626501957607672,1.5255839071148898]
[172,"KSR1","KSR1","KSR1","KSR1","KSR1","TKL","17_05",30.75,-3.6540765495932561,1.9042814805473109,20.639066805023816,1.7318495724049094,-12.248565483321755,3.7864934737373033,12.290227931441677,3.5263176727376786,7.458761226607507,1.449171646330552,2.3530636680722665,7.9051486282471757,-1.2285907647456895,8.58451767400698,-5.7144109524992501,11.284171768384365,6.2521003492058895,7.5408015663125898,-13.152688843771159,18.163360924566547,0.76197016408292484,1.5743487091071138,5.1199958352855504,9.3575927950440096,18.548092517642942,1.9235545944682328,11.916289239419029,3.2120360247800481,8.5741058878650733,9.6230933416627433,-0.45148375973465704,5.093438143802695,-0.12200289300272971,5.2965327800587385,-13.295850903222444,0.13275027330939057,5.5317718911179128,0.87593693838489517]
[173,"KSR2","KSR2","KSR2","KSR2","KSR2","TKL","17_06",17.09,-13.315581394087658,2.1177593509514989,1.8757327080891315,13.47178027131141,-16.108529065637015,3.1996876237170617E-2,5.6004019427231668,1.6814603918941602,18.010383520348341,1.7484508457544856,1.4907510992013044,0.24975934646304193,-2.3050706350651637,2.2738507167572997,-3.1573412785348154,5.2394514305744204,-0.98234237392104262,7.3031590938965012,6.5743944636678293,3.3535395582381535,16.586776497392989,14.506418963326439,3.3483362385201758,1.1395270182376258,5.4743022389694715,4.9844455154887752,7.8309961755600028,0.64781330488851774,11.759502562634935,3.4055727554179591,-3.8496253779082537,4.9511457739999081,1.1190465758226225,0.32072908907680175,5.5701537580976606,2.3987303899888248,1.5431801253121904,3.4316259913245486]
[174,"LATS1","LATS1","LATS1","LATS1","LATS1","AGC","24_01",86.93,-1.4095367343161911,3.8955030534821855,12.189322566173175,2.1556751906684402,3.1367589908087155,3.4667818148171112,8.3871691341408763,15.681920143562184,16.97622252131,10.980260206370604,4.6152095689152475,1.2914053277581006,3.2484248552858048,5.8312355108019076E-2,8.4562472194654532,1.7110981828137233E-2,2.4092262414017398,3.5693508093494373,2.6581900413875559,3.835815164056835,8.4630916121967346,3.0902433181615891,5.2964685468845545,1.1833141329237258,-1.8308750556106617,7.0668354950206886,-1.9826200736726776,2.7193469016227914,-9.9628792080897881,2.3851175491744026,22.459874747613014,1.2662126552821604,18.04181923958798,3.408507580164942,86.865497575059379,5.0134402867261176,84.227096950823039,8.2132712775057473E-2]
[175,"LATS2","LATS2","LATS2","LATS2","LATS2","AGC","24_02",43.63,5.2790826478491937,0.66668034216085525,3.9412757807023553,2.0279009152211014,8.0271732069717672,1.4318242425485643,7.0838310938225106,6.5092262580587823,8.0918577902396009,2.5531410743728311,1.438693277083658,1.9038347125317772,0.35696900859970526,7.1123370652820581,-8.6800662119294145,1.6196811372872628,-1.5487031788900651,0.5255443778794745,-2.3960192546919785,3.472334901833519,-5.7371714386745225,2.0688665563134556,-3.0234193304126649,4.1484125696359966,-0.17834172940233373,0.13708739257216734,0.38942073665423038,4.499972956893286,-5.019200605765576,3.5101952512304559,15.363781254644323,15.773506003659085,-1.0234150391275705,4.0998098713171484E-2,98.236789442371133,0.55167937692682112,99.443450809968681,0.92168850669550206]
[176,"LCK","LCK","LCK","LCK","LCK","TK","05_02",30.55,6.1334504522841371,5.0851326471462617,14.625220050032411,1.9673245004478042,0.97561133389228871,1.8991013461669631E-2,1.8468760616448918,5.0047870533370364,0.94196855986905348,0.98211803947002885,5.832067483274642,2.6679809960893426,0.6302317313596717,1.418829384958469,-7.7985350999917529,2.529832935560858,5.3921487943379276,1.0945601185087714,-9.5924501470540378,1.1408810316408635,3.451567772199823,2.587441362850798,3.5212178016224556,1.8131282117578493,10.259237922804701,0.66331989136696357,8.3901619210756451,2.2946898936685969,7.8148734688601138,1.247535632332522,14.877787836392073,1.106081803966757,13.572545469508682,3.8943296847996125,75.650431466339171,0.49610549109595337,97.563986503168465,1.1900255123035139]
[177,"LIMK1","LIMK1","LIMK1","LIMK1","LIMK1","TKL","24_03",263.10000000000002,2.476921594180439,0.29081096030474846,2.673869007427399,2.4431690299347211,1.8202922356825582,0.35408539114909182,7.8437992347512875,9.0693225298221858,5.8226423587665863,0.6560882286743166,-3.6295915943072998,6.0329698121594335,-5.4742763425120415,5.5624104289447578,-2.4352088815196709,1.2010236816494253,-5.0477597952636586,2.5505532927224874,-5.390740556241056,1.4538292344596626,-9.2549471938867782,5.9150055869949307,-1.2568687108665557,1.6438923078102099,5.4197455213927697,1.8483941895252876,-4.3400289692910263,6.0881494140999139,-0.83765701279094174,0.65372500632264874,-1.6652849367408322,0.23429333525574941,-9.9059222146127013,2.7588941354575991,60.032341377804002,9.8794478974272426,73.488807987600481,0.58753559456439208]
[178,"LIMK2","LIMK2","LIMK2","LIMK2","LIMK2","TKL","24_04",252.1,15.075131327116495,0.50494767276133423,7.0203442639305536,3.0527907173060638,13.601009895345527,0.35427780266319181,8.4147436438564256,7.0495061662074932,6.6964936649604283,0.25017842479681762,4.4401186503522609,0.87133852428624081,-10.011123470522804,1.5897293288839469,-1.608431590416302,5.6814708536938666E-2,-4.831407746218062,0.77059443287774232,-10.558027437893955,6.8826473859844253,-12.348928611239955,1.711632991366316,0.82499073044124316,0.90841675936225696,1.5070281232807048,2.759109231670962,1.3579903596588849,0.3244345569150926,-2.989432703003331,2.3451983685576572,-4.576101144564646,3.5286249042600346,-3.3481123492882148,3.5940696951063749,-3.2258064516128968,1.4506859473489053,4.6793025455147017,1.5890139052201178]
[179,"LRRK2","LRRK2","LRRK2","LRRK2","LRRK2","TKL","22_12",47.87,8.3881928222552773,1.5289870460819701,-1.647938712922894,1.9449192091833565,0.47249946910174856,1.8183266086217862,1.0697358691831198,1.8176418536431722,6.3250784877025978,2.2467483666072634,29.750926748567736,1.3510615483594324,-1.0937164915290793,0.10109984375480034,12.523719165085382,0.71198040837509835,8.3540115798180352,3.1836390470166545,3.9827211176127975,1.583897552158325,4.6205744497964503,0.31301188796445095,1.7462700284917787,2.1567966667687899,4.9562918633127282,1.8618530952496795,-0.65868080022062259,0.64642627370484618,0.53919916669218537,0.43809932293741394,2.4359785270601151,3.0782205355260279,5.1233396584440101,6.4872930148021065E-3,97.723721699702821,0.21139058239637284,98.061921211826331,0.84010444541753848]
[180,"LTK","LTK","LTK","LTK","LTK","TK","05_03",52.33,14.699954856184704,3.9001031858635362,12.712228036817052,1.7823789732285649,9.071488456081525,1.3647942731845755,12.138013427787783,2.6485385922697717,7.2847431388715904,2.0208988877484075,53.470572710477704,1.0575726727745718,10.472043132375674,2.5581570712212054,31.199307032049774,2.4871734297673411,10.926360040463507,3.9239915923119275,1.864419560381549,4.7034649172416287,6.3972329741287837,3.2025538049634483,7.9497040304641331,1.9304000301625011,8.8589652728561248,1.5840132778474507,8.272065754251031,1.7418844022169446,6.2888813482637573,1.0858500169663972,11.397020964703458,1.2187513250589115,13.076741354558479,0.35072416362280862,95.117445236210088,0.33555781774309101,98.518356987527781,0.25259408675425682]
[181,"LYNA (LYNa)","LYNA","LYN","LYN","LYNA","TK","05_04",16.7,11.357634145756961,3.754882929518049,23.109847538115488,1.8870282429392582,-13.344117717544975,22.580583315359451,9.2476880779804986,1.0341164708822861,3.2398150462384621,0.22494376405898572,10.932512915007734,3.3439176071863392,3.3472080550162957,1.14672106873746,16.484298371146949,2.1313373317682527,3.2810213696515547,5.116093968580663,5.2531999605146353,3.559441940048043,5.7705294978373161,3.7585824315415421,1.6764831693593578,3.7075120923957741,10.138926854368009,2.2901223649724201,15.19857852653746,2.7779605804349936,13.812477378171167,2.9712743904445418,13.52969079127206,2.0629994693765918,15.179849174317837,3.2983068289623891,67.983942614589836,3.7050442565233315,90.980608126577806,1.0077824765641306]
[182,"LYNB (LYNb)","LYNB","LYN","LYN","LYNB","TK","05_05",14.31,9.8940482611040466,5.7325284016771363,14.806316201579051,3.6681384170346165,0.63501452704464612,4.1632596252544456,-0.70905017726254016,4.4783261195815172,2.3098505774626403,5.7028514257128657,2.3207804298840955,0.51407985103828002,7.0729831473560694,2.3936421410548756,-14.173148116700062,"NA",-0.876269401895172,1.0291070882722531,4.9923765061460159,1.9982998934060197,1.5079985055870821,7.8796318309954758,6.098795083183802,2.2290286454468213,2.7680603199402327,7.2173351900281988,7.0095664728185341,5.0058694156220929,6.3281745442769761,5.5874138140407208,-20.130421492375064,6.9048670312128468,-7.2071460109363983,9.3095132968787091,70.872856314006995,1.5827182815430492,91.532792174710465,0.17661243759127801]
[183,"MAK","MAK","MAK","MAK","MAK","Atypical","23_01",44.69,7.8271608013822345,5.6774363454862273,6.2803826250588202,2.1875490042339703,-16.336909386293627,18.454782118192963,10.97694840834248,0.16465422612515435,7.5427316920181937,5.606084365689183,1.6764300137953256,1.4435092068696702,2.1582661894955919,0.39436591558870521,4.9378338246049367,1.0216972141574785,2.2073978856851397,1.1724030939030565,-7.7353699742087656,3.3828498310574426,6.2964030052525146,4.1156002748166003,4.7443869084511192,2.1332746866065531,9.8424237051483487,0.90201901553602737,2.9325029489973531,1.5644680808525107,-2.0852910010596304,0.81072435371973151,14.538684869572904,6.4648389884975996,11.810465193590574,4.0291660202566373,10.508926964831971,4.8848391546874206,43.709137652091016,0.96185811484674999]
[184,"MAP2K1 (MEK1)","MAP2K1","MAP2K1","MAP2K1","MEK1","STE","23_10",17.52,-4.1160791105962602,3.0518425211019702,2.9514820733950984,4.489943611856603,-3.9476569924702147,4.4529233468483396,6.1423876006392959,4.807164611163051,18.605071917498435,0.16645056237373479,6.1967921859571646,4.1738944783966092,5.1506498358730681,5.1292999919938058,-3.640975322192233,8.6874570959850225E-2,-8.3306508223997184,6.4364749091501405,6.7892503536068034,0.63782658589310293,-4.0206637372354948,5.3718735819859376,2.6607242934535975,1.1475541085105807,-7.7818672603095962,1.2689892686634896,16.039070214299073,8.7587734514692492,-2.1349843879266359,2.6233620666648876,2.3812940432743517,3.2895987092920977,-9.5817997773839352,9.6182560705540293E-2,53.734888313629213,0.72589469189506439,96.668515336852266,0.24355906501243024]
[185,"MAP2K2 (MEK2)","MAP2K2","MAP2K2","MAP2K2","MEK2","STE","23_11",27.74,-6.1441331709297629,1.8707538232507754,-1.1005367910421739,0.28490101395758943,-1.1226146975233604,1.0027067262146403,3.8912872322548964,2.6095738682648424,3.5140066380230337,0.34776689637877273,-8.3035495716034262,3.1255813953488332,-9.808567931456551,6.9777233782129775,-1.8489602988904892,1.9183051551060475,-0.97082798701789841,2.9091818250433978,-2.2374541003671879,0.91358629130966884,10.228130424937731,2.4207015623820709,-3.3351285189718567,13.785067319461424,10.284974337685853,1.3288738772737518,0.31725826193390105,9.9476132190942455,9.0320685434516434,6.6927784577723433,13.234961129141809,6.4886972601705715,3.8163257604347223,12.098082874179093,67.89718482252141,1.2984088127294973,96.77475658540267,1.9230224922635666]
[186,"MAP2K3 (MEK3)","MAP2K3","MAP2K3","MAP2K3","MEK3","STE","26_09",45.77,-3.5777070863505145,3.3087773638608646,3.9516379961772401,2.8225985686980577,-5.1060022602653845,4.2489849734209706,1.7780148464239289,2.4625505622972046,18.335778103747145,0.68453571587323991,-4.5302000712105297,1.3370908236934118,-8.577077793686513,1.0734604516564115,17.699304768613516,0.5175951731953079,14.440599062815835,12.158892530090949,-6.6028802375703748,1.0227040294538798,7.5587271446509874,6.6827968515512595,-9.5497829594782075,0.49468572683952944,11.818933570181599,3.258705705797678,2.3991878972447296,6.7240896040241482,-3.993091066112143,2.0075301318909515,12.067011730115453,0.81773911978193248,17.304217328718877,3.9233101589537736,2.3120686651060822,0.64392475928576209,42.387675722029954,0.30626933325165628]
[187,"MAP2K4 (MEK4)","MAP2K4","MAP2K4","MAP2K4","MEK4(HIS)","STE","26_10","NA",-24.335778321108378,3.0317848410757939,null,null,13.512632436837933,11.670741646291768]
[188,"MAP3K1 (MEKK1)","MAP3K1","MAP3K1","MAP3K1","MAP3K1","STE","19_01",8.9637229034492787,9.9982886013408461,8.255638314495549,5.0447874420097207,3.4779564088349431,6.3678911848087409,0.93010796693279907,17.083418434336053,6.4861552825839626,8.0383975724331123,3.6384325854170987,1.7135633690716077,3.9678823914977284,-0.19429748583733897,8.825319537431529,-0.94067106140286683,4.9403747870528214,0.18517146878008361,3.3553070142952426,-1.8212463130296328,5.9834261903647139,5.4736686171394524,7.5327753499740862,-3.8086989091249421,2.5235263823212724,7.3031627286867575,12.028738611954642,-2.2730464909405725,4.7240039327683849,-3.7618802378388523,7.4043728638981214,4.5700318494926222,6.1402859047478042,2.6516554329308946,3.2293904155247799,-7.430123133105468,6.4820450395617808,5.2959040071105932,1.7924598177912709]
[189,"MAP3K10 (MLK2)","MAP3K10","MLK2","MLK2","MAP3K10","TKL","19_08",137.69999999999999,6.8459901299084009,3.3651352388632052,4.9302263086166249,3.1710079275198138,2.7591674387771263,1.7820438765501985,5.9062901894542819,1.7145900915599692,-12.198879014146684,0.60560109027392395,3.7077291979472449,0.50758577415234152,6.5750845976290151,5.1498106357707893,-4.9052672280460712,1.2878071833648466,-9.2402045024918635,2.0321361058601055,4.690406292719004,2.1435134347757878,-3.4735349716446251,1.4746949647705814,2.0796450261076131,0.1635927660623365,-3.0825743254855098,3.0986853411239048,5.8915805750397965,3.2651323308607689,6.3173699661609533,1.0846424489612969,2.4037635332531124,4.0481611960817805,0.54133012545109693,0.83455061007045606,86.605562154046126,0.53223673890146239,95.081843959443205,0.36518302113765244]
[190,"MAP3K11 (MLK3)","MAP3K11","MLK3","MLK3","MAP3K11","TKL","19_09",75.63,3.6323045450502462,3.8707640309525915,8.5503255905157971,6.1196310246501149,2.1642799964422181,1.4551276349728743,14.760648076278869,6.2184928876651444,12.972147099915844,0.43629946157052091,10.205400064603154,3.4961713123943112,2.5024226187083087,0.48452374166334633,7.4737162882828017,3.6847986185179553,-2.6436081060490579,2.8035959165015987,6.7415303349864075,0.88354329362139183,2.9305703692417211,2.9153334349128994,-6.6503258659665221E-2,4.964943282220827,6.4223678195946974,4.233328254355226,2.8539398430523164,0.96524729711754831,5.7382811757776011,0.99184860058142921,5.142465335974407,4.6777388389456016,8.9466199400680466,2.2601452587739335,97.465275798514128,2.2801117254745724E-2,100,1.1503885418253845]
[191,"MAP3K12 (DLK)","MAP3K12","DLK","DLK","MAP3K12","TKL","19_10",91.18,2.2507627673679451,13.354419258478325,-6.2871132409625972,6.0683404521304292,-15.35704967439284,4.3007832675729292,0.72924262944056295,4.8494634857797676,-23.023231586623609,"NA",-0.29383843406716892,2.5179693503910303,3.5712671217395382,1.7449482392296791,1.4097744360902169,2.8717627401838075,4.7096908939014099,5.1848370927318292,2.7394783237647431,1.2386420143754882,-2.0311194653299935,4.490392648287381,7.9969259979205418,1.3652185705890336,5.8740601503759251,9.6439014202171336,2.2648162379639132,3.6164730346733717E-2,3.9781203381402293,0.51534740744089469,8.9337928153717456,7.7903091060985936,6.4536340852130252,3.221595655806174,-2.165363229510433,2.6852312282446569,20.593149540517956,2.0311194653299913]
[192,"MAP3K13 (LZK)","MAP3K13","LZK","LZK","MAP3K13","TKL","19_11",260,5.763245715999858,7.3906033222093086,4.243386974238561,4.0458595206851289,-6.5019310810304063,0.85492519404552547,-15.527315422335789,"NA",16.244215760756958,8.7050210649906248,-5.6902683478823093,4.3539174480008578,0.45532923806447911,0.13471279232677405,4.6697725404220023,6.7881611400383584,-0.37818580432994509,2.5157577418470809,-3.5240866472680068,1.1369759672378461,0.18909290216497254,5.724856124965731,-0.88371591766353674,1.3417394115745198,8.6599068237873524,9.6272951493560708,-0.13201853648021711,3.4405647160254365,-6.9969824334518762,0.29367388727233928,0.83858591394903215,2.9076459303918862,5.2096464784872296,5.4124417648670917,28.599525810971016,3.33548873801056,36.144149081940249,0.19731433269389601]
[193,"MAP3K14 (NIK)","MAP3K14","NIK","NIK","MAP3K14","STE","19_12",119.9,-0.22290122219996533,1.1501953516329493,5.8363579072671428,8.9978643201419093,3.3554147465437865,5.7835353636545763,-13.867914619487223,7.153944005508424,2.2558847899914696,3.49061117789164,0.1023351009396265,4.5585635873104522,-2.2451700933420113,2.5583775234905604,8.408208106093312,4.6651233962412242,7.5057872640954173,8.659316514301409,13.343876949793781,0.25738828418147985,3.0446894495232755,7.3880801977478701,10.162185629670986,5.1756752566130162,12.728057441048392,3.8215560874171119,9.3248984401649722,6.1339039290476576,4.2205476478432047,0.50857444103327631,-0.79648448228508073,7.2350610114960539,12.771216698709154,9.7618393690901062,13.498930133035628,0.89620739913790581,24.667477537568175,0.72586024247655523]
[194,"MAP3K19 (YSK4)","MAP3K19","MAP3K19","MAP3K19","YSK4","STE","25_06",18.510000000000002,4.6417792821421813,3.6515741954697152,-3.6388954033770915,7.7075515947467093,3.8743839591497249,2.0890004249183938,3.1414165103189902,0.794734990619126,-0.53441604127579012,0.57076688555346811,2.0032719134403152,1.2861872862663659,3.8092719790403606,1.4440092576908161,6.8261086198305776,0.72247135027404596,10.208021923268547,1.9494270054808163,-0.34821929638135884,0.66121227942555327,2.2670652715495834,2.8462879920278938,1.8108302042272442,0.28933653665131515,11.354010961634273,1.2705530642750404,0.4889223578804831,0.26819625549680792,2.0173354798619272,1.7050164696494341,7.7416542102640591,6.2032884902840069,4.0919282511210611,0.21175884404585144,-0.74163970400911694,2.4790742668635946,81.782511210762323,0.54185351270553073]
[195,"MAP3K2 (MEKK2)","MAP3K2","MAP3K2","MAP3K2","MAP3K2","STE","19_02",30.59,13.489139400604884,5.1993401154797958,-1.2922800314642018,3.2475559051578813,-4.7814132526807782,0.53340665383557828,1.8766153500393301,10.832677828969556,9.3044162265423154,0.52814923025058647,-9.0392875851231196,2.304871660555265,-7.6877946568884425,1.3871136720796307,-4.9006279536479695,12.12533177963364,-1.8320709522884897,10.9212144753026,-13.058145625982206,0.94918805657411742,-7.5807600181265116,6.7585939017284904,-5.336825563122062,8.9952854897852212,0.82216611639799453,13.076972874991871,-7.6563645887899412,7.1995809324253548,-1.3913043478261073,6.9816657936092232,14.313458924062914,3.6576681556289294,9.7624134136078027,4.5251505146630473,69.688842325825036,2.1519119958093236,100,4.3892017867547093]
[196,"MAP3K20 (MLK7, ZAK)","MAP3K20","ZAK","ZAK","ZAK","TKL","18_11",44.06,14.152552806064151,3.5948574544047487,2.2562965174553824,1.8319080420549843,12.202114001301453,0.97785750716686093,14.346036552856603,0.86583779403296646,14.192488963767005,2.9259346143183294,6.3928776565192464,0.40493968983342937,4.6209075244112512,2.4842044801838039,1.3672999424294829,1.4950345423143343,1.0290731145653638,0.58110247553251992,6.8724870763928863,3.0786904078116009,5.6724956822107231,2.6140616004605546,11.866743251005161,7.4641010913268273,6.5576424870466354,4.4293321819228542,12.564618035611701,2.6651349798966124,16.099942561746118,5.695002871912699,18.733808290155466,3.839234312032235,13.834916522740372,1.484240069084628,5.8414704192992559,0.48248133256748932,15.139248704663231,2.3927748992515845]
[197,"MAP3K3 (MEKK3)","MAP3K3","MAP3K3","MAP3K3","MAP3K3","STE","19_03",17.649999999999999,12.632508833922245,5.4696702002355684,8.8360109123976827,1.5307668990603149,7.1481154299175529,1.8919316843345109,12.564413458623818,1.4852985753258561,5.1379205819945355,0.65171264019399766,-2.3273386731147099,0.26447030376303032,7.1558107903884007,0.13601329907813239,2.9691839703742886,1.6532204734823419,4.1065996561301432,6.3615923819600573,-1.080550098231825,1.5188151730391422,3.7296653881761586,1.3688665520433796,-4.4884388695783457,4.586670696690347,3.0683771987832387,6.3219150905964829,-2.5691400936980529,5.2138431313283915,3.1509747619766983,3.5439020704246706,16.638010845126303,2.5261208834810231,5.9780452321121516,2.7840232773442697,45.866706966903429,2.5993652712709667,96.779526517656393,4.6686946171141388]
[198,"MAP3K5 (ASK1)","MAP3K5","MAP3K5","MAP3K5","MAP3K5","STE","19_04",58.26,5.4129044394281323,6.772009029345373,7.5438021345572253,3.2637598805230814,-1.5425131677953345,3.0803235515425196,8.9461989582195116,3.9176046333734087,6.5275197610461504,0.48446435726514187,6.7259150189314312,1.6039124947412748,5.2219183845183039,1.4829617164493047,3.2545838514220407,3.6493180965914687,1.4190696113841454,3.9966842323405847,-1.7196045435422747,3.5969709718132097,-7.6203446029960276,2.0269603489450789,-9.9968447623054004,4.2227597812368591,3.6651074663982541,2.5401148676653413,-0.22086663862008038,1.6407236011779589,-1.0149347917542855,2.9291123264619254,9.159808159156853,3.2151104269050803,5.0150985848777339,4.7585213255175862,57.162389566680694,12.578880942364304,92.33228728758364,1.8513036098446762]
[199,"MAP3K6 (ASK2)","MAP3K6","ASK2","MAP3K6","MAP3K6","STE","32_12",52.36,-19.765088267907331,"NA",-2.6531452307001331,3.2593645922987613,-19.752474376199061,1.1320234442377837,-2.1928675672641589,7.1099801668985399E-2,4.6364554877820581,0.19084683605882963,8.1416497271851966,0.64860383010591915,8.6210816304696891,1.5914197068578126,-22.430399788890341,1.377490434094212,-19.532919910278395,3.1798390288956342,3.6649459719696011,1.7933561570557428,-20.482913313101974,0.44596912521440357,4.73413929603079,1.8622285225206019,-25.124686634120579,1.9395698640981778,9.6534984487001196,1.5138547127420567,14.960013908205838,"NA",-24.462330122707471,0.26652592690329002,-28.367858556537811,0.58582926507455357,9.9089279982882204,0.60112870439713439,-19.110700620134565,0.13194352816993832]
[200,"MAP3K7 (TAK1)","MAP3K7","TAK1","MAP3K7","MAP3K7","STE","19_05",40.26,4.9779510132624125,4.4147521759955124,2.3911781775971974,2.2286709228090524,-6.1060002972896967,5.308272911952697,7.1890114142000243,3.2733604178757933,-2.4143934997098171,9.5801895917972519,-2.8495350131150303,1.3552181861537305,-5.8222716795167315,0.63190525395437591,-3.7065756823821516,11.367866004962751,-5.3039702233250807,9.2121588089330011,3.175423257292735,3.8987361894921047,3.5669975186104068,2.1246898263027303,-9.6057547094825537,5.1824179318019237,-10.871588089330061,2.7295285359801515,-1.3711151736745819,8.1551545982036409,-5.8540656545584682,1.6850806772116662,-0.12406947890819708,2.4193548387096837,0.15508684863522149,2.6519851116625253,24.079961847229953,2.0904538589937181,51.488833746898251,4.5905707196029777]
[201,"MAP3K8 (COT, Tpl2)","MAP3K8","COT","COT","MAP3K8","STE","19_06",154.1,14.505343241659617,"NA",-1.6036376889567805,0.82785192384456208,3.5696016518010794,2.0740520280136541,0.94586855030458139,0.29330602752564222,-5.0660372446588866,3.5474409482983029,3.5929095678439751,0.37359900373599197,4.6368670676452695,1.864020561193398,-4.015565688638489,2.800391529591534,-4.5622746914316963,0.98598610547425392,0.84523462547362271,0.10995999046130142,-1.2342731635113466,2.82426528517201,1.9249622426538906,1.2996475981028635,-1.8955761930909176,2.0865662377348428,2.2495429373890374,0.18944914019236542,1.6944437084337949,0.72070162422828976,2.170124382266593,4.6959677226824361,4.65060758707952,"NA",-4.7547759730796884,0.25039082165284654,16.914460333755102,4.3537135626805483]
[202,"MAP3K9 (MLK1)","MAP3K9","MLK1","MLK1","MAP3K9","TKL","19_07",40.18,6.0947933608504883,4.4717029034915399,10.218601047218783,4.5434267064265459,6.5127613269873166,1.6863954198693398,11.918570522904972,5.7925755476766287,6.5486393200121853,2.8598933997041538,6.9296659236516973,0.56847653895220784,0.69570032664620385,0.25304566037206977,-3.3720868503477419,1.6977225672877823,-4.3823326432021901,1.2613473483038666,-4.7083315809395714,1.0966480211969494,-3.3620003185220781,7.1741784785263079,-1.4930394919460213,2.4859458019654852,-1.3160269682009016,4.0786749482401623,-3.1080455902763191,1.365465225498026,-4.6207118924451009,1.7159439794759646,-1.3420396029091677,4.2528003397568526,1.3452248234856796,3.5509900727292232,96.895459197263463,4.5211759263153684E-2,99.984073897117369,0.37107819716515372]
[203,"MAP4K1 (HPK1)","MAP4K1","HPK1","HPK1","HPK1","STE","18_03",16.53,14.816274752918744,2.8553203993435012,10.314177820022095,5.95730469853829,8.0248550480545191,3.0266109554286103,7.8171962904924612,6.1319906491638214,9.1735813188789308,3.2625170190356303,3.2246073784964153,2.0908837468636792,4.8694359260291691,1.0919059566954781,5.5667737494263463,0.73428178063332195,1.6337769619091205,1.3125286828820597,2.5926958461109564,0.96645293188365178,-5.002294630564478,0.90408444240477548,5.5989220332682947,4.2096459436855316,9.6558054153281319,6.4111977971546414,9.2974630610538043,0.67372920732273678,9.1069603196728934,4.6417619180373562,18.549793483249189,3.2354290959155554,23.203304268012857,1.3400642496558106,98.443453210668153,0.62726512405910229,97.186782927948599,1.3262964662689307]
[204,"MAP4K2 (GCK)","MAP4K2","GCK","GCK","GCK","STE","18_04",60.05,18.645306089050464,2.6628636889662967,4.0082876672540095,2.7903104002478556,19.323880439992081,1.4068289945877723,8.5839319946555861,2.4417636465735888,7.9178204209669758,2.3352632496175714,6.6655589709506984,0.10523109301874727,6.1947882916562946,4.5997064606352698,-25.130813953488385,3.2681127012522313,-29.172629695885519,4.7596153846153806,5.242169975907629,1.4483121486527635,-29.822227191413276,3.572227191413234,9.9387998116917373,2.6612389576583171,-15.730098389982118,6.3215563506261203,11.968652211237568,2.9575475616848075,12.334191797513242,6.6129434244413074,0.36784436493739747,1.4233005366726286,-5.1934257602862459,1.8604651162790733,98.820304062474037,0.34615491124588071,100,0.94253130590339884]
[205,"MAP4K3 (GLK, KHS2)","MAP4K3","KHS2","KHS2","GLK/KHS2","STE","18_05",42.4,14.896614384963428,3.0533860739163474,8.8355721571725923,2.7727893111127124,6.4963610833233929,0.40977964592835914,4.7956324976653946,2.1262840313195874,7.3414266216507542,3.5126786868759483,2.657910730962513,4.1313983308379933,2.5719325812715823,1.4304985250300208,7.4467405878221768,0.17877285206547017,0.41713665481940154,0.99814842403218373,4.8488711661898236,2.6504988215063996,7.8894162215080712,4.0479281503394677,6.9998072903541555,6.4201959708860166,24.849426437099638,16.928086492008429,7.0072191998102511,2.1405594509257484,9.2737811114899529,4.3834032523458726,21.66769531998213,4.5416817417583575,11.484027496967229,2.7837486964479456,96.867727063846189,0.61222372107502454,99.661608530018938,0.15536212143784445]
[206,"MAP4K4 (HGK, ZC1)","MAP4K4","ZC1/HGK","HGK","HGK","STE","18_06",20.34,18.935413726590369,3.5352705248024447,16.215303923350561,3.4494845896191006,12.410380807181994,0.55155358826274858,14.256225170721549,1.4709318931270057,21.644639472385947,0.69976371614780231,8.5217391304347956,4.6424134871339788,7.3433895297249308,3.5456965394853581,4.8694582657796133,2.3927992396712692,-4.9589087046458502,2.8120981718566584,1.8952972493345186,2.8003549245785271,-2.1356292279308917,4.3159836752949055,15.946761313220932,5.0967169476486269,3.9190473528260696,4.6178789064683885,15.119787045252878,8.4862466725820767,14.285714285714278,3.8118899733806577,15.301615698551998,3.0413149214513204,6.2503494157768102,0.51993067590987774,53.09671694764863,1.7036379769299008,98.792419075306086,0.43048023704366334]
[207,"MAP4K5 (KHS1)","MAP4K5","KHS1","KHS1","KHS1","STE","18_07",47.34,21.25219316321845,2.9591512311152401,12.104914167833201,3.5364326235909518,18.399020288967677,0.93025446581021187,15.589773815663449,3.2122596330951123,16.66298288268375,1.1812667305189217,2.8370844517861116,8.6723105513116724E-2,4.9514763576295877,2.8040470782572773,3.0315654542541211,5.1273834321426806E-2,-0.74347059766061818,2.9386316295465473,3.7456122238282319,0.13627916580631708,5.9061047908989082,1.5702611760935747,7.689448688829259,4.0966343175717439,8.0371735298830487,5.5664156385194676,10.353086929589111,5.1744786289489966,11.885195126987426,2.1722073095188925,14.555359717993923,2.3297548469796552,6.3355231533408158,6.7873738182983496,94.206070617385919,1.0571959529217454,100,0.37814452812049343]
[208,"MAPK1 (ERK2)","MAPK1","Erk2","Erk2","ERK2","CMGC","13_01",41.99,-1.0181073705324195,1.6303333879405766,2.1943790668697574,0.80299044718262613,2.6144008812563015,0.99471744135691287,6.770040149522373,2.1459227467811037,-1.1594905164059099,6.070884673958183,-1.1918707255065328,2.6118849461100582,-4.8703009345698831,5.032968269639011,4.200046667185191,8.6395404393382123,2.1811353459482916,0.4227824753608394,0.4486140026906611,0.37904558266109561,0.24000266669628445,1.9200213335703664,-0.52790154022434876,0.59030850525087797,5.1228346981633166,9.2223246924962476E-2,6.6499225028167075E-3,2.7602293711730881,3.427267751456597,2.5397588635794008,7.035633729263651,0.25055833953710893,3.0650340559339355,1.6083512039022685,4.641134374472486,1.7402335657395982,16.980188668762977,3.1794797719974692]
[209,"MAPK10 (JNK3)","MAPK10","JNK3","JNK3","JNK3","CMGC","13_06",13.11,11.147977758654932,2.866220957172176,8.460665658093788,3.2602118003025726,10.150509697491216,1.2142549811345735,-1.3313161875945525,2.1860816944024171,10.109682299546151,0.29878971255672909,2.6940944331370531,1.6515700013983288,6.4478038624675662,0.47232105402172819,-7.6413178382037898,1.3116326300349765,-6.4848245515062644,2.8009703260746939,1.9498780355173153,3.8997560710346026,-12.3660160216631,4.0477265034412779,3.8842191942575681,0.98348429998600995,1.9519350107187137,0.42028658467787366,8.5918928576977436,2.2435250066031576,8.4893494709693442,0.49407268150956768,2.9673925307457836,1.3370190680356577,-5.0462597314678987,3.1789461807514368,5.1116324596429479,1.5816540559016927,2.9222610854112645,2.1183572153898251]
[210,"MAPK11 (p38b)","MAPK11","p38b","p38b","P38B","CMGC","13_07",103.3,-9.3684961729160818,1.8777665315565537,1.9742656420857259,"NA",-5.6751386472506056,1.032263180234418,0.75645231354573639,2.9029793735676099,-0.5062987761949671,3.8990997468506121,-0.61202459664204412,0.60431405054262077,2.0095610771633119,1.0640553617210051,-11.409095068167261,1.9461981883063357,-5.1194070820752273,0.4053435812974544,4.767045125971066,5.5342444628640788,1.87574343489797,0.80062219782229926,3.8205755922663371,1.3079013821153789,-9.9094153170464097,1.5536645621740368,-0.93779516934283436,1.6336719548161855,-0.80671588565257935,1.9016134317712989,1.7705188031841743,7.4114740598404283E-2,3.6718821484124931,7.5944734193430202E-2,3.9439443298571604,0.2245696551458338,-1.4237350169274521,2.596760911336808]
[211,"MAPK12 (p38γ)","MAPK12","p38g","p38g","P38G","CMGC","13_08",20.57,0.27883797733703375,1.5187770680483281,4.6994535519125691,0.20036429872496439,2.6934562066170002,1.101508889196517,13.315118397085598,7.1038251366120244,13.934426229508205,3.0054644808743243,-1.4331802953219466,0.89961533689044382,2.8601563469413236,2.7112544980766962,1.0455104551045622,1.4712839436086798,15.157536190746541,5.3127069732235803,-5.8071721057202836,1.1105596227819645,3.9880783423218844,3.8083073138423478,7.8731852587169726,2.6616205484551387,6.0317910871416558,1.0833569874160371,7.2775778632585144,0.92443231170119822,10.727137361955585,1.7744136989700929,-0.70489166430125749,4.6409310246948792,-4.5179297946825443,1.0880878039549533,5.8443975679364826,1.9233155478347079,18.57791654839626,2.0579051944365601]
[212,"MAPK13 (p38δ)","MAPK13","p38d","p38d","P38D","CMGC","13_09",23.41,-5.785336039377583,2.3001376350106186,16.757588851679799,13.59241654963806,-6.5038374507196437,0.76282455035342811,4.3129523603759026,3.0679485794533847,10.889056929890884,4.7207518634546837,0.26369206837021864,4.2570143987251754,-2.4130669853736322,2.0488304592794995,-1.9801741975843186,1.2376690245897584,-1.8285934266842219E-2,6.5059429286367294,-0.69622294310700283,0.16125054540625289,-8.3027765747557538,2.5205716760502157,-0.10813271868420316,0.89920892379488615,-24.783696645974644,0.70689572205376972,-3.767571566786188,2.5894940527004717,-1.5612846925805997,0.99026805531841899,5.9188681969118306E-2,0.8243106683990149,0.43260670805067036,1.4941533131225646,0.7095023997875245,3.187069603323653,6.0877724844810501,1.2675039699725841]
[213,"MAPK14 (p38a)","MAPK14","p38a","p38a","P38A","CMGC","13_10",119.2,2.7232819126545138,1.1503074072695112,10.742944106253475,3.2789153292750401,2.6946459303973711,0.36109973626260183,3.43801881571666,2.3104593248478111,6.9590481460985103,5.1950747094632002,5.09204857030943,0.73443008225616735,3.3000391696043607,0.54837446141794621,3.9946215474256377,1.8376379629110899,9.2862345229424506,0.94963303266288634,5.8852330591460742,2.105366235801025,10.275085438960161,1.4958821222477487,5.9733646690167888,1.6647081864473108,15.541486918034622,0.8627934338058123,4.5926361143752388,0.46024285154719413,9.4202898550724399,4.269486878182529,15.575102246624454,1.3530169757409374,-10.182643285338116,16.718023418678886,8.3431257344300462,1.6353309831570524,12.787831251050491,1.4454591293629933]
[214,"MAPK15 (ERK7)","MAPK15","Erk7","Erk7","ERK7","CMGC","13_11",95.67,10.761688439352284,6.6786301404244073,14.996118171045666,1.1482041433416559,5.6324536415391862,2.0178950142432428,9.0793936174559917,6.85244963837697,8.243778858333684,1.5690761247088687,3.4850805141769996,4.6730706761334559,4.7009141955543043,2.0279363311522571,17.127500042123728,3.2098266188141267,19.993597196245943,3.4928979426780584,3.6150169381409825,4.3899948953547705,20.320477177374499,2.3538728537970255,4.3343078565130781,4.5292124924590418,17.825068661645531,3.4086505248614207,5.7821708663975073,2.770430182375049,11.244141259455205,1.164787229105759,21.319651552679929,0.50379955854352376,18.718091290501931,5.2755733036782511,38.795303726391012,3.9909044503225175,75.583413368380263,0.71947294815413954]
[215,"MAPK3 (ERK1)","MAPK3","Erk1","Erk1","ERK1","CAMK","13_02",43.33,7.6093934960946399,1.071371340842477,5.3990706854722816,1.7407514015104784,1.9748466035677836,0.31263407649404135,17.896843346080558,11.128472936113097,7.8909494633825545,1.6982606192688825,3.9159503342884392,9.9029809480719211E-2,5.0067863067410769,2.4103956165485281,0.2404294181235116,0.71010549073694107,3.1050807022775473,0.23297424236776929,-2.4380435329010197,1.106419343487663,1.5189920602377924,0.73247101800425285,4.333685215905092,1.6749610415724141,3.1255824356059065,0.76415551496626888,5.4421153169456602,1.9816015683908956,5.808073191574934,0.74699643090534407,5.844857792522447,2.6130391023968418,8.5659969433779395,2.1582733812949595,4.6197154778062668,0.97220127683104596,6.7432064710925488,1.8414284116748045]
[216,"MAPK6 (ERK3)","MAPK6","Erk3","Erk3","ERK3","CMGC","27_06",139.4]
[217,"MAPK7 (BMK, ERK5)","MAPK7","Erk5","Erk5","ERK5","CMGC","13_03",101.8,-1.7200029778997248,4.7073415863697132,-0.37585673225733274,1.5785982754808821,1.7056452470593229,1.7120264607661675,0.75613530842362309,0.70749502542559994,-1.6007074950254037,0.8932124695998187,-0.47017831092638573,0.6884753838565143,-1.0201190138849512,0.34108917645330639,9.8045154826533576,8.5230317574966783,3.8817307020200786,0.71064097485962063,-8.1819422142459928,8.6573680509639654,-2.1202730725319867,1.0321768913534799,-2.3561390804235884,3.0561590210215877,3.7955217968731745,1.2838136955660657,-5.2517238122225507,1.4986933660779,-1.4409705823703973,1.665564686250429,-0.31920594608449449,1.3443929262098362,6.2839301940865369,0.97532561336470447,11.861507299308371,1.0096239623017744,14.837251566905096,0.53822316456581198]
[218,"MAPK8 (JNK1)","MAPK8","JNK1","JNK1","JNK1","CMGC","13_04",18.95,3.0554277658232678,2.6339689841953016,5.8178563437010666,3.1849034086671142,2.7967648586480749,1.1492171848334185,6.0639964197807217,1.215782800029843,8.2792571044976881,0.91743119266053974,9.604972442761067,2.9815232961856872,7.0580522980552161,0.97118022677057958,4.8846590192866302E-2,1.7537501575696484,0.17490230681960384,0.23793016513299103,6.9852137810474204,1.2139752834636169E-2,-4.7444220345392694,5.5039077272154291,11.263262679971817,0.31563357370043832,2.5258414219084955,3.6556157821757189,8.721198436399817,2.1972952630684399,9.9740209289338821,1.0148833369752635,4.7885415353586325,2.4344510273540898,1.0856548594478852,0.87136014118239846,8.675067375628231,0.20637579818874424,12.895499810916434,2.2957897390646664]
[219,"MAPK9 (JNK2)","MAPK9","JNK2","JNK2","JNK2","CMGC","13_05",19.37,8.773522670856039,2.4870952604411074,1.3206664648981814,0.37458188721665941,6.201585973789264,2.3213229143288534,3.1585939618814791,0.53416241839184864,-2.2643927096066534,1.8473608288738737E-2,6.1846834393143411,2.0528061929776023,2.683162842134351,0.5695327619574263,3.5451751690227411,0.2360172095881983,7.3239090350337932,0.6318377381684096,1.1888305225324842,4.6115565385678741,3.1788567916410528,4.0835894283958254,3.6204036494332286,2.2615427149571468,7.1198524892439963,2.0676090964966218,10.522532485485215,4.6488802875311031,16.083771081006347,1.6864805087088703,5.4578979717271068,1.8512599877074341,7.5058389674246939,5.9004302397049575E-2,11.295272325131307,4.535526679568699,8.2458512599877025,0.15242778119238254]
[220,"MAPKAPK2 (MK2)","MAPKAPK2","MAPKAPK2","MAPKAPK2","MK2","CAMK","14_10",10.130000000000001,-4.575491688772388,2.4125319813527129,11.502768872048975,6.0647041678810867,-10.044106798097616,3.241300287243567,7.3232293791897689,2.7117458466919295,-0.14747886913434627,3.0230253570387724,4.930386105927937,0.95210755466245967,3.1936270991818674,4.6720252619491864,2.9365447513583689,3.6651411249220867,-1.6920808724247252,6.3065245716615594,4.5452370699966593,3.4926558537869039,-7.1568491309139546,6.4066844137694705,3.4735180134921677,9.3296971436772652E-2,-0.17697860006677502,2.8877943857306319,8.1862111860676379,1.2032917085306916,4.0907133629969792,2.3037175254772473,-3.6379591028750866,0.58441347401014565,1.7544222490759722,1.1531677396671445,0.98559877517820382,2.7869479929190049,38.653426264333334,0.85416549715032231]
[221,"MAPKAPK3 (MK3)","MAPKAPK3","MAPKAPK3","MAPKAPK3","MK3","CAMK","14_11",11.78,0.86847686577500838,0.76126098292699096,-4.2200749359100911,3.4953658055610153,-1.8721021733505836,1.6173515927624547,5.146913823703386,1.2817984618418388,3.6334056399132209,2.021297574442912,-4.4978641427255468,3.5074126811290713,-4.100008375910889,3.4362174386464583,-16.161441789808038,2.4800902269484011,6.8429774892970414,4.3836026331538012,-2.5672166848144684,2.7096071697796891,-1.8505731252589612,3.7241633291902643,-4.606750984169139E-2,0.78942960046905575,-2.7620494406860985E-2,1.9771670579570009,0.9757936175559081,1.8468883491079626,-2.5420889521735575,0.61144149426250705,-0.87004557381574443,1.4765455968328698,1.5283340238457157,3.2051282051281849,-3.1870340899572795,5.4275902504397378,3.3973208120425511,0.70547346130827915]
[222,"MAPKAPK5 (MK5)","MAPKAPK5","MAPKAPK5","MAPKAPK5","MK5","CAMK","14_12",10.130000000000001,-6.0228565238585077,1.4136380869847804,-9.5427634698494757,6.9280479048406116,2.9843470725234482,0.30872555922655825,-9.7224066221397294,2.1719751263327591,-1.4485253275168475,3.9518783954046017,1.5400588337082723,2.5255445494409861,-2.7669568960787387,4.9696335343696099,-2.6691360714675199,3.7388656301391863,1.8598353384277857,1.2201764898137106,4.0546300946657112,2.0465183021790385,2.3116949143749252,1.7700859622637577,-4.3403576447946364,3.4160691148354578,0.80981951556086074,2.0714986070689245,-5.7449385706869407,0.77530503631736114,-5.3731129109179818,0.4802923959331345,-9.0325224762527228,"NA",-0.60023137700441964,2.9835182793021415,-6.6257559962690635,0.46552066143606297,7.5700745490482859,2.2624105748629115]
[223,"MARK1","MARK1","MARK1","MARK1","MARK1","CAMK","15_07",12.69,4.0686342822037318,0.22758364852213611,1.2741861055764332,0.86281215234428732,1.1436102872912528,1.6034882420021916,7.3872030506061463,3.3260478410021852,4.4721714463550484,5.8379329710857846,8.582022065472998,2.9209621993126991,0.47929101103274263,1.2238500030144139,5.0542843548596323,0.89428608503827822,4.4303386824689568,2.3952160560577895,2.0437692168566173,2.9209621993127142,4.2692157965310003,1.5863575414161553,0.20799421233496673,1.0007837463073412,7.1121155759332311,2.4060296725636916,-6.1011635618255156,1.1394465545306425,5.1154518598902996,13.962741906312125,3.6885245901639223,1.7442363424023604,-2.3162766555646925,1.3982006142134278,96.494242479049859,3.0957979140290584,96.784030451144076,0.72451230589558391]
[224,"MARK2","MARK2","MARK2","MARK2","MARK2","CAMK","15_08",10.85,-0.10951891617693832,0.60776821233442502,-9.5714715453709687E-3,3.0861158968468785,-0.63770968112335424,2.4464796245398053,-0.71922771898159965,0.90655509065550643,7.2647469029452623,1.6421910465720433,5.288315127441237,2.5064548162860327,7.5749751737834998,6.7924528301886795,3.749393372157499,2.182127010537986,-25.939839850249598,0.82544717138101509,2.8056934789804586,1.7901357166501277,-3.6878639767055006,1.4442075707154611,5.8444223766964569,4.90168818272093,-7.7561702717687808E-2,1.0360336938435968,4.5839126117179774,1.7093677590202156,7.3525322740814545,1.816617014233689,-3.1639975041597381,3.4907099278979463,3.5344737936771935,3.5279742096505911,98.71565706719629,3.0294604435617347,100,2.9772427897947873]
[225,"MARK3","MARK3","MARK3","MARK3","MARK3","CAMK","15_09",12.02,10.488851596437399,5.2945957993549575,3.9066463723997913,4.5101337819434546,2.7652935469491524,0.89047381807693538,-2.8394171628970639,6.2387068635566543,0.50290617461973852,2.7156933429464098,0.69762806458039961,4.365158461231804,-1.6344428941598892,7.0958740283037489,86.652351205969111,2.3542425819885517,2.3963213604025668,1.4775290647232309,6.4779748853896706,0.25114610324893855,-2.2770258545896098,2.0770432066632027,0.41857683874825113,5.8560892963922671,5.1431546069755427,1.3951067152524605,-5.9876420171417521,0.22722742674902544,-6.0434522623082216,1.2955949770779294,7.3368905084157774,2.246659725837223,-1.5976921742148278,0.52186361270172588,100,4.0502292206497925,98.576262363352427,1.1643241367343398]
[226,"MARK4","MARK4","MARK4","MARK4","MARK4","CAMK","15_10",14.79,0.86425554825919448,"NA",2.7526558863606283,0.8398750738583588,-1.0360485128393719,1.3214364630567235,3.8798249104655724,3.3468388621591925,3.6549337384991958,0.31955045882622996,7.6101358065584606,7.0180523352103323,0.80531632991058189,2.796869824445182,-4.3538415115659461,2.404355446555253,-4.0800210581732159,3.683575266918762,6.7758363696588333,0.67075190460417389,-2.2814090999556953,0.37429618834225331,5.5047201059953608,0.80117588605498513,-0.23112629125766659,8.5478206716786911,8.560367671414383,1.059953627028815,16.300927459423647,1.5133322292149698,4.6729241969966466,2.6752868213072718,-1.7848085824896174,2.7211910708209439,100,0.22979463398476335,99.673855122336434,5.1682406795112754E-2]
[227,"MAST3","MAST3","MAST3","MAST3","MAST3","AGC","32_02",98.52,-4.7875430052276471,0.10946785219607177,0.89261362227564689,4.1779276487069499,-9.0612573164737853,1.894464054331799,5.8119064739282322,1.5571148744142242,11.690758969527138,2.4373310852693941,3.0206879045563966,0.92651351694378081,2.0275415661885603,7.6913313872318927,9.8482951985179881,0.47063535773293563,-1.4519601461973792,0.74100035047314572,-7.4406650590176753,6.7552988957989637,-5.5725229059230088,0.13017573724527701,3.7124000507678545,1.8688919913694659,4.7063535773293665,5.2270565263105082,5.6542708465540983,2.0878284046198776,9.4206117527604931,0.77738291661379921,-0.48565563510740617,0.89120312421769898,-2.668602613528293,0.36549341611175373,17.219824850869387,1.2247747176037529,2.4783457667851536,3.855204526110255]
[228,"MASTL","MASTL","MASTL","MASTL","MASTL","AGC","23_12",17.25,-0.1930159751982643,0.14103758863784532,-5.2626696045459767,1.3881479763423403,0.38048613927817598,0.89602909049785617,-13.227415052765863,"NA",3.694769801693127,2.9270555491128567,-13.196894348337395,0.28052875419730033,-14.995537042546871,4.2504356696711001E-3,1.9847517092479308,2.4199352284994582,6.5710462396545495,2.6566435768261987,-20.266785678865475,"NA",5.3650143936667831,3.2548803526448489,-12.412688967285845,3.0071832362817337,-5.5747346167686374,4.7943279956818978,-19.048327453564056,2.1627633499100467,-10.708264263753719,0.35491137841628501,4.7993882691615539,0.81920205109751265,3.1345582943504837,0.70675152932709839,-2.186140746093173,1.3303863646023646,45.46262144656351,1.9684463835912178]
[229,"MATK (CTK)","MATK","MATK","CTK","CTK","TK","26_02",351.2,9.1803986916003169,1.2614947849163785,2.7167842536967299,0.53528291622938096,3.0253656730235008,0.51348515706967501,3.9211264204116389,0.61685096428468722,-0.67089423560146599,1.8272308239616033,-8.9985328789252748,1.394621317212096,-10.793900886552066,0.15013729284763777,-16.036355233767267,0.100130940460658,24.455056612493237,16.845105137487465,-14.440296164363147,0.65877732298928504,-30.801817761688369,40.845721327890317,-8.2409960439107834,2.0105838228494028,82.908418701378736,3.1117615343140992,-4.4427508805579947,0.58113978752435214,1.2105176025986566,0.46725237336805603,-29.877532157436661,21.435723638604376,31.587460525302305,39.112685819918354,17.270355591329789,0.8739931382119388,86.636370638527296,51.112993915119773]
[230,"MELK","MELK","MELK","MELK","MELK","CAMK","21_05",24.77,3.4193024514732002,3.0867682313819542,-16.093150472562584,"NA",2.1436857164952272,2.8365942309179482,-4.8812087857328805,1.5669034554927452,-7.6922225113641929,0.71922529635514898,6.4928778868759451,3.5748859078965585,4.7918683446272894,5.4072742359286403,-3.5106348598100396,1.930295153717237,-1.4903115896195231,0.41412933577716143,5.3173834877610346,1.4659106624256688,-13.303385518862029,8.9081667043707586,2.4270502005255139,1.0994329968192451,-2.9529222203241972,0.18559642472957255,6.6380860185313111,3.1254321670584986,9.8810676255013163,4.4807080625086435,-6.5374263039071963,2.3661235739777244,-1.0951112424341574,0.33194982432975384,79.40810399668095,1.8393030009680567,97.277457421317735,1.2493132470602348]
[231,"MERTK (MER)","MERTK","MER","MER","MERTK","TK","05_06",12.53,5.64110140262963,0.36819300858498732,11.191175086220952,2.1762757699976785,8.4977136489813176,1.6482370274747355,7.1971998528040473,0.90285919675484605,5.1424463633174184,1.2939555502306332,4.7848026792179468,4.4089427950760349,-1.2850742215785687,1.6272175959449737,-6.920783974547092,1.4147373623488195,-2.210141010394338,11.802863453132961,3.3517378711079004,0.86531498913832183,-3.4518973852070616,4.0480640029653783,5.3930575669804313,0.93523714699493088,3.2511158818168724,0.42164115711925043,11.111513396089805,12.581010137581462,4.4686821144098445,1.4111151339608841,5.7855962438413968,1.1907887624137032,0.62396713361235356,0.73516919702844585,90.329018826937002,0.42066437364228859,96.191329327999753,1.539839683691909]
[232,"MET (c-MET, HGFR)","MET","MET","MET","MET","TK","05_07",32.64,7.3367078893775215,2.5154216227384096,4.7796684920430437,0.49677190145416522,6.2151353265842175,0.6301466898851894,10.053352444656781,0.37303833290455496,5.1174856358802714,3.3251865191664467,4.4671233844198071,0.69390493678931942,0.70626456670669313,2.0022600466134617,1.0303406237512149,3.0415178065524264,3.4989830791528078,4.2826980311696685,4.7302069355180407,0.74334345645878674,0.15835336359243968,0.41183803224324267,-1.054099865809718,4.905007415777944,0.94505048818164994,0.5117408134173953,8.0990889187089294,"NA",5.6907267462391218,2.701461967653088,-2.4301724292181461,14.452204720182646,-2.6192421703059097,0.74106988423206488,6.6636061868776011,1.2465569602373081,35.64292658487561,1.4314428347345483E-2]
[233,"MINK1 (MAP4K6, MINK, ZC3)","MINK1","ZC3/MINK","MINK","MINK","STE","18_08",14.86,17.026028909730059,1.3173090346079159,20.005741818773004,1.8131695185519503,0.49621178471261373,2.767871873294677,23.921593043406091,0.75819679219112546,21.113636127800461,2.4240160217497264,7.387758184495695,2.0022278442774621,3.3804704905033276,0.95816183967072954,1.7335718419529371,1.6362392802651777,-8.0983321934024559,0.27752933129901575,8.360080051353691,2.0616999584639175,-5.1901930867575032,0.92071342137106793,10.67477249556319,2.0711399765887464,2.4451517861840415,2.2018203819645406,9.7892987954536892,3.3342144016916424,9.8364988860778482,2.6658611184533529,14.293418214342097,1.0311990319356139,6.8579996843268276,3.155416425527434,86.986935014915233,0.20956840237133267,98.926711211658869,0.50639238175409063]
[234,"MLK4 (MAP3K21)","MLK4","MLK4","MLK4","MLK4","STE","18_12",136.4,7.8692432357793365,2.7471129877397349,8.1916364587615504,3.512836802571099,12.353287451216943,1.8212341659459717,8.9016779401323021,3.0961545648193125,8.8568332149930882,1.853581972420502,2.2962911418829464,2.943427736413609,4.662166863822975,2.5120033400598425,6.8663234048099895,1.8901127550022865,2.3821938343218534,0.38454018119012379,8.8024493772179966,3.7645257810869053,5.5432444763084163,6.7327119859219202,9.2895414376174301,8.51715259898406,7.5800039105781281,1.1014795020530515,-1.0368102428501942,8.3849418968756453,1.3638577691183684,2.7277155382367262,12.536661669816851,0.82448021899238033,6.4361598122922601,4.8034934497816604,70.42655347574977,9.0459954074176452E-2,100,1.7565013361141886]
[235,"MNK1","MNK1","MNK1","MNK1","MNK1","CAMK","27_04",17.670000000000002,-3.8554528173043394,2.1685768599007211,9.4166041164618974,3.7831351479476987,-8.8016536552055271,0.77330528025396639,6.2018528029075952,3.2503061667917699,6.3677754513491038,2.3421759570181204,8.9842948464998784,0.29989740351984318,10.289637755504685,0.91231946965512045,5.9084595817286925,1.4350441385313555,4.1791585675221796,3.4277371351483508,-4.7731039381264395,5.4044668929050594,-2.0933506962807513,1.9458754618896672,-3.5687791018862072,5.3681635230052853,3.2754067490077432,3.7218206125467397,6.3609817693946837,2.918475258464214,5.6506984452687163,2.912161628916428,3.4279972325635129,0.44398628766425852,5.9782523881277996,1.5890218083012675,2.8143003709257357,2.7495856680609272,7.6165193070311545,2.6411158525906639]
[236,"MNK2","MNK2","MNK2","MNK2","MNK2","CAMK","27_05",21.17,0.87683023953928796,2.3218771059241536,-4.6852506216463752,5.7322340007852377,-9.8327513324756524,0.80867487594191956,-2.0547048815599993,3.9719931946080167,-16.01230205470489,1.8518518518518434,1.4556143445032319,2.7912992357436819,2.7513227513227747,2.1869488536155117,-0.90936521313898311,2.0283838478425782,-6.1829551248036267,0.72260199144741022,-2.5044091710758352,1.669606114050566,-1.6980366451290649,0.94109935387209132,-5.6837154614932359,4.1716637272192898,-4.4833577842286445,0.98115720364995251,9.3497942386831454,3.84950029394474,-1.2204585537919002,2.0952380952381029,-1.4415623601877172,0.34699462080303511,1.8504645670110449,1.2532384430502201,-2.3374485596707473,4.2915931804820762,5.5498330055872742,2.9179802520002873]
[237,"MST1R (RON)","MST1R","RON","RON","MST1R","TK","05_08",25.96,-0.24476438912842013,0.66589325590283799,11.715550115342992,0.86860317310860602,-13.290706329674151,2.1545972116977326,24.464479073489954,6.9111623746527888,11.117649828162527,0.70618144155172402,8.5994685066903145,6.1867686139214024,10.790712853746101,6.8721152501282159,-0.66675313037939077,6.2159549131039764,-0.69033414294808892,3.8790765675478247,8.0003729777612307,3.4710242901766932,2.7118164453995064E-2,8.2215200320701562,25.775094409995816,4.4827264674343805,10.639752870988275,6.4016553870823207,9.7417129003683414,3.1493309711408473,7.9304396475360335,2.771690987924841,-6.4906737095290907,11.103709293277149,-3.6344235621477452,0.52349847902469104,10.61821063919065,4.8440486735978396,47.440281085669817,0.19218525243473095]
[238,"mTOR (FRAP)","mTOR","Mtor","FRAP","mTOR","Atypical","27_03",179.2,-8.6148206336737303,1.4121123704784382,12.463126843657832,2.6696165191740442,-9.0524819511465182,0.78180525941719192,14.557522123893804,11.342182890855453,8.3775811209439439,3.4808259587020598,1.9218708001075413,3.6018277932084968,1.9935489651465161,1.8322730938088072,-0.7997982490903297,1.2681485751342043,7.3206758655474147,0.92589256764059658,-5.2549054744198429,4.7352387778872895,2.1039737723817353,1.5491587707605292,-0.76158050353907925,1.6261983693217468,3.058687898548115,1.8734013041755111,6.8990233850013567,1.5276408923931546,1.5679598602275746,2.9029656840784961,12.123068054905062,0.58003386533127554,5.5913823540007854,2.5435025398998357,-6.4913538213421589,1.357405250425588,5.1554562812983988,5.8255575170227347]
[239,"MUSK","MUSK","MUSK","MUSK","MUSK","TK","05_09",54.66,13.781263979030484,2.1595394865919002,10.699564011097905,2.4534284581847028,15.857615971998783,0.8805317721290512,5.6150085876601707,1.6633637204386402,5.0475624256837222,3.6411679217862538,4.7183867223367741,3.424230349439545,8.3444500268533233,2.7485663796538522,-4.735001780684442,1.4833640906098697,-3.7599421547360947,10.030109754913065,7.1317198246738656,4.2462881793454681,-9.2897767129644535,1.636071270545316,6.8640529443356968,1.0065660678089405,-9.69609652388813,6.1978610202782267,4.0297292146705672,1.7983056426603774,23.19606382425809,2.991112420089741,-8.7901058697833747,2.4028447782778088,3.8478971735681853,8.0589460506577648,98.264929575024695,1.0931896536789041,100,2.7994517650359878]
[240,"MYLK (smMLCK)","MYLK","smMLCK","smMLCK","MLCK","CAMK","30_05",13.11,18.375021864614325,3.4108798320797629,-1.9986874583709096,2.458321905732098,14.526849746370473,1.4080811614483024,-8.3495768522509479,1.7569936919640958,-2.9911746268072079,2.7619695960506414,8.7779307893918457,3.2117631380214187,-3.3894540446892591,8.8889876060592634,10.132435248894069,1.4154491687427984,4.4878917329763084,2.5431156444745007,-5.175247656701174,7.569632624050465,4.4899621120627415,5.1234981125044019,-5.1663631113677724,4.3178890320287868,2.1531942498671555,1.6487118791450737,7.2853271733819014,1.0439340766736329,6.5479099107103309,2.5942872373506258,4.6976901470659271,0.31262724204802045,8.5837916922588704,0.96755715971594547,48.220869796988147,1.5059304340100412,99.551417864611011,0.84195416180702665]
[241,"MYLK2 (skMLCK)","MYLK2","skMLCK","skMLCK","MYLK2","CAMK","30_06",34.479999999999997,7.4496176536992778,5.6070913213770535,-3.6500348570859558,3.9986057165621016,1.8474345004957371,1.7129506925425297,-6.8270092620256833,7.5341101483915969,4.0235036350960911,8.510108554924809,8.1915220134365541,1.6198888244722562,6.9092521229069348,0.77072605122258608,-5.3808665464984244,2.5035049068696149,-6.6559850457306879,2.897389678883775,10.998192545101119,4.1605565596971674,-3.2111622938780897,6.16196007744173,10.036490127203905,3.9491184394502659,-5.2807263502236168,0.74771346551838025,-2.8339528697609353,1.6915049619752474,13.532039695801927,5.8281894758380766,-4.3527605314106381,1.7290873890112961,-3.5583149742973603,3.711863275252024,19.622821675817619,3.7410906114654003,60.364510314440224,1.5087789572067509]
[242,"MYLK3 (caMLCK)","MYLK3","caMLCK","caMLCK","MYLK3","CAMK","30_07",22.51,0.54363082129765417,0.84806408122438448,-7.1548741819231623,1.071223991809084,1.4589074404279501,3.0300993559457354,-8.288792967358134,2.6363386240522533,-6.5739324971020778,0.81999377562480802,2.8398980426104856,0.29577261578416214,2.0944548646179015,2.875967873803682,-6.3709908815495737,2.4594104122498184E-2,-1.9749810886245029,2.6502010381693042,10.202952916846996,1.0315971721252315,-9.1825441482801011,0.59659334394111252,-7.9906699369980316,2.7100466503150082,1.292681018195907,1.9198306733195083,-0.92338767854566584,1.2456115038714952,1.0436204491896319,0.33424710239022559,2.2313559922044135,5.7386242952489459E-2,-6.2290158259333879,4.0978994399251611,10.008175828403793,3.7777136536334321,20.188405743095956,1.6049516129633301]
[243,"MYLK4 (SgK085)","MYLK4","SgK085","SgK085","MYLK4","CAMK","30_08",37.76,-2.1874790310675962,0.21975441186336697,-2.245279401897804,0.61224000766797682,3.8331208481513812,0.12509465975209785,-5.1543180293300139,0.10783092111569645,0.98964823157290027,4.1562829483370072,-1.5634298079524029,7.9199350824993173,11.712199080335395,0.35704625371923687,-3.4309184473721075,1.1954919372447521,2.5334919915089529,2.5172127324478013,2.7914525290776027,3.4676764944549641,-6.7265640039741896,5.6970946690594628,13.751690559913442,3.6894779550987216,-4.4269248608833891,2.2367185148147755,2.0178523126859602,1.3416283473086261,0.22721125236677153,2.807681904246687,-3.4900922620547163,1.0838627322540013,-1.5678476881514314,0.36822133590699263,9.699756559372446,7.3843657019204745,11.391217727337931,1.1944583334948442]
[244,"MYO3A","MYO3A","MYO3A","MYO3A","MYO3A","STE","22_02",34.729999999999997,-2.6657177957038272,0.42858221980144778,16.660199198033894,1.0347949812443402,-5.3143400112114989,2.6315266353115181,16.220411331005053,5.0058207217695028,8.4465140344069169,2.4058983313930882,3.2761645601346316,5.2497404131905805,2.6381180851444697,1.9370546743528381,-3.4861245340328679,0.65407980118735276,-4.0556399282065598,2.9511252243545569,-7.9566042464821578,4.5071431128934192,-15.426101063095416,0.93193428137513545,5.0929141752300495,0.35876687314260103,-2.8096092779235278,0.81285378986607293,6.8265960113144217,2.4433384653943855,2.5607791184790187,0.70822442622363802,-1.0234019052878693,2.1236020985779334,2.0856344056330158,0.32962860693081786,20.252067743205984,0.58147445307745815,68.138202402319479,0.17171752036449014]
[245,"MYO3B","MYO3B","MYO3B","MYO3B","MYO3B","STE","22_03",22.56,6.2119815668202847,4.63091746962714,13.420388635842329,2.5412065406167041,-1.0314201927105273,1.4160033514872259,14.024969689025809,1.1288789854834955,14.503391552249568,3.6176557328701988,25.073226595018397,0.91836060519303298,1.5790516880657179,2.8013301913801851,28.983983792668482,1.0626505103015893,5.6725660334085291,2.2992240357784506,-6.798511242759929,0.36338009557997886,-6.0471694507090632,4.2429570735063784,2.0701653930010764,1.8565419428722374,5.8369328389587878,0.96708841405143309,7.2103420177505768,1.0835333759112078,3.5258880789305493,1.361023630717735,2.188372004128297,1.1066090745766599,-4.8679331829822843,2.7521883720041393,24.42134472658401,0.19160041403307512,72.55647719888384,1.6742479263025141]
[246,"NEK1","NEK1","NEK1","NEK1","NEK1","Other","14_01",51.26,6.8642597712365472,0.50550224968829205,10.113664866862933,1.3953979590489707,2.4448419797257088,6.2137474928172596,11.794215105149902,4.4845476507940685,9.1974811548667219,3.9366856328136324,5.620440773476389,1.6156547917711994,2.1204986684163742,4.1012775483422619,7.6491651926312727,1.0526769921049228,9.1030674317270126,8.4300444367746667,8.137712763904446,2.6245706125281293E-2,4.8103887139220944,5.9320937055092955,7.5124474120961793,4.7442973484117417,20.022434099831756,1.3503602398722967,8.1307653711065768,3.1494847350341519,10.6264232506079,3.2012042147516304,12.873721903447091,2.7266059795504511,4.3875922170930721,2.2218387333362086,18.910031263267598,2.7226060442317279,44.272833167953749,2.2045817334656368]
[247,"NEK10","NEK10","NEK10","NEK10","NEK10","Other","27_09",549.1,-3.6341269158717893,0.35335424791633002,9.727372957802956,1.9394607597474152,-2.8159903079977937,0.2544524504836681,-4.4301894357021041,2.8816277438107596,-12.413551167685696,7.0361832214092326,-12.125411956197695,0.35588717973511652,-19.832719595819626,0.12999954339003944,-2.7944690508803376,0.68486987472380256,-3.1683980043791706,2.6225017246723206,-15.617941011364238,0.76952209052158549,0.25295193913157732,3.0674171907337677,-20.332841806134184,9.4813716563399306E-2,-6.7197232525820141,1.8456493266279412,-7.2993132048916323,0.91510009159058736,-10.896325364146463,0.23689999435952103,-0.39892420440116894,1.8326517961587456,-3.8362711084893988,0.51490216858797466,3.7495736068695606,3.0587495870365662,15.381077595256912,3.3223687499375125]
[248,"NEK11","NEK11","NEK11","NEK11","NEK11","Other","14_09",359.2,-5.9291022474824473,3.1885381778815218,null,null,-8.2208464427078241,2.9308614409598817,null,null,null,null,4.2586917468033363,3.2829617105216777,4.3537990066575105,2.0583089694365131,-1.9644617567145275,2.988771069273124,9.7429608790786233,0.85118661184447697,6.2477250578275658,9.1831343125858638,7.6847243261439502,9.8872297963404847,7.8739417849636482,2.9612408562001695,-0.35105436533699219,6.1987544783476203,10.670799722897371,0.31232754470628626,8.8649359493700359,5.8027170148062144,-18.471230373416049,12.500901680732962,2.1880785784702823,1.9211810815359789,15.327532964645926,7.9373466248664428,25.749597249272654,8.4156868402695761E-2]
[249,"NEK2","NEK2","NEK2","NEK2","NEK2","Other","14_02",102.1,5.218737014057055,2.7669909868600282,8.2624488482229026,0.40001839165018482,6.0670325418774382,0.10890280424720968,5.9198124051680594,1.1747666559381993,11.526966757092282,3.8599475837969486,9.445110844551067,3.2535134094510303,3.080249381728791,4.1583366653338709,1.9355787488592142,2.6747751917196214,-6.7453297404378105,2.2625726112362949,1.6363824840434091,0.67380455225317382,-3.54935401410917,2.3404282927546798,6.8772491003598475,3.0491507100863391,0.68902278143745832,2.1241625107592292,13.270247456572918,3.0861729382321172,14.715595243384129,1.6896944925733428,5.9382258420308318,1.8330687681933455,4.4278256205746374,2.3049607045074127,6.0716454159077244,0.11847113006649204,18.91590288801325,5.1449629536715396]
[250,"NEK3","NEK3","NEK3","NEK3","NEK3","Other","14_03",66.92,6.5713289152424323,2.0392977560748737,6.8690284941236115,0.70685719117273782,-0.89524473898383405,0.96035344727358252,0.85566923141962548,4.0365265916969744,-8.6666102984696352,3.1504185338631778,-1.4449274474988982,0.41327374028041952,0.18979979183252738,8.7246678503631755E-2,7.4782005632754505,3.3754239366695806,8.5590804908785003,5.8069808943055072,-5.147554031714904,3.5388477315863573,-7.3073572570345959,1.5071424342633861,7.8858752219433228,1.0194085593583575,10.517012441114034,1.8471375288615348,10.079287332394557,0.68113634972142756,5.152145962162507,3.5403783750688769,2.292006732241191,0.35183571978314265,2.8197603119158998,0.99884131024975265,-1.871976979121996,2.2959652237789455E-2,0.55143483004474092,0.98784644400652566]
[251,"NEK4","NEK4","NEK4","NEK4","NEK4","Other","14_04",87.94,6.5800488899306799,3.1878913705923733,5.9176410777834292,1.6420945602440153,5.1055375101854281,1.0559332060855617,9.0137264870361236,2.2674123029995066,16.883579054397586,1.2760549059481348,3.1746031746031917,1.0019293168464496,-2.137595369639584,1.4557572568622366,5.9794940751323793,0.56307252710312194,6.2624310166120409,5.7665910300585388,-4.5229325616066092,1.563185126721043,-4.4583578451970709,0.29974507661708211,-0.99973691133911302,3.4354994299745636,5.5971090007563475,6.088746953525499,10.587126194861,1.201438218012806,1.7758484609313427,1.5368762606331634,6.6490181247723967,0.45101829285374717,3.5493178698490198,1.6850155475250033,4.237919845654659,0.68622292379197936,19.418998795416982,0.51965151133148357]
[252,"NEK5","NEK5","NEK5","NEK5","NEK5","Other","14_05",111.5,12.058654521463367,2.9561368037967997,3.1062124248497014,8.1271918837675337,12.007576563730382,2.2708408708791805,-5.0914328657314627,9.1589428857715394,10.015343186372746,10.315944388777513,16.139487567721019,0.71920319856159209,11.63263857673472,0.81146939837704812,15.96102547521194,5.0222915876460403,19.758989696747406,0.5024156992469947,11.717807376564394,3.7852799924296035E-2,13.077109617405526,1.7572113441485171,9.2952281814095414,0.44003879911992438,24.932379075132317,1.0601717416041252,13.81627197236746,1.4880881970238145,8.2329839835340408,5.1101279897797562,5.4569309116234024,3.9428439961945809,20.859578542870167,2.478501209404139,23.986846152026303,5.0438855899122306,39.896034771145956,8.6430423509073512E-2]
[253,"NEK6","NEK6","NEK6","NEK6","NEK6","Other","14_06",78.790000000000006,7.6984560371326154,0.1477465892776966,15.20385362101176,3.7321269399367503,6.7864346171800065,0.16315979531263211,7.3397071931816811,6.0154828626201189,12.700098904721798,6.1662820371933075E-2,4.3097074046688419,0.54927643392837555,6.7788106052603894,0.41195732544629748,-0.82736296447205859,0.77982637827803114,-6.5464670130046585,7.2232974545289848,6.8342663990704438,1.0879898595119917,-2.3700383688159974,2.2013966701753152,-0.53079116932504178,0.48325763177353692,2.3779611331816568,3.5607166706280493,8.7012781240097183,0.26671596070561032,8.0094010774268298,1.2094644554769254,-2.0712369698821789,0.16977352212148933,4.2081197016513272,1.0537276606340469,8.3315728319425375,0.72356607161719599,3.5550575532240174,0.86810860978122539]
[254,"NEK7","NEK7","NEK7","NEK7","NEK7","Other","14_07",107.7,1.9620857389644186,2.2766740919216231,4.3959318520437876,0.28762065168102746,1.1092421693867323,3.446833659135339,3.4410831120036391,0.85249724687438744,3.5162272462265918,5.0527952322346553E-2,14.026257070209141,0.26464635981526907,16.247210834933313,1.7176067666441832,-0.9777272056809494,1.3380533957055909,0.21703858229554385,3.4641886339212355,21.633542628820507,2.9370556795184446,10.034346882440914,3.0954337610889873,20.766955529033268,1.5671215816511879,-0.34136165370757965,5.3922498261584257,19.29842768927405,2.0704685797312008,18.431840589486811,4.3536920761766362,1.1926586172745743,0.51414965126325773,1.4223402237815037,0.79861769601954902,13.517720927819013,2.1742514659332688,1.7320943169605982,0.17700233895947698]
[255,"NEK8","NEK8","NEK8","NEK8","NEK8","Other","26_01",646.9]
[256,"NEK9","NEK9","NEK9","NEK9","NEK9","Other","14_08",66.64,-6.2837048979818917,0.66436871073553705,-10.561807592941292,5.1057494416954867,-9.228887529882698,1.3398565630733337,-1.9004247493103463,0.97648552787144627,-12.243289398782665,4.3744800105092629,-0.94174798653430969,4.3550517748327344,0.5198789789917555,1.1164614139003672,7.98799608861313,10.31796877634287,2.7716896516842553,1.3588697440739217,-0.42613031064898621,4.0013636169940723,2.4783356374548902,5.1859594699396281,-12.315165977755996,0.68180849703839519,-8.1431028087803554,"NA",-1.1377679294328118,0.42186900754250722,-6.4729194187582664,1.8834959730685659,0.99470614020300729,2.0130154769531892,0.11127221229391182,"NA",-4.1292027101887925,2.4545105893382191,10.769801395960485,8.4769194456620571]
[257,"NIM1 (NIM1K)","NIM1","NIM1","NIM1","NIM1","CAMK","15_12",20.11,3.8004846730985804,0.4937796912865054,16.917235605551426,3.6435671583713711,5.0551707739085714,4.5016923084706573,14.715766387208603,1.6177909842348033,17.941915172096643,3.2367611164172763,11.223801437577038,1.3166158784805377,11.730907906673792,0.27681499918585628,-12.286675940512794,2.5816105774505118,2.3661472435174602,4.5098099446641049,13.847728488683131,1.0095605852659906,2.3613201627165239,1.1058403289436194,8.3184070343576195,3.6078996952708726,-2.1458568287834225,4.6133727691207183,6.4295517457954219,0.7234408802251836,8.2253599758077485,3.0193770499430079,5.0083157437434664,1.0790719717747503,1.6030296514408917,2.6505061852457912,13.426690548745029,6.9785293912467605E-3,-0.60952865750103058,4.7445816018009328]
[258,"NLK (LAK1)","NLK","NLK","NLK","NLK","CMGC","13_12",204.2,8.8926086729088638E-2,1.4777423235863365,7.7298830450311584,1.1397856992786499,2.4663911701627086,0.94941674948999055,7.1100917431192556,1.5862455354016325,9.3423909237341434,1.6930457314938168,-2.1532940271725494,0.5126890540886998,3.2171238144065342,1.8328633683670812,8.4847132336531956,2.7136799821468394,4.677527337647831,4.695380495425125,1.4227121250961261,3.8451679056657244E-2,5.6282079892881143,2.2985940638250382,5.0115355037169849,2.9864137400666477,3.2626645837982693,6.1861191698281628,4.5372981286849381,1.9482184055370333,-3.7810817739041482,2.4352730069213013,6.7127873242579739,3.7937960276723888,5.7710332515063527,1.8522651193929933,27.595488336324024,3.6785439630863879,22.6378040615934,3.3474670832403506]
[259,"NTRK1 (TRKA)","NTRK1","TRKA","TRKA","NTRK1","TK","05_10",52.62,11.093029798100019,1.3771612819458505,-8.2550690567146319,15.504470845052779,2.4509315963731524,4.9057583692194466,5.1222030981067093,0.41879014315101087,-11.934343646362436,0.5919146971159962,1.5308348205433191,2.4205168880957117,4.6149778570956528,3.1991539427589366,5.2939111921906346,0.33554587914948147,2.8424978498065911,3.8406504190466566,0.32123735871505232,3.795359904818564,3.4966194716888026,3.4831204995391123,0.44814594487408499,3.799325798136032,-2.1343803393255882,13.198909283050309,6.9323815189371487,7.8934496662039759,-3.6010311322625341,3.7424813272522917,10.082189456145699,0.76172771416119589,16.300201713212417,5.7332063144334935,98.655562165377745,1.4303655231674268,98.906968940793504,0.9090593530521176]
[260,"NTRK2 (TRKB)","NTRK2","TRKB","TRKB","NTRK2","TK","05_11",36.01,2.4998796451501448,1.03373874682154,0.42879652829799397,3.4148735566863806,4.8156528411768278,0.61402856130000205,9.8907343786325015,3.8449616407924991,12.431224653217285,1.7668483455170116,0.13108092608675292,1.0273467582048457,8.3379757827989209,2.2025691861513024,-1.8191551219692172,4.6332616500687447,1.2626099476681389,1.2921446832849331E-2,3.0361619504841713,0.12288836820631295,-16.839414104682163,0.10798637710320766,2.2701577886647755,0.6820304435450858,5.1159699853249379,3.4841758424321791,-6.3684848683455897,2.7899755861775146,-5.4914715472464763,0.19785027281218004,4.1256333816349269,3.451872225350046,-2.0720462956980725,4.2760759411889522,99.589552850190884,0.75699234815093963,98.12639020923514,0.34887906448724959]
[261,"NTRK3 (TRKC)","NTRK3","TRKC","TRKC","NTRK3","TK","05_12",36.67,-5.308293112514292,0.65878067861677292,-4.8467607382371796,2.8915947754782874,-2.2354082858449971,1.0871377454396132,-5.0713939088400934,0.41359939503371301,-6.3557469224398062,1.7289895108312612,-0.5634697035831806,2.8475060513471657,-5.7870719415896161,4.4395063687948895,-11.588582066397763,0.41468770137712363,-5.0979736986562614,2.1915797513067043,-0.79996825522796655,2.0792825681520539,-0.45406811618414622,2.5961240125062566,-7.5933494702591133,3.3554224038728662,-17.455667199694517,1.9881142748037082,-5.4140708702035596,5.7434228800444442,-2.9959128606007681,2.1173762945914851,-9.338528365832147,"NA",-2.5215398935535376,3.88493758800927,98.045315662076902,0.68409983730804425,100,0.31384997255304448]
[262,"NUAK1 (ARK5)","NUAK1","NuaK1","NuaK1","NUAK1","CAMK","22_04",42.8,5.6640170286360387,4.182658728838927,3.9702437703779196,1.2006073660793053,8.1172049090364737,1.2199421292446708,7.12948903562976,1.3347928952293417,-4.4599032451710912,1.5243005285026656,13.081640815963738,2.1154615350428903,6.3908270743522451,1.3088307186347248,-3.385858933293207,0.44929810606875087,-6.6556312745877761,0.7653116065094524,-8.8884938447179707E-2,5.1642149237811674,-8.1024141711632467,0.84485241954554291,4.244255810852863,8.4440691524817257E-2,2.9236623170023819,4.5510243566867965,13.303853162081694,2.1465712634994012,15.490422647882312,1.6599262255010898,11.619407958380819,2.6076488165616944,10.671367457058693,0.17198013629426431,99.420025776632144,1.0177325452202122,100,0.35900853451426357]
[263,"NUAK2 (SNARK)","NUAK2","NuaK2","NuaK2","NUAK2","CAMK","22_05",22.59,7.9470729751403582,3.4803528468323846,3.2945238560110113,0.26923432634899774,7.1972734562951359,"NA",10.334693206457501,1.2156649163010078,4.347826086956502,2.6707634129047531,-0.36639370794566162,0.96350525830067468,-1.2995957272433003,0.22934042245469372,-4.5130139968075298,2.0592852525625762,-4.5539094758782568,1.8376581401791567,-6.6253899820246716,4.6618778366242095,-7.0709602522327799,5.9918472883658946,2.7197157005213626,0.40565017665411107,3.1661016054769675E-2,2.8560874899410247,3.5757822023567627,2.5434059463219469,8.3106632965791505,0.72176805625381935,4.7425563632046277,1.8205084231494646,2.2637626479163089,0.43006213474401062,98.598475196110172,0.3168065895770632,99.563341820244588,0.67147738216165576]
[264,"PAK1","PAK1","PAK1","PAK1","PAK1","STE","15_01",36.694133808115211,18.694183090328309,1.0245322787423106,4.6439916193565693,1.0982698026494984E-2,9.7069815953586271,0.75074422546228869,4.2156663963233285,0.44099756690997338,8.2395579886455721,0.60658286023249397,-0.64048651096592835,2.0920941968040361,1.8478682797437926,3.5946496732871847,-1.9300339034415117,3.8638559009034656,2.7368979298065881,3.3998143833929872,-4.4106230186970379,3.8615190528563095,1.9319279504517226,2.8978919256775972,-0.96396454680727572,0.49249530956847726,12.830274447411767,2.0190541129230817,-3.7450669599534478,1.9813029695283702,-2.282946237950469,1.3836772983114409,6.5912835956588367,4.846866299221551,-0.90156637687748287,0.32767013277269119,59.073558905350325,1.4613120269133741,86.046555675511868,2.5380229937306971]
[265,"PAK2","PAK2","PAK2","PAK2","PAK2","STE","15_02",33.94,6.5553050696060637,0.8385540411620731,16.807655704768948,0.13217722322088932,6.3766565999672054,0.89688823532986139,11.6315956434387,0.78777625039652033,10.790948503753825,3.2779951358781938,3.8914326130251169,0.63096766988664887,0.49090773726432246,1.1497943305972833,10.598541243702513,0.65794420633129624,4.5116174148432009,2.0791036920069197,-7.9164107432017374,0.42204105943007875,-4.7710354161967246,1.2406947890818814,0.94319429709459257,1.7235282074189902,-1.6542597187758616,0.6654635686893724,2.8011986524466295,0.65376812403447282,1.7644759618069088,1.5108790738362465,7.1584329648845682,1.8046469659372844,18.914956011730183,0.12406947890817273,57.656764755151045,2.6057661883227824E-2,85.43499511241447,1.0414316865929762]
[266,"PAK3","PAK3","PAK3","PAK3","PAK3","STE","15_03",307.58454737027841,7.4530953338101824,3.5307323236278414,3.6338217833995259,2.7482383417026037,-1.8184096355349482,1.1839414711906679,1.3378837485415715,5.1937438643921459,0.44356268728058978,2.9605110993467241,8.3064616922884653,7.4990626171738484E-3,8.9288838895138127,3.7120359955005622,-4.2665258452132377,0.95942202505195384,-10.172604916155862,1.603133884327627,4.2494688163984051E-2,2.9446319210098761,-10.975879014947878,1.7638342282627617,6.9866266716660448,0.29746281714785944,-1.6905403036917761,1.6445608851720881,3.329583802024743,0.73740782402199867,11.023622047244089,3.0471191101112383,7.6589874967848601,0.73180114129110096,-5.5364227557149945,8.4870722719067988,70.221222347206592,5.3218347706536431,54.386368240513335,0.8214837694928836]
[267,"PAK4","PAK4","PAK4","PAK4","PAK4","STE","15_04",8.3550000000000004,1.9964046916993539,3.8628799250087575,3.2034173273674185,2.3261899154826393,0.78728945791532112,0.79559545068911175,-4.1231650836015348,2.0023811392835604,3.5723630844912009,2.3098359368867269,-4.5637518793346175,2.0312979937598015,0.23279499490759292,0.96593756567567601,0.57746014116587219,2.1963605926712919,1.5657821667431335,1.0523054140409251,-16.430638407940904,1.7047383481255161,-6.6852580663334749,1.7621588558643602,-2.2673262524855886,8.9504825646248527,3.7709958068747937,0.74043669668654299,-5.2661784438301424,2.6076272693470344,-4.9557851172866663,0.51489726304217776,6.1826464173326627,0.27927340625025715,-2.9343828218686525,1.687310363699289,33.659892978967605,1.3967699694456541,89.23308464318194,0.63218807092095874]
[268,"PAK5 (PAK7)","PAK5","PAK5","PAK5","PAK5","STE","15_05",40.657011919353721,10.375951234010586,2.7371986473830838,2.7870504503369631,0.36320883458251407,-2.8625344182681829,2.2908126356402172,-4.2293884235056822,7.3072158888119061,0.82614263819780831,1.2638827654258851,-2.77699013052586,0.74912876050747146,-4.8990642750647311,1.0043264701308954,0.23887515816608129,1.5343589986164115,-3.2171280583706903,8.1040171233281715,-8.7681908403230722,5.1661529173946077,-5.3232501212113874,9.2510909026406303,-6.9662571917275642,0.19757242035359363,0.34353085864975696,2.0824710570817033,5.8402773331382036,1.6811949472682923,-6.6195907689774742,0.42990295169536052,5.4639736054775767,0.35890401239313124,8.0768184667052907,2.0375341461395626,69.529027596110751,0.79394842993954129,98.190698059434979,0.64389863178931661]
[269,"PAK6","PAK6","PAK6","PAK6","PAK6","STE","15_06",7.5039999999999996,4.1624911397355362,0.87747170825898924,18.358510899775013,2.1503343353941733,6.3565777788641071,4.2398911511418635,8.2395870753058205,4.6472934903858798,18.06356468964475,4.4588556339137702,12.025479496967279,1.0257371021755903,13.402496428655056,2.6908034940633749,7.6400041001810877,0.23063518638740366,2.8274165442306867,3.0529265042539429,9.0302334839933422,0.41685206435447264,-2.5848224963269359,4.1258072231523588,10.292499004707111,1.2903679070747631,1.2625140943724915,0.81491099190213589,17.660007962342789,1.9437483899674388,13.760801854757474,1.1077023957284482,8.6616325554378619,3.3997334882290584,6.8165510643386682,0.18792496668603106,36.931219409381505,0.40982646776422166,85.4614412136536,2.6480336214849447]
[270,"PASK","PASK","PASK","PASK","PASK","CAMK","12_07",24.39,8.483342185716765,0.85451435642260787,5.5290351566887495,1.4812422778838641,-6.5643529511953318,1.490962531674489,6.4135684600696408,0.41699427159384822,4.8424688307312209,2.6844883747051589,-2.7212642617139693,3.3194254698519421,8.377949267067919,2.7286489679872807,-10.576083794006408,2.4342934729900096,-6.0614877315488513,1.537193288720788,3.0868072222427401,3.8917402060333033,1.9978663563184966,3.1810687615168294,0.7643170992873678,4.6339031865007669,-3.0307438657744115,4.4030646881970688,3.2898866447587096,2.8172654432669879,3.1643466381124625,0.98955064062325793,-2.6913005528076752,1.9396760740961357E-2,1.3723208224226511,0.88740180389874534,4.9735996750729186,2.5551083705645627,44.239162059935985,1.4935505770536341]
[271,"PBK (TOPK)","PBK","PBK","PBK","TOPK","Other","25_09",14.14,3.3550115197638775,3.4880662006185288,10.451505985699214,2.3093905364530865,-1.1437520068048315,3.6083336619329498,2.6987796822306365,0.42067934499183701,0.54757848624967664,2.0321246045266506,-8.1730225844448512,3.3188308107114408,-14.049199637777335,1.1066854586678061,3.4894124664479449,0.83949144491941441,4.2018756006229836,2.9603119373474254,-4.8732561227199369,0.12391826841242437,6.9501054887276155,1.4669008405960389,-6.5069346569438409,0.47170646349517659,9.0422065369873366,2.709569097878076,-1.8928175065193074,2.8292855635217276,-7.8577799565605062,0.81690735407262494,12.243319967745848,3.0321105477681698,11.517601705493121,2.1429123725574653,-7.9021726549148497,1.8865535061380321,35.226607460427914,0.18446719908098078]
[272,"PDGFRA (PDGFRα)","PDGFRA","PDGFRa","PDGFRa","PDGFRA","TK","06_01",95.132545471386976,6.5316909717306117,2.3783150524828334,4.8643241633797345,0.26998002749982603,1.0502119579248728,2.0082562261772892,3.8640264158896969,0.14552826761143356,2.5489192435206576,3.5298132219958478,5.4441625315281073,1.4295230183143703,-1.5500220790204366,0.4228693745275523,5.8515189256511491,0.17111604483673087,-4.212920344398114,3.4548112849948653,-3.43384900943785,3.7369677646301334,5.7248064114366031,4.6721178318080909,-3.1906055639131239,8.4573874905519139E-2,9.8467536687063557,1.7274056424974327,2.138296996504792,3.9517704380627157,5.5736428886843044,2.993017042010008,10.256132560784081,0.83716900416959805,5.0630855038717755,3.4537282720528495,100,6.137219240930767E-2,100,0.30432663670330889]
[273,"PDGFRB (PDGFRβ)","PDGFRB","PDGFRb","PDGFRb","PDGFRB","TK","06_02",39.39,0.54117537151587669,0.36400883497154263,6.3770268004694088,3.126481929442197,5.7974496026264575,2.0259043500890805,-1.9418963906785223,1.6655090652168691,1.9998562977510375,0.36356668981868978,31.427244761738919,0.40280921701782252,5.0623947994660199,1.054036798421266,18.789808917197448,2.7621562839832272,-12.495727823520298,5.5654808140438226,3.0112020430669304,2.8266295199953548,10.212832064626369,2.7326394283051134,7.8808984851123114,1.3512101689012723,5.1903060431878316,0.23069752990523329,10.733066341633304,9.2866678275004083E-2,9.5304428579720337,5.6393290382494614,12.644865620630725,3.1132515146807358,10.684324996116203,2.9345968618921732,100,0.52817923268907074,98.940500233027805,0.82802547770700596]
[274,"PDK1 (PDHK1)","PDK1","PDHK1","PDHK1","PDHK1","Atypical","27_10",12.17,14.953838235039925,4.6145439809168636,19.200225553310489,1.4144072177059335,11.047517712788746,0.90402923930557533,-12.193975846999663,2.7301348620835437,2.838212490014584,10.962830694046382,21.482346367914744,3.5586627794531642,23.205088715858523,2.4354777476134362E-2,11.149872259216295,1.1563362506797552,-1.0629674850969195,5.3179155166575871,31.319527517316956,0.76932444145182888,-2.8369740311708256,0.864943619629987,21.879902294363291,1.0186027520898528,-4.3206139765860172,0.46581779752315489,23.601928325322518,3.6532166214194139E-2,17.826980795541644,0.86960881929471912,-15.716733529647172,3.0298677446825986,-12.515518709664221,2.3957809630321334,23.261677757641323,1.9619922207975462,-5.7190933995465087,4.9598309101915588]
[275,"PDK2 (PDHK2)","PDK2","PDHK2","None","PDHK2","Atypical","26_06",42.21,8.1363218737572112,2.8242118398859017,-10.668001866807586,2.9800925367875233,-1.353139613016495,7.4496386599563884,-7.5284270909636035,3.8281918855684092,-11.878026994532433,8.3700358835037605,4.2121581220241069,0.44956261765031269,5.3947514118037674,0.16830915734691285,8.3475075232238822,6.898936468477225,7.5138782452664401,1.4242724435057421,3.9751965452330751,1.559074299634611,3.9438515167940835,0.50653258817592084,8.1740671022035229,0.71974310707563949,4.8391618848245912,2.0560363357691805E-2,5.6671464954046655,5.2153692835787853,10.924593068320206,0.94120252463735532,1.5326816321190222,0.8915721201472826,-4.5606624175248953,14.07076503242925,13.320783966338141,0.67102203521204651,2.37752565372611,0.49531784452627242]
[276,"PDK3 (PDHK3)","PDK3","PDHK3","PDHK3","PDHK3","Atypical","26_07",22.54,2.2712431313211709,2.8796687106793,-5.3841020935857955,1.3846025523396532,-2.4544078999761041,2.158158795890738,-7.4756026357494392,4.0651847526899703,-6.6915505880390498,1.843356410042525,4.9464589642395396,0.8134341855687347,0.91638879742522761,1.3629892083161481,4.4698006189976525,1.9366922147098291,3.9730085145384919,1.3787973380444538,1.5178848856137535,2.3494056921842565,5.1406027921310198,0.32012539351513453,0.23883614912654139,1.3244971687481768,0.63228086022074592,1.5541357278535546,1.9686591321204787,1.9417610803741669,2.6916602126801337,0.41599228304170327,8.7722327749956435,3.6356149462693992,5.2163170968213137,4.1084972703000595,-1.1635726177832879,6.3071293749904958E-2,2.2701008195741395,0.28558904400727864]
[277,"PDK4 (PDHK4)","PDK4","PDHK4","PDHK4","PDHK4","Atypical","26_08",160.6,-5.7841947986626678,3.5079933331360933,-17.182067535708057,1.9126861084864593,-1.3323865597601383,3.6046431353984736,-14.922621067985219,1.9567191699768005,-18.628737076755129,0.38712399893586358,-10.174161507585509,5.7180760595958962,-7.357643377100473,2.3822482255028654,-2.5646426878719097,3.0933698457001424,-1.0011059034177947,0.5497919848333267,-2.3300904823456818,1.0885094224096787,1.9922060140080902,0.83469377007741263,2.0500260788715963,8.6173662607441165E-2,-8.2237084627942636,2.6736531676233697,2.4480123364401578,1.5216454634102152,6.1296686849445763,0.1644102773431293,-6.342619411238104,4.0792037495392162,-0.62404550002632675,0.72989625572699779,-2.9968025035716153,0.28686758736422174,-1.8326399494444274,0.60403391437148335]
[278,"PDPK1 (PDK1)","PDPK1","PDK1","PDK1","PDK1","AGC","21_02",10.029999999999999,7.3195153699809765,0.96792496912652581,9.5326568529369951,4.2553951693582945,3.0205934381362312,1.6454724475150961,13.580820351579263,4.3911676432756996,17.921966557095914,0.95755323710161599,-2.8984919734068626,0.80536187233121104,-9.094103021458281,2.7457975244581112,-1.8284228769497446,1.213171577123046,-6.100519930675901,8.7435008665511216,-14.878925463488457,2.1579914599210896,2.7946273830155945,2.928942807625651,-4.390303226852609,1.0377817415274706,3.3752166377816195,2.8076256499133461,-3.0079455164585625,2.7093130101075622,-4.5659694070591001,3.1376682341495106,7.2530329289428153,0.15597920277296301,4.5537261698440261,6.312824956672447,94.642181503702503,0.54051132371222776,100,0.43327556325823224]
[279,"PHKG1","PHKG1","PHKg1","PHKg1","PHKG1","CAMK","30_03",157.80000000000001,1.4159689541886138,0.35464511984288455,-3.4751457575420659,2.4552401226428513,0.10237178717115114,2.3498503596070126,-7.0869143882949288,1.122372789807295,-7.4276772522916161,5.7683447980046747,8.5756608277964972,3.7104150487531213,5.620272097103566,2.3484913855092482,11.343486566172501,1.8354719488393363,3.8339354677961808,1.6973962875296054,2.0464808582851646,1.1303822590387389,5.3403097877995265,2.549208919895368,3.4242241205741237,0.66873759599620242,9.9487147543706698,1.6833810888252123,6.1034889406621033,2.3571202577156374,-9.8311617338280541,3.2502085310783162,4.1827581911050231,2.8170549395789188,6.654623977409571,4.5154893899754907,99.488020249086773,0.70469123018954782,98.632739504173415,2.5175449524521407]
[280,"PHKG2","PHKG2","PHKg2","PHKg2","PHKG2","CAMK","30_04",15.12,-0.70803714808702978,1.7175936843760189,3.567830219014624,4.0415877666225999,2.7322036182326741,0.26951453694033839,1.344814034084834,1.186656662736552,8.6610215918158389,1.8366739314254414,-3.1821408633202708,2.2503118732381764,-8.1259347581862187,0.17161643382427308,1.730677711340121,3.4156500760970454,4.6365011379217407,0.22758435463579776,-10.639529674480187,2.0263145198530554,-0.60312209924187243,3.3110460870097809,-6.781950637875525,0.71885919870978832,-1.4253471485989166,1.5120459503649333,-7.3209227312514429,1.6196731706308549,-9.1266860108483741,1.4797609775933467,7.8184414005625769,0.96640892620707131,-3.0627294102146152E-2,2.5759910285587955,79.428772287736663,1.1716784638606294E-2,97.787295798406433,0.54422345673777084]
[281,"PIM1","PIM1","PIM1","PIM1","PIM1","CAMK","16_03",28.95,-0.65975032977718229,3.8656395172459494E-2,1.181425219958939,1.1022730344875333,-2.3561018411986794,1.0657840377182002,1.0474522608687522,0.64177853609009683,1.1944920892872375,2.7426908138406643,-14.153172696986132,8.1254358100255644,1.3384210118540381,8.1351204772608751E-2,1.5461941474634813,5.2562082037739044,2.0615921966179656,6.7491587511181113,-17.24645541179207,3.0003099093515226,3.8356689525919023,2.6281041018869482,-2.6574726892383751,4.4103974587433079,9.7989521659496575,0.28325595263449005,-11.288448128922269,10.137909661424029,1.9640505152243009,2.8647245680638393,-1.1223750905141117,2.9518251906120931,7.8097712654938931,5.6800272607232625,46.205547377392122,1.7800418377624523,80.372279252033906,0.14269284831963244]
[282,"PIM2","PIM2","PIM2","PIM2","PIM2","CAMK","16_04",9.7940000000000005,-2.161909686890084,0.90538308839475767,1.4100711956192526,2.3114786715918196,-4.8388576575975293,0.65683020001000181,1.1617948562679032,0.65399621097433225,4.7354170090919467,0.15830860662473289,6.7034271302111392,4.7327036249443646,6.1050393155630189,4.7871025171851072,2.0999127175643366,1.6994403655593662,2.2642090671048294,6.9261179853160044,-5.1654220859502544,2.2081004895900329,-2.4028341120295238,4.9340247471376415,9.3491914346471674,0.17556006132238641,12.496791086923082,4.4051958720542173,9.0129073735225802,1.1671035062558699,7.5663913753028993,2.4974036892339657,0.88309287878016107,1.2168198387841873,-1.8123941058684352,1.8072598449453459,16.59908016418575,1.1572127985757357,27.683934897571532,0.44154643939006466]
[283,"PIM3","PIM3","PIM3","PIM3","PIM3","CAMK","16_05",16.600000000000001,-2.5792009449181421,4.5346082780213246,16.550074807493445,0.44480131245270543,1.8913561268778381,3.9142886299338415,19.38293927017925,0.68164356973271467,27.332751818197565,1.2887684780285515,-4.2942050520058928,0.934305912017663,-5.376649106218153,2.0257553244180277,-2.5978974738305141,4.60179768228992,-7.5247125277385578,8.3002712213928671,-5.307758116079043,2.1099554234769604,-8.0335328267545378,3.9024499585322627,-2.4863793957404425,0.9563690395785468,-4.0369399054087296,8.1859547665478622,1.544418929262946,1.2621009500652944,-0.52501238236749259,1.5259579449772716,-6.6258713827807867,4.0728038912424758,-16.737273888776812,2.2549481092955008,94.82912332838039,0.3309469134134802,100,1.3381749714208859]
[284,"PINK1 (PINK)","PINK1","PINK1","PINK1","PINK","Other","21_09",20.59,-4.1886433351218386,0.21310197511617501,18.354430379746844,1.7988007994670354,-14.064224177203656,0.5309833061683058,12.770652898067965,1.6468187874750111,4.952948034643569,4.8530146568954029,0.49773635858200294,2.215985809218719,-0.84191575547374953,1.011357920097423,13.739833239551899,2.409330400531994,10.396951250703353,9.6488311422579454,-13.841306822694648,0.86839109369621947,6.9108394291268098,2.2648217300117648,-3.5344576526964886,0.52950676444892053,11.890633792009837,0.27239244974166493,2.6316486193111217,0.95575970983027936,7.8552328505996911,3.9660056657224003,6.163998158473575,5.115351168857738,71.595733797125177,0.79799478234180743,6.5764740144555276,3.5635805247412033,41.952273773594555,1.2443091718246491]
[285,"PKMYT1 (MYT1)","PKMYT1","MYT1","MYT1","MYT1","Other","27_07",90.02,-5.9427305463057394,1.1859715922371485,7.8269733634711685,2.4996675973939646,-15.107672399483761,4.0125202827903781,-2.8985507246377011,6.3644018969108718,5.1101360634667401,2.3534104507379312,8.0106200505251621,1.4775722469783332,2.2976070847694814,2.7822874842941383,-0.11215791834901268,2.277553461941074,-15.609391356363091,0.36638253327349879,-2.3301657680963359,2.2156184003918846,-14.383131449080281,3.3946463286974753,-1.1365940361371685,1.2811841889114102,-6.339165545087468,4.3098549424255985,4.6655113267219406,0.9267385226941387,-9.9352822171871651,4.9577995065885339E-2,3.5890533871691588,1.3728129205921995,-2.1010916704052391,8.5838193509794962,-7.9086521741060949,1.468100630010529,-5.8815612382234121,15.250486017646232]
[286,"PKN1","PKN1","PKN1","PKN1","PKN1","AGC","16_09",24.44,11.36982690448994,5.6629470169580873,-4.7725399857661728,3.854833876465519,2.135137509884899,3.6112819611633475,-7.1899464359291159,2.3073753605273932,0.31604674682549216,6.283945761696069,3.0905949148358047,1.6514440878795396,-0.73068378178231796,0.56776104665515303,3.4023249220311413E-2,1.8145732917493718,6.7252622625460674,2.1151119931953328,6.8847198222660637,3.4658109108862063,8.4717890558548277,9.7760136092997669,7.6425573932362028,2.6117008146136826,6.3396654380493374,7.7629713637652396,6.149098987904182,2.3352258701555084,1.1207109355714238,0.10861515675141852,0.29486815990925663,6.9464133824780383,-2.5233909838389366,0.10774028919761079,95.983707726487282,0.83929893853369686,93.972214346470082,3.4533597958605062]
[287,"PKN2","PKN2","PKN2","PKN2","PKN2","AGC","16_10",16.14,-4.4610630511426734,1.4152799993300376,-3.2258854171766416,1.2978937988974515,-4.4284027434658242,1.4353786502080761,2.7289551245018657,1.29642503941172,-0.26486629392815075,2.7137779431492288,4.9603973687743377,0.18346981697765086,9.5247684252920237,5.0588445876403858,-20.347710729808526,9.1500986227722549,-9.5829914992406913,6.6888931557541564,5.8755090168703106,1.0515952924329746,-6.3607324268184016,2.942973345668459,4.1593949970913542,0.40273862263394089,-7.5983173034963016,3.5958037319555221,4.5151474470846438,3.6895332706850739,4.1482078131292894,4.2399427216181298,-14.624098867147282,2.1068617011991897,-16.634956099774826,1.4295938138211499,97.397861010426453,0.79205262451335567,92.930580041543749,0.49224109340361988]
[288,"PKN3","PKN3","PKN3","PKN3","PKN3","AGC","16_11",36.840000000000003,-0.20015648597996005,2.3163564241134011,-1.4097516334305169,1.2407687232638804,0.21107411248793539,3.7902360026930224,1.1986294081341526,4.4476131696000953,9.016962138463839,2.4032179113371779,2.4411933098634364,2.9540388105882527,2.4874834025654451,1.526354898831785,-3.4189245965810642,1.6283721983716335,-2.3855012976144963,2.096758297903238,1.4617924011162131E-2,"NA",2.8860467971139769,1.0515777989484212,12.772411104749594,2.4387569891949186,-4.5991399954008756,2.3448697976551429,6.228453789087709,0.38250234495864871,5.7229172503684964,3.1672168690843128,-3.8209170961790733,1.688541398311457,-3.0321472969678496,0.47530209952469232,98.840311361781431,1.4630105614500977,99.701747500298254,1.677129998322871E-2]
[289,"PLK1","PLK1","PLK1","PLK1","PLK1","Other","21_01",34.83,-9.0428587843272226,6.4517982304952319,17.538355587863947,1.522745533152237,-2.8783178214408736,0.22980581408710302,15.721008531966177,0.8264146612082458,3.8259938018900357,6.3894096491563763,-3.5712533725778712,2.0309050772626809,-6.0387539857738517,2.4871228844738842,3.9784820239680698,1.2165113182423384,4.9949400798935102,1.1180825565912325,-1.1429973019376973,4.8859455481972045,-3.3301731025299404,2.4660452729693692,-9.8258523424086519,1.4814814814814778,5.4711051930758856,3.0659920106524585,-1.5844984056904536,2.4282560706401868,-9.3303899926416562,0.6573460878096562,2.6413848202396935,5.1133954727030639,3.9561118508654971,1.2603994673768286,-6.6421388275692976,2.276183468236447,16.366657789613853,3.7117443408788233]
[290,"PLK2","PLK2","PLK2","PLK2","PLK2","Other","27_01",141.30000000000001,-6.2627419079469462,3.0309421228646225,3.2556036431755189,0.63949357276662533,-2.8777881554236586,2.2024042662167549,7.2863510109166043,2.0153736838705485,-3.0618177120340988,3.5333634778115073,-14.74418528841295,0.28604958192753194,-8.4233859794957198,2.9346568219972897,8.0705741443115357,2.2505105723016396,2.8948297836401906,1.4280668888104036,-14.904731634964875,2.3707072188809257,-0.50673341215852474,6.4250725550112877,-9.8674881423891208,4.5604941893631938,2.1995301199269193,0.86390368994057387,-11.926067184978734,2.7651459586328286,-16.473522077160027,6.932831320391827,-0.1750533605638509,1.3300984291264211,6.4109454417026228,4.057552631174854,-0.95512851857283465,4.2231023747820018,7.1050166607803646,2.6562044131873543]
[291,"PLK3","PLK3","PLK3","PLK3","PLK3","Other","27_02",60.07,-9.649312696179237,1.7764368438142621,14.264185065179717,2.5921181523622936,-14.110022729732677,0.21715012447234752,25.3625951322432,10.83565669504936,7.6105794589707045,7.3016351442996008,-2.8051153426537638,1.8423331721197973,4.232417415559695,2.9187146408125137,8.3612306711302438,8.1965035336627796,24.703756841489977,1.9607843137254852,-9.8336501366566154,7.6066539945337377,-3.9720495244168177,7.7474892395982824,-0.25644198000203744,0.54325208921480095,17.131622296615106,3.8020086083213847,5.7125825282029865,3.9129896860835145,7.3952018355846718,2.1820063210698564,22.833306764440195,2.4416812795579013,12.447526436048662,1.1610606302141389,2.0166687287000826,2.1730083568592606,28.978691747701788,5.8823529411764737]
[292,"PLK4","PLK4","PLK4","PLK4","PLK4","Other","26_11",13,-6.6383613517700439,1.1589878937403173,4.4901648193012704,0.59626175263296244,-6.5981984049572588,5.737563830397964E-2,-10.159044976965504,15.034583181652691,-2.1155785412718018,2.8821410190427241,3.8104574861154248,0.44324314325747949,3.7510346964350987,1.0136556807724457,-0.40121342597126386,1.4470593991584335,0.12721401311281966,2.5840346413543354,2.4663925973539591,0.99562074849592963,-4.1362902436637938,0.22996379293472863,6.1684092727297894,1.5290385531360007,-5.5784567961640192,2.429298365789208,6.6847170134152236,0.69203272184122966,8.4912160631130007,0.34844414026552306,-7.1637391134162129,2.950386534885995,-4.4414815539681314,0.26237890204522063,66.033517227984674,1.7144746516714666,100,0.74921714453469024]
[293,"PNCK (CAMK1β)","PNCK","CaMK1b","CaMK1b","CAMK1B","CAMK","29_02",38.950000000000003,4.2502186659755665,0.69325212996857433,-6.697467151610482,4.6659458042530888,-1.95341604846287,1.0398781949528615,1.4351715324879564,1.7759428552704917,-3.3192437497952341,0.69792588223729135,-2.3031072549642317,0.7477162910450319,0.92759143653229614,2.7051811095827638,4.2546861053257885,3.2371318060100971,2.8414162451650924,2.7700089259149059,-2.1232321094769588,0.62779952738687494,1.9369235346622702,0.19637012793811104,-3.1531054914823784,3.0049730187281782,2.0083308539125255,0.99672716453436605,-0.9240644728952816,1.8234402003315302,-0.19750996367227458,4.9624378372658988,16.251115739363257,2.4486759892889065,12.758107706039851,1.3954180303481127,82.54152999682573,0.20103692730927988,100,1.0681344837845881]
[294,"PRKAA1-B1-G1 (AMPKα1β1γ1)","PRKAA1-B1-G1","AMPKa1","AMPKa1","AMPK111","CAMK","28_07",38.35,7.3092579431745577,1.1392423668814777,-8.0661797825500514,1.1302172912625712,3.1599893059472635,0.65034300816713086,-4.4376195492558281,2.0526767436949447,-8.825435809297332,6.1280017772938491,0.26455291137214942,3.370390399846662,-0.96132124801148677,2.8970755423887518,-6.9387722953201774,2.33812878808763,-5.7584839379176884,1.9612399132013478,2.4188898361446434,1.4822124501001213,-8.3411769802418547,2.927288408599519,-0.54577202426682447,1.4480638507719439,-6.9466487608350462,0.76007892218446615,1.6706484758455957,0.76501287747102487,0.70005945068412245,1.3712097555992351,-6.0908707826449984,2.1849315338235158,-4.8806518562860077,0.35601624127189618,99.510571848179069,0.22782407863287635,99.967706491389052,1.5359107753986365E-2]
[295,"PRKAA1-B1-G2 (AMPKα1β1γ2)","PRKAA1-B1-G2","AMPKa1","AMPKa1","AMPK112","CAMK","34_03",18,5.4172392252915671,7.4156139240916019,-15.031763748206245,0.32644908988679072,4.6237261308925071,4.6190419105209219,-16.308188081671062,2.818036102416055,-17.611466838982579,1.0490009315128273,-8.8684502566804895,1.2510678386944925,-6.625789402249822,6.0677189368717896E-2,1.0117379609935,1.0995194526036178,3.7172085485668021,1.1422847946700965,-5.9751063846773746,3.9527995337436943,2.5974318286685474,4.5578851412944461,-7.8936233064277701,0.41515971673330709,11.408217698099193,6.0130321752928904,13.517440700023158,9.663640791038878,-8.7790312407686741,1.311745028063223,7.1283072802367968,2.3712256772116973,6.5408465286921711,4.5072419730578357,100,0.62433634324127962,100,4.230392653364393]
[296,"PRKAA1-B1-G3 (AMPKα1β1γ3)","PRKAA1-B1-G3","AMPKa1","AMPKa1","AMPK113","CAMK","34_04",39,0.50800577429556881,4.9164159696739294,-0.78060249319196373,2.4145396728742732,-1.6832512369554848,4.1874662523292597E-2,-2.484734696639137,0.60384634901304046,1.0165592598230404,2.3840936384702638,-3.0496119567315247,1.3556994744884865,-4.7957275692640451,0.33473279906856651,3.2068426766941087,2.398114556576548,6.9676667637634608,5.1367740910414996,-6.9695924675628618,1.5218003435915082,5.931732118739319E-2,4.4784577496491114,0.26829245142735658,1.4790886915364576,10.52193946455526,5.6955220718692861,-3.9655396063567565,0.70047109370303418,-7.5356009529444066,3.2843678517304582,2.4833832057834258,3.760824087069349,5.8162751900007663,8.1799645155310792,97.774564736627298,0.9206733887424734,100,0.67632338532425929]
[297,"PRKAA1-B2-G1 (AMPKα1β2γ1)","PRKAA1-B2-G1","AMPKa1","AMPKa1","AMPK121","CAMK","28_08",85.483819675912699,-9.9506194633718366,3.4109338980949135,4.291013786612055,3.0922983223520295,5.1268249652483888,0.13841062794347694,5.2959415314766574,4.4405071701456036,-2.2202535850727969,6.768728198881564,0.64921295722695049,0.84852628120023543,-4.3879293500377941,0.6267840868633735,1.5416023241814401,1.8295076818384086,-0.33501714345538858,1.0888057162300091,-4.9027159990813232,6.7449195915202846,-2.1200303609286237,4.3002591148218876,0.35122239792046628,1.825406425332686,4.0542309000968544,1.1359175020284207,4.0625638157678878,0.79304176128335946,0.7387325533505873,5.3410094264918273,6.3574737613526224,4.0254403643311445,-0.69882482267647106,1.5913314314130975,98.520576039991951,0.81684182896174395,100,2.1043264323291542]
[298,"PRKAA1-B2-G2 (AMPKα1β2γ2)","PRKAA1-B2-G2","AMPKa1","AMPKa1","AMPK122","CAMK","34_05",23,10.734037529514097,4.318230396421038,4.8827113783902121,5.5517941773865997,1.7612526407356768,2.0671554616627374,-4.9185550997650296,2.2541718109044608,-5.7110996057190988,4.1299932295192932,-2.2711032404386913,1.7452698294342439,-5.7493708640134287,2.3758038959828442,13.724925616661878,11.09191541094798,13.968071152061952,4.7957257574303389,-4.1394041072482821,0.59496069841860988,9.1211568608631666,12.985891160380023,-4.869046509460361,2.279181035821916,8.6284672233419712,1.2893111942924835,-6.6259670053126882,0.91869388262340723,-6.1972224811259196,0.52676546431788562,14.713504175064784,8.5452858559682703,23.313177848162013,7.6878779153469763,100,0.31068443781650967,100,3.8839299996800718]
[299,"PRKAA1-B2-G3 (AMPKα1β2γ3)","PRKAA1-B2-G3","AMPKa1","AMPKa1","AMPK123","CAMK","34_06",58,4.3010817187531245,2.3697838561973863,-7.1352641433088024,4.0280454378155977,0.84004825412061734,2.3733162711028277,12.857283286811935,4.4235345755807201,-4.2159599298635158,2.2600032462114328,-1.7094017094017033,0.19848503260825848,0.8263458500425287,2.8679061854417305,-10.889841716202909,2.3965308423705203,-4.0092993470967713,6.4120947196970812,-1.9119374569611409,2.3575161015919144,-1.4686843094399791,3.8854008603288177,-0.19038360270587873,1.7377567140600336,-0.33967675024014454,5.0053596536410847,-3.7874184793616053,3.9494470774091726,-6.2826588892939554,0.10126787377972499,0.32784374869487465,1.5027911962468496,1.7707738783010569,5.1445714365263875,97.69919390772472,1.5838295459148541,100,0.16148566814695151]
[300,"PRKAA2-B1-G1 (AMPKα2β1γ1)","PRKAA2-B1-G1","AMPKa2","AMPKa2","AMPK211","CAMK","28_09",81.772760497071062,-1.335296239040872,4.1187774768856285,13.602913372542872,0.54276688947451257,2.3261444441312733,1.423106637960255,5.2694346032798762,4.0722060303592725E-3,-1.2420228392583823,3.6876734323461169,1.1815636132608915,2.1781123079084299,-2.7838468006231665,3.0453156812134572,1.3599635825651575,2.7654489586889812,4.9419597132126967,2.990212814384881,2.1964853717911552,1.5473736740466382,4.2961192670991153,1.9432115625355617,1.8244898001975258,2.8974400372388831,0.86775918971206067,0.79663138727666494,2.5718095869127069,1.4563470679630417,-4.5610017172655404,1.3771148680808685,0.56048708319109153,1.3571184704677364,-0.94173210424492027,0.68567201547741186,98.492098272040863,0.19240607983292732,100,0.47228860817116103]
[301,"PRKAA2-B1-G2 (AMPKα2β1γ2)","PRKAA2-B1-G2","AMPKa2","AMPKa2","AMPK212","CAMK","34_07",30,11.427377785423346,2.6547150220867879,-13.446899368733753,1.227720014853344,10.584455079960946,0.81773332432250623,-7.011232825844786,3.6088934274043778,-11.225863349424429,2.6434274043817414,-0.49568203338010619,1.6718573530921681,-1.0187435116419579,4.2780382627738811E-2,-10.511725220120312,6.0849097724697101,4.0362653648330564,6.7457065643797485,-0.89553600967404634,0.95656935555632183,-6.7718594717112808,6.6254031906546915,-2.5006559658669687,0.41525491403993331,-4.5837328916397837,15.798099555400594,-1.4265831593597795,0.31087078042826433,-2.4943815097482229,0.60120697719522465,5.1887368145758757,0.8403800889198858,2.901229186644585,14.343997907767422,97.862121678816294,0.57553874761855928,100,1.0618080376601835]
[302,"PRKAA2-B1-G3 (AMPKα2β1γ3)","PRKAA2-B1-G3","AMPKa2","AMPKa2","AMPK213","CAMK","34_08",53,-1.5150386848446828E-2,3.2008402045045377,6.2264056332781763,4.2980250574758648E-3,-5.6783136335506725,1.7767038407514542,6.1827090451937323,2.6411363978252016,3.163346442309745,1.7399838107722851,-2.2842404602870374,0.20633555981746754,-2.1374247734938336,2.8384366113352306,5.8354988819725406,1.9290505831872793,8.7459962530972462,0.46654982776334725,3.7894319158785663,4.9851200317439339,5.7436393303922131,1.5616123768659147,-4.7682031611666105,2.3741816017459207,7.2665740013295306,0.10032029975223877,-1.345149130348517,0.91792870841875007,-5.6464519542358431,3.0897427418821479,12.285006345561115,0.14504139723213846,10.075542394391704,1.2461473378860271,95.747635738377085,1.9125719198465723,100,0.92705626397534358]
[303,"PRKAA2-B2-G1 (AMPKα2β2γ1)","PRKAA2-B2-G1","AMPKa2","AMPKa2","AMPK221","CAMK","28_10",37.32,8.9011709226939786,0.50344744284578702,4.1805204286045381,0.2530870391065404,1.0787240566257026,2.8575859823764693,3.4420183302137417,0.49544858509986517,6.7978867318730494,7.3082126138718788,-3.0718879538809887,6.3444457749860659,3.1978962927481689,0.8549637064534823,6.7240031274433107,4.1083232639135696,-1.02826545359774,0.79844575544341045,-2.4949772054029609,3.5903153504586243,-2.4024450920463494,1.5187054280095698,-1.5922651987163903,3.729568626312544,3.4236027199279704,2.9710711493354176,-1.1654334965060968,0.70310052483818319,3.6659143058625006,0.3596998298116284,3.3122467837088578,3.7292392257208542,4.9470466984149652,0.58758025919870893,98.994715330621446,0.1203535370029666,98.808254554931651,2.5564479825621338]
[304,"PRKAA2-B2-G2 (AMPKα2β2γ2)","PRKAA2-B2-G2","AMPKa2","AMPKa2","AMPK222","CAMK","34_09",27,7.187982900639696,10.223075331399205,7.0495744815867312,1.2935477729910505,2.7940548465063983,0.82525105330123405,14.864306514274446,6.6870201019552029,-1.3782989134649881,2.2813709660360852,-3.4560967707095784,0.94734081125699054,-3.0611142826285231,2.7895638220727306,2.1028413296006931,1.2404672265662711,5.0455320655147062,1.6089069086415782E-3,-4.5145264067394066,0.31629457053369164,6.7960227821218666,0.43762267915176389,-7.1143134864918949,0.32555197259810126,8.4338900151237368,6.1138462528548501E-2,-1.4287257186058469,2.274235107154408,-7.3195192322527873,1.4287257186058511,-3.3352640216236864,1.2774720854651394,7.8675547832802408,0.16732631849920165,97.727307793189638,1.2404918766296877,94.869195868327054,2.9619976188177741]
[305,"PRKAA2-B2-G3 (AMPKα2β2γ3)","PRKAA2-B2-G3","AMPKa2","AMPKa2","AMPK223","CAMK","34_10",74,5.5804919094204877,5.3146761446059561,-3.219927620725656,1.2346798642240853,-0.53846132831388616,2.4125580874378096,2.4680641567123871,3.4108085231345959,-2.3402344121126646,0.15805975176848219,-0.38142802261127429,0.32243016299874255,-3.2188134570001665,0.10564733000384345,6.0138938876401511,1.9801845727595622,4.0690212482768544,1.042381110831939,2.0114153998133872,3.9103232533889392,4.0900725931861643,1.8076993596316686,-3.5028264090884278,2.952637067120365,6.8308218852497902,5.2852457235211387,-10.325997475440445,0.44179792547060287,-5.5046375061741912,0.34301081170078168,5.9215396002961,1.4409985128243368,-4.3555911693003395,3.5895938448583826,100,0.66818506119312915,96.748585824975038,1.1218329609735236]
[306,"PRKACA (PKACA, PKACα)","PRKACA","PKACa","PKACa","PKACA","AGC","20_07",14.57,4.1512776134968448,2.3882325658786887,7.0321393235954304,2.7117886741066211,-4.9175967790750263,10.284503687476985,-6.2342415183463373,1.4904731002053215,15.788801770269259,0.46278072704448631,4.1515951380063285,0.41711473914035019,-9.9977189037703198,2.577638739531396,-5.766340520810985,1.3955770941324384,9.2292120357022469,2.6163236511977317,-12.721999543780754,2.2094046338840521,1.4783915590589913,0.16562892985308378,-4.7381627399224584,3.6367191318799628,-2.4629635309634068,3.5794252062693661,-5.2139342392536037E-2,1.5772151073744602,1.8704989083325358,1.6391305764656008,-11.713645983498466,3.8493390178817894,1.1379320921387546,1.7943134067416995,22.579593964871123,2.7177632222113632,97.371407539183508,0.13188970340152736]
[307,"PRKACB (PKACB, PKACβ)","PRKACB","PKACb","PKACb","PKACB","AGC","20_08",13.12,5.429878060409095,0.64923582743087072,2.5339605744435119,5.4487974881583092,5.0605120928831298,0.49418145618068521,8.1014447405617034,1.8283143254820302,16.16782296263527,1.8536701157734579,-1.0769179475210962,0.64348347947854334,-5.0211716067082364,4.130963891574706,-5.2851499550776566,1.2193208881790112,-11.066584903238692,7.2888293093367089,-3.2374220651485359,4.1676391157936772,-8.666447997033714,7.6325209281099928,-7.9085119861300939,1.7704130963891629,-7.7195134125297784,6.1893013505226735,1.5903710865868703,0.30673823892241764,-2.9406861601040362,1.7470743173407184,-1.4974116170619425,1.2834956717673653,-1.7327191568859632,2.9235179190256888,38.939085786683556,0.7635114860134018,98.320046776286702,1.6656921606936574]
[308,"PRKACG (PKACG, PKACg)","PRKACG","PKACg","PKACg","PKACG","AGC","20_09",12.31,-2.5995393221454606,1.4025995393221442,2.1190851999865572,2.7269368976055466,0.69512997696610057,5.992925304376433,3.9459985895153977,1.0041307049064647,4.9131880310306713,0.74890015783994301,4.2250163875811779,0.3217925034264969,3.0570287825516829,2.4313211370001779,-2.6016693304919158,4.2132836085952778,1.8935357840525455,1.5427987923992277,3.5635540194267321,1.144151123294221,-0.79692772154147917,1.1920618007458705,-2.0558965496692849,1.859245575353071,-3.1788314686556589,4.0712129284319145,2.6160538704487237,1.4063524223824668,-1.4719027471545161,1.1322328824265382,8.8749778014562253,4.5240632214526775,-2.6305274374001328,1.1365654413070507,17.108634765508626,0.32179250342648918,92.725537204759362,0.51278636121470333]
[309,"PRKCA (PKCα [alpha])","PRKCA","PKCa","PKCa","PKCA","AGC","31_01",21.85,-4.6234504909915444,2.4812887900028451,-4.0043490078825954,0.76542538733351895,-10.760727370058731,4.1624705154156292,-1.460179396575171,4.5490622451753246,-7.2497961402555262,4.1054634411524935,-5.2223412206542861,0.46330742800197294,-3.2883592288339685,0.45844824733846284,-1.3605098847856283,2.2776103476618141,1.2071791470196871,2.9221762390229071,-3.4586412101775466,0.46906541664945656,3.3980302527794066,6.2793503391060685,-2.9089639524631394,2.7598320464930879,-1.1249861810071593,0.69359327459661835,-0.42590858954277167,0.72957929326167192,-1.331696379292481,0.28056852975517649,-12.708907121948414,4.2343797315029796,-7.448076636529251,0.15861800458550177,46.974205053491708,0.87123985786476144,95.174167375641076,0.87768629203977822]
[310,"PRKCB1 (PKCβ1 [beta1])","PRKCB1","PKCb","PKCb","PKCB1","AGC","31_02",11.81,-8.5951048989067118,3.7047608174449076,3.1074358808708382,3.098822059995272,-10.690228825860757,1.7061362734384782,5.3836380472468051,1.6926158020543949,-0.52328961819237918,2.7284277623446833,-2.4280821974342928,2.8809629540363262,-9.7129891161685578E-2,2.3843562064906823,5.5792487289599819,6.8680586406041844,-1.3924675452884827,4.6028925415864705,-12.426930753217874,5.5421816524999121,5.7460881583493659,14.050051828816748,-3.4439118728343487,2.1325035781438593,-1.88706254010566,5.7678069006367529,0.51245458192258297,2.2139300813357043,-5.7062521357433127,1.5094855892010197,-5.9583395034305795,5.2046004245026891,-5.9183572733106331,3.4503183770176236,30.118747327741474,0.99734053529362443,95.675502245915396,1.2586998371094325]
[311,"PRKCB2 (PKCβ2 [beta2])","PRKCB2","PKCb","PKCb","PKCB2","AGC","31_03",19.09,3.5883538465223523,0.3437113987633918,-7.6644942415855724,0.80707079725024466,-3.8841612175834825,1.1568822690084768,-4.4781715918221749,0.37050263369341974,-5.2379251852512994,3.4898669761628427,-5.338216810082514,0.71182793523999377,-6.0820705194580427,0.9090133494317747,-5.8987927087301557,5.4235702782314252,20.387419429054191,6.7251517128751521,-13.110651772477496,7.9389430560990304,-4.2619154481234602,1.7858557209614534,-4.1854186002065887,0.22998914235494888,1.9906539588668579,4.6496366057049139,-13.244745115032188,1.1754107402777154,-13.529139175716224,1.1406361952447073,-5.5789604697913404,1.0956517147609348,-8.3371363699795467,0.41374524306118732,43.721249736468067,0.49355996690064174,95.692448112122321,4.2996315140360584E-2]
[312,"PRKCD (PKCδ [delta])","PRKCD","PKCd","PKCd","PKCD","AGC","31_04",29.09,-1.0040157700653367,1.0089970244330602,-3.9607038899179798,0.82032283672929074,-2.0941779391964843,7.1746178718616456,-8.6656522889653189,1.4673193966657883,-5.8924318602804959,0.76078327599894258,0.54883469253661588,1.039693889382757,-1.1479148146716653,0.6454605186874337,5.8252542392993973,0.77606768639270762,1.2127540909684171,2.4468678430302249,-1.8088354655432113,1.8397557299114904,-0.32573483167401207,4.6255532745547088,-3.3587137170022601,1.7083446063463892,-6.3005066986270606,1.0614564915570004,-1.3179762686970946,3.4823947744753143,-9.5968770532988117,1.0899393189811828,-7.192865873194819,3.2828612452682502,-2.8176952925680325,5.6365772329733173E-2,90.190546129169405,0.23576701580798523,100,0.4206666587556811]
[313,"PRKCE (PKCe [epsilon])","PRKCE","PKCe","PKCe","PKCE","AGC","31_05",11.37,-2.799540405062686,5.4175050900736176E-2,-11.680411050349633,1.2009197386431893,2.1931965661352137,3.1239953802374112,-7.7379419162120797,2.3001557621895743,-12.255989427051389,4.3191304289191743,-2.2945965951146974,2.4189489267209412,-0.19245003700957852,0.3538119911176878,2.8599219838954042,1.3622734975883342,-4.9256440339740806,5.2450287295809472,-2.3464100666172811,1.9378238341968796,-17.598247144590488,2.0226026092275715,-5.5588452997779001,2.4470762398223593,-13.802733571994409,2.8198108761268692,-3.8608438193930255,0.33456698741672997,-8.7120651369355784,1.6417468541820881,-18.341305416002314,1.9885081676243346,-9.8427644575473892,3.1346830721097465,60.800888230940053,0.27535159141375409,97.61439186546734,1.9529095594797583]
[314,"PRKCG (PKCγ [gamma])","PRKCG","PKCg","PKCg","PKCG","AGC","31_06",65.13,4.4017607042817275,"NA",-19.325290136049844,"NA",-1.0137388288648594,1.240496198479383,-23.575665049921,1.9617114987097455,-17.940473134550189,0.59040490698082748,-10.124435311577514,3.2470603584650211,-13.190469201037217,4.3201722197759187,-5.0903057234947369,14.536646768256709,-27.227127953769582,10.663131997024788,-12.370142048697744,4.2891857070632904,-4.6135067610092619,3.3356855415482687,-16.920266810183136,0.41750248707537152,-29.689317796044435,"NA",-18.921343183782625,0.54634114519627663,-20.43805143761108,9.1866855847481048,-13.052848397001853,5.178036732592072,-7.8595540976102569,5.9561726393683294,44.19981408092373,0.30986512712624609,82.129574886045049,1.556271813552534]
[315,"PRKCH (PKCη [eta])","PRKCH","PKCh","PKCh","PKCH","AGC","31_07",18.829999999999998,-0.96892704786768036,1.1252242085653963,-11.920838336712663,1.9377021857385652,-5.9439060448359413,2.9613794137606875,-14.906789503730394,2.8373261940851857,-5.2812719410487148,1.1118985281862555,10.225490440151361,1.3244373630750859,0.96967735510853004,1.1887572196773544,0.61063467637586655,5.1685572123057515,-1.0271805903074096,6.1551240657820019,0.99177205735908558,1.1395887273451477,3.2478744117130702,4.6615998138707075,-0.84271061541525683,0.10362726548498442,-9.2462580258050195,5.8251119428876983,-9.8172052380003834,1.2715345548695483,-6.4027957578171737,0.71978938458473918,-4.3550579409039614,2.6027486724002027,-29.702519684396577,1.6965929360670404,61.87325731925911,0.36658534156542533,97.419292953618708,0.3057255164475437]
[316,"PRKCI (PKCι [iota])","PRKCI","PKCi","PKCi","PKCI","AGC","31_08",22.81,-9.6718272980123174,4.742107990793679,8.9271809431993461,1.0000900504812367,-7.7210317038230727,3.9287484356294042,-3.9828798143900599,6.8862132713209297E-3,-4.235021161863088,2.3752138698929537,7.5918658580092711,1.4752051373528363,0.78368414793673935,4.5231299797835547,-4.3369059756794996,0.23624201128988279,0.92258722303733975,5.0530922835898826,5.2134617671542429,6.5055297895112298,5.4111854375450861,5.3912913734364487,-7.6281365203948042,0.27351647044832833,6.0676895531295969,4.1628329147290666,-7.9129504102747035,0.63622309430371948,-11.095849684861449,1.6000713521227239,12.617810160893242,4.3667470718424379,-29.157237709198483,5.301768084947649,-4.2234510643358192,3.3779284100368621,45.699152015517377,1.0071369954989711]
[317,"PRKCQ (PKCᶿ [theta])","PRKCQ","PKCt","PKCt","PKCQ","AGC","31_09",16.170000000000002,-7.2962791588064846,4.0859605799967795,3.5874350924993621,0.97731445833086528,-11.827275586975972,7.4943267248536118,-6.2706075144622986,3.4887164603447283,-1.6091137041205172,2.4363758415763366,0.83823949901056949,0.41431601440891053,-5.4716752301905558,1.7183950647391113,10.74453213497361,5.406109494535051,-0.11025281388909036,3.5576303553443496,-1.0359864408643489,1.6266740034786569,5.9659797962881527,3.9711947078649237,-3.2344767750455645,3.2994376765699855,3.333635714468457,4.1523907880750235,-3.1788614705910447,9.5501854470897082E-2,-8.6387360431854887,0.76398210162674252,2.1669097345791357,3.2122180586665925,-21.56372915023924,"NA",41.594011878237531,0.82743723269505298,98.23037255681858,0.72990154005038144]
[318,"PRKCZ (PKCζ [zeta])","PRKCZ","PKCz","PKCz","PKCZ","AGC","31_10",11.17,-0.91555987658995264,0.3185405760601111,-11.26454750738236,0.77965286407181966,-1.4182872581326933,4.633250848260853,-4.7019681725257669,2.1271762803810756,-9.6965567002044679,1.5018505899172816,3.9575314210407413,1.6825947039566049,-1.4568411674219135,0.46658824457481279,-0.21532926297427935,0.71412996075011026,0.24712894316034806,3.6860372147114524,-4.2561386168478066,2.7791118814109526,1.1784052914668024,1.5372873964239091,-8.3505606715530263,0.50765543467416441,1.1647768571013444,4.1130614914958317,-5.3881545518456164,1.3981406075623779,-10.055197087709786,9.3735281356668504E-2,-2.2068978049135097,0.29709986916701037,-25.168992586131694,2.5812254688181566,-11.617606455669517,1.9461671782664243,24.304949847361556,0.32072248873383669]
[319,"PRKD1 (PKD1)","PRKD1","PKD1","PKD1","PKD1","CAMK","16_06",11.23,-9.0640388733680339,3.9064691111086911,0.7201361622641258,2.7625701241804963,-0.88660847256797126,0.64615016686415194,2.6390655434508687,4.2427817409844959,5.976761476402018,3.2012878885632432,-0.50846510588365845,6.8614851651114801,1.7935966921830726,1.5142202603788377,-2.8626455397006083,3.0639936969272501,17.552306749540392,8.0539262890659167,7.6772643459797933,2.1707548751187224,5.0862295368992392,2.4424406898362978,-3.5620495055036656,12.633402246186492,-24.056727654731674,4.7097960255624605,-0.17880091635467465,2.7602391462256173,-1.6427334190087635,2.7099513885008468,7.6687385100236298,"NA",1.0417578569552717,0.42895911756981508,20.503436330111228,3.8079007654914232,84.539963232075635,0.98047798301671985]
[320,"PRKD2 (PKD2)","PRKD2","PKD2","PKD2","PKD2","CAMK","16_07",11.87,-6.3639841856905974,3.3573523785231538,1.5826369377933531,0.39740595749005686,-15.138375207243982,6.8390511414360411,4.1612235953700178,5.0972554217224566,6.1865754277354057,6.8598577638137315E-2,-3.7644215422499769,0.51643941812212002,-1.8594099138127689,5.1769346527429514,11.707245954220738,1.092238907518102,0.24906448947857029,3.2426981581377281,11.281864198093857,2.23676410233025,11.404723720658993,1.5612091169752638,-3.2856035386930529,5.1700943955492642,6.2800699810467933,3.5318559556786666,2.918509735966083,1.4455743535956929,-0.72734734826029523,3.1111769802544518,12.1300481119697,3.0422316178257383,4.7200758128007152,1.8284978373912644,52.243604359523914,0.96447626430753408,94.914224619721054,0.645137775185888]
[321,"PRKD3 (PKD3)","PRKD3","PKD3","PKD3","PKD3","CAMK","16_08",9.5009999999999994,-5.2084764503065344,1.1115690854253049,-3.0883084806369823,1.6676497152231322,-6.4901502809999556,3.9052124019444281,1.2833391701841634,0.5543472250382615,1.5049858993972975,4.2587506681658303,3.4433238143972318,1.8240042257473628,4.2637130453442467,1.1109093610207863,-10.786670535085193,0.75848634310110674,-14.782194222240662,1.195755792265925,4.6301645730509478,0.60249913339165506,-3.3738135698594931,1.9376631989057786,3.6100427526782397,1.4674567933840506,-64.985286193890715,6.6108509139138762,-4.0639804559185251,2.6064277578778756,-3.3591390039781288,2.6146811706640745,-12.185518299001146,1.2682886392838078,-30.21925643469973,2.2070709164007085,76.514088575626019,0.66357438800944379,93.362208314336641,0.14713806109338001]
[322,"PRKDC (DNA-PK)","PRKDC","DNAPK","DNAPK","DNA-PK","Atypical","28_12",19.28,6.1720384758877032,7.6497591201803852,23.13790740921992,0.91220514828227306,4.2790637317718137,4.4656036594267556,10.075364588431043,0.87696975628854279,25.42037780170304,6.1603210335715,-1.481642832058256,8.1216965321645187,7.7064986908376483,2.4538459144799178,-6.4556011142758791,6.070612538733597,7.8437509781213919,1.2238254718457513,-0.31162064964681235,11.629984930185385,-4.8389620958402446,3.336567654699675,3.9714962681093482,1.5625486212675583,-3.3678675388901098,4.7372374722213442,4.2359959636012832,0.74282183389419143,9.9082919543193526,1.3767320284681699,10.574665873736279,0.86387680365582564,5.6073742527152746,3.6417415255563572,-4.5342804941476373,4.2973421114632808,10.596575792669555,0.40846348868508975]
[323,"PRKG1 (PKG1, PGK)","PRKG1","PKG1","PKG1","PGK","AGC","28_01",19.3,3.9415655606971001,2.800205273547419,14.091557823717679,0.33788167113571588,-2.6358625133763098,0.30484871281236448,19.477661966957854,4.0497145575642239,13.341730819133275,0.36437159415275272,1.8789291326370829,3.6519325651251924,0.94679733169910207,0.32291093373656587,14.158707579760232,1.4427961796382729,14.773420036577946,7.1123755334271538E-2,4.2928001039690997,4.1663031697289618E-2,7.4171916277179548,0.19305019305019561,4.3060475479124847,0.87346967789324703,10.074171916277194,3.6171509855720316,2.4900168483074197,2.606228165501864,8.8902555177040057,3.3277830492313067,20.686852265799644,0.98557203820361028,20.437919122129657,1.1074984759195279,63.950473946155064,1.6461295384612058,99.268441373704533,0.4216622637675268]
[324,"PRKG2 (PKG2, PGK2, CGK2)","PRKG2","PKG2","PKG2","PGK2","AGC","28_02",35.630000000000003,-3.3474140756114821,2.6160885410977213,0.74810941746427773,1.3544251447477009,-12.527681506271151,1.6433877198383291,-2.4370790499816053E-2,2.5094529126787313,1.303468037339016,0.96227697034146731,-4.9940967320953007,6.0273384036262607,0.2281238617487702,0.78931857021885421,2.7936729382816594,1.4778985937733515,1.8251434397170101,0.39745353779641901,-16.820470953169576,1.6730751289586283,-7.2963577618421454,0.58717340395767603,-5.3818929991138873,1.5136886827759315,2.4437451851397753,0.88765901016054505,-1.3105504962641561,3.0983309640431589,3.584175453057469,1.0053964054228006,8.4327605965252701,2.4866717003116023,0.52853271805329882,0.56226069425973535,99.725443531480337,9.8727374827664971E-2,99.626692626987747,0.42083315766679052]
[325,"PRKX","PRKX","PRKX","PRKX","PRKX","AGC","17_07",42.65,-5.5743834320446695,1.148086468552761,-0.52254015568463785,3.0688011204984882,-11.106323142520196,1.1168206736563697,-4.3114052020578413,4.4748112301241685,3.0391725549699657,3.9899801578394491,-0.82194436367159085,2.5414364640883949,1.5837937384898595,1.919162547252103,-7.5475878878535241E-2,1.6407348165382276,-2.5627176855910392,4.8114141686920373,1.3880003877096101,2.2564699040418628,-9.1550856201139652,0.59203556368016841,5.9881748570320923,6.1355045071241596,-6.5303946211318475,1.0365815658821358,5.1953087137733718,3.5552970824852106,9.9447513812154824,2.3960453620238509,-11.147925798209343,0.75891342431986886,-1.7549872937396458,4.5084719942942986,95.987205583018323,0.72695551032276795,98.874439989751906,0.80045977966582882]
[326,"PTK2 (FAK)","PTK2","FAK","FAK","PTK2","TK","06_03",28.87,1.5903043322013986,0.6658402548686374,4.9713295462908889,0.37803515392386666,1.383903274825002,3.6106389078442991,-11.524384940150014,1.1444763376757319,0.14653044019348727,1.5399077995677664,2.4885826676807454,6.7110167362425519E-2,-8.1619729700895363,0.37340785429867002,-1.6862842866312064,2.793499574760034,-20.490555428838164,0.15365220143467193,-7.5572931544188009,5.1750542904046126,-9.2044564442864782,2.5006939987234014,-5.2672877511899401,4.4743553121999362,12.45095595008867,1.4306098524832804,-2.3615895817488308,3.0967040303957432,-7.3859041116162842,1.7803122859787939,10.531629544365543,2.456313443418328,20.607430118306908,3.5635287315471507,25.36489002536419,0.53722549360388605,83.737797557478132,2.8428309489835901]
[327,"PTK2B (PYK2)","PTK2B","PYK2","PYK2","PTK2B","TK","06_04",47.82,0.70303269723872575,1.021811571142744,-8.0978949034504524,1.2899651788540702,-1.7449622696031355,0.95889709459483929,-3.5335549224438125,0.92493668882557767,2.5047483380816686,0.21763216207659977,8.1286463035071819,0.64942939139573752,-6.8001455152993202,9.3102844285156134,11.734988512623673,8.2252107403853003,10.255547384908127,7.3672927598369728,-6.5549252886727345,1.0509438283997328,-7.3623072800468634,0.63024773679989976,6.8715558010752034,4.0111022783923245,0.24761216290887944,0.52056718141745284,2.9008744391597929,4.3263854269122479,-1.1708592139479066,2.6462226653552317,4.0519486994129608,1.1337811956011441,1.4532673588174418,1.4295863298144222,92.435899163287033,0.45675635618911586,98.162435240694805,1.938105268405768]
[328,"PTK6 (BRK)","PTK6","BRK","BRK","PTK6","TK","06_05",732.9,7.3133350362612504,2.2734087804444565,6.0961231708162842,4.0224703516193907,6.5103674992503358,0.82073721971102098,4.117252698985169,1.3754999190882418,1.4587234436044696,0.47622350139861735,85.576636049112054,4.1840185173405271E-2,27.328002583814936,0.93883503222428244,22.756160667185824,1.2559973875259972E-2,2.1502675274435603,1.9920118566153591,0.95840938786093943,1.9080103156854271,-0.88171016604279373,0.85910221306738854,3.6283514967041555,3.5436924085755299,7.1742570775453061,0.16579165515334199,7.2775007462722954,0.96795188623384454,9.1001179354926904,4.8791528218880433,4.8632218844985005,0.9520460197442826,9.9399633248763308,4.0116556557562255,20.900028872174545,1.5201933946336867,9.6611319048456465,3.79562410510187]
[329,"RAF1 [Y340E/Y341E]","RAF1, YY->EE","RAF1","RAF1","RAF1","TKL","22_01",125.6,-7.9342753020906542,2.0700033934481712,4.5531005798726767,1.5643076661012227,-0.81688658505996159,1.1503297546389408,2.6921138736487933,0.91842745913565493,8.9543128473380591,4.0988551595891911,6.1374223602484363,3.5925022182786126,7.3685669920142232,2.0907275953859754,9.8294098792692211,1.9872502582000775,5.7160155276185378,0.99006374870899727,1.1917701863354182,0.80523513753327003,1.4387976779800056,2.2294241247907642,11.480146406388627,4.2169476486246777,2.8134905089212765,2.1938103208803703,11.079747116237797,3.7089618456078095,5.4514196983140977,6.3864241348713335,8.2695252679938847,0.44517254887994878,4.4552868691905161,9.2595890167027101E-2,-2.568766637089638,5.5301685891748091,-1.830549520994353,7.0586559350404325]
[330,"RET","RET","RET","RET","RET","TK","06_06",22.5,5.4301857943940348,0.32165324072756729,2.6582278481012764,7.5817853033042866,3.7036886429161058,0.25394747008138191,7.9368732533289688,3.4423804044057276,6.986684201874084,2.082853855005748,9.5262114934245972,1.4411817690506172,-1.1385335975499942,3.9542424788326507,-6.8782240911424566,4.8006258709630103,0.10757157176733756,3.9126714421924986,7.90848495766528,1.4321743829940534,-10.619758941886886,0.12077353739334878,5.1558277787785869,1.8483156188074195,-2.859447962252176,1.06055790528812,7.9210952981444791,1.196180868312015,9.4181228607457967,0.96198883084128783,-1.3505121873701142,2.1455638950688161,-16.530816810502898,2.0032760433220078,57.659881102504052,5.8511979823455347,93.952032858225564,0.9114245898833867]
[331,"RIPK1","RIPK1","RIPK1","RIPK1","RIPK1","TKL","28_03",530.4,5.299659774928017,5.9713861990752983,3.101889278122087,3.6851402736608749,10.551339090988392,0.55395620692663683,-8.6978652055450993,2.82583310877571,-0.66888230186530961,2.4198329291296101,2.5759133771680922,0.9436257416171705,-3.6204217608075595,3.1040064357286687,1.401720477383293,0.20247716346848574,2.4488166656060599,3.0435210200221032,-1.4759357594905822,1.9021730315720482,-7.7762800895527846,5.973654828501842,-0.21474054346872151,0.70325906078585254,7.4453745538271079,1.7158493338501322,0.81484629183303525,1.4269541551646303,-0.79019329892724954,0.62281245235646809,1.211970449904257,2.611376902562192,-0.20132015110583268,2.581873087313928,12.203880251330787,1.234920315688061,15.53057694421463,1.1049468063566263]
[332,"RIPK2","RIPK2","RIPK2","RIPK2","RIPK2","TKL","28_04",67.48,35.356386732533508,0.2163752812878649,66.724853211217152,1.8491230456499914,1.4953196362232148,0.22369875234683465,18.829770352066376,0.94156408454428264,10.711613883158392,1.6443366356086366,7.0078919365928272,2.3587631715980786,-2.7476999229037489,1.4797232162114033,12.137931034482762,0.63246425567703979,1.4398654331370864,1.6921783010933622,-7.1650633750034274,2.4850722881373115,7.5357443229604826,0.7905803195963037,-0.63249885904735947,1.976261035663248,9.8233809924306001,0.16148023549201282,6.8178324640644803,1.3822507092953724E-2,7.1736428621645985,1.0159542713334302,10.375105130361646,1.0731707317073262,9.5475189234650912,1.2111017661900807,5.1100378808190214,1.1783687296758505,24.423885618166523,3.3170731707317063]
[333,"RIPK3","RIPK3","RIPK3","RIPK3","RIPK3","TKL","28_05",110,1.7362561522674724,3.5288134977570356,-14.521220050699156,5.6930247771690246,-5.7481702112202839,4.9744828462977422,11.796549186360281,6.4633248834737085,4.379753046038104,9.8536266252350515,-18.076536553462304,4.0804606868828248,-17.487916540381903,6.3567771060313456,17.621359223300971,19.75728155339808,-10.922330097087382,2.1359223300970869,-16.652044218283905,3.6649172901146958,6.3106796116504853,8.3495145631068013,-8.6195345275886268,10.394965623953144,8.4951456310679561,17.233009708737853,-1.6749349965703857,0.1826476734355178,-14.772129081657056,5.3374595224042549,9.9029126213592065,11.94174757281551,1.213592233009706,12.912621359223369,-7.5770868892469139,7.6999154556620697,24.660194174757279,1.0194174757281527]
[334,"ROCK1","ROCK1","ROCK1","ROCK1","ROCK1","AGC","22_06",8.6,5.6522266551649807,0.29978524189490308,20.236309223055699,0.82941427960666947,-3.1967732370066955,5.3519921285313607,14.089937424695862,2.087916358972369,12.38524622021842,1.2002021065723507,12.732577342287769,1.5138170208081121,12.666519872288845,3.7542662116040986,-6.3551736484067334,3.391415045550386,-4.4118232088157185,3.7782949437084796,4.6735660024220778,5.2350544974127482,0.2028881728129619,3.510761029558028,2.6698227457888066,0.77617527248706353,0.57385527310339057,1.1835143414090856,15.727182648904517,1.9542001541340928,7.9764395023670573,5.5488274799075246,5.9295063054461536,0.44356924056171176,-1.583323387834696,2.1024784182678968,55.680942419905307,0.17064846416382223,95.325615626367508,3.67983450690215E-2]
[335,"ROCK2","ROCK2","ROCK2","ROCK2","ROCK2","AGC","22_07",11.44,9.5997044721438272,1.1642121859540513,6.1268369472360433,2.0608364289073906,2.6487064943769809,0.74605550287339872,1.2569470440867008,2.6132404181184667,-2.0502778817634777,2.6972288613086852,-8.5362237412991533,4.0172300777226377,-1.1572556731279491,8.8959640415771313E-2,-13.491246138002097,"NA",-10.753222770695018,2.2799105081856506,-0.88179292692824163,1.8548865374410861,-7.1984090344117533,2.4929862566142371,-0.72338233917032824,0.38237038424321784,-6.2076068042189121,0.34802372243332352,3.9087617442332316,1.4506664169553956,2.9387895246121474,0.55872896962886365,1.4702226641570917,1.3672360524166518,0.66408608260233848,1.9354380482261422,80.684052813933889,0.2278615351000407,96.33154586455484,0.23083206079761298]
[336,"ROS1 (ROS)","ROS1","ROS","ROS","ROS","TK","06_07",21.37,-1.942506514857925,1.85234829117111,3.5741783541418215,0.75559715575417941,-5.6780792012024648,2.841328064780241,3.4722746418282213E-2,0.2445689095547936,5.3239028366974139,2.2418816709189473,45.031912948450277,1.0388185618124686,5.1205293169650901,1.2871485004528584,46.44856325413609,2.203148539757565,23.923649984105282,9.9514865032967484E-2,1.1136577214027312,1.1021767139655827,18.885709941811456,9.5810700612292035,6.6547320885653392,2.0406427663274824,10.999156887949042,3.1955328882807486,4.6680925794421881,0.50176254725285396,8.1982897551143452,1.802518167631217,7.712402040054755,1.1236886843305398,7.3834501250846643,2.2363201614352128,97.074469216017278,0.45753940749497218,97.570178712111783,0.33724482038948911]
[337,"RPS6KA1 (RSK1)","RPS6KA1","RSK1","RSK1","RSK1","AGC","17_09",21.399436902405601,-5.465119297972322,1.2814378808615112,-4.8691772074921005,1.522971904646089,-6.2213716392390523,0.40223426390574485,3.0759699586475477,1.6244526879105003,5.5958860374604598,2.7380807589394354,7.2810100732420864,2.7411785496887697,3.0769532860761615,5.6060635812044746,-4.8204987196893114,1.4985650208802277,-0.40729347471173583,0.41244908831565197,7.0866141732283552,2.5310738900779506,2.9524480571929388,1.4177937410850696,9.0600270976103019,1.0819408172482181,-5.315437625668082,1.1170496141882318,8.5553831955544268,0.3789738252793205,9.5980521138099704,8.4454218783749333,-1.5398099297118222,3.8907697331110729,1.7889979205691589,9.1185619275120704,97.070316335146387,1.0465961081548099,95.50946055096324,2.3320558868514665]
[338,"RPS6KA2 (RSK3)","RPS6KA2","RSK3","RSK3","RSK3","AGC","17_11",10.89,-12.350676506048643,0.17298518850727038,-8.1714665319336177,2.1211100507120402,-18.101317677300088,"NA",-5.0770504687587703,0.17098935234566881,-12.543975373790673,0.46875877168360625,1.6331241434033075,0.75019836976124166,2.5477890788429676,2.2015436774147163,-8.3488279244852635,7.3541322078366447,-7.6609821479495963,3.1597558888952215,3.5879679723003619,2.4136189857895101,-9.1883876119317875,1.7863457480180291,3.4696674601457005,4.9642934429777279,0.25665887184167957,1.8080191638624368,4.1001226285796548,5.1431869003823198,13.802207314434085,3.5821972156099009,-8.4594764159014346,3.0787657560029555,-4.1898134945531069,2.1160098100724447,95.569501550890863,1.250811512659598,100,1.6198026578452061]
[339,"RPS6KA3 (RSK2)","RPS6KA3","RSK2","RSK2","RSK2","AGC","17_10",17.66,-4.720913141570847,0.73148628762998835,8.6746987951807313,1.3568118628359596,-6.3551939809128442,0.69688201828544427,-9.5792400370713722,2.2094531974050233,-5.4161260426320581,1.7126969416125939,6.0243852318652245,1.8734159873963898,11.747379957531365,6.5483937255976326,-11.696249591405149,1.3268010664818479,-9.9638073558891023,2.9513348745072348,10.339749297897143,2.5857935475032461,-7.7020624687400385,0.30836605374155218,10.480169874648965,4.2537160079457506,-3.8354750924507641,1.6993608197889829,9.7746420987738958,0.34591410370573444,14.788684156449079,5.5003767381327453,-6.7879914460910697,1.2811172066682626,-4.2875877740539323,1.0267053666720602,95.595588738954717,0.80484964723611452,99.029611805339499,0.18509839752046989]
[340,"RPS6KA4 (MSK2)","RPS6KA4","MSK2","MSK2","MSK2","AGC","18_02",114,17.855576756699108,0.37925026962324193,10.47421611816533,0.8344130603783404,15.783922158882149,2.1783187361484764,12.00829230370563,2.1508162736460177,16.076703809277035,1.0002591344907992,8.3228099714699795,4.7542210373696188,2.1514428698377088,1.4101304896871125,14.330871805769547,7.3593476066514327,7.611698454019006,2.3667853158370096,0.96814929142696826,2.8109068799401347,7.007384582691401,3.7175264304308486,9.1155698985079994,8.1216968336373405,13.511395633002181,2.4903044148116686,10.612225807960328,3.14765445956691,13.766895842102812,8.7741452691643325,23.795356744408451,2.9976624342559588,19.61562981458853,1.0997184295808355,84.006828492586877,9.3540994340769512E-2,99.407639589863464,0.75705254210274653]
[341,"RPS6KA5 (MSK1)","RPS6KA5","MSK1","MSK1","MSK1","AGC","18_01",32.630000000000003,20.138605961838792,2.7895192503564745,15.034213817967768,0.35391067618277727,11.540452909621763,0.71637129082637629,17.985431535575017,1.6636009123684681,13.868000882937224,1.0661467147376924,10.996737948532072,8.176875679594044,8.749546937296131,2.6531351939108294,7.2404437491241396,2.29639482553051,2.896682908674876,0.48082776809077254,17.854295034432752,1.1018484958318193,6.5659524318214721,1.0027774523250035,17.165639724537897,16.375498368974256,10.872037326753812,1.539200213191492E-2,21.993475897064158,1.3193185936933769,13.265675969554181,5.0525552736498796,13.889558938732947,1.1263729321304705,16.151723789373094,0.27889388937514792,100,5.3280173976078284,100,0.76523521046839937]
[342,"RPS6KA6 (RSK4)","RPS6KA6","RSK4","RSK4","RSK4","AGC","17_12",16.25,-10.35714574958898,4.3990248985619109,6.5692474034271413,2.8144556207201608,-14.795989989822445,1.402990635030763,-10.530454441204427,2.5163002522853177,1.7987615084695676,1.9036073523147998,-3.6331329628369389,4.7219386790669731,-9.4514385089382813E-2,6.8617443574911983,-13.377597250429602,4.4368067489454752,-2.3683799406342843,2.4730510857678532,-8.9183773770367907,0.62001436618653694,-2.6964536791126505,0.74519606311512909,-3.3080034781293648,14.131790858568666,-8.4627401968442655,1.6091235744414818,1.1114891686514596,3.2172696684435365,7.2171184454274027,6.888208385316255,-3.3838462740197031,1.2607405092954205,-3.7212935478831355,0.68895485080456309,96.117349060527019,1.9394351820347062,100,1.1826277144196222]
[343,"RPS6KB1 (p70S6K)","RPS6KB1","p70S6K","p70S6K","P70S6KA","AGC","20_05",13.48,-5.0261330905334205,0.13599129188809098,6.3923820600421664,4.1462528167478485,-5.4986006904622542,2.3229413807493633,-0.73271788907464952,0.47103292869084756,3.8394998909646034,0.30384531511230684,2.0816873346844886,0.94122496650750875,6.8805606128267698,2.631307753083028,1.5489221876917583,3.8223242740355099,-4.1449751578614098,0.58294898948911,1.3706159183813753,4.5618494727079124,-3.4224747124844299,0.36322967596347883,4.4450551337982347,0.76603345814297263,1.9606484688928845,3.7718482155228736,3.6927621861152318,1.4118374497612636,3.1500120229466546,2.4595513723334776,-1.6736277440171108,2.6297036758447359,3.3185534155466172,2.4743165937558223E-2,93.064477345333387,0.27137508158428042,97.827550030681522,0.63045586808923326]
[344,"RPS6KB2 (p70S6KB)","RPS6KB2","p70S6Kb","p70S6Kb","P70S6KB","AGC","20_06",13.19,-3.9223597652984097,6.2258022491180984,8.1677618109852403,2.0414529997855171,-2.2997112396457879,1.646933233496201,2.2481330551601815,4.5469612182424406,11.06518220991677,4.7185446604402719,19.645698844017417,2.5251463744182612,7.314217084521843,4.0174148025821879,0.55825081411576605,6.8828780930861058,-6.6236902151037782,3.3472896036862361,5.1193514487314218,4.3446929890406851,-6.0255643428369012,1.6548149132717613,8.2600210178651707,1.8615823449932396,-6.8385724729181874,4.2356172880529996,8.1158985137366813,1.720462393034081,7.4463293799729513,0.27923735174898506,0.15063910857092822,10.09503555526031,-4.2334020070446314,4.7451319199840611,50.743131661912621,0.4774057949256878,95.737799339846262,1.9848917835227395]
[345,"SBK1 (SBK)","SBK1","SBK","SBK","SBK1","Other","25_07",22.77,7.4924335476827366,2.5373505776193537,10.320445837687203,1.5221177290142753,-8.495620689931954,12.058958117579037,9.4252873563218316,7.1334029954719647,7.0637408568442908,3.0163706025775001,6.2374857097543952,0.25606798522404689,4.7883061185380171,0.57260105599132183,2.0122489876502243,2.4687698245655683,1.2071122389086213,2.8695595463250059,7.9685052898689435,0.56863613234915378,3.1298357117871376,4.2106636152893051,5.2479068507272331,0.28018793738063552,1.360669247689259,4.5604652955231231,0.95059044321239128,1.4818902112643462,2.3693722865053957,0.44968842308378859,12.979420989286609,2.6241054859575459,11.711241677388003,2.8292434204675589,8.0920787433835244,0.98858762811659451,65.012717366171216,1.2924875642538254]
[346,"SGK1 (SGK)","SGK1","SGK","SGK1","SGK","AGC","16_12",17.18,-4.1935374572232007,1.000289884535601,6.5252827951854897,8.8913770108505361E-2,0.43106206917323675,2.0062268704140771,24.732847051849902,1.3435858594174497,22.039089127821782,1.4786030658785172,-11.196653205891735,4.2198076755469005,-6.7023038261526011,1.8535196536997711,2.1831558042968027,5.7395287958115357,-4.0560119155082077,3.232081603177464,3.651840446239234,0.75244763371197609,-2.7249954865499149,0.86680808810254106,-0.78004706429211979,4.0062752389529734,-2.4537371366672858,1.2168261419028679,-11.844513523720948,2.4621597280729901,-10.913395892042615,0.42706487318787134,-2.9536017331648026,0.4046307997833441,-2.7263495215742921,2.1089095504603761,25.804014990848628,2.7207228145608848,80.394475537100561,0.48745260877414631]
[347,"SGK2","SGK2","SGK2","SGK2","SGK2","AGC","17_01",60.95,-4.8126210274518542,3.1851577628431471,-4.2478716600476929,2.2847820342449165,-5.7758571591297425,0.62364734024376434,-1.8585395930590778,1.2733657834167493,-6.5640570008310135,2.115127585506984,2.6555929719260973,3.0970285973513922,3.4634376145028369,3.4878648823129077,-4.282792809192415E-3,4.5611743417882851,17.328179705986273,"NA",5.0267827543489432,4.594071153141515,-2.9754703041853787,0.40793601507541971,9.9924973391726155,3.2680194720220519,-4.5954366842618128,1.7302482949131097,15.387433915516567,1.5930068221869376,13.351246663060735,0.37862265105647858,4.2785100163816736,0.73449896677623716,-0.80837714273478412,8.1373063374620871E-2,29.89723099471324,1.7308464048296162,48.639677933980757,0.62314635373727334]
[348,"SGK3","SGK3","SGK3","SGK3","SGK3","AGC","17_02",14.25,-2.3135370881460915,0.36457800947221225,-1.177696355080144,2.4901453453036315,-13.347984599134534,1.6457119492998,-5.1192109330230835,2.0258044350287392,-1.9653741295778531,0.51157379269626768,1.3050150785048089,1.9081552710374599,9.9968877107502863,3.1079964369654123,4.0580265292323503,1.1761428434624408,-0.69616745163247629,4.045258139123213,3.4267377842647022,0.82314684639242897,-1.5240814739365192,4.5411940185896151,7.1604116807435219,1.79868854570236,7.5684632371931571,0.81427506014201811,9.9045922364481243,1.3457967997080806,9.946447160840961,1.8319578445787132,5.9193095783239187,4.5220414334259047,3.9692281798369606,1.5754452250573852,10.023717790489272,4.7317528627695005,60.077016607612862,1.997382480027633]
[349,"SIK1 (SIK)","SIK1","SIK","SIK","SIK1","CAMK","20_10",59.12,4.6088929375569307,1.4618174318076311,7.6803729214499441,0.9246503861406774,-3.0216049913201743,0.64797786218866982,2.7676894176581044,3.9421136853823153,0.55729492798997171,7.0521115981353937,1.3297993876525283,5.1044189553534691,-2.1889137686788871,4.112781611296441,5.6981454744249334,3.4399136517192548,-3.6676992949158347,1.8615343640925663,-4.6565827354567375,0.47982452131792708,-3.6501773223622536,1.7690183490096538,-8.3215281268564354,0.49353379335560055,-2.2280940299135352,0.3434306620502211,-1.032765160169987,0.69917287392039396,-1.1561486085088717,2.7007265914179976,-2.2995836779321053,1.1606554619492682,-1.9344257699154639,0.9987524355541868,99.054060229401813,0.66718457249919993,99.831088184583464,0.77096679235761656]
[350,"SIK2 (QIK)","SIK2","QIK","QIK","SIK2","CAMK","20_11",21.63,-15.67871242028545,3.882477983601587,16.673182173573096,0.46667318217357362,-3.0382629820832108,0.35529911934404818,5.3313135261923321,1.2595289288506641,5.3850664581704422,1.7103205629400119E-2,3.436266542837231,2.8372416995588527,-4.1467378685860439,1.1748316693754339,-1.1088351768401026,3.8768264372525048,-2.4935135873275982,3.4562337839683108,4.5971674019038602,1.89923380543302,-1.3368837907960796,3.5900587191041895,3.5477130253076297,1.1562572556303683,-0.97364468114163571,0.86576539669536712,4.3371256094729347,5.251915486417464,3.0972834919897849,2.2382168562804794,3.1230370066912343,0.43424825891027952,3.7457326232418211,1.6386726751331422,99.219874622707223,0.26932899930345977,99.743274614229136,0.74559606718557969]
[351,"SIK3 (QSK)","SIK3","QSK","QSK","SIK3","CAMK","20_12",64.38,-3.187439221723082,2.2122308531203094,8.2379574896239376,4.376807948685685,2.2516013968668886,0.64803915006871093,-14.803169412652508,15.85964029681802,-20.8891963275059,"NA",14.170702761651228,1.3599769060525413,14.741636462777038,2.0912852423260699,3.3566575398032512,8.3662914511712767,1.9369232329378292,3.6000405638373278,15.652564390416018,0.72168585816466713,7.7375519724165969,2.3121387283237134,15.011065849825187,0.56131122301696856,9.0051718892607369,2.6467903863705544,17.468005260288024,2.0239278955640332,13.259774834012262,2.0399653590788045,5.0096339113680273,5.2225940573978269,13.112260419835707,1.8760774769293165,98.534175834749973,0.88847547871828558,100,1.4400162255349358]
[352,"SLK","SLK","SLK","SLK","SLK","STE","16_02",15.87,-0.25522671734999847,2.4212091862166307,10.701982014227553,2.0155697731645161,1.4939962149610295,0.88385117583410955,0.53017762068809304,0.95074045903986404,4.658628249295333,1.993199409422395,-1.5065008940623557,5.096738246052487,0.42569957173596151,1.1215994740535407,4.1220089730807672,1.7354187437686932,1.1122881355932321,1.8008474576271267,-0.21681303489290826,0.6380830930127952,-4.9850448654037507,7.8234047856430751,-1.627962820061498,3.8588057565026439,-1.9940179461614917,6.3559322033898287,0.3907297273984085,2.2089285006562625,-2.7250834030787416,2.3450777612771891,-4.0534646061814357,6.9541375872382929,-2.2121136590229327,4.3027168494516559,97.611326499448637,0.67538426030619514,95.248629112662016,1.5547108673978081]
[353,"SNRK","SNRK","SNRK","SNRK","SNRK","CAMK","25_03",21.16,16.408480651236246,2.3661988943563559,-1.8850524562203645,2.5658925490351621,4.6503857602818783,1.5491160925824687,-1.1463022826884668,0.40874204232195771,-3.7167562421910816,6.0091624853742809E-2,-1.1460636754880227,0.68002948379580008,-4.0183560406115504,9.7486744180518864E-2,-4.0670863293247521,4.1884183851643568,1.0588572400762928,4.1615551993696087,-7.0428228356753948,2.5964762108566943,-0.42130429721429152,3.4134154749859014,-2.1114202154219299,1.0794873623891239,11.373425145732796,3.5351952505887594,5.4687685759787996E-2,1.5954537889055309,-2.9911786385143984,2.3063937037829634,6.2259910276959261,4.8510436347681134,3.5150478612426923,4.047834379505181,-0.99151152007989651,3.4405687519318997,61.045694279036859,0.81977488650304586]
[354,"SRC","SRC","SRC","SRC","SRC","TK","06_08",21.29,-0.56179775280898525,1.3370056909382855,-0.957453034470646,1.2208111429741935,-1.0032102728732042,0.8919451335181714,0.92233862000352929,4.0124070931117242,-4.9089951425060008,4.108386492655244,2.556526662184595,0.90053430522628464,2.5706804430132877,1.2154559286649389,-2.3176217484842425,0.48894973596714431,0.34552448008344072,4.020253384618537E-2,2.245143483953143,7.2255051130533152,4.8558141556381429,7.4179107721059641,16.351155302360127,18.746682707618277,-0.98224569180952415,4.0191668296499135,3.641060118184015,0.55907434273382151,11.480485474682411,0.5307667810763681,3.1184127605015561,2.3915074863637389,7.5711150227090087,0.49655562074885717,41.605038745975001,0.53607444888716005,85.656387856661667,2.310015863702541]
[355,"SRC N1","SRC N1","SRC","SRC","SRC N1","TK","32_09",59,-6.9093536821146557,"NA",null,null,-12.786578482587444,2.3437879604550389,null,null,null,null,-2.013217320303113,2.3021867265443396,4.8824985328264319,2.0164068280982885,-3.0580309294135475,3.3805951104986462,0.90297555249325967,1.2994436788648924,2.1746064147380935,0.27429767038350417,-0.51814423518601416,3.1088654111162088,-3.6966395345870353,2.4265775305554946,-2.6948399938753482,2.0082682590721084,1.1807557857671327,4.0449337858181709,6.740067872725902,2.9649664463779866,-10.411473485428473,4.8027356709028881,-18.717296993824291,0.97667534323483274,59.490699395269324,7.0169171493431187E-3,87.237891083550252,0.81968049813708999]
[356,"SRMS (SRM)","SRMS","SRM","SRM","SRM","TK","06_09",47.63,2.3387813583339465,1.2044714141280877,7.074388599336686,2.5184969202172165,4.8961275204424055,8.8293085744807986E-2,18.70466887779277,2.3362612530524469,4.7271932062543556,1.8004883915879974,8.1911623572610921,1.1256844281866121,-1.7339620104678488E-2,1.894562128229734,6.6925202610129162,"NA",9.764763253837387,0.53177902143371525,-1.3928258480882505,1.5070633452485283,-1.9425028446694483,3.4554025497527165,0.99818722153449357,"NA",11.911617862201879,0.32974943687155622,1.7237622339365117,0.45741361484716797,4.9862998456124785,1.0911906384596541,6.6170494391937211,7.3206697164619374,-1.6603580800223199,3.509973759375788,8.4749015953377693,2.8968292603771117,25.294336205094851,0.19274086803056067]
[357,"SRPK1","SRPK1","SRPK1","SRPK1","SRPK1","CMGC","27_08",25.75,-2.6852677914922936,0.41568219919412297,0.27011035937540839,1.5831039539011587,-1.4071290617599175,0.70307433960731824,0.50780747562572515,2.0718750803899901,4.9093200936382573,2.1325855992591238,7.2411315199102688,4.0617989343802581,9.0814287717330302,2.3288523555804854,-0.12451085023123198,3.8820704375667021,-4.0599430807541808,1.9165777303450742,4.7475287436904097,9.2014862591159444E-2,-2.9482390608324209,0.9560654571326852,6.3932802860347806,0.82769559730790665,-2.2234080398447986E-2,1.9699395233013106,11.123282389231633,0.6677650028042571,6.744689427930453,0.60160193494109504,6.6702241195301326E-2,1.5964069726076138,1.7787264318741336E-2,6.759160441124151,3.053140773976466,3.711704290521606,13.963002490217008,1.4274279615795105]
[358,"SRPK2","SRPK2","SRPK2","SRPK2","SRPK2","CMGC","24_08",33.25,3.3850684241724736,1.4324777390384256,-3.699187737215567,0.96536423476777744,-0.17604803396031343,9.025489358717903E-2,-7.6076294028126625,3.0237536441812236,-8.4137039549679997,0.62661581620491169,-9.586641832500078,2.7938437408097196,-8.8376956507531901,0.87573113747017717,8.5386769081921443E-2,2.0602764625690764,0.87915390140575767,0.43023204679048549,2.0978335457308361,2.7108453419599408,-6.7462876911124425,6.8404696638766342,-9.8643923798320259,8.0305852367414872,8.0182940236590952,2.3692079919084152,-0.35356010848607866,0.49341567820148785,-6.4444662288011045,4.1891317844655731,1.502880429205959,1.3705859071519664,8.0135299549978782,5.5534381917061211,-3.4382250106198597,1.2279841845570816,10.480218121051323,1.6443366217622692]
[359,"SRPK3 (MSSK1)","SRPK3","MSSK1","MSSK1","MSSK1","CMGC","21_11",49.48,-2.5701035547033939,1.8793597940278146,-14.69323394495413,7.167431192664421E-3,-7.2831730998860564,1.4745116234639082,0.7597477064220044,12.783113532110077,-10.905246559633028,1.8097763761467947,3.4463558303783515,2.4792661840987025,-0.83521378542332059,0.57732321308208001,-5.0266435868716712,0.5593456199300828,-5.4604079693174583,4.2548280894681483,-1.0344928640506339,1.8286786038742189,-4.7822692869022205,1.3060448698367464,-0.50405884593969574,2.8367962957535955,-0.92862233988394394,2.3018701422122687,1.6997333177035898,1.9400404419306623,5.7849544295636264,0.15532045834187697,-2.5740759596782397,1.4214438448223168,-2.8313477921461043,1.5667107898041612,-6.2890132755033079,7.2150748761832153,-4.2955571394630709,0.14662457998167444]
[360,"STK10 (LOK)","STK10","LOK","LOK","LOK","STE","16_01",34.68,1.2967226959824956,4.5704531620569862,9.2965896694018966,1.3960695030751518,0.39773627428675695,4.8219120644287434,-0.59605685465380986,1.9952884630587044,3.2459011209663657,1.2363831839238502,14.42009104887093,0.67834423708883429,-0.88938466640541947,2.4902770659350577,-0.15439557955717476,1.6531454621956851,-4.225014170315049,0.8815153022015233,0.70246314329638437,6.4940154963972248,5.8072211229844157,1.4323319644055599,1.5948626729777402,2.1043745666133948,-0.22568182687525962,2.2742051583424105,15.285356809068688,3.8590249932165546,-5.0257770810094229,3.4520184509632394,-3.612300181171392,3.0611357811755631,-5.3683760297385419,1.6027234823853216,99.867346015858175,0.28038228466339055,97.805426795978761,0.72955388718690506]
[361,"STK11 (LKB1, AMPKK)","STK11","LKB1","LKB1","LKB1","CAMK","12_06",113.5,4.6308001389490556,0.90442237653049018,3.4228379632935741,1.3240019995715238,5.7996913038651456,2.6282145402325567,2.6722845104620347,2.6701421124044753,3.3699921445404755,1.279011640362778,3.6931537609872152,2.6655161838623922,4.6870045690107531,3.5756797638044935,7.2222690137286065,3.8764423481849346,5.8009770066537385,6.6326960330160878,1.9227270600832753,3.0933086603286082,-8.7214688789691053,0.27583593026193309,-1.6498339250349403,1.9731473155112638,6.6642802998399588,4.4239029731323098,1.531840131404536,1.2054079622419871,3.3776373172265863,0.22299267606806175,5.647266908110808,2.0719279036469263,5.4851343384148947,1.6402762570538201,12.132568886024245,5.9313972648310864,43.373620820348691,0.50324265139392144]
[362,"STK16 (MPSK1, PKL12, TSF1)","STK16","MPSK1","MPSK1","STK16","Other","32_08",49,-17.859543548541978,2.6159533945776436,3.8062580368624168,1.9288469781397342,-16.217070516308695,1.7877148618802285,11.050150021431662,2.0231461637376764,-2.2203171881697301,2.6489498499785653,-1.0992633684976596,1.1811113132047995,-5.113222990178258,2.0757548199345268,-5.8943653594512,5.0795035489115605,-2.5020817637495583,6.1818470201038904,-3.3478082939250839,2.7009821753364838,6.6338871485784381,1.7645426067647341,-4.8142506365951334,1.7006184066933592,-13.588960704230914,5.7238589952020291,0.33762277191705437,0.73208439432519457,8.8793652237176843,4.5050472899236134,-12.187239779531325,2.2185653673817352,-42.98743011221697,6.5089813236052185,8.9498453983266444,0.31943433975992269,19.73710297791348,7.6192553233673115]
[363,"STK17A (DRAK1)","STK17A","DRAK1","DRAK1","DRAK1","CAMK","24_09",9.093,10.755442957802231,1.5412873090016728,14.644272504246075,0.90583128892244325,8.9766447628849591,7.0303222231025891E-2,20.928477071145494,1.648109706233887,16.71384537963138,9.530100018871476,17.589548364769016,2.2538501470842811,9.8676241564284624,7.0903270462017538,11.974026926886523,0.37235408488939248,-3.960159947173409,2.1148978319087273,4.8018688354386825,6.4197958124242991,-9.4207417733592393,12.18863494625638,-9.5431735594393245,5.7449385706869744,-1.9167981217212713,0.17242011812611729,18.125973351790989,3.7333448693545659,9.0673126838553202,1.0425679183249719,2.16442275945559,4.5672988737664566,1.909461095418024,1.5462782934076758,31.376535732825744,5.2431216473438305,76.956234638101179,1.1243992809714209]
[364,"STK17B (DRAK2)","STK17B","DRAK2","DRAK2","DRAK2","CAMK","24_10",11.56,8.4800895643705161,0.47420040027911436,3.5548708920187693,3.9568661971831087,6.6225490571969914,0.31010129668964298,10.80399061032864,0.70275821596244104,11.910211267605646,9.5363849765266864E-2,20.854074957831074,4.2374624593738419,5.9653597729049039,1.2794668202575414,-16.424584058063388,1.2963182194862215,-2.8621904909343954,1.779876332972103,9.795532151232166,5.4881309910725369,-5.2257970512972349,2.6003770114105023,5.0643847451351149,0.6376763895174381,-5.27588310824963,9.8806130533388617E-2,5.8007981239971826,0.23861439091619352,-0.88040482165632739,1.2259842843625226,-4.5714910163826943,0.97804409394322245,-14.175264773110186,"NA",26.885259390299069,1.5962479944049035,90.22957627195818,0.7572101155621932]
[365,"STK24 (MST3)","STK24","MST3","MST3","MST3","STE","20_03",36.340000000000003,11.47394677223734,1.3131791433354367,-3.1504134490534881,0.52848584250210862,11.766859653538987,4.2444203088611454,3.8770814824938924,"NA",1.7768058497915575,3.3144262967265767,-1.9068673231744242,1.7307214886096312,3.4094267576162451,2.5511591341663755,1.234170156873418,3.2812074050209388,3.4051200713736876,1.0755619439419117,-1.5853125110830177,2.733215902776962,-0.23047755941612991,0.77817154469530536,-2.8561633309295473,5.7702538155079344,6.029590344725051,6.8969790091943164,-0.23407298821359745,1.5687618957547784,4.8055893792336946,0.33810542741962812,2.2998190875071316,1.499343262868329,-1.2688657034522208,2.4931228470174238,86.089207816619179,0.60882620671718424,93.41280265668756,1.6306906892022521]
[366,"STK25 (YSK1)","STK25","YSK1","YSK1","YSK1","STE","18_10",40.83,15.138420208692324,1.7171644648669309,16.268400686161101,5.2140264092232789,2.6596603963239431,1.4809795615546593,20.253720030318775,1.9547612398771133,23.054214704591715,1.2406749910240658,5.4193133392297312,2.8061429605210284,6.7178580043419061,0.99702500603039457,4.344861178762784,1.7584023380418905,4.4958597174865957,5.0267900633219673,6.4444801801077745,4.502693575621139,10.053580126643936,0.77447637603507224,6.7098174800997157,4.3217817801720626,8.2075012177301545,1.2372138334145137,7.5178901664388746,0.83219425906570477,11.164267910267768,4.2453967998713358,18.490014612761811,1.9240136385776947,11.490501704822222,7.0043838285435953,85.888879954973063,0.8442550454289599,96.658548465660004,4.8709206039941376E-3]
[367,"STK26 (MST4)","STK26","MST4","MST4","MST4","STE","20_04",30.83,1.2874768802185912,1.4339973055464621,-2.3824866384224208,2.0223873851545791,0.54650215784626255,0.31092775972172348,-0.57936616699856813,0.61697977321035846,-1.4287338793621984E-2,"NA",5.8965485170518406,0.16985740788784359,8.2344130129375657,1.9247242876513142,-1.9722067100827871,2.3751652210245524,-4.9998192110369644,2.7805342514734326,-5.2024338070086884,0.62215782543357145,-7.4460947575218199,3.7411262750643761,0.31670819280530793,1.720112193999672,-1.6210743685443134,2.3868160653090076,1.4459907288204619,3.7138563505621898,1.9937441565625136,1.679483476839178,-3.6065389359163191,0.15748727446576247,-1.4374731327513217,2.552740158049728,59.85686943496713,0.6804086367841663,95.793643460059698,0.55522299314207268]
[368,"STK3 (CLIK1, MST2)","STK3","MST2","MST2","MST2","STE","20_02",55.23,-3.8902834126266157,0.11645894749132202,2.9867121784712651,1.7310739973180622,-4.6443478007063561,1.1406555558798785,5.9490430330366877,6.7536267219310071,9.7525295623526631E-2,2.5356576862123612,3.0710329097425841,0.72499185402411737,9.9055066797002382,7.2662104920169375,5.2231163130943656,2.989514752499395,2.1702023896610854,3.1845891246037503,6.0280221570543944,1.3115021179537343,-2.4335527920019331,1.287490855888803,3.3154121863799304,0.35027696318019041,1.3362594489149018,1.1606925140209721,12.039752362333004,0.77386770935158011,12.854349951124149,1.099706744868034,2.8139478176054666,1.0875396244818341,1.0875396244818347,1.3850280419409902,97.230368198110128,0.36656891495600841,100,0.36088758839307483]
[369,"STK33","STK33","STK33","STK33","STK33","CAMK","17_08",80.13,-4.8562646383930854,0.92117952786580182,1.4989535115982449,4.9519310099264322,-2.5269488956772506,9.4065779534518806E-2,-0.41077926476592097,3.3154721066694521,4.3246169389273348,1.0103027723981712,11.350003613500007,1.1490930114909379,7.4474235744742003,0.53479800534797362,-4.1864915296063145,2.5030197288954654,-14.470887215831596,2.8210112520077404,16.195707161957046,4.8637710486377097,-9.9631571427952821,4.2860668193487719,11.122353111223518,4.5168750451687414,-14.559206168472713,1.6033786328745698,15.863265158632643,4.2422490424224923,15.986124159861191,0.3143745031437451,-16.92455223589819,1.5453652031985208,-12.946735878708637,6.6819348777604981,97.073064970730655,0.32521500325215069,100,1.0202137838177159]
[370,"STK38 (NDR1)","STK38","NDR1","NDR1","NDR1","AGC","25_04",29.97,5.5584101556596579,4.5942269910835831,4.5523099709858883,0.37738656422673034,1.2996826356354916,3.8809128003627089,0.17178528192400222,0.14743776165130654,2.6275032294280436,1.2139944135967395,2.6902507235557778,3.3483190205471263,-1.1880500484296022,0.30842187490971895,3.6505545666164494,2.0265644255785427,-1.0214980145145915,2.3771052991921193,-9.808232842147703,1.8248561714222227,0.18348623853209745,1.936190606600021,0.88964145395401317,1.1829631735936965,5.4333835410105564,3.7162809804189982,0.88538901915423196,0.83115041680281232,-0.91727425669041907,3.353084956907606,15.100643571135151,2.6673969601533609,11.096809530329992,3.4150349171573335,82.398225595356919,0.18983510823008418,99.874024373545112,0.681911543201424]
[371,"STK38L (NDR2)","STK38L","NDR2","NDR2","NDR2","AGC","25_05",17.03,0.97115345047532742,3.6541706102629536,4.5494737937132754,7.0738769353468456,-2.5472202790008538,0.11522159581910663,10.695771277979119,2.609359016592407,5.1580352653570714,0.54961249718258653,-2.4569783067077822,0.43396458446846337,-3.9593601973374319,2.4573373631434001,5.873436907919654,1.5536187949981204,7.6081007115489854,1.5578291440360428,-11.164411044216891,9.7477987596395455,3.4440655130310489,3.3598585322723049,0.82560539159142365,0.85926693242828012,12.487895246515947,4.0419350764178317,-0.91047735655470774,1.625493365983532,1.3197119290217216,0.59778408320773468,15.763546798029537,4.3998147446423452,16.285630078733519,4.0798282177592524,63.072616471175394,2.7603361127293589,99.023199023199027,0.93048713738368882]
[372,"STK4 (MST1)","STK4","MST1","MST1","MST1","STE","20_01",33.6,-2.6539100230045989,7.184752966986073,7.8315663132626696,3.270654130826157,-7.9652848662126701,1.7850160219787869,3.1806361272254549,0.47509501900380058,2.6755351070213749,"NA",15.797578429300401,3.3545698843564073,14.858540414867605,2.3642018176877277,-3.7171897102740274,2.7374652905118682,-1.4695866296432172,2.7715198826426439,18.364081041094238,3.8376762583411295,1.0425944360035686,2.0170796877455892,15.326549714665319,1.8509012953289681,-1.8441871430816832,4.1808560800544887,15.281258492104229,5.4258884628159079,14.632084302062253,5.1601799571243063,0.53701472206213907,1.9044375753130398,2.881542411066107E-2,3.4971446534290367,96.627313626619156,1.2077659349618016E-2,100,4.1913344160947212E-2]
[373,"SYK","SYK","SYK","SYK","SYK","TK","06_10",29.99,14.871671863756291,7.2316259651352004,10.321171859491344,0.9953234570408972,15.579599748465171,2.5412795861344666,5.9765572703392849,1.996648400603843,7.8457894955519834,1.9190907286266241,-5.0697125018456433,3.0089223565145859,3.5889809951696918,2.8127570714421384,-2.1018876905540225,2.3649368055816491,2.100635075720561,0.43340473237883836,-6.3806450252061921,3.8094032778586384,2.0618040158831548,1.4179599914822218,-0.57689468244426223,0.1571431584720156,4.5294552378089321,1.8952062430323338,-2.5786243118395191,0.40920500326942516,3.0289607458499432,1.6410386213588048,5.7996066789422969,1.7824709080204979,10.394197888091412,1.4392544436511323,97.744099221666772,1.0514881140711683,99.842170530983424,0.30689063419889012]
[374,"TAOK1 (TAO1)","TAOK1","TAO1","TAO1","TAOK1","STE","12_08",878.9,5.7459663288335605,4.6035016891655047,-4.3856481909096203,1.0815077292536073,-1.0751783786814713,0.64622846489200003,-10.467449808133154,3.8104674498081326,-17.350306063328659,5.5385287128546636,6.109847253818657,1.6574585635359147,1.3584660383490359,2.1839454013649764,3.1565363272680571,3.1152406762162754,-1.4479287650019188,1.1614401858304293,0.76698082547936508,5.2908677283067993,1.5331010452961635,0.34585107755839273,0.98147546311342637,2.352941176470583,2.521615692347396,2.8364950316169866,0.13649658758529881,1.4169645758855982,4.4718882027949292,0.89697757556061253,-1.0659439927732706,1.7189314750290279,1.6389211511162785,0.53942444186346783,88.228794280142992,1.9434514137146561,80.862046715705247,0.4181184668989541]
[375,"TAOK2 (TAO2)","TAOK2","TAO2","TAO2","TAOK2","STE","12_09",192.6,-8.43792401628221,5.2238805970149267,0.65599840970082823,1.6027233873372422,-12.878787878787875,2.7787200361827114,0.34539310207730978,0.55411986880031516,-3.0762349667031117,1.7393897226915301E-2,6.1355311355311386,1.0361067503924586,0.11250654107796265,0.17268445839873262,-0.1409277745155606,0.54022313564298108,3.5349383440986344,0.68702290076335804,6.1198325484039628,2.1664050235478785,-4.4450968878449686,1.2448620082207893,1.6718995290423777,1.0701203558346486,-9.3893129770992516,2.765707574867883,5.669806384092098,1.7477760334903245,-1.9099947671376327,2.5876504447933057,-7.234292425132125,2.2431004110393453,-1.074574280681162,1.0804462712859619,33.027210884353735,2.7080062794348527,49.518496770405164,1.6793893129770965]
[376,"TAOK3 (TAO3)","TAOK3","TAO3","TAO3","TAOK3","STE","12_10",233.4,1.0877071823204574,2.8055939226519304,-0.37983045249364977,1.2936254541451107,-8.1750690607734526,0.59564917127070638,-17.22448530221294,3.3964549157767219,-20.64846416382251,5.7469998899042318,9.2370813927700084,3.0494566422710272,1.6966067864271679,2.7722333111554565,3.3366783743101109,1.0035122930255884,3.9638735574510804,"NA",9.5364825903747743,3.3932135728543011,8.906171600602093,5.1931761164074182,1.474828121534685,4.8236859614105061,0.55193176116405596,1.1540391369794372,9.7915280550010948,3.4153914393435443,-4.8791306276336144,9.9800399201600026E-2,4.9172102358253795,"NA",-4.2147516307074824,1.7812343201204093,66.278554003104901,0.31049013084941118,81.033617661816351,2.107375815353735]
[377,"TBK1","TBK1","TBK1","TBK1","TBK1","Other","15_11",25.77,-2.8545918608796512,1.4597918369020941,7.1933647253547406,0.90273885784022678,1.8836583449803186,1.2971545574720122,1.3118128630466543,8.0573436902560651,4.7009464746829792,1.6038215159308207,4.6103585657370445,2.094023904382468,-2.494023904382459,2.907569721115546,-16.252278161419198,1.9278679753206236,5.0420519337201455,0.33022890297122298,-1.9824701195219063,2.0677290836653479,5.1373585031852542,0.46900864447306356,6.0804780876494107,9.5904382470120595,6.4875349039410253,2.8449847007875304,-3.0310756972111506,3.1577689243027938,-8.8199203187250816,1.2892430278884492,3.4778537629374568,0.21652983764442721,11.19601384453324,6.0494590934171608,91.803187250996018,0.94023904382470547,95.482970220877149,1.8693463975788784]
[378,"TEC","TEC","TEC","TEC","TEC","TK","06_11",50.42,9.9024453848251142,0.14105709849104603,-3.2692748057987302,2.4449102534744838,6.4175053044581176,8.0604056280588976E-2,4.8602279332757945,1.0237621320744728,2.8750594493667592,0.89905057159465185,44.936439985621384,1.3161334596908534,6.7040292800888892,0.6413189111466967,51.421377656045308,0.15311069903539237,15.977384982675787,0.58238773299762714,-0.35456357635372626,0.33659030750629049,-5.6650958643099329,0.66688215579864418,-1.7327865102447646,5.0741805823339128,5.9049692927986825,2.5422046806507654,5.3339760138557466,0.70831018594163642,-0.17319695434790106,4.3601516290317335,4.5609976012656972,0.35272168444453078,6.8236334870110937,0.61981479276183182,25.913368844155428,0.42155485114865748,57.820270722398945,0.76271811186153815]
[379,"TEK (TIE2)","TEK","TIE2","TIE2","TEK","TK","06_12",191.9,1.9248893687935862,0.45391562693096016,9.3996901626646121,2.1766072811773873,7.8298495165931428,6.2103272436766339E-2,5.5267234701781689,1.7738187451587888,10.762974438419832,1.2161115414407513,1.584427342688997,"NA",-0.37525910747896774,1.5903838364585043,0.68749738395213456,1.7590305972960514,0.39868569754301575,2.420367502406767,2.2265373710418999,0.80650925639131288,2.6558118119794045,2.9174166003934499,5.7944771389769159,1.8560434585785441,2.2299192164413455,3.6802561634088136,2.9889685735388696,3.0497248099878522,2.1693550308546321,0.3192680660456016,1.5602109581013792,1.2609350801557142,9.4805575321250615,0.42798543384538462,27.657191870577293,3.6501393819542094,32.340630362898168,3.0429868988321918]
[380,"TESK2","TESK2","TESK2","TESK2","TESK2","TKL","25_08",178.3,4.1948344600450724,11.238227306870066,-6.9291145450085736,3.8999264164826917,1.2942739931819318,3.588143525741029,-7.9470198675496704,2.268825116507232,-11.932793720873207,12.325239146431159,2.4378822103465438,0.92832350834664568,-4.0190623106164907,0.13635612362954586,-3.4622467771639407,4.0883977900552591,-11.786372007366523,7.1454880294659322,-3.8276128037022943,6.0947055258663436,-13.701657458563545,6.8508287292817718,-4.1815877913062707,3.0439094264778688,-3.3149171270718512,2.9834254143646479,4.9460084843810108,0.83879676050906127,1.4338052999834758,3.5425045452041197,-11.565377532228368,18.232044198895082,-7.6979742173112555,2.173112338858191,18.169797807283345,0.4352377279488846,5.4143646408839601,3.609576427255992]
[381,"TLK1","TLK1","TLK1","TLK1","TLK1","Other","27_11",27.83,-10.275053621292031,6.7380717918279753,7.5956489122280573,0.26256564141035016,-17.748310423439563,1.1061499237835741,19.336084021005249,4.9887471867967017,9.0585146286571643,3.507126781695423,1.5625887834616492E-2,3.681080364414647,-2.4764664658976017,1.4030153228403057,-2.6949950092684958,1.682589476686162,-7.4433195494082298,3.5362897476115833,-1.1241169005813845,3.1786843949466759,-3.1655496934264846,1.9677741337516197,-0.37880940204927072,9.808322442563016,1.6825894766861467,3.3651789533723018,-5.0286948122051598,6.8801257647214733,-4.515881584180832,3.4523741879273415,-1.2975901896477637,11.207757022672226,-7.2436902894624353,7.0583202623698842,7.711138890467339,4.9245222266416615,-4.8909168686724769,1.2262940253814225]
[382,"TLK2","TLK2","TLK2","TLK2","TLK2","Other","27_12",12.97,-14.116996840677658,0.42294154077720414,-3.4131715650385104,0.40093435135795108,-14.32787964784923,2.4733652662689414,-26.203674650489859,"NA",-1.0319701565386907,3.1551790259038635,-1.0576784944691866,5.7947852320068929,-1.0271512713690782,0.66262031317340908,11.349985966881832,2.9273084479371279,11.161942183553194,12.851529609879311,-1.2228846430110565,0.38248814825455346,10.451866404715147,1.9786696603985399,-11.045467605229106,1.4653067088061946,13.064833005893931,4.9228178501262958,-9.1060910788680047,2.7618158310587519,-16.637336589570481,1.1187329406694393,14.830199270277845,6.2840303115352132,-2.0404153802975173,0.90934605669381108,-5.5810946703060011,6.7357419910932306,54.291327532977817,3.2500701655908051]
[383,"TNIK (ZC2)","TNIK","ZC2/TNIK","TNIK","TNIK","STE","18_09",21.17,5.6427428186336357,5.4127706174711303,10.880982870293053,0.71079932446225558,11.845393536068286,0.3699491758627409,-4.3483102277155865,2.4534639867861792,13.065345285154876,0.11877586622868021,7.8436506452216435,1.1576585000935096,2.5603141948756445,0.78548718907799231,25.339944790921209,0.6032103056947089,8.1995705960536043,3.2358654534301081,11.978679633439327,3.5795773330839697,3.680605255086391,2.9649320110418036,11.058537497662257,1.38956424163082,7.1771802474184767,1.0326142521214554,13.588928371049207,3.9741911352160071,9.9887787544417677,3.0914531512997887,20.442695020959036,3.251201308659645,14.001635824557837,0.71056129230138554,78.245745277725831,0.97811857116139933,99.059400879255705,0.30160515284735689]
[384,"TNK1","TNK1","TNK1","TNK1","TNK1","TK","07_03",111.1,-5.7256003281688805,4.8688902211984439,8.1569501175887922,9.8403267731155424,-1.8143952541730926,0.31554700072576081,-10.449313033791313,0.13120435697487884,5.6294095803936131,2.4285183809877289,67.436566083033242,3.4438511527795193,14.433544434786214,1.6143052278653873,32.058920110709764,1.2501759159356423,13.625275601632495,1.3041234695313624,-5.7328531810091334,0.20282296452667994,1.3416522024675146,6.487779706337653,-3.7335982449604899,6.345461318763193,5.2563681568701526,4.2102547262747994,-2.9636988285938912,2.5332174344964611,3.7335982449604757,0.65400057949418533,4.604306422104429,2.1977764225735266,3.0374818220199984,4.8646620068489952,94.710045945610332,6.2088662610207436E-2,100,2.4510953698925739]
[385,"TNK2 (ACK)","TNK2","ACK","ACK","TNK2","TK","07_04",104.5,-22.489731713711436,3.4457747094293452,3.3363979483209221,12.196361172941121,-9.1094992571878208,4.4175478458446067,-24.772573308816419,7.2679763863350306,-1.9282880092906254,1.7782831704248534,35.484311983047377,5.6839155102877887,6.3435641533939133,1.6884270968623907,14.478501935348888,7.6553800374283654,-0.76484058072092864,2.0829700921760863,-12.208626700389658,8.8864584045389385,-5.4143273936139167,5.8223198614453029,-14.53961309727255,12.529906350399985,-6.4035057130569157,0.81598493566273178,-7.6252648848178524,1.6200697245197817,2.3617472144370737,3.1410212591428137,-9.9812858155781186,1.7168230056607763,0.48819611535375884,0.21620113679953396,91.950919406658002,6.0393738464693421,86.619939324197091,1.8179493438411676]
[386,"TRPM7 (CHAK1)","TRPM7","CHAK1","ChaK1","CHAK1","Atypical","25_12",396.8,-12.281823393988589,0.2851962521441222,1.0530823684808155,2.0942975667141348,0.48565857648179644,3.7100261213840047,-3.9197779291271928,2.8481208593895158,4.5456421686995725,1.2279941386498103,-2.4631157982506124,1.1152887042856019,-11.707983663637734,0.72309248264841175,1.5288230653621895,1.1942670574618601,3.633474027282702,0.97142166149381193,-10.083920726952726,0.62272730781999086,2.8895043849294098,1.8069479393998722,-1.2621306754576551,1.0505917685115977,8.1289624157131755,1.0082746468735395,-4.1223837501061951,0.73467307974399831,-8.3726172921475808,5.5552896307333492,10.438608108808424,0.71690573121505441,6.6968784369727246,2.8578338506187264,-1.9018428590178473,0.69931365661213019,6.2828581793473433,2.1282599056793918]
[387,"TSSK1B (TSSK1)","TSSK1B","TSSK1","TSSK1","TSSK1","CAMK","12_02",14.18,7.1265539734216787,1.5562326933994444,10.227140361094925,1.8986604542807213,-4.3303866251115011,5.349260233342223,6.119200155309656,5.1135701805474731,12.867404387497587,3.6730731896719075,5.4725417510604757,0.53884663889631745,3.649635036496349,0.56941949784079315,11.429251033211415,5.762197841405758,6.5114619570065031,3.2200517349032216,-7.2534107845760047,1.2076279283066431,-3.1457199774031466,4.2844825023042796,4.104406313295371,1.8802308250850337,12.469895638212463,2.2358992656022347,7.7846142087362011,2.1668513776894551,-0.96304505675088592,3.6114189628157525,8.3608360836083619,0.29435375970029243,2.89893854250289,5.664079921505663,96.885389995031915,0.72992700729927118,100,0.90982071180091095]
[388,"TSSK2","TSSK2","TSSK2","TSSK2","TSSK2","CAMK","12_03",16.809999999999999,1.664411366711775,0.22765263074106928,-2.0688090165277941,3.1530111824107254,-0.93767412242299031,0.53729204807768705,8.1277341435433215,2.2969957514403481,3.5690422460634608,3.4984430352617881,6.0309050772626733,0.48270787343636457,6.8874172185430353,2.8550404709345116,5.8168523676880284,3.4171309192200563,6.9415041782729787,1.3864902506963839,-1.4628403237674803,1.6070640176600464,-0.8272980501392766,4.2604456824512544,0.30316409124355914,0.57100809418690224,12.603064066852369,2.441504178272996,1.1361295069904287,5.8866813833699579E-2,1.2803532008829706,3.6114790286975627,8.0090529247910922,1.8906685236768732,6.1420612813370496,4.6901114206127881,27.54083885209711,0.36791758646063699,88.32033426183844,1.0591922005571022]
[389,"TSSK3","TSSK3","TSSK3","TSSK3","TSSK3","CAMK","12_04",41.91,0.56405919123956494,0.58695223620533898,3.7682243912868358,1.5109901405323634,-3.5636839996693226,1.305539480963787,2.0866054321637364,2.6642764926938072,4.1172939502832975,3.3303456158674603E-2,1.5726299330951861,3.4501971726351144,4.473853569623742,6.9539527390375777E-2,-1.3791729940999033,1.8023849236973846,2.8927780128955476,3.7566282456620739,-3.8993966042250747,0.64313264772830003,-8.1879060967412443,2.1309965396201012,6.2175248247474286,2.378597374774869,1.6231422241031765,1.1750354751176273,8.1477866129930732,0.30666499656621882,4.0026260889846697,3.8596597314305785,-0.72692872613210113,0.97089795613531837,6.4402897756976785,3.624685702905226,37.551344790798318,0.95498071465901624,84.809181209390331,0.37591177276008858]
[390,"TSSK6 (SSTK)","TSSK6","SSTK","SSTK","TSSK6","CAMK","12_05",74.790000000000006,-0.59704291208528559,1.8649362462697241,10.961052539862337,2.8056112224448904,-0.78096324784959847,3.1517801573496351,14.472423107083742,6.9704626644593493,7.8591966541779357,1.5073625511893376,9.4714437743880779,0.47298096251625926,16.116826297741525,1.1942769303535601,20.696324951644087,4.6228239845261125,3.7137330754352007,1.3926499032882007,8.3008158921603439,2.5186236253990781,13.63636363636364,1.5280464216634455,5.7703677426983546,4.7652831973513097,14.177949709864606,2.4758220502901351,6.1014544164597311,4.5051436679673627,8.1589216034054743,5.2619132079933806,13.133462282398455,5.8994197292069641,9.3423597678916934,1.0251450676982572,14.555989121437861,1.6317843206810894,15.029013539651842,0.75435203094777736]
[391,"TTBK1","TTBK1","TTBK1","TTBK1","TTBK1","CK1","26_04",10.49,6.5265463159823298,7.9939327575702155,1.3846402195407705,1.2074740707857516,-2.1614551156141744,5.6957090450484245,-5.699180757899839,1.7950684046975196,-1.0008474918277273,5.084950966541673E-2,17.048368046553165,1.4490248610030725,-7.959554057557682,11.537464350531494,9.1632647067461761,4.1425592528414965,1.4376339980616279,2.3275279743898531,-12.33255552674791,4.3499553481404369,3.7005492084936407,4.5654791623836273,15.510039466482297,3.0276841529110121,11.728685130253467,0.84877676290052462,12.47083225304641,6.1994065623829737,16.359865180191861,1.5786592919079343,11.448206995800163,9.8387617844866285E-2,15.223648271608567,3.2306381978913959E-2,17.569786535303777,9.2126868896378493,11.038503333431223,1.5756703574260609]
[392,"TTBK2","TTBK2","TTBK2","TTBK2","TTBK2","CK1","26_05",12.48,1.7120328282636734,2.9631395823873063,-9.1337539133551076,0.76745711368509018,-22.706114446349545,5.8918046280926486,-9.8734879066339403,0.41178976408300311,-8.6851126843418172,2.866300180538369,-2.0334890324052708,1.2064037317074754,-2.2698896585817323,0.62966225765766715,0.7353903326267357,1.8790400669964267,2.1852346183036531,2.1459789065975676,-6.4582369456785642,1.5001616143690888,4.1166156342414553,2.049148151055983,-0.85465481072107252,0.77765031720781064,4.2684043861715395,2.9572636151893574,6.6436181337659832,5.7357256485165681E-2,3.1277133785008147,2.7648732753211762,3.2137342650022305,1.8136138808196443,3.2529899767082924,1.452461333123962,0.16510016921972692,0.72346196992071643,8.1965926042239374,2.1485959540446564]
[393,"TTK","TTK","TTK","TTK","TTK","Other","26_12",33.94,-15.154246540561118,4.0167576488510974,2.1150353178607162,6.1432896064581319,-5.348482924971421,2.4222419702932556,-18.756811301715402,0.60141271442987931,-19.915237134207828,5.1644803229061305,1.026842459437205,1.553389992439911,-6.8022497486894906,0.44081117231179973,3.5409525491486562,1.8053961194820576,3.694278764720508,0.47683650287788448,-0.28612018044513832,1.9852287549119683,3.5377415289272847,0.75378699697361584,0.35540712309646949,1.2285555250936593,-6.6098851257515889,2.3801687391126429,-1.423954672714757,3.7014513703694472,-10.610206946971388,1.3935481727022776,-1.6215652118069386,0.47201997254577704,1.6729415353493096,3.7552881489271135,12.973440005316974,3.9408817885003571,39.156786089860404,2.4885406715855492E-2]
[394,"TXK","TXK","TXK","TXK","TXK","TK","07_05",118.7,-0.1768831960963837,3.1869472400121994,4.0195080122193048,2.8337531486146035,-4.1262580054894897,8.1671241232082945,-21.801811458277513,2.8605498686960642,4.5768797899136899,4.2606784929524641,79.074594308754996,1.5540205572264285,10.494761542783493,1.5791387117030777,34.318588691630609,5.6150231239743418,8.307847232582418,4.7851708190362521,-2.1872624516640826,3.7657401593019788,-2.5548261972251254,1.4461808145606447,-0.46666887001354951,4.2436460984235103,1.6224078770699748,2.8765105176786476,-0.90821958555045512,"NA",-2.4629011468420572,4.3950160293485823,-3.3240713113531228,2.9865358794569552,-0.46154706847678995,6.7618976577651839,20.657038040783959,2.0550616386290801,43.110361032373568,1.5282336267343002]
[395,"TYK2 [JH1]","TYK2 [JH1]","TYK2","TYK2","TYK2(JH1)","TK","07_06",57.72,-8.1432172680006545,2.8552859618717581,1.6937817503697516,3.9251495080702137,-0.94335906727589247,0.61840239483221127,-1.3799755642723852,0.64561764516752196,7.9030287441322287,0.2443572760594111,1.0561594602341557,3.0361828324476949,1.7661455692015835,1.3383899631777518,-20.319399222062657,5.5952164270161395,3.0807396471643216,4.0130510108466275,8.3390293916609721,3.5874142835093581,-11.733101435206734,8.0207090420045564,7.6356580601062944,0.73203536700991179,-15.519647299128351,1.1682542250625241,3.8255462703679939,3.4837827707097535,0.41011619958989343,0.79597821533305479,-13.354365954119203,1.6644083564220333,-21.743819982337996,0.43076425263412516,99.389235552223667,2.3041474654377883,99.221388557445351,0.59255364329484062]
[396,"TYK2 [JH1-JH2]","TYK2 [JH1-JH2]","TYK2","TYK2_b","TYK2(JH1JH2)","TK","07_07",347.9,-12.416161572663569,2.7818747510415989,null,null,-18.201685919450469,"NA",null,null,null,null,-17.885243467933506,"NA",-16.654295328582776,0.36371733966745046,null,null,null,null,-19.131037212985021,4.4654344813935074,null,null,-17.542557403008701,14.095284045922508,null,null,-1.5804384402216982,9.4609807996832949,-13.829300277117994,11.676687450514558,null,null,null,null,100,5.8800969912905838]
[397,"TYRO3","TYRO3","TYRO3","TYRO3","TYRO3","TK","07_08",32.33,-5.2272343301233519,3.4199792435980938,-3.9530831333952392,3.5743682247246138,-7.0938623802283303,11.098399826225473,-2.0231694716379991,1.4693262815012036,2.1820983870684927,1.2210819425229071,-0.41699802206321124,6.063293978507768,1.0572786036173625,6.0163944454639973,1.4344452344885212,2.8565245617831794,11.642501623025325,7.6854113209880186,1.6414836565322588,1.4202402071735962,1.290691563359843,8.8988159643861717,4.734813727289378,2.3979935156297651,4.5089189105636081,0.71567687884502873,6.2794396525356291,1.9402132909198444,4.5135702779306826,5.9674558022878852,-1.344792407332946,1.8378829566884198,-8.0981234735833283,0.8115126595974772,76.821435125711133,2.0523643481984455,91.125915850001547,0.54873713172782601]
[398,"ULK1","ULK1","ULK1","ULK1","ULK1","Other","24_05",27.05,-1.6353281791861605,3.868990805255959,4.664525267841114,1.9711509686172062,-12.927523782253218,1.5024975342814404,4.1078945793348254,3.3497595914051463,6.1568541388185025,4.5049179019611891,-2.1756122980719397,2.4426784783741518,3.2178217821781772,4.038561750911926,-2.9138094582950202,1.2729813687084086,-1.9044032990347688,6.5589677120368419,6.5333507034913794,6.5138092756644062,-4.8269020499489557,0.19333676077653214,9.4775924960916882,5.4194893173527934,6.2063272532422076,4.6625295979029824,2.6120375195413885,0.81422615945804377,0.21495570609690162,5.7191245440333534,2.0767409359816185,0.80375956727322606,-4.8109716801471336,7.0977038544253732,31.298853569567456,1.9932256383533089,82.47224857169752,4.5017776844483484]
[399,"ULK2","ULK2","ULK2","ULK2","ULK2","Other","24_06",10.220000000000001,6.7812030552440916,4.1266953007637985,6.7716410482050122,1.0159625496800953,7.1197342530097814,2.0079131667477754,4.2751934909151146,2.0528430361303212,7.8052756479150531,1.2222566847234047,14.970380335813402,3.5424672399824519,8.618318851782746,6.4747025026200475,-0.63745861801790227,2.1144431922237024,2.5951785588504634,1.381894062125808,12.979879440162321,9.068002586611372E-2,-3.851165739240713,0.93417623441572184,15.475066709281336,2.1324671656545764,0.30992463196450615,0.28042896386561267,7.6238116828577631,5.8213603490437702,9.1282081775544555,3.5082764105575399,9.3752201169261014,4.7879833767697342,-6.7016799323800882,9.9175882228639836,16.976490088375854,5.0141594630553232,93.452842149749941,3.9669472423751504]
[400,"ULK3","ULK3","ULK3","ULK3","ULK3","Other","24_07",49.44,-2.0551239118828875,1.3116967346560564,1.827928428271349,3.2453577379083822,-25.855382456883433,5.1333977489819276,-6.4267259073237568,13.796392437157417,8.048197425929061,9.9485668751357643,14.926272760648104,10.634147410642317,-7.8182107103130534,1.0339895998290498,-9.7757142857142867,2.3464285714285693,-5.7707142857142912,5.7021428571428636,15.098878337726092,2.2855170221976135,-18.625714285714281,2.9557142857142904,-9.6472818731267012,2.1260623462303663,-20.424999999999983,4.5064285714285637,-9.6302952925253607,1.8504413771185324,-22.143377699359434,4.6641862605960549,-16.307857142857131,6.3414285714285699,-14.189999999999998,"NA",70.567735360033311,4.8641895483213311,77.311428571428564,0.33285714285714296]
[401,"WEE1","WEE1 ","WEE1","Wee1","WEE1","Other","32_07","NA",4.8015224750324137,13.956582515115311,null,null,5.1939303097158955,14.188995739090911,null,null,null,null,10.481981981982003,7.0135135135135123,-0.61261261261262234,6.0990990990991341,null,null,null,null,11.247747747747781,7.8288288288288115,null,null,2.1216216216216424,14.959459459459467,null,null,0.51801801801805425,18.130630630630655,24.86936936936938,3.3288288288288284,null,null,null,null,9.2522522522522763,1.8648648648648629]
[402,"YES1 (YES)","YES1","YES","YES","YES","TK","07_09",16.22,9.3206241224514486,"NA",12.326356385966221,6.9391919721421367,5.4611901042182041,0.13613621531830614,-4.5886846145205453,7.3857041225146967,5.7138577900924901,1.5707492417718159,-5.0479635162761411,0.67271234121366696,-13.891073019866866,7.5169051737694641,-8.0343264957639207,0.89209483570130599,1.53243284660347,5.7882177805994042,4.777131275008287,1.5830581328301174,-0.59983799995620757,8.0967184045184908,-0.27607415561497817,1.4921982841467012,-6.9441099848945811,4.5130147332472257,5.068931173664609,4.5255193863465628,1.2301025667907197,0.19919274519053726,-3.618730707765053,4.974933777009122,2.8360953611068709,5.5200420324437953,44.383288777061381,5.9408362600689026E-2,90.942227281683046,2.1235140874362428]
[403,"ZAP70","ZAP70","ZAP70","ZAP70","ZAP70","TK","07_10",58.44,-6.906755390511762,0.35001326244651976,-8.1072994794868549,7.9786056805606798,-2.9765062487266221,3.1505037807583069,9.1175867863437219,3.2849706955203124,3.9788515922783887,2.2693553014467636,5.4203169343039974,5.6036382224885823,5.1559112301916059,5.2369956461194143,-21.446169772256766,7.6459627329192408,-15.99171842650108,7.568322981366463,10.079145440764307,3.9167298302515356,2.9673913043477853,1.3095238095238122,7.2218011316563917,5.5489943769720256,2.2971014492753312,2.9466873706003973,0.82142038744250101,2.6317181082653258,-1.401350231795675,2.7956496448150019,0.50672877846784559,2.6206004140786776,-2.1045548654244612,0.14751552795030023,100,0.98006380990992625,95.040372670807457,2.3809523809523604E-2]

{"sheet":"Plate Layout","index":3,"n_rows":25,"n_cols":28,"rows_kept":25,"cut":false,"hidden":false,"merged":[[18,1,19,1],[20,1,21,1],[6,1,7,1],[8,1,9,1],[10,1,11,1],[12,1,13,1],[14,1,15,1],[16,1,17,1],[3,2,3,3],[3,22,3,23],[3,24,3,25],[3,26,3,27],[3,4,3,5],[3,6,3,7],[3,8,3,9],[3,10,3,11],[3,12,3,13],[3,14,3,15],[3,16,3,17],[3,18,3,19],[3,20,3,21]]}
[]
[null,null,null,null,null,null,null,null,null,null,null,null,null,null,"Kinase Profiling Plate Layout:"]
[]
[null,null,"Enzyme Position:",null,1,null,2,null,3,null,4,null,5,null,6,null,7,null,8,null,9,null,10,null,11,null,12]
[null,"Compound:"]
[null,null,null,null,1,2,3,4,5,6,7,8,9,10,11,12,13,14,15,16,17,18,19,20,21,22,23,24]
[null,"10% DMSO Control","no enz.","A"]
[null,null,"+ enz","B"]
[null,1,"no enz.","C"]
[null,null,"+ enz","D"]
[null,2,"no enz.","E"]
[null,null,"+ enz","F"]
[null,3,"no enz.","G"]
[null,null,"+ enz","H"]
[null,4,"no enz.","I"]
[null,null,"+ enz","J"]
[null,5,"no enz.","K"]
[null,null,"+ enz","L"]
[null,6,"no enz.","M"]
[null,null,"+ enz","N"]
[null,7,"no enz.","O"]
[null,null,"+ enz","P"]
[]
[]
[null,null,null,null,null,null,null,null,null,null,null,null,null,null,"One kinome profiling run requires over 34 plates"]

{"sheet":"Compound 1","index":4,"n_rows":405,"n_cols":29,"rows_kept":405,"cut":false,"hidden":false,"merged":[]}
[]
["Panel #","Kinase Target","Kinase Target",{"$f":"Summary!AB10","v":"0.15 µM Gefitinib, % inhibition at 1 mM"},{"$f":"Composite!G19","v":"Group"}]
[104,{"$f":"Composite!B123","v":"EGFR (ERBB1)"},{"$f":"Composite!F123","v":"EGFR"},{"$f":"Composite!J123","v":88.01495381908812},{"$f":"Composite!G123","v":"TK"},null,null,null,null,null,null,null,null,null,null,null,null,null,null,null,null,null,null,null,null,null,null,null,"VVVVV μM VVVVVVVVVVVVVVVVVVVVVVVVVVV, % inhibition"]
[156,{"$f":"Composite!B175","v":"ICK"},{"$f":"Composite!F175","v":"ICK"},{"$f":"Composite!J175","v":83.163989644517443},{"$f":"Composite!G175","v":"CMGC"},null,null,null,null,null,null,null,null,null,null,null,null,null,null,null,null,null,null,null,null,null,null,null,{"$f":"REPLACE(AC3,10,27,Summary!C10)","v":"VVVVV μM Gefitinib, % inhibition"}]
[332,{"$f":"Composite!B351","v":"RIPK2"},{"$f":"Composite!F351","v":"RIPK2"},{"$f":"Composite!J351","v":35.356386732533508},{"$f":"Composite!G351","v":"TKL"},null,null,null,null,null,null,null,null,null,null,null,null,null,null,null,null,null,null,null,null,null,null,null,{"$f":"REPLACE(AC4,1,5,Summary!D10)","v":"0.15 μM Gefitinib, % inhibition"}]
[121,{"$f":"Composite!B140","v":"ERBB2 (HER2)"},{"$f":"Composite!F140","v":"HER2"},{"$f":"Composite!J140","v":27.744487617620905},{"$f":"Composite!G140","v":"TK"}]
[94,{"$f":"Composite!B113","v":"DDR1 [SRC treated]"},{"$f":"Composite!F113","v":"DDR1"},{"$f":"Composite!J113","v":26.152753137525437},{"$f":"Composite!G113","v":"TK"}]
[207,{"$f":"Composite!B226","v":"MAP4K5 (KHS1)"},{"$f":"Composite!F226","v":"KHS1"},{"$f":"Composite!J226","v":21.25219316321845},{"$f":"Composite!G226","v":"STE"}]
[49,{"$f":"Composite!B68","v":"CDK2/CycA2"},{"$f":"Composite!F68","v":"CDK2/A2"},{"$f":"Composite!J68","v":21.02740751834655},{"$f":"Composite!G68","v":"CMGC"}]
[145,{"$f":"Composite!B164","v":"GRK6 (GPRK6)"},{"$f":"Composite!F164","v":"GRK6"},{"$f":"Composite!J164","v":20.480180277368234},{"$f":"Composite!G164","v":"AGC"}]
[341,{"$f":"Composite!B360","v":"RPS6KA5 (MSK1)"},{"$f":"Composite!F360","v":"MSK1"},{"$f":"Composite!J360","v":20.138605961838792},{"$f":"Composite!G360","v":"AGC"}]
[96,{"$f":"Composite!B115","v":"DMPK (DMPK1)"},{"$f":"Composite!F115","v":"DMPK1"},{"$f":"Composite!J115","v":19.066715275246082},{"$f":"Composite!G115","v":"AGC"}]
[206,{"$f":"Composite!B225","v":"MAP4K4 (HGK, ZC1)"},{"$f":"Composite!F225","v":"HGK"},{"$f":"Composite!J225","v":18.935413726590369},{"$f":"Composite!G225","v":"STE"}]
[264,{"$f":"Composite!B283","v":"PAK1"},{"$f":"Composite!F283","v":"PAK1"},{"$f":"Composite!J283","v":18.694183090328309},{"$f":"Composite!G283","v":"STE"}]
[204,{"$f":"Composite!B223","v":"MAP4K2 (GCK)"},{"$f":"Composite!F223","v":"GCK"},{"$f":"Composite!J223","v":18.645306089050464},{"$f":"Composite!G223","v":"STE"}]
[152,{"$f":"Composite!B171","v":"HIPK2"},{"$f":"Composite!F171","v":"HIPK2"},{"$f":"Composite!J171","v":18.611229985160819},{"$f":"Composite!G171","v":"CMGC"}]
[240,{"$f":"Composite!B259","v":"MYLK (smMLCK)"},{"$f":"Composite!F259","v":"MLCK"},{"$f":"Composite!J259","v":18.375021864614325},{"$f":"Composite!G259","v":"CAMK"}]
[340,{"$f":"Composite!B359","v":"RPS6KA4 (MSK2)"},{"$f":"Composite!F359","v":"MSK2"},{"$f":"Composite!J359","v":17.855576756699108},{"$f":"Composite!G359","v":"AGC"}]
[233,{"$f":"Composite!B252","v":"MINK1 (MAP4K6, MINK, ZC3)"},{"$f":"Composite!F252","v":"MINK"},{"$f":"Composite!J252","v":17.026028909730059},{"$f":"Composite!G252","v":"STE"}]
[56,{"$f":"Composite!B75","v":"CDK4 /CycD3"},{"$f":"Composite!F75","v":"CDK4/D3"},{"$f":"Composite!J75","v":16.771919552408036},{"$f":"Composite!G75","v":"CMGC"}]
[16,{"$f":"Composite!B35","v":"BMX"},{"$f":"Composite!F35","v":"BMX"},{"$f":"Composite!J35","v":16.548385650894204},{"$f":"Composite!G35","v":"TK"}]
[353,{"$f":"Composite!B372","v":"SNRK"},{"$f":"Composite!F372","v":"SNRK"},{"$f":"Composite!J372","v":16.408480651236246},{"$f":"Composite!G372","v":"CAMK"}]
[139,{"$f":"Composite!B158","v":"GAK"},{"$f":"Composite!F158","v":"GAK"},{"$f":"Composite!J158","v":16.026012912884809},{"$f":"Composite!G158","v":"Other"}]
[122,{"$f":"Composite!B141","v":"ERBB4 (HER4)"},{"$f":"Composite!F141","v":"HER4"},{"$f":"Composite!J141","v":15.811461392616835},{"$f":"Composite!G141","v":"TK"}]
[59,{"$f":"Composite!B78","v":"CDK5/p25"},{"$f":"Composite!F78","v":"CDK5/P25"},{"$f":"Composite!J78","v":15.443987970461038},{"$f":"Composite!G78","v":"CMGC"}]
[21,{"$f":"Composite!B40","v":"BTK"},{"$f":"Composite!F40","v":"BTK"},{"$f":"Composite!J40","v":15.336115395082999},{"$f":"Composite!G40","v":"TK"}]
[366,{"$f":"Composite!B385","v":"STK25 (YSK1)"},{"$f":"Composite!F385","v":"YSK1"},{"$f":"Composite!J385","v":15.138420208692324},{"$f":"Composite!G385","v":"STE"}]
[178,{"$f":"Composite!B197","v":"LIMK2"},{"$f":"Composite!F197","v":"LIMK2"},{"$f":"Composite!J197","v":15.075131327116495},{"$f":"Composite!G197","v":"TKL"}]
[274,{"$f":"Composite!B293","v":"PDK1 (PDHK1)"},{"$f":"Composite!F293","v":"PDHK1"},{"$f":"Composite!J293","v":14.953838235039925},{"$f":"Composite!G293","v":"Atypical"}]
[205,{"$f":"Composite!B224","v":"MAP4K3 (GLK, KHS2)"},{"$f":"Composite!F224","v":"GLK/KHS2"},{"$f":"Composite!J224","v":14.896614384963428},{"$f":"Composite!G224","v":"STE"}]
[373,{"$f":"Composite!B392","v":"SYK"},{"$f":"Composite!F392","v":"SYK"},{"$f":"Composite!J392","v":14.871671863756291},{"$f":"Composite!G392","v":"TK"}]
[203,{"$f":"Composite!B222","v":"MAP4K1 (HPK1)"},{"$f":"Composite!F222","v":"HPK1"},{"$f":"Composite!J222","v":14.816274752918744},{"$f":"Composite!G222","v":"STE"}]
[37,{"$f":"Composite!B56","v":"CDK1 (CDC2)/CycA1 "},{"$f":"Composite!F56","v":"CDK1/A1"},{"$f":"Composite!J56","v":14.755383409415771},{"$f":"Composite!G56","v":"CMGC"}]
[180,{"$f":"Composite!B199","v":"LTK"},{"$f":"Composite!F199","v":"LTK"},{"$f":"Composite!J199","v":14.699954856184704},{"$f":"Composite!G199","v":"TK"}]
[14,{"$f":"Composite!B33","v":"BLK"},{"$f":"Composite!F33","v":"BLK"},{"$f":"Composite!J33","v":14.652838093291777},{"$f":"Composite!G33","v":"TK"}]
[201,{"$f":"Composite!B220","v":"MAP3K8 (COT, Tpl2)"},{"$f":"Composite!F220","v":"MAP3K8"},{"$f":"Composite!J220","v":14.505343241659617},{"$f":"Composite!G220","v":"STE"}]
[38,{"$f":"Composite!B57","v":"CDK1 (CDC2)/CycA2 "},{"$f":"Composite!F57","v":"CDK1/A2"},{"$f":"Composite!J57","v":14.206321768578519},{"$f":"Composite!G57","v":"CMGC"}]
[196,{"$f":"Composite!B215","v":"MAP3K20 (MLK7, ZAK)"},{"$f":"Composite!F215","v":"ZAK"},{"$f":"Composite!J215","v":14.152552806064151},{"$f":"Composite!G215","v":"TKL"}]
[24,{"$f":"Composite!B43","v":"CAMK1D (CAMK1δ)"},{"$f":"Composite!F43","v":"CAMK1D"},{"$f":"Composite!J43","v":14.148151741534889},{"$f":"Composite!G43","v":"CAMK"}]
[141,{"$f":"Composite!B160","v":"GRK2 (ADRBK1, BARK1)"},{"$f":"Composite!F160","v":"GRK2"},{"$f":"Composite!J160","v":14.044920965678727},{"$f":"Composite!G160","v":"AGC"}]
[239,{"$f":"Composite!B258","v":"MUSK"},{"$f":"Composite!F258","v":"MUSK"},{"$f":"Composite!J258","v":13.781263979030484},{"$f":"Composite!G258","v":"TK"}]
[32,{"$f":"Composite!B51","v":"CAMKK2"},{"$f":"Composite!F51","v":"CAMKK2"},{"$f":"Composite!J51","v":13.760450435079335},{"$f":"Composite!G51","v":"Other"}]
[144,{"$f":"Composite!B163","v":"GRK5 (GPRK5)"},{"$f":"Composite!F163","v":"GRK5"},{"$f":"Composite!J163","v":13.616749663941931},{"$f":"Composite!G163","v":"AGC"}]
[23,{"$f":"Composite!B42","v":"CAMK1 (CAMK1a)"},{"$f":"Composite!F42","v":"CAMK1A"},{"$f":"Composite!J42","v":13.578523664221251},{"$f":"Composite!G42","v":"CAMK"}]
[78,{"$f":"Composite!B97","v":"CSF1R (FMS)"},{"$f":"Composite!F97","v":"FMS/CSF1R"},{"$f":"Composite!J97","v":13.573318081075271},{"$f":"Composite!G97","v":"TK"}]
[195,{"$f":"Composite!B214","v":"MAP3K2 (MEKK2)"},{"$f":"Composite!F214","v":"MAP3K2"},{"$f":"Composite!J214","v":13.489139400604884},{"$f":"Composite!G214","v":"STE"}]
[67,{"$f":"Composite!B86","v":"CDK9 (TAK)/CycT1"},{"$f":"Composite!F86","v":"CDK9/T1"},{"$f":"Composite!J86","v":13.222866204065099},{"$f":"Composite!G86","v":"CMGC"}]
[69,{"$f":"Composite!B88","v":"CDKL5"},{"$f":"Composite!F88","v":"CDKL5"},{"$f":"Composite!J88","v":13.064127290260387},{"$f":"Composite!G88","v":"CMGC"}]
[54,{"$f":"Composite!B73","v":"CDK3/CycE1"},{"$f":"Composite!F73","v":"CDK3/E1"},{"$f":"Composite!J73","v":12.959839357429729},{"$f":"Composite!G73","v":"CMGC"}]
[62,{"$f":"Composite!B81","v":"CDK6/CycD2"},{"$f":"Composite!F81","v":"CDK6/D2"},{"$f":"Composite!J81","v":12.826444108562782},{"$f":"Composite!G81","v":"CMGC"}]
[22,{"$f":"Composite!B41","v":"BUB1"},{"$f":"Composite!F41","v":"BUB1"},{"$f":"Composite!J41","v":12.765402208030395},{"$f":"Composite!G41","v":"Other"}]
[197,{"$f":"Composite!B216","v":"MAP3K3 (MEKK3)"},{"$f":"Composite!F216","v":"MAP3K3"},{"$f":"Composite!J216","v":12.632508833922245},{"$f":"Composite!G216","v":"STE"}]
[58,{"$f":"Composite!B77","v":"CDK4/CycD2"},{"$f":"Composite!F77","v":"CDK4/D2"},{"$f":"Composite!J77","v":12.478997707928968},{"$f":"Composite!G77","v":"CMGC"}]
[252,{"$f":"Composite!B271","v":"NEK5"},{"$f":"Composite!F271","v":"NEK5"},{"$f":"Composite!J271","v":12.058654521463367},{"$f":"Composite!G271","v":"Other"}]
[68,{"$f":"Composite!B87","v":"CDK9 (TAK)/CycT2"},{"$f":"Composite!F87","v":"CDK9/T2"},{"$f":"Composite!J87","v":11.979695431472095},{"$f":"Composite!G87","v":"CMGC"}]
[159,{"$f":"Composite!B178","v":"IKKE (IKKe)"},{"$f":"Composite!F178","v":"IKKE"},{"$f":"Composite!J178","v":11.808328579577875},{"$f":"Composite!G178","v":"Other"}]
[125,{"$f":"Composite!B144","v":"FAM20C"},{"$f":"Composite!F144","v":"FAM20C"},{"$f":"Composite!J144","v":11.684037301151946},{"$f":"Composite!G144","v":"Other"}]
[158,{"$f":"Composite!B177","v":"IKKB (IKKβ)"},{"$f":"Composite!F177","v":"IKKB"},{"$f":"Composite!J177","v":11.6460102067214},{"$f":"Composite!G177","v":"Other"}]
[365,{"$f":"Composite!B384","v":"STK24 (MST3)"},{"$f":"Composite!F384","v":"MST3"},{"$f":"Composite!J384","v":11.47394677223734},{"$f":"Composite!G384","v":"STE"}]
[301,{"$f":"Composite!B320","v":"PRKAA2-B1-G2 (AMPKα2β1γ2)"},{"$f":"Composite!F320","v":"AMPK212"},{"$f":"Composite!J320","v":11.427377785423346},{"$f":"Composite!G320","v":"CAMK"}]
[28,{"$f":"Composite!B47","v":"CAMK2D (CAMK2δ)"},{"$f":"Composite!F47","v":"CAMK2D"},{"$f":"Composite!J47","v":11.397665234533051},{"$f":"Composite!G47","v":"CAMK"}]
[286,{"$f":"Composite!B305","v":"PKN1"},{"$f":"Composite!F305","v":"PKN1"},{"$f":"Composite!J305","v":11.36982690448994},{"$f":"Composite!G305","v":"AGC"}]
[181,{"$f":"Composite!B200","v":"LYNA (LYNa)"},{"$f":"Composite!F200","v":"LYNA"},{"$f":"Composite!J200","v":11.357634145756961},{"$f":"Composite!G200","v":"TK"}]
[52,{"$f":"Composite!B71","v":"CDK2/CycE2"},{"$f":"Composite!F71","v":"CDK2/E2"},{"$f":"Composite!J71","v":11.340405014464807},{"$f":"Composite!G71","v":"CMGC"}]
[209,{"$f":"Composite!B228","v":"MAPK10 (JNK3)"},{"$f":"Composite!F228","v":"JNK3"},{"$f":"Composite!J228","v":11.147977758654932},{"$f":"Composite!G228","v":"CMGC"}]
[39,{"$f":"Composite!B58","v":"CDK1 (CDC2)/CycB1 "},{"$f":"Composite!F58","v":"CDK1/B1"},{"$f":"Composite!J58","v":11.130396763522185},{"$f":"Composite!G58","v":"CMGC"}]
[259,{"$f":"Composite!B278","v":"NTRK1 (TRKA)"},{"$f":"Composite!F278","v":"NTRK1"},{"$f":"Composite!J278","v":11.093029798100019},{"$f":"Composite!G278","v":"TK"}]
[57,{"$f":"Composite!B76","v":"CDK4/CycD1"},{"$f":"Composite!F76","v":"CDK4/D1"},{"$f":"Composite!J76","v":10.991990918837104},{"$f":"Composite!G76","v":"CMGC"}]
[61,{"$f":"Composite!B80","v":"CDK6/CycD1"},{"$f":"Composite!F80","v":"CDK6/D1"},{"$f":"Composite!J80","v":10.97969662269891},{"$f":"Composite!G80","v":"CMGC"}]
[7,{"$f":"Composite!B26","v":"ALK"},{"$f":"Composite!F26","v":"ALK"},{"$f":"Composite!J26","v":10.961984055295915},{"$f":"Composite!G26","v":"TK"}]
[214,{"$f":"Composite!B233","v":"MAPK15 (ERK7)"},{"$f":"Composite!F233","v":"ERK7"},{"$f":"Composite!J233","v":10.761688439352284},{"$f":"Composite!G233","v":"CMGC"}]
[363,{"$f":"Composite!B382","v":"STK17A (DRAK1)"},{"$f":"Composite!F382","v":"DRAK1"},{"$f":"Composite!J382","v":10.755442957802231},{"$f":"Composite!G382","v":"CAMK"}]
[298,{"$f":"Composite!B317","v":"PRKAA1-B2-G2 (AMPKα1β2γ2)"},{"$f":"Composite!F317","v":"AMPK122"},{"$f":"Composite!J317","v":10.734037529514097},{"$f":"Composite!G317","v":"CAMK"}]
[63,{"$f":"Composite!B82","v":"CDK6/CycD3"},{"$f":"Composite!F82","v":"CDK6/D3"},{"$f":"Composite!J82","v":10.718812673743173},{"$f":"Composite!G82","v":"CMGC"}]
[55,{"$f":"Composite!B74","v":"CDK3/CycE2"},{"$f":"Composite!F74","v":"CDK3/E2"},{"$f":"Composite!J74","v":10.549192875391014},{"$f":"Composite!G74","v":"CMGC"}]
[225,{"$f":"Composite!B244","v":"MARK3"},{"$f":"Composite!F244","v":"MARK3"},{"$f":"Composite!J244","v":10.488851596437399},{"$f":"Composite!G244","v":"CAMK"}]
[268,{"$f":"Composite!B287","v":"PAK5 (PAK7)"},{"$f":"Composite!F287","v":"PAK5"},{"$f":"Composite!J287","v":10.375951234010586},{"$f":"Composite!G287","v":"STE"}]
[143,{"$f":"Composite!B162","v":"GRK4 (GPRK4)"},{"$f":"Composite!F162","v":"GRK4"},{"$f":"Composite!J162","v":10.283393501805023},{"$f":"Composite!G162","v":"AGC"}]
[48,{"$f":"Composite!B67","v":"CDK2/CycA1"},{"$f":"Composite!F67","v":"CDK2/A1"},{"$f":"Composite!J67","v":10.227554234349014},{"$f":"Composite!G67","v":"CMGC"}]
[46,{"$f":"Composite!B65","v":"CDK17 (PCTAIRE2, PCTK2)/p35NCK"},{"$f":"Composite!F65","v":"CDK17/P35"},{"$f":"Composite!J65","v":10.220675373178992},{"$f":"Composite!G65","v":"CMGC"}]
[188,{"$f":"Composite!B207","v":"MAP3K1 (MEKK1)"},{"$f":"Composite!F207","v":"MAP3K1"},{"$f":"Composite!J207","v":9.9982886013408461},{"$f":"Composite!G207","v":"STE"}]
[93,{"$f":"Composite!B112","v":"DCLK2 (DCAMKL2)"},{"$f":"Composite!F112","v":"DCAML2"},{"$f":"Composite!J112","v":9.9628055260361208},{"$f":"Composite!G112","v":"CAMK"}]
[135,{"$f":"Composite!B154","v":"FLT4"},{"$f":"Composite!F154","v":"FLT4"},{"$f":"Composite!J154","v":9.9378124495024451},{"$f":"Composite!G154","v":"TK"}]
[378,{"$f":"Composite!B397","v":"TEC"},{"$f":"Composite!F397","v":"TEC"},{"$f":"Composite!J397","v":9.9024453848251142},{"$f":"Composite!G397","v":"TK"}]
[182,{"$f":"Composite!B201","v":"LYNB (LYNb)"},{"$f":"Composite!F201","v":"LYNB"},{"$f":"Composite!J201","v":9.8940482611040466},{"$f":"Composite!G201","v":"TK"}]
[31,{"$f":"Composite!B50","v":"CAMKK1"},{"$f":"Composite!F50","v":"CAMKK1"},{"$f":"Composite!J50","v":9.6696206248767709},{"$f":"Composite!G50","v":"Other"}]
[335,{"$f":"Composite!B354","v":"ROCK2"},{"$f":"Composite!F354","v":"ROCK2"},{"$f":"Composite!J354","v":9.5997044721438272},{"$f":"Composite!G354","v":"AGC"}]
[151,{"$f":"Composite!B170","v":"HIPK1"},{"$f":"Composite!F170","v":"HIPK1"},{"$f":"Composite!J170","v":9.4684701847971127},{"$f":"Composite!G170","v":"CMGC"}]
[402,{"$f":"Composite!B421","v":"YES1 (YES)"},{"$f":"Composite!F421","v":"YES"},{"$f":"Composite!J421","v":9.3206241224514486},{"$f":"Composite!G421","v":"TK"}]
[131,{"$f":"Composite!B150","v":"FGFR4"},{"$f":"Composite!F150","v":"FGFR4"},{"$f":"Composite!J150","v":9.3118147329803804},{"$f":"Composite!G150","v":"TK"}]
[229,{"$f":"Composite!B248","v":"MATK (CTK)"},{"$f":"Composite!F248","v":"CTK"},{"$f":"Composite!J248","v":9.1803986916003169},{"$f":"Composite!G248","v":"TK"}]
[60,{"$f":"Composite!B79","v":"CDK5/p35NCK"},null,{"$f":"Composite!J79","v":8.9181864498938666},{"$f":"Composite!G79","v":"CMGC"}]
[303,{"$f":"Composite!B322","v":"PRKAA2-B2-G1 (AMPKα2β2γ1)"},{"$f":"Composite!F322","v":"AMPK221"},{"$f":"Composite!J322","v":8.9011709226939786},{"$f":"Composite!G322","v":"CAMK"}]
[219,{"$f":"Composite!B238","v":"MAPK9 (JNK2)"},{"$f":"Composite!F238","v":"JNK2"},{"$f":"Composite!J238","v":8.773522670856039},{"$f":"Composite!G238","v":"CMGC"}]
[66,{"$f":"Composite!B85","v":"CDK9 (TAK)/CycK"},{"$f":"Composite!F85","v":"CDK9/K"},{"$f":"Composite!J85","v":8.5757438453405967},{"$f":"Composite!G85","v":"CMGC"}]
[88,{"$f":"Composite!B107","v":"CSNK2A2 (CK2A2, CK2α2)"},{"$f":"Composite!F107","v":"CK2A2"},{"$f":"Composite!J107","v":8.4976401570288118},{"$f":"Composite!G107","v":"Other"}]
[270,{"$f":"Composite!B289","v":"PASK"},{"$f":"Composite!F289","v":"PASK"},{"$f":"Composite!J289","v":8.483342185716765},{"$f":"Composite!G289","v":"CAMK"}]
[364,{"$f":"Composite!B383","v":"STK17B (DRAK2)"},{"$f":"Composite!F383","v":"DRAK2"},{"$f":"Composite!J383","v":8.4800895643705161},{"$f":"Composite!G383","v":"CAMK"}]
[179,{"$f":"Composite!B198","v":"LRRK2"},{"$f":"Composite!F198","v":"LRRK2"},{"$f":"Composite!J198","v":8.3881928222552773},{"$f":"Composite!G198","v":"TKL"}]
[65,{"$f":"Composite!B84","v":"CDK7/CycH1"},{"$f":"Composite!F84","v":"CDK7/H1"},{"$f":"Composite!J84","v":8.3773702207025309},{"$f":"Composite!G84","v":"CMGC"}]
[275,{"$f":"Composite!B294","v":"PDK2 (PDHK2)"},null,{"$f":"Composite!J294","v":8.1363218737572112},{"$f":"Composite!G294","v":"Atypical"}]
[3,{"$f":"Composite!B22","v":"ABL2 (ARG)"},{"$f":"Composite!F22","v":"ABL2"},{"$f":"Composite!J22","v":8.0672762588937701},{"$f":"Composite!G22","v":"TK"}]
[263,{"$f":"Composite!B282","v":"NUAK2 (SNARK)"},{"$f":"Composite!F282","v":"NUAK2"},{"$f":"Composite!J282","v":7.9470729751403582},{"$f":"Composite!G282","v":"CAMK"}]
[234,{"$f":"Composite!B253","v":"MLK4 (MAP3K21)"},{"$f":"Composite!F253","v":"MLK4"},{"$f":"Composite!J253","v":7.8692432357793365},{"$f":"Composite!G253","v":"STE"}]
[183,{"$f":"Composite!B202","v":"MAK"},{"$f":"Composite!F202","v":"MAK"},{"$f":"Composite!J202","v":7.8271608013822345},{"$f":"Composite!G202","v":"Atypical"}]
[118,{"$f":"Composite!B137","v":"EPHB2"},{"$f":"Composite!F137","v":"EPHB2"},{"$f":"Composite!J137","v":7.8038343312786651},{"$f":"Composite!G137","v":"TK"}]
[253,{"$f":"Composite!B272","v":"NEK6"},{"$f":"Composite!F272","v":"NEK6"},{"$f":"Composite!J272","v":7.6984560371326154},{"$f":"Composite!G272","v":"Other"}]
[51,{"$f":"Composite!B70","v":"CDK2/CycE1"},null,{"$f":"Composite!J70","v":7.6940025558542402},{"$f":"Composite!G70","v":"CMGC"}]
[17,{"$f":"Composite!B36","v":"BRAF (BRAF1, RAFB1)"},{"$f":"Composite!F36","v":"BRAF"},{"$f":"Composite!J36","v":7.6609957206972581},{"$f":"Composite!G36","v":"TKL"}]
[215,{"$f":"Composite!B234","v":"MAPK3 (ERK1)"},{"$f":"Composite!F234","v":"ERK1"},{"$f":"Composite!J234","v":7.6093934960946399},{"$f":"Composite!G234","v":"CAMK"}]
[345,{"$f":"Composite!B364","v":"SBK1 (SBK)"},{"$f":"Composite!F364","v":"SBK1"},{"$f":"Composite!J364","v":7.4924335476827366},{"$f":"Composite!G364","v":"Other"}]
[266,{"$f":"Composite!B285","v":"PAK3"},{"$f":"Composite!F285","v":"PAK3"},{"$f":"Composite!J285","v":7.4530953338101824},{"$f":"Composite!G285","v":"STE"}]
[241,{"$f":"Composite!B260","v":"MYLK2 (skMLCK)"},{"$f":"Composite!F260","v":"MYLK2"},{"$f":"Composite!J260","v":7.4496176536992778},{"$f":"Composite!G260","v":"CAMK"}]
[232,{"$f":"Composite!B251","v":"MET (c-MET, HGFR)"},{"$f":"Composite!F251","v":"MET"},{"$f":"Composite!J251","v":7.3367078893775215},{"$f":"Composite!G251","v":"TK"}]
[278,{"$f":"Composite!B297","v":"PDPK1 (PDK1)"},{"$f":"Composite!F297","v":"PDK1"},{"$f":"Composite!J297","v":7.3195153699809765},{"$f":"Composite!G297","v":"AGC"}]
[328,{"$f":"Composite!B347","v":"PTK6 (BRK)"},{"$f":"Composite!F347","v":"PTK6"},{"$f":"Composite!J347","v":7.3133350362612504},{"$f":"Composite!G347","v":"TK"}]
[294,{"$f":"Composite!B313","v":"PRKAA1-B1-G1 (AMPKα1β1γ1)"},{"$f":"Composite!F313","v":"AMPK111"},{"$f":"Composite!J313","v":7.3092579431745577},{"$f":"Composite!G313","v":"CAMK"}]
[84,{"$f":"Composite!B103","v":"CSNK1G1 (CK1G1, CK1γ1)"},{"$f":"Composite!F103","v":"CK1G1"},{"$f":"Composite!J103","v":7.1954162050473514},{"$f":"Composite!G103","v":"CK1"}]
[304,{"$f":"Composite!B323","v":"PRKAA2-B2-G2 (AMPKα2β2γ2)"},{"$f":"Composite!F323","v":"AMPK222"},{"$f":"Composite!J323","v":7.187982900639696},{"$f":"Composite!G323","v":"CAMK"}]
[387,{"$f":"Composite!B406","v":"TSSK1B (TSSK1)"},{"$f":"Composite!F406","v":"TSSK1"},{"$f":"Composite!J406","v":7.1265539734216787},{"$f":"Composite!G406","v":"CAMK"}]
[42,{"$f":"Composite!B61","v":"CDK13 (CHED)/CycK"},{"$f":"Composite!F61","v":"CDK13/K"},{"$f":"Composite!J61","v":6.9891223064983592},{"$f":"Composite!G61","v":"CMGC"}]
[246,{"$f":"Composite!B265","v":"NEK1"},{"$f":"Composite!F265","v":"NEK1"},{"$f":"Composite!J265","v":6.8642597712365472},{"$f":"Composite!G265","v":"Other"}]
[189,{"$f":"Composite!B208","v":"MAP3K10 (MLK2)"},{"$f":"Composite!F208","v":"MAP3K10"},{"$f":"Composite!J208","v":6.8459901299084009},{"$f":"Composite!G208","v":"TKL"}]
[399,{"$f":"Composite!B418","v":"ULK2"},{"$f":"Composite!F418","v":"ULK2"},{"$f":"Composite!J418","v":6.7812030552440916},{"$f":"Composite!G418","v":"Other"}]
[147,{"$f":"Composite!B166","v":"GSK3A (GSK3α)"},{"$f":"Composite!F166","v":"GSK3A"},{"$f":"Composite!J166","v":6.7789181489462749},{"$f":"Composite!G166","v":"CMGC"}]
[11,{"$f":"Composite!B30","v":"AXL"},{"$f":"Composite!F30","v":"AXL"},{"$f":"Composite!J30","v":6.6050887741127013},{"$f":"Composite!G30","v":"TK"}]
[29,{"$f":"Composite!B48","v":"CAMK2G (CAMK2γ)"},{"$f":"Composite!F48","v":"CAMK2G"},{"$f":"Composite!J48","v":6.5969330302556699},{"$f":"Composite!G48","v":"CAMK"}]
[251,{"$f":"Composite!B270","v":"NEK4"},{"$f":"Composite!F270","v":"NEK4"},{"$f":"Composite!J270","v":6.5800488899306799},{"$f":"Composite!G270","v":"Other"}]
[250,{"$f":"Composite!B269","v":"NEK3"},{"$f":"Composite!F269","v":"NEK3"},{"$f":"Composite!J269","v":6.5713289152424323},{"$f":"Composite!G269","v":"Other"}]
[265,{"$f":"Composite!B284","v":"PAK2"},{"$f":"Composite!F284","v":"PAK2"},{"$f":"Composite!J284","v":6.5553050696060637},{"$f":"Composite!G284","v":"STE"}]
[272,{"$f":"Composite!B291","v":"PDGFRA (PDGFRα)"},{"$f":"Composite!F291","v":"PDGFRA"},{"$f":"Composite!J291","v":6.5316909717306117},{"$f":"Composite!G291","v":"TK"}]
[391,{"$f":"Composite!B410","v":"TTBK1"},{"$f":"Composite!F410","v":"TTBK1"},{"$f":"Composite!J410","v":6.5265463159823298},{"$f":"Composite!G410","v":"CK1"}]
[43,{"$f":"Composite!B62","v":"CDK14 (PFTAIRE1, PFTK1)/CycY"},{"$f":"Composite!F62","v":"CDK14"},{"$f":"Composite!J62","v":6.5173103082710213},{"$f":"Composite!G62","v":"CMGC"}]
[140,{"$f":"Composite!B159","v":"GRK1 (RHOK)"},{"$f":"Composite!F159","v":"GRK1"},{"$f":"Composite!J159","v":6.4505304928532041},{"$f":"Composite!G159","v":"AGC"}]
[27,{"$f":"Composite!B46","v":"CAMK2B (CAMK2β)"},{"$f":"Composite!F46","v":"CAMK2B"},{"$f":"Composite!J46","v":6.440884190822274},{"$f":"Composite!G46","v":"CAMK"}]
[136,{"$f":"Composite!B155","v":"FRK"},{"$f":"Composite!F155","v":"FRK"},{"$f":"Composite!J155","v":6.3445298021017038},{"$f":"Composite!G155","v":"TK"}]
[245,{"$f":"Composite!B264","v":"MYO3B"},{"$f":"Composite!F264","v":"MYO3B"},{"$f":"Composite!J264","v":6.2119815668202847},{"$f":"Composite!G264","v":"STE"}]
[171,{"$f":"Composite!B190","v":"KIT (SCFR, CD117)"},{"$f":"Composite!F190","v":"KIT"},{"$f":"Composite!J190","v":6.1954180251513549},{"$f":"Composite!G190","v":"TK"}]
[322,{"$f":"Composite!B341","v":"PRKDC (DNA-PK)"},{"$f":"Composite!F341","v":"DNA-PK"},{"$f":"Composite!J341","v":6.1720384758877032},{"$f":"Composite!G341","v":"Atypical"}]
[176,{"$f":"Composite!B195","v":"LCK"},{"$f":"Composite!F195","v":"LCK"},{"$f":"Composite!J195","v":6.1334504522841371},{"$f":"Composite!G195","v":"TK"}]
[202,{"$f":"Composite!B221","v":"MAP3K9 (MLK1)"},{"$f":"Composite!F221","v":"MAP3K9"},{"$f":"Composite!J221","v":6.0947933608504883},{"$f":"Composite!G221","v":"TKL"}]
[192,{"$f":"Composite!B211","v":"MAP3K13 (LZK)"},{"$f":"Composite!F211","v":"MAP3K13"},{"$f":"Composite!J211","v":5.763245715999858},{"$f":"Composite!G211","v":"TKL"}]
[374,{"$f":"Composite!B393","v":"TAOK1 (TAO1)"},{"$f":"Composite!F393","v":"TAOK1"},{"$f":"Composite!J393","v":5.7459663288335605},{"$f":"Composite!G393","v":"STE"}]
[262,{"$f":"Composite!B281","v":"NUAK1 (ARK5)"},{"$f":"Composite!F281","v":"NUAK1"},{"$f":"Composite!J281","v":5.6640170286360387},{"$f":"Composite!G281","v":"CAMK"}]
[79,{"$f":"Composite!B98","v":"CSK"},{"$f":"Composite!F98","v":"CSK"},{"$f":"Composite!J98","v":5.6546288014311159},{"$f":"Composite!G98","v":"TK"}]
[334,{"$f":"Composite!B353","v":"ROCK1"},{"$f":"Composite!F353","v":"ROCK1"},{"$f":"Composite!J353","v":5.6522266551649807},{"$f":"Composite!G353","v":"AGC"}]
[383,{"$f":"Composite!B402","v":"TNIK (ZC2)"},{"$f":"Composite!F402","v":"TNIK"},{"$f":"Composite!J402","v":5.6427428186336357},{"$f":"Composite!G402","v":"STE"}]
[231,{"$f":"Composite!B250","v":"MERTK (MER)"},{"$f":"Composite!F250","v":"MERTK"},{"$f":"Composite!J250","v":5.64110140262963},{"$f":"Composite!G250","v":"TK"}]
[305,{"$f":"Composite!B324","v":"PRKAA2-B2-G3 (AMPKα2β2γ3)"},{"$f":"Composite!F324","v":"AMPK223"},{"$f":"Composite!J324","v":5.5804919094204877},{"$f":"Composite!G324","v":"CAMK"}]
[370,{"$f":"Composite!B389","v":"STK38 (NDR1)"},{"$f":"Composite!F389","v":"NDR1"},{"$f":"Composite!J389","v":5.5584101556596579},{"$f":"Composite!G389","v":"AGC"}]
[153,{"$f":"Composite!B172","v":"HIPK3"},{"$f":"Composite!F172","v":"HIPK3"},{"$f":"Composite!J172","v":5.5505363364720353},{"$f":"Composite!G172","v":"CMGC"}]
[330,{"$f":"Composite!B349","v":"RET"},{"$f":"Composite!F349","v":"RET"},{"$f":"Composite!J349","v":5.4301857943940348},{"$f":"Composite!G349","v":"TK"}]
[307,{"$f":"Composite!B326","v":"PRKACB (PKACB, PKACβ)"},{"$f":"Composite!F326","v":"PKACB"},{"$f":"Composite!J326","v":5.429878060409095},{"$f":"Composite!G326","v":"AGC"}]
[295,{"$f":"Composite!B314","v":"PRKAA1-B1-G2 (AMPKα1β1γ2)"},{"$f":"Composite!F314","v":"AMPK112"},{"$f":"Composite!J314","v":5.4172392252915671},{"$f":"Composite!G314","v":"CAMK"}]
[198,{"$f":"Composite!B217","v":"MAP3K5 (ASK1)"},{"$f":"Composite!F217","v":"MAP3K5"},{"$f":"Composite!J217","v":5.4129044394281323},{"$f":"Composite!G217","v":"STE"}]
[26,{"$f":"Composite!B45","v":"CAMK2A (CAMK2α)"},{"$f":"Composite!F45","v":"CAMK2A"},{"$f":"Composite!J45","v":5.3135274679542022},{"$f":"Composite!G45","v":"CAMK"}]
[18,{"$f":"Composite!B37","v":"BRAF, b-[V600E]"},{"$f":"Composite!F37","v":"BRAF(V600E)"},{"$f":"Composite!J37","v":5.3078479549067623},{"$f":"Composite!G37","v":"TKL"}]
[331,{"$f":"Composite!B350","v":"RIPK1"},{"$f":"Composite!F350","v":"RIPK1"},{"$f":"Composite!J350","v":5.299659774928017},{"$f":"Composite!G350","v":"TKL"}]
[175,{"$f":"Composite!B194","v":"LATS2"},{"$f":"Composite!F194","v":"LATS2"},{"$f":"Composite!J194","v":5.2790826478491937},{"$f":"Composite!G194","v":"AGC"}]
[249,{"$f":"Composite!B268","v":"NEK2"},{"$f":"Composite!F268","v":"NEK2"},{"$f":"Composite!J268","v":5.218737014057055},{"$f":"Composite!G268","v":"Other"}]
[35,{"$f":"Composite!B54","v":"CDC42BPG (DMPK2)"},{"$f":"Composite!F54","v":"DMPK2"},{"$f":"Composite!J54","v":5.0335213365967775},{"$f":"Composite!G54","v":"AGC"}]
[200,{"$f":"Composite!B219","v":"MAP3K7 (TAK1)"},{"$f":"Composite!F219","v":"MAP3K7"},{"$f":"Composite!J219","v":4.9779510132624125},{"$f":"Composite!G219","v":"STE"}]
[133,{"$f":"Composite!B152","v":"FLT1"},{"$f":"Composite!F152","v":"FLT1"},{"$f":"Composite!J152","v":4.84893323468836},{"$f":"Composite!G152","v":"TK"}]
[116,{"$f":"Composite!B135","v":"EPHA8"},{"$f":"Composite!F135","v":"EPHA8"},{"$f":"Composite!J135","v":4.8403470731181102},{"$f":"Composite!G135","v":"TK"}]
[2,{"$f":"Composite!B21","v":"ABL1"},{"$f":"Composite!F21","v":"ABL1"},{"$f":"Composite!J21","v":4.8396271824268098},{"$f":"Composite!G21","v":"TK"}]
[401,{"$f":"Composite!B420","v":"WEE1"},{"$f":"Composite!F420","v":"WEE1"},{"$f":"Composite!J420","v":4.8015224750324137},{"$f":"Composite!G420","v":"Other"}]
[194,{"$f":"Composite!B213","v":"MAP3K19 (YSK4)"},{"$f":"Composite!F213","v":"YSK4"},{"$f":"Composite!J213","v":4.6417792821421813},{"$f":"Composite!G213","v":"STE"}]
[81,{"$f":"Composite!B100","v":"CSNK1A1L (CK1A1L, CK1a2)"},{"$f":"Composite!F100","v":"CK1A1L"},{"$f":"Composite!J100","v":4.6339574263507899},{"$f":"Composite!G100","v":"CK1"}]
[361,{"$f":"Composite!B380","v":"STK11 (LKB1, AMPKK)"},{"$f":"Composite!F380","v":"LKB1"},{"$f":"Composite!J380","v":4.6308001389490556},{"$f":"Composite!G380","v":"CAMK"}]
[349,{"$f":"Composite!B368","v":"SIK1 (SIK)"},{"$f":"Composite!F368","v":"SIK1"},{"$f":"Composite!J368","v":4.6088929375569307},{"$f":"Composite!G368","v":"CAMK"}]
[165,{"$f":"Composite!B184","v":"JAK1 [JH1]"},{"$f":"Composite!F184","v":"JAK1(JH1)"},{"$f":"Composite!J184","v":4.4080450602923946},{"$f":"Composite!G184","v":"TK"}]
[314,{"$f":"Composite!B333","v":"PRKCG (PKCγ [gamma])"},{"$f":"Composite!F333","v":"PKCG"},{"$f":"Composite!J333","v":4.4017607042817275},{"$f":"Composite!G333","v":"AGC"}]
[106,{"$f":"Composite!B125","v":"EIF2AK2 (PKR)"},{"$f":"Composite!F125","v":"PKR"},{"$f":"Composite!J125","v":4.3661674752162014},{"$f":"Composite!G125","v":"Other"}]
[25,{"$f":"Composite!B44","v":"CAMK1G (CAMK1γ)"},{"$f":"Composite!F44","v":"CAMK1G"},{"$f":"Composite!J44","v":4.315923518635131},{"$f":"Composite!G44","v":"CAMK"}]
[299,{"$f":"Composite!B318","v":"PRKAA1-B2-G3 (AMPKα1β2γ3)"},{"$f":"Composite!F318","v":"AMPK123"},{"$f":"Composite!J318","v":4.3010817187531245},{"$f":"Composite!G318","v":"CAMK"}]
[293,{"$f":"Composite!B312","v":"PNCK (CAMK1β)"},{"$f":"Composite!F312","v":"CAMK1B"},{"$f":"Composite!J312","v":4.2502186659755665},{"$f":"Composite!G312","v":"CAMK"}]
[380,{"$f":"Composite!B399","v":"TESK2"},{"$f":"Composite!F399","v":"TESK2"},{"$f":"Composite!J399","v":4.1948344600450724},{"$f":"Composite!G399","v":"TKL"}]
[269,{"$f":"Composite!B288","v":"PAK6"},{"$f":"Composite!F288","v":"PAK6"},{"$f":"Composite!J288","v":4.1624911397355362},{"$f":"Composite!G288","v":"STE"}]
[306,{"$f":"Composite!B325","v":"PRKACA (PKACA, PKACα)"},{"$f":"Composite!F325","v":"PKACA"},{"$f":"Composite!J325","v":4.1512776134968448},{"$f":"Composite!G325","v":"AGC"}]
[223,{"$f":"Composite!B242","v":"MARK1"},{"$f":"Composite!F242","v":"MARK1"},{"$f":"Composite!J242","v":4.0686342822037318},{"$f":"Composite!G242","v":"CAMK"}]
[105,{"$f":"Composite!B124","v":"EIF2AK1 (HRI)"},{"$f":"Composite!F124","v":"HRI"},{"$f":"Composite!J124","v":3.9743426799027759},{"$f":"Composite!G124","v":"Other"}]
[323,{"$f":"Composite!B342","v":"PRKG1 (PKG1, PGK)"},{"$f":"Composite!F342","v":"PGK"},{"$f":"Composite!J342","v":3.9415655606971001},{"$f":"Composite!G342","v":"AGC"}]
[257,{"$f":"Composite!B276","v":"NIM1 (NIM1K)"},{"$f":"Composite!F276","v":"NIM1"},{"$f":"Composite!J276","v":3.8004846730985804},{"$f":"Composite!G276","v":"CAMK"}]
[114,{"$f":"Composite!B133","v":"EPHA6"},{"$f":"Composite!F133","v":"EPHA6"},{"$f":"Composite!J133","v":3.6859156993308773},{"$f":"Composite!G133","v":"TK"}]
[166,{"$f":"Composite!B185","v":"JAK1 [JH1-JH2]"},{"$f":"Composite!F185","v":"JAK1(JH1JH2)"},{"$f":"Composite!J185","v":3.6636628915941429},{"$f":"Composite!G185","v":"TK"}]
[190,{"$f":"Composite!B209","v":"MAP3K11 (MLK3)"},{"$f":"Composite!F209","v":"MAP3K11"},{"$f":"Composite!J209","v":3.6323045450502462},{"$f":"Composite!G209","v":"TKL"}]
[311,{"$f":"Composite!B330","v":"PRKCB2 (PKCβ2 [beta2])"},{"$f":"Composite!F330","v":"PKCB2"},{"$f":"Composite!J330","v":3.5883538465223523},{"$f":"Composite!G330","v":"AGC"}]
[230,{"$f":"Composite!B249","v":"MELK"},{"$f":"Composite!F249","v":"MELK"},{"$f":"Composite!J249","v":3.4193024514732002},{"$f":"Composite!G249","v":"CAMK"}]
[358,{"$f":"Composite!B377","v":"SRPK2"},{"$f":"Composite!F377","v":"SRPK2"},{"$f":"Composite!J377","v":3.3850684241724736},{"$f":"Composite!G377","v":"CMGC"}]
[64,{"$f":"Composite!B83","v":"CDK7/CycH/MAT1"},{"$f":"Composite!F83","v":"CDK7"},{"$f":"Composite!J83","v":3.3725765164736288},{"$f":"Composite!G83","v":"CMGC"}]
[129,{"$f":"Composite!B148","v":"FGFR2"},{"$f":"Composite!F148","v":"FGFR2"},{"$f":"Composite!J148","v":3.3607244006542061},{"$f":"Composite!G148","v":"TK"}]
[271,{"$f":"Composite!B290","v":"PBK (TOPK)"},{"$f":"Composite!F290","v":"TOPK"},{"$f":"Composite!J290","v":3.3550115197638775},{"$f":"Composite!G290","v":"Other"}]
[128,{"$f":"Composite!B147","v":"FGFR1"},{"$f":"Composite!F147","v":"FGFR1"},{"$f":"Composite!J147","v":3.336902454561482},{"$f":"Composite!G147","v":"TK"}]
[218,{"$f":"Composite!B237","v":"MAPK8 (JNK1)"},{"$f":"Composite!F237","v":"JNK1"},{"$f":"Composite!J237","v":3.0554277658232678},{"$f":"Composite!G237","v":"CMGC"}]
[92,{"$f":"Composite!B111","v":"DCLK1 (DCAMKL1)"},{"$f":"Composite!F111","v":"DCAML1"},{"$f":"Composite!J111","v":3.0118275377217287},{"$f":"Composite!G111","v":"CAMK"}]
[138,{"$f":"Composite!B157","v":"FYNb (FYN)"},{"$f":"Composite!F157","v":"FYNB"},{"$f":"Composite!J157","v":3.010951584015956},{"$f":"Composite!G157","v":"TK"}]
[161,{"$f":"Composite!B180","v":"INSRR (IRR)"},{"$f":"Composite!F180","v":"INSRR"},{"$f":"Composite!J180","v":3.0109245936584017},{"$f":"Composite!G180","v":"TK"}]
[169,{"$f":"Composite!B188","v":"JAK3 [JH1]"},{"$f":"Composite!F188","v":"JAK3(JH1)"},{"$f":"Composite!J188","v":2.9034399096034633},{"$f":"Composite!G188","v":"TK"}]
[132,{"$f":"Composite!B151","v":"FGR"},null,{"$f":"Composite!J151","v":2.8328924272755529},{"$f":"Composite!G151","v":"TK"}]
[213,{"$f":"Composite!B232","v":"MAPK14 (p38a)"},{"$f":"Composite!F232","v":"P38A"},{"$f":"Composite!J232","v":2.7232819126545138},{"$f":"Composite!G232","v":"CMGC"}]
[260,{"$f":"Composite!B279","v":"NTRK2 (TRKB)"},{"$f":"Composite!F279","v":"NTRK2"},{"$f":"Composite!J279","v":2.4998796451501448},{"$f":"Composite!G279","v":"TK"}]
[177,{"$f":"Composite!B196","v":"LIMK1"},{"$f":"Composite!F196","v":"LIMK1"},{"$f":"Composite!J196","v":2.476921594180439},{"$f":"Composite!G196","v":"TKL"}]
[356,{"$f":"Composite!B375","v":"SRMS (SRM)"},{"$f":"Composite!F375","v":"SRM"},{"$f":"Composite!J375","v":2.3387813583339465},{"$f":"Composite!G375","v":"TK"}]
[76,{"$f":"Composite!B95","v":"CLK3"},{"$f":"Composite!F95","v":"CLK3"},{"$f":"Composite!J95","v":2.288549035723733},{"$f":"Composite!G95","v":"CMGC"}]
[276,{"$f":"Composite!B295","v":"PDK3 (PDHK3)"},{"$f":"Composite!F295","v":"PDHK3"},{"$f":"Composite!J295","v":2.2712431313211709},{"$f":"Composite!G295","v":"Atypical"}]
[191,{"$f":"Composite!B210","v":"MAP3K12 (DLK)"},{"$f":"Composite!F210","v":"MAP3K12"},{"$f":"Composite!J210","v":2.2507627673679451},{"$f":"Composite!G210","v":"TKL"}]
[120,{"$f":"Composite!B139","v":"EPHB4"},{"$f":"Composite!F139","v":"EPHB4"},{"$f":"Composite!J139","v":2.2287787568278929},{"$f":"Composite!G139","v":"TK"}]
[267,{"$f":"Composite!B286","v":"PAK4"},{"$f":"Composite!F286","v":"PAK4"},{"$f":"Composite!J286","v":1.9964046916993539},{"$f":"Composite!G286","v":"STE"}]
[254,{"$f":"Composite!B273","v":"NEK7"},{"$f":"Composite!F273","v":"NEK7"},{"$f":"Composite!J273","v":1.9620857389644186},{"$f":"Composite!G273","v":"Other"}]
[379,{"$f":"Composite!B398","v":"TEK (TIE2)"},{"$f":"Composite!F398","v":"TEK"},{"$f":"Composite!J398","v":1.9248893687935862},{"$f":"Composite!G398","v":"TK"}]
[85,{"$f":"Composite!B104","v":"CSNK1G2 (CK1G2, CK1γ2)"},{"$f":"Composite!F104","v":"CK1G2"},{"$f":"Composite!J104","v":1.8030816144023731},{"$f":"Composite!G104","v":"CK1"}]
[146,{"$f":"Composite!B165","v":"GRK7 (GPRK7)"},{"$f":"Composite!F165","v":"GRK7"},{"$f":"Composite!J165","v":1.7916476370447043},{"$f":"Composite!G165","v":"AGC"}]
[333,{"$f":"Composite!B352","v":"RIPK3"},{"$f":"Composite!F352","v":"RIPK3"},{"$f":"Composite!J352","v":1.7362561522674724},{"$f":"Composite!G352","v":"TKL"}]
[392,{"$f":"Composite!B411","v":"TTBK2"},{"$f":"Composite!F411","v":"TTBK2"},{"$f":"Composite!J411","v":1.7120328282636734},{"$f":"Composite!G411","v":"CK1"}]
[388,{"$f":"Composite!B407","v":"TSSK2"},{"$f":"Composite!F407","v":"TSSK2"},{"$f":"Composite!J407","v":1.664411366711775},{"$f":"Composite!G407","v":"CAMK"}]
[326,{"$f":"Composite!B345","v":"PTK2 (FAK)"},{"$f":"Composite!F345","v":"PTK2"},{"$f":"Composite!J345","v":1.5903043322013986},{"$f":"Composite!G345","v":"TK"}]
[279,{"$f":"Composite!B298","v":"PHKG1"},{"$f":"Composite!F298","v":"PHKG1"},{"$f":"Composite!J298","v":1.4159689541886138},{"$f":"Composite!G298","v":"CAMK"}]
[40,{"$f":"Composite!B59","v":"CDK1 (CDC2)/CycE1 "},{"$f":"Composite!F59","v":"CDK1/E1"},{"$f":"Composite!J59","v":1.3741457030681943},{"$f":"Composite!G59","v":"CMGC"}]
[102,{"$f":"Composite!B121","v":"DYRK4"},{"$f":"Composite!F121","v":"DYRK4"},{"$f":"Composite!J121","v":1.3665996764864445},{"$f":"Composite!G121","v":"CMGC"}]
[360,{"$f":"Composite!B379","v":"STK10 (LOK)"},{"$f":"Composite!F379","v":"LOK"},{"$f":"Composite!J379","v":1.2967226959824956},{"$f":"Composite!G379","v":"STE"}]
[367,{"$f":"Composite!B386","v":"STK26 (MST4)"},{"$f":"Composite!F386","v":"MST4"},{"$f":"Composite!J386","v":1.2874768802185912},{"$f":"Composite!G386","v":"STE"}]
[157,{"$f":"Composite!B176","v":"IGF1R"},{"$f":"Composite!F176","v":"IGF1R"},{"$f":"Composite!J176","v":1.2603235161151503},{"$f":"Composite!G176","v":"TK"}]
[86,{"$f":"Composite!B105","v":"CSNK1G3 (CK1G3, CK1γ3)"},{"$f":"Composite!F105","v":"CK1G3"},{"$f":"Composite!J105","v":1.1791030983635125},{"$f":"Composite!G105","v":"CK1"}]
[376,{"$f":"Composite!B395","v":"TAOK3 (TAO3)"},{"$f":"Composite!F395","v":"TAOK3"},{"$f":"Composite!J395","v":1.0877071823204574},{"$f":"Composite!G395","v":"STE"}]
[168,{"$f":"Composite!B187","v":"JAK2 [JH1-JH2]"},{"$f":"Composite!F187","v":"JAK2(JH1JH2)"},{"$f":"Composite!J187","v":1.0783385598485324},{"$f":"Composite!G187","v":"TK"}]
[107,{"$f":"Composite!B126","v":"EIF2AK3 (PERK/PEK)"},{"$f":"Composite!F126","v":"PEK"},{"$f":"Composite!J126","v":1.0551891704269423},{"$f":"Composite!G126","v":"Other"}]
[371,{"$f":"Composite!B390","v":"STK38L (NDR2)"},{"$f":"Composite!F390","v":"NDR2"},{"$f":"Composite!J390","v":0.97115345047532742},{"$f":"Composite!G390","v":"AGC"}]
[115,{"$f":"Composite!B134","v":"EPHA7"},{"$f":"Composite!F134","v":"EPHA7"},{"$f":"Composite!J134","v":0.90824500755417148},{"$f":"Composite!G134","v":"TK"}]
[236,{"$f":"Composite!B255","v":"MNK2"},{"$f":"Composite!F255","v":"MNK2"},{"$f":"Composite!J255","v":0.87683023953928796},{"$f":"Composite!G255","v":"CAMK"}]
[221,{"$f":"Composite!B240","v":"MAPKAPK3 (MK3)"},{"$f":"Composite!F240","v":"MK3"},{"$f":"Composite!J240","v":0.86847686577500838},{"$f":"Composite!G240","v":"CAMK"}]
[226,{"$f":"Composite!B245","v":"MARK4"},{"$f":"Composite!F245","v":"MARK4"},{"$f":"Composite!J245","v":0.86425554825919448},{"$f":"Composite!G245","v":"CAMK"}]
[327,{"$f":"Composite!B346","v":"PTK2B (PYK2)"},{"$f":"Composite!F346","v":"PTK2B"},{"$f":"Composite!J346","v":0.70303269723872575},{"$f":"Composite!G346","v":"TK"}]
[127,{"$f":"Composite!B146","v":"FES"},{"$f":"Composite!F146","v":"FES"},{"$f":"Composite!J146","v":0.61874645101917736},{"$f":"Composite!G146","v":"TK"}]
[389,{"$f":"Composite!B408","v":"TSSK3"},{"$f":"Composite!F408","v":"TSSK3"},{"$f":"Composite!J408","v":0.56405919123956494},{"$f":"Composite!G408","v":"CAMK"}]
[242,{"$f":"Composite!B261","v":"MYLK3 (caMLCK)"},{"$f":"Composite!F261","v":"MYLK3"},{"$f":"Composite!J261","v":0.54363082129765417},{"$f":"Composite!G261","v":"CAMK"}]
[273,{"$f":"Composite!B292","v":"PDGFRB (PDGFRβ)"},{"$f":"Composite!F292","v":"PDGFRB"},{"$f":"Composite!J292","v":0.54117537151587669},{"$f":"Composite!G292","v":"TK"}]
[296,{"$f":"Composite!B315","v":"PRKAA1-B1-G3 (AMPKα1β1γ3)"},{"$f":"Composite!F315","v":"AMPK113"},{"$f":"Composite!J315","v":0.50800577429556881},{"$f":"Composite!G315","v":"CAMK"}]
[142,{"$f":"Composite!B161","v":"GRK3 (ADRBK2, BARK2)"},{"$f":"Composite!F161","v":"GRK3"},{"$f":"Composite!J161","v":0.38380789922581471},{"$f":"Composite!G161","v":"AGC"}]
[164,{"$f":"Composite!B183","v":"ITK"},{"$f":"Composite!F183","v":"ITK"},{"$f":"Composite!J183","v":0.28688916515251606},{"$f":"Composite!G183","v":"TK"}]
[211,{"$f":"Composite!B230","v":"MAPK12 (p38γ)"},{"$f":"Composite!F230","v":"P38G"},{"$f":"Composite!J230","v":0.27883797733703375},{"$f":"Composite!G230","v":"CMGC"}]
[103,{"$f":"Composite!B122","v":"EEF2K (eEF2K)"},{"$f":"Composite!F122","v":"EEF2K"},{"$f":"Composite!J122","v":0.16524373450839391},{"$f":"Composite!G122","v":"Atypical"}]
[258,{"$f":"Composite!B277","v":"NLK (LAK1)"},{"$f":"Composite!F277","v":"NLK"},{"$f":"Composite!J277","v":8.8926086729088638E-2},{"$f":"Composite!G277","v":"CMGC"}]
[110,{"$f":"Composite!B129","v":"EPHA2"},{"$f":"Composite!F129","v":"EPHA2"},{"$f":"Composite!J129","v":6.9984447900452551E-2},{"$f":"Composite!G129","v":"TK"}]
[98,{"$f":"Composite!B117","v":"DYRK1A"},{"$f":"Composite!F117","v":"DYRK1A"},{"$f":"Composite!J117","v":2.3061328881169629E-2},{"$f":"Composite!G117","v":"CMGC"}]
[41,{"$f":"Composite!B60","v":"CDK12 (CRK7)/CycK"},{"$f":"Composite!F60","v":"CDK12/K"},{"$f":"Composite!J60","v":0},{"$f":"Composite!G60","v":"CMGC"}]
[50,{"$f":"Composite!B69","v":"CDK2/CycD1"},{"$f":"Composite!F69","v":"CDK2/D1"},{"$f":"Composite!J69","v":0},{"$f":"Composite!G69","v":"CMGC"}]
[216,{"$f":"Composite!B235","v":"MAPK6 (ERK3)"},{"$f":"Composite!F235","v":"ERK3"},{"$f":"Composite!J235","v":0},{"$f":"Composite!G235","v":"CMGC"},null,null,null,null,null,null,{"$f":"Composite!F70","v":"CDK2/E1"}]
[255,{"$f":"Composite!B274","v":"NEK8"},{"$f":"Composite!F274","v":"NEK8"},{"$f":"Composite!J274","v":0},{"$f":"Composite!G274","v":"Other"},null,null,null,null,null,null,{"$f":"Composite!F79","v":"CDK5/P35"}]
[302,{"$f":"Composite!B321","v":"PRKAA2-B1-G3 (AMPKα2β1γ3)"},{"$f":"Composite!F321","v":"AMPK213"},{"$f":"Composite!J321","v":-1.5150386848446828E-2},{"$f":"Composite!G321","v":"CAMK"},null,null,null,null,null,null,{"$f":"Composite!F151","v":"FGR"}]
[99,{"$f":"Composite!B118","v":"DYRK1B"},{"$f":"Composite!F118","v":"DYRK1B"},{"$f":"Composite!J118","v":-4.7137127771719634E-2},{"$f":"Composite!G118","v":"CMGC"},null,null,null,null,null,null,{"$f":"Composite!F294","v":"PDHK2"}]
[224,{"$f":"Composite!B243","v":"MARK2"},{"$f":"Composite!F243","v":"MARK2"},{"$f":"Composite!J243","v":-0.10951891617693832},{"$f":"Composite!G243","v":"CAMK"}]
[75,{"$f":"Composite!B94","v":"CLK2"},{"$f":"Composite!F94","v":"CLK2"},{"$f":"Composite!J94","v":-0.11187630634010759},{"$f":"Composite!G94","v":"CMGC"}]
[155,{"$f":"Composite!B174","v":"HUNK"},{"$f":"Composite!F174","v":"HUNK"},{"$f":"Composite!J174","v":-0.11430753838043017},{"$f":"Composite!G174","v":"CAMK"}]
[160,{"$f":"Composite!B179","v":"INSR (IR)"},{"$f":"Composite!F179","v":"INSR"},{"$f":"Composite!J179","v":-0.12446034771110703},{"$f":"Composite!G179","v":"TK"}]
[30,{"$f":"Composite!B49","v":"CAMK4"},{"$f":"Composite!F49","v":"CAMK4"},{"$f":"Composite!J49","v":-0.13662629493597933},{"$f":"Composite!G49","v":"CAMK"}]
[394,{"$f":"Composite!B413","v":"TXK"},{"$f":"Composite!F413","v":"TXK"},{"$f":"Composite!J413","v":-0.1768831960963837},{"$f":"Composite!G413","v":"TK"}]
[228,{"$f":"Composite!B247","v":"MASTL"},{"$f":"Composite!F247","v":"MASTL"},{"$f":"Composite!J247","v":-0.1930159751982643},{"$f":"Composite!G247","v":"AGC"}]
[288,{"$f":"Composite!B307","v":"PKN3"},{"$f":"Composite!F307","v":"PKN3"},{"$f":"Composite!J307","v":-0.20015648597996005},{"$f":"Composite!G307","v":"AGC"}]
[193,{"$f":"Composite!B212","v":"MAP3K14 (NIK)"},{"$f":"Composite!F212","v":"MAP3K14"},{"$f":"Composite!J212","v":-0.22290122219996533},{"$f":"Composite!G212","v":"STE"}]
[237,{"$f":"Composite!B256","v":"MST1R (RON)"},{"$f":"Composite!F256","v":"MST1R"},{"$f":"Composite!J256","v":-0.24476438912842013},{"$f":"Composite!G256","v":"TK"}]
[352,{"$f":"Composite!B371","v":"SLK"},{"$f":"Composite!F371","v":"SLK"},{"$f":"Composite!J371","v":-0.25522671734999847},{"$f":"Composite!G371","v":"STE"}]
[117,{"$f":"Composite!B136","v":"EPHB1"},{"$f":"Composite!F136","v":"EPHB1"},{"$f":"Composite!J136","v":-0.25902752866306855},{"$f":"Composite!G136","v":"TK"}]
[83,{"$f":"Composite!B102","v":"CSNK1E (CK1E, CK1ε)"},{"$f":"Composite!F102","v":"CK1E"},{"$f":"Composite!J102","v":-0.30586674528302638},{"$f":"Composite!G102","v":"CK1"}]
[354,{"$f":"Composite!B373","v":"SRC"},{"$f":"Composite!F373","v":"SRC"},{"$f":"Composite!J373","v":-0.56179775280898525},{"$f":"Composite!G373","v":"TK"}]
[390,{"$f":"Composite!B409","v":"TSSK6 (SSTK)"},{"$f":"Composite!F409","v":"TSSK6"},{"$f":"Composite!J409","v":-0.59704291208528559},{"$f":"Composite!G409","v":"CAMK"}]
[47,{"$f":"Composite!B66","v":"CDK18 (PCTAIRE3, PCTK3)/CycY "},{"$f":"Composite!F66","v":"CDK18"},{"$f":"Composite!J66","v":-0.6040869494423049},{"$f":"Composite!G66","v":"CMGC"}]
[281,{"$f":"Composite!B300","v":"PIM1"},{"$f":"Composite!F300","v":"PIM1"},{"$f":"Composite!J300","v":-0.65975032977718229},{"$f":"Composite!G300","v":"CAMK"}]
[280,{"$f":"Composite!B299","v":"PHKG2"},{"$f":"Composite!F299","v":"PHKG2"},{"$f":"Composite!J299","v":-0.70803714808702978},{"$f":"Composite!G299","v":"CAMK"}]
[148,{"$f":"Composite!B167","v":"GSK3B (GSK3β)"},{"$f":"Composite!F167","v":"GSK3B"},{"$f":"Composite!J167","v":-0.81720306126861431},{"$f":"Composite!G167","v":"CMGC"}]
[4,{"$f":"Composite!B23","v":"AKT1 (PKB)"},{"$f":"Composite!F23","v":"AKT1"},{"$f":"Composite!J23","v":-0.8763968618978879},{"$f":"Composite!G23","v":"AGC"}]
[318,{"$f":"Composite!B337","v":"PRKCZ (PKCζ [zeta])"},{"$f":"Composite!F337","v":"PKCZ"},{"$f":"Composite!J337","v":-0.91555987658995264},{"$f":"Composite!G337","v":"AGC"}]
[154,{"$f":"Composite!B173","v":"HIPK4"},{"$f":"Composite!F173","v":"HIPK4"},{"$f":"Composite!J173","v":-0.91699946582555469},{"$f":"Composite!G173","v":"CMGC"}]
[315,{"$f":"Composite!B334","v":"PRKCH (PKCη [eta])"},{"$f":"Composite!F334","v":"PKCH"},{"$f":"Composite!J334","v":-0.96892704786768036},{"$f":"Composite!G334","v":"AGC"}]
[312,{"$f":"Composite!B331","v":"PRKCD (PKCδ [delta])"},{"$f":"Composite!F331","v":"PKCD"},{"$f":"Composite!J331","v":-1.0040157700653367},{"$f":"Composite!G331","v":"AGC"}]
[208,{"$f":"Composite!B227","v":"MAPK1 (ERK2)"},{"$f":"Composite!F227","v":"ERK2"},{"$f":"Composite!J227","v":-1.0181073705324195},{"$f":"Composite!G227","v":"CMGC"}]
[71,{"$f":"Composite!B90","v":"CHEK2 (CHK2)"},{"$f":"Composite!F90","v":"CHK2"},{"$f":"Composite!J90","v":-1.0389172340784256},{"$f":"Composite!G90","v":"CAMK"}]
[70,{"$f":"Composite!B89","v":"CHEK1 (CHK1)"},{"$f":"Composite!F89","v":"CHK1"},{"$f":"Composite!J89","v":-1.0588862467932643},{"$f":"Composite!G89","v":"CAMK"}]
[82,{"$f":"Composite!B101","v":"CSNK1D (CK1D, CK1δ)"},{"$f":"Composite!F101","v":"CK1D"},{"$f":"Composite!J101","v":-1.0941704035874409},{"$f":"Composite!G101","v":"CK1"}]
[170,{"$f":"Composite!B189","v":"KDR (VEGFR2)"},{"$f":"Composite!F189","v":"KDR"},{"$f":"Composite!J189","v":-1.1343926122741124},{"$f":"Composite!G189","v":"TK"}]
[74,{"$f":"Composite!B93","v":"CLK1"},{"$f":"Composite!F93","v":"CLK1"},{"$f":"Composite!J93","v":-1.1944901315789451},{"$f":"Composite!G93","v":"CMGC"}]
[100,{"$f":"Composite!B119","v":"DYRK2"},{"$f":"Composite!F119","v":"DYRK2"},{"$f":"Composite!J119","v":-1.286926367551132},{"$f":"Composite!G119","v":"CMGC"}]
[150,{"$f":"Composite!B169","v":"HCK"},{"$f":"Composite!F169","v":"HCK"},{"$f":"Composite!J169","v":-1.3290928453071587},{"$f":"Composite!G169","v":"TK"}]
[300,{"$f":"Composite!B319","v":"PRKAA2-B1-G1 (AMPKα2β1γ1)"},{"$f":"Composite!F319","v":"AMPK211"},{"$f":"Composite!J319","v":-1.335296239040872},{"$f":"Composite!G319","v":"CAMK"}]
[80,{"$f":"Composite!B99","v":"CSNK1A1 (CK1A1, CK1α)"},{"$f":"Composite!F99","v":"CK1A1"},{"$f":"Composite!J99","v":-1.3580343826045862},{"$f":"Composite!G99","v":"CK1"}]
[174,{"$f":"Composite!B193","v":"LATS1"},{"$f":"Composite!F193","v":"LATS1"},{"$f":"Composite!J193","v":-1.4095367343161911},{"$f":"Composite!G193","v":"AGC"}]
[398,{"$f":"Composite!B417","v":"ULK1"},{"$f":"Composite!F417","v":"ULK1"},{"$f":"Composite!J417","v":-1.6353281791861605},{"$f":"Composite!G417","v":"Other"}]
[167,{"$f":"Composite!B186","v":"JAK2 [JH1]"},{"$f":"Composite!F186","v":"JAK2(JH1)"},{"$f":"Composite!J186","v":-1.6577943626416101},{"$f":"Composite!G186","v":"TK"}]
[217,{"$f":"Composite!B236","v":"MAPK7 (BMK, ERK5)"},{"$f":"Composite!F236","v":"ERK5"},{"$f":"Composite!J236","v":-1.7200029778997248},{"$f":"Composite!G236","v":"CMGC"}]
[87,{"$f":"Composite!B106","v":"CSNK2A1 (CK2A1, CK2α1)"},{"$f":"Composite!F106","v":"CK2A1"},{"$f":"Composite!J106","v":-1.8148071767374887},{"$f":"Composite!G106","v":"Other"}]
[119,{"$f":"Composite!B138","v":"EPHB3"},{"$f":"Composite!F138","v":"EPHB3"},{"$f":"Composite!J138","v":-1.8328707195903462},{"$f":"Composite!G138","v":"TK"}]
[5,{"$f":"Composite!B24","v":"AKT2 (PKBb)"},{"$f":"Composite!F24","v":"AKT2"},{"$f":"Composite!J24","v":-1.9404613466334126},{"$f":"Composite!G24","v":"AGC"}]
[336,{"$f":"Composite!B355","v":"ROS1 (ROS)"},{"$f":"Composite!F355","v":"ROS"},{"$f":"Composite!J355","v":-1.942506514857925},{"$f":"Composite!G355","v":"TK"}]
[91,{"$f":"Composite!B110","v":"DAPK3 (ZIPK)"},{"$f":"Composite!F110","v":"DAPK3"},{"$f":"Composite!J110","v":-2.0143860597055152},{"$f":"Composite!G110","v":"CAMK"}]
[400,{"$f":"Composite!B419","v":"ULK3"},{"$f":"Composite!F419","v":"ULK3"},{"$f":"Composite!J419","v":-2.0551239118828875},{"$f":"Composite!G419","v":"Other"}]
[34,{"$f":"Composite!B53","v":"CDC42BPB (MRCKB)"},{"$f":"Composite!F53","v":"MRCKB"},{"$f":"Composite!J53","v":-2.1100932254051372},{"$f":"Composite!G53","v":"AGC"}]
[10,{"$f":"Composite!B29","v":"AURKC (AURC)"},{"$f":"Composite!F29","v":"AURC"},{"$f":"Composite!J29","v":-2.1149135099862093},{"$f":"Composite!G29","v":"Other"}]
[282,{"$f":"Composite!B301","v":"PIM2"},{"$f":"Composite!F301","v":"PIM2"},{"$f":"Composite!J301","v":-2.161909686890084},{"$f":"Composite!G301","v":"CAMK"}]
[243,{"$f":"Composite!B262","v":"MYLK4 (SgK085)"},{"$f":"Composite!F262","v":"MYLK4"},{"$f":"Composite!J262","v":-2.1874790310675962},{"$f":"Composite!G262","v":"CAMK"}]
[348,{"$f":"Composite!B367","v":"SGK3"},{"$f":"Composite!F367","v":"SGK3"},{"$f":"Composite!J367","v":-2.3135370881460915},{"$f":"Composite!G367","v":"AGC"}]
[359,{"$f":"Composite!B378","v":"SRPK3 (MSSK1)"},{"$f":"Composite!F378","v":"MSSK1"},{"$f":"Composite!J378","v":-2.5701035547033939},{"$f":"Composite!G378","v":"CMGC"}]
[283,{"$f":"Composite!B302","v":"PIM3"},{"$f":"Composite!F302","v":"PIM3"},{"$f":"Composite!J302","v":-2.5792009449181421},{"$f":"Composite!G302","v":"CAMK"}]
[308,{"$f":"Composite!B327","v":"PRKACG (PKACG, PKACg)"},{"$f":"Composite!F327","v":"PKACG"},{"$f":"Composite!J327","v":-2.5995393221454606},{"$f":"Composite!G327","v":"AGC"}]
[44,{"$f":"Composite!B63","v":"CDK16 (PCTAIRE1, PCTK1)/CycY "},{"$f":"Composite!F63","v":"CDK16"},{"$f":"Composite!J63","v":-2.6309220707902625},{"$f":"Composite!G63","v":"CMGC"}]
[372,{"$f":"Composite!B391","v":"STK4 (MST1)"},{"$f":"Composite!F391","v":"MST1"},{"$f":"Composite!J391","v":-2.6539100230045989},{"$f":"Composite!G391","v":"STE"}]
[244,{"$f":"Composite!B263","v":"MYO3A"},{"$f":"Composite!F263","v":"MYO3A"},{"$f":"Composite!J263","v":-2.6657177957038272},{"$f":"Composite!G263","v":"STE"}]
[109,{"$f":"Composite!B128","v":"EPHA1"},{"$f":"Composite!F128","v":"EPHA1"},{"$f":"Composite!J128","v":-2.667275362810031},{"$f":"Composite!G128","v":"TK"}]
[357,{"$f":"Composite!B376","v":"SRPK1"},{"$f":"Composite!F376","v":"SRPK1"},{"$f":"Composite!J376","v":-2.6852677914922936},{"$f":"Composite!G376","v":"CMGC"}]
[90,{"$f":"Composite!B109","v":"DAPK2 (DRP-1)"},{"$f":"Composite!F109","v":"DAPK2"},{"$f":"Composite!J109","v":-2.7501885843600746},{"$f":"Composite!G109","v":"CAMK"}]
[313,{"$f":"Composite!B332","v":"PRKCE (PKCe [epsilon])"},{"$f":"Composite!F332","v":"PKCE"},{"$f":"Composite!J332","v":-2.799540405062686},{"$f":"Composite!G332","v":"AGC"}]
[112,{"$f":"Composite!B131","v":"EPHA4"},{"$f":"Composite!F131","v":"EPHA4"},{"$f":"Composite!J131","v":-2.8522495700307786},{"$f":"Composite!G131","v":"TK"}]
[377,{"$f":"Composite!B396","v":"TBK1"},{"$f":"Composite!F396","v":"TBK1"},{"$f":"Composite!J396","v":-2.8545918608796512},{"$f":"Composite!G396","v":"Other"}]
[97,{"$f":"Composite!B116","v":"DSTYK (RIPK5, SGK496)"},{"$f":"Composite!F116","v":"RIPK5"},{"$f":"Composite!J116","v":-2.9076930658912374},{"$f":"Composite!G116","v":"TKL"}]
[36,{"$f":"Composite!B55","v":"CDC7/DBF4 (CDC7)"},{"$f":"Composite!F55","v":"CDC7"},{"$f":"Composite!J55","v":-2.995902717738602},{"$f":"Composite!G55","v":"Other"}]
[130,{"$f":"Composite!B149","v":"FGFR3"},{"$f":"Composite!F149","v":"FGFR3"},{"$f":"Composite!J149","v":-3.0893069219829101},{"$f":"Composite!G149","v":"TK"}]
[351,{"$f":"Composite!B370","v":"SIK3 (QSK)"},{"$f":"Composite!F370","v":"SIK3"},{"$f":"Composite!J370","v":-3.187439221723082},{"$f":"Composite!G370","v":"CAMK"}]
[95,{"$f":"Composite!B114","v":"DDR2"},{"$f":"Composite!F114","v":"DDR2"},{"$f":"Composite!J114","v":-3.316433349747598},{"$f":"Composite!G114","v":"TK"}]
[324,{"$f":"Composite!B343","v":"PRKG2 (PKG2, PGK2, CGK2)"},{"$f":"Composite!F343","v":"PGK2"},{"$f":"Composite!J343","v":-3.3474140756114821},{"$f":"Composite!G343","v":"AGC"}]
[111,{"$f":"Composite!B130","v":"EPHA3"},{"$f":"Composite!F130","v":"EPHA3"},{"$f":"Composite!J130","v":-3.4444535676164065},{"$f":"Composite!G130","v":"TK"}]
[186,{"$f":"Composite!B205","v":"MAP2K3 (MEK3)"},{"$f":"Composite!F205","v":"MEK3"},{"$f":"Composite!J205","v":-3.5777070863505145},{"$f":"Composite!G205","v":"STE"}]
[247,{"$f":"Composite!B266","v":"NEK10"},{"$f":"Composite!F266","v":"NEK10"},{"$f":"Composite!J266","v":-3.6341269158717893},{"$f":"Composite!G266","v":"Other"}]
[172,{"$f":"Composite!B191","v":"KSR1"},{"$f":"Composite!F191","v":"KSR1"},{"$f":"Composite!J191","v":-3.6540765495932561},{"$f":"Composite!G191","v":"TKL"}]
[149,{"$f":"Composite!B168","v":"HASPIN"},{"$f":"Composite!F168","v":"HASPIN"},{"$f":"Composite!J168","v":-3.6849768365321154},{"$f":"Composite!G168","v":"Other"}]
[235,{"$f":"Composite!B254","v":"MNK1"},{"$f":"Composite!F254","v":"MNK1"},{"$f":"Composite!J254","v":-3.8554528173043394},{"$f":"Composite!G254","v":"CAMK"}]
[368,{"$f":"Composite!B387","v":"STK3 (CLIK1, MST2)"},{"$f":"Composite!F387","v":"MST2"},{"$f":"Composite!J387","v":-3.8902834126266157},{"$f":"Composite!G387","v":"STE"}]
[6,{"$f":"Composite!B25","v":"AKT3 (PKBg)"},{"$f":"Composite!F25","v":"AKT3"},{"$f":"Composite!J25","v":-3.9096040023354419},{"$f":"Composite!G25","v":"AGC"}]
[344,{"$f":"Composite!B363","v":"RPS6KB2 (p70S6KB)"},{"$f":"Composite!F363","v":"P70S6KB"},{"$f":"Composite!J363","v":-3.9223597652984097},{"$f":"Composite!G363","v":"AGC"}]
[113,{"$f":"Composite!B132","v":"EPHA5"},{"$f":"Composite!F132","v":"EPHA5"},{"$f":"Composite!J132","v":-3.9709194820472078},{"$f":"Composite!G132","v":"TK"}]
[184,{"$f":"Composite!B203","v":"MAP2K1 (MEK1)"},{"$f":"Composite!F203","v":"MEK1"},{"$f":"Composite!J203","v":-4.1160791105962602},{"$f":"Composite!G203","v":"STE"}]
[284,{"$f":"Composite!B303","v":"PINK1 (PINK)"},{"$f":"Composite!F303","v":"PINK"},{"$f":"Composite!J303","v":-4.1886433351218386},{"$f":"Composite!G303","v":"Other"}]
[346,{"$f":"Composite!B365","v":"SGK1 (SGK)"},{"$f":"Composite!F365","v":"SGK"},{"$f":"Composite!J365","v":-4.1935374572232007},{"$f":"Composite!G365","v":"AGC"}]
[101,{"$f":"Composite!B120","v":"DYRK3"},{"$f":"Composite!F120","v":"DYRK3"},{"$f":"Composite!J120","v":-4.2110825215953014},{"$f":"Composite!G120","v":"CMGC"}]
[287,{"$f":"Composite!B306","v":"PKN2"},{"$f":"Composite!F306","v":"PKN2"},{"$f":"Composite!J306","v":-4.4610630511426734},{"$f":"Composite!G306","v":"AGC"}]
[220,{"$f":"Composite!B239","v":"MAPKAPK2 (MK2)"},{"$f":"Composite!F239","v":"MK2"},{"$f":"Composite!J239","v":-4.575491688772388},{"$f":"Composite!G239","v":"CAMK"}]
[309,{"$f":"Composite!B328","v":"PRKCA (PKCα [alpha])"},{"$f":"Composite!F328","v":"PKCA"},{"$f":"Composite!J328","v":-4.6234504909915444},{"$f":"Composite!G328","v":"AGC"}]
[19,{"$f":"Composite!B38","v":"BRSK1"},{"$f":"Composite!F38","v":"BRSK1"},{"$f":"Composite!J38","v":-4.6715375351264328},{"$f":"Composite!G38","v":"CAMK"}]
[339,{"$f":"Composite!B358","v":"RPS6KA3 (RSK2)"},{"$f":"Composite!F358","v":"RSK2"},{"$f":"Composite!J358","v":-4.720913141570847},{"$f":"Composite!G358","v":"AGC"}]
[227,{"$f":"Composite!B246","v":"MAST3"},{"$f":"Composite!F246","v":"MAST3"},{"$f":"Composite!J246","v":-4.7875430052276471},{"$f":"Composite!G246","v":"AGC"}]
[347,{"$f":"Composite!B366","v":"SGK2"},{"$f":"Composite!F366","v":"SGK2"},{"$f":"Composite!J366","v":-4.8126210274518542},{"$f":"Composite!G366","v":"AGC"}]
[108,{"$f":"Composite!B127","v":"EIF2AK4 (GCN2)"},{"$f":"Composite!F127","v":"GCN2"},{"$f":"Composite!J127","v":-4.8501558379285825},{"$f":"Composite!G127","v":"Other"}]
[8,{"$f":"Composite!B27","v":"AURKA (AURA)"},{"$f":"Composite!F27","v":"AURA"},{"$f":"Composite!J27","v":-4.855073104717107},{"$f":"Composite!G27","v":"Other"}]
[369,{"$f":"Composite!B388","v":"STK33"},{"$f":"Composite!F388","v":"STK33"},{"$f":"Composite!J388","v":-4.8562646383930854},{"$f":"Composite!G388","v":"CAMK"}]
[343,{"$f":"Composite!B362","v":"RPS6KB1 (p70S6K)"},{"$f":"Composite!F362","v":"P70S6KA"},{"$f":"Composite!J362","v":-5.0261330905334205},{"$f":"Composite!G362","v":"AGC"}]
[321,{"$f":"Composite!B340","v":"PRKD3 (PKD3)"},{"$f":"Composite!F340","v":"PKD3"},{"$f":"Composite!J340","v":-5.2084764503065344},{"$f":"Composite!G340","v":"CAMK"}]
[397,{"$f":"Composite!B416","v":"TYRO3"},{"$f":"Composite!F416","v":"TYRO3"},{"$f":"Composite!J416","v":-5.2272343301233519},{"$f":"Composite!G416","v":"TK"}]
[261,{"$f":"Composite!B280","v":"NTRK3 (TRKC)"},{"$f":"Composite!F280","v":"NTRK3"},{"$f":"Composite!J280","v":-5.308293112514292},{"$f":"Composite!G280","v":"TK"}]
[12,{"$f":"Composite!B31","v":"BCKDK"},{"$f":"Composite!F31","v":"BCKDK"},{"$f":"Composite!J31","v":-5.4524392148695995},{"$f":"Composite!G31","v":"Atypical"}]
[337,{"$f":"Composite!B356","v":"RPS6KA1 (RSK1)"},{"$f":"Composite!F356","v":"RSK1"},{"$f":"Composite!J356","v":-5.465119297972322},{"$f":"Composite!G356","v":"AGC"}]
[325,{"$f":"Composite!B344","v":"PRKX"},{"$f":"Composite!F344","v":"PRKX"},{"$f":"Composite!J344","v":-5.5743834320446695},{"$f":"Composite!G344","v":"AGC"}]
[124,{"$f":"Composite!B143","v":"ERN2 (IRE2)"},{"$f":"Composite!F143","v":"ERN2"},{"$f":"Composite!J143","v":-5.6618464058913531},{"$f":"Composite!G143","v":"Other"}]
[384,{"$f":"Composite!B403","v":"TNK1"},{"$f":"Composite!F403","v":"TNK1"},{"$f":"Composite!J403","v":-5.7256003281688805},{"$f":"Composite!G403","v":"TK"}]
[277,{"$f":"Composite!B296","v":"PDK4 (PDHK4)"},{"$f":"Composite!F296","v":"PDHK4"},{"$f":"Composite!J296","v":-5.7841947986626678},{"$f":"Composite!G296","v":"Atypical"}]
[212,{"$f":"Composite!B231","v":"MAPK13 (p38δ)"},{"$f":"Composite!F231","v":"P38D"},{"$f":"Composite!J231","v":-5.785336039377583},{"$f":"Composite!G231","v":"CMGC"}]
[248,{"$f":"Composite!B267","v":"NEK11"},{"$f":"Composite!F267","v":"NEK11"},{"$f":"Composite!J267","v":-5.9291022474824473},{"$f":"Composite!G267","v":"Other"}]
[285,{"$f":"Composite!B304","v":"PKMYT1 (MYT1)"},{"$f":"Composite!F304","v":"MYT1"},{"$f":"Composite!J304","v":-5.9427305463057394},{"$f":"Composite!G304","v":"Other"}]
[162,{"$f":"Composite!B181","v":"IRAK1"},{"$f":"Composite!F181","v":"IRAK1"},{"$f":"Composite!J181","v":-6.0156177659804371},{"$f":"Composite!G181","v":"TKL"}]
[222,{"$f":"Composite!B241","v":"MAPKAPK5 (MK5)"},{"$f":"Composite!F241","v":"MK5"},{"$f":"Composite!J241","v":-6.0228565238585077},{"$f":"Composite!G241","v":"CAMK"}]
[33,{"$f":"Composite!B52","v":"CDC42BPA (MRCKA)"},{"$f":"Composite!F52","v":"MRCKA"},{"$f":"Composite!J52","v":-6.1326762279196032},{"$f":"Composite!G52","v":"AGC"}]
[185,{"$f":"Composite!B204","v":"MAP2K2 (MEK2)"},{"$f":"Composite!F204","v":"MEK2"},{"$f":"Composite!J204","v":-6.1441331709297629},{"$f":"Composite!G204","v":"STE"}]
[290,{"$f":"Composite!B309","v":"PLK2"},{"$f":"Composite!F309","v":"PLK2"},{"$f":"Composite!J309","v":-6.2627419079469462},{"$f":"Composite!G309","v":"Other"}]
[256,{"$f":"Composite!B275","v":"NEK9"},{"$f":"Composite!F275","v":"NEK9"},{"$f":"Composite!J275","v":-6.2837048979818917},{"$f":"Composite!G275","v":"Other"}]
[320,{"$f":"Composite!B339","v":"PRKD2 (PKD2)"},{"$f":"Composite!F339","v":"PKD2"},{"$f":"Composite!J339","v":-6.3639841856905974},{"$f":"Composite!G339","v":"CAMK"}]
[292,{"$f":"Composite!B311","v":"PLK4"},{"$f":"Composite!F311","v":"PLK4"},{"$f":"Composite!J311","v":-6.6383613517700439},{"$f":"Composite!G311","v":"Other"}]
[9,{"$f":"Composite!B28","v":"AURKB (AURB)"},{"$f":"Composite!F28","v":"AURB"},{"$f":"Composite!J28","v":-6.6979540534211424},{"$f":"Composite!G28","v":"Other"}]
[13,{"$f":"Composite!B32","v":"BCR RET (fusion)"},{"$f":"Composite!F32","v":"BCR RET"},{"$f":"Composite!J32","v":-6.7929035049762234},{"$f":"Composite!G32","v":"TK"}]
[403,{"$f":"Composite!B422","v":"ZAP70"},{"$f":"Composite!F422","v":"ZAP70"},{"$f":"Composite!J422","v":-6.906755390511762},{"$f":"Composite!G422","v":"TK"}]
[355,{"$f":"Composite!B374","v":"SRC N1"},{"$f":"Composite!F374","v":"SRC N1"},{"$f":"Composite!J374","v":-6.9093536821146557},{"$f":"Composite!G374","v":"TK"}]
[317,{"$f":"Composite!B336","v":"PRKCQ (PKCᶿ [theta])"},{"$f":"Composite!F336","v":"PKCQ"},{"$f":"Composite!J336","v":-7.2962791588064846},{"$f":"Composite!G336","v":"AGC"}]
[45,{"$f":"Composite!B64","v":"CDK17 (PCTAIRE2, PCTK2)/CycY"},{"$f":"Composite!F64","v":"CDK17"},{"$f":"Composite!J64","v":-7.3881663819253163},{"$f":"Composite!G64","v":"CMGC"}]
[72,{"$f":"Composite!B91","v":"CHUK (IKKA, IKKa)"},{"$f":"Composite!F91","v":"IKKA"},{"$f":"Composite!J91","v":-7.4072952011633504},{"$f":"Composite!G91","v":"Other"}]
[163,{"$f":"Composite!B182","v":"IRAK4"},{"$f":"Composite!F182","v":"IRAK4"},{"$f":"Composite!J182","v":-7.4807778441326036},{"$f":"Composite!G182","v":"TKL"}]
[329,{"$f":"Composite!B348","v":"RAF1 [Y340E/Y341E]"},{"$f":"Composite!F348","v":"RAF1"},{"$f":"Composite!J348","v":-7.9342753020906542},{"$f":"Composite!G348","v":"TKL"}]
[395,{"$f":"Composite!B414","v":"TYK2 [JH1]"},{"$f":"Composite!F414","v":"TYK2(JH1)"},{"$f":"Composite!J414","v":-8.1432172680006545},{"$f":"Composite!G414","v":"TK"}]
[137,{"$f":"Composite!B156","v":"FYNa (FYN)"},{"$f":"Composite!F156","v":"FYNA"},{"$f":"Composite!J156","v":-8.3770667400709726},{"$f":"Composite!G156","v":"TK"}]
[375,{"$f":"Composite!B394","v":"TAOK2 (TAO2)"},{"$f":"Composite!F394","v":"TAOK2"},{"$f":"Composite!J394","v":-8.43792401628221},{"$f":"Composite!G394","v":"STE"}]
[15,{"$f":"Composite!B34","v":"BMP2K (BIKE)"},{"$f":"Composite!F34","v":"BIKE"},{"$f":"Composite!J34","v":-8.4972107961909273},{"$f":"Composite!G34","v":"Other"}]
[310,{"$f":"Composite!B329","v":"PRKCB1 (PKCβ1 [beta1])"},{"$f":"Composite!F329","v":"PKCB1"},{"$f":"Composite!J329","v":-8.5951048989067118},{"$f":"Composite!G329","v":"AGC"}]
[238,{"$f":"Composite!B257","v":"mTOR (FRAP)"},{"$f":"Composite!F257","v":"mTOR"},{"$f":"Composite!J257","v":-8.6148206336737303},{"$f":"Composite!G257","v":"Atypical"}]
[126,{"$f":"Composite!B145","v":"FER"},{"$f":"Composite!F145","v":"FER"},{"$f":"Composite!J145","v":-8.7835141312629332},{"$f":"Composite!G145","v":"TK"}]
[289,{"$f":"Composite!B308","v":"PLK1"},{"$f":"Composite!F308","v":"PLK1"},{"$f":"Composite!J308","v":-9.0428587843272226},{"$f":"Composite!G308","v":"Other"}]
[319,{"$f":"Composite!B338","v":"PRKD1 (PKD1)"},{"$f":"Composite!F338","v":"PKD1"},{"$f":"Composite!J338","v":-9.0640388733680339},{"$f":"Composite!G338","v":"CAMK"}]
[210,{"$f":"Composite!B229","v":"MAPK11 (p38b)"},{"$f":"Composite!F229","v":"P38B"},{"$f":"Composite!J229","v":-9.3684961729160818},{"$f":"Composite!G229","v":"CMGC"}]
[89,{"$f":"Composite!B108","v":"DAPK1"},{"$f":"Composite!F108","v":"DAPK1"},{"$f":"Composite!J108","v":-9.4474223553523444},{"$f":"Composite!G108","v":"CAMK"}]
[291,{"$f":"Composite!B310","v":"PLK3"},{"$f":"Composite!F310","v":"PLK3"},{"$f":"Composite!J310","v":-9.649312696179237},{"$f":"Composite!G310","v":"Other"}]
[316,{"$f":"Composite!B335","v":"PRKCI (PKCι [iota])"},{"$f":"Composite!F335","v":"PKCI"},{"$f":"Composite!J335","v":-9.6718272980123174},{"$f":"Composite!G335","v":"AGC"}]
[297,{"$f":"Composite!B316","v":"PRKAA1-B2-G1 (AMPKα1β2γ1)"},{"$f":"Composite!F316","v":"AMPK121"},{"$f":"Composite!J316","v":-9.9506194633718366},{"$f":"Composite!G316","v":"CAMK"}]
[381,{"$f":"Composite!B400","v":"TLK1"},{"$f":"Composite!F400","v":"TLK1"},{"$f":"Composite!J400","v":-10.275053621292031},{"$f":"Composite!G400","v":"Other"}]
[342,{"$f":"Composite!B361","v":"RPS6KA6 (RSK4)"},{"$f":"Composite!F361","v":"RSK4"},{"$f":"Composite!J361","v":-10.35714574958898},{"$f":"Composite!G361","v":"AGC"}]
[53,{"$f":"Composite!B72","v":"CDK2/CycO"},{"$f":"Composite!F72","v":"CDK2/O"},{"$f":"Composite!J72","v":-11.329523738844884},{"$f":"Composite!G72","v":"CMGC"}]
[386,{"$f":"Composite!B405","v":"TRPM7 (CHAK1)"},{"$f":"Composite!F405","v":"CHAK1"},{"$f":"Composite!J405","v":-12.281823393988589},{"$f":"Composite!G405","v":"Atypical"}]
[338,{"$f":"Composite!B357","v":"RPS6KA2 (RSK3)"},{"$f":"Composite!F357","v":"RSK3"},{"$f":"Composite!J357","v":-12.350676506048643},{"$f":"Composite!G357","v":"AGC"}]
[396,{"$f":"Composite!B415","v":"TYK2 [JH1-JH2]"},{"$f":"Composite!F415","v":"TYK2(JH1JH2)"},{"$f":"Composite!J415","v":-12.416161572663569},{"$f":"Composite!G415","v":"TK"}]
[173,{"$f":"Composite!B192","v":"KSR2"},{"$f":"Composite!F192","v":"KSR2"},{"$f":"Composite!J192","v":-13.315581394087658},{"$f":"Composite!G192","v":"TKL"}]
[382,{"$f":"Composite!B401","v":"TLK2"},{"$f":"Composite!F401","v":"TLK2"},{"$f":"Composite!J401","v":-14.116996840677658},{"$f":"Composite!G401","v":"Other"}]
[1,{"$f":"Composite!B20","v":"AAK1"},{"$f":"Composite!F20","v":"AAK1"},{"$f":"Composite!J20","v":-14.789177172018242},{"$f":"Composite!G20","v":"Other"}]
[393,{"$f":"Composite!B412","v":"TTK"},{"$f":"Composite!F412","v":"TTK"},{"$f":"Composite!J412","v":-15.154246540561118},{"$f":"Composite!G412","v":"Other"}]
[350,{"$f":"Composite!B369","v":"SIK2 (QIK)"},{"$f":"Composite!F369","v":"SIK2"},{"$f":"Composite!J369","v":-15.67871242028545},{"$f":"Composite!G369","v":"CAMK"}]
[134,{"$f":"Composite!B153","v":"FLT3"},{"$f":"Composite!F153","v":"FLT3"},{"$f":"Composite!J153","v":-16.143417830267055},{"$f":"Composite!G153","v":"TK"}]
[123,{"$f":"Composite!B142","v":"ERN1 (IRE1)"},{"$f":"Composite!F142","v":"ERN1"},{"$f":"Composite!J142","v":-16.336401549737189},{"$f":"Composite!G142","v":"Other"}]
[20,{"$f":"Composite!B39","v":"BRSK2"},{"$f":"Composite!F39","v":"BRSK2"},{"$f":"Composite!J39","v":-17.435130273726202},{"$f":"Composite!G39","v":"CAMK"}]
[362,{"$f":"Composite!B381","v":"STK16 (MPSK1, PKL12, TSF1)"},{"$f":"Composite!F381","v":"STK16"},{"$f":"Composite!J381","v":-17.859543548541978},{"$f":"Composite!G381","v":"Other"}]
[199,{"$f":"Composite!B218","v":"MAP3K6 (ASK2)"},{"$f":"Composite!F218","v":"MAP3K6"},{"$f":"Composite!J218","v":-19.765088267907331},{"$f":"Composite!G218","v":"STE"}]
[73,{"$f":"Composite!B92","v":"CIT (CRIK)"},{"$f":"Composite!F92","v":"CRIK"},{"$f":"Composite!J92","v":-20.960047118876986},{"$f":"Composite!G92","v":"AGC"}]
[385,{"$f":"Composite!B404","v":"TNK2 (ACK)"},{"$f":"Composite!F404","v":"TNK2"},{"$f":"Composite!J404","v":-22.489731713711436},{"$f":"Composite!G404","v":"TK"}]
[187,{"$f":"Composite!B206","v":"MAP2K4 (MEK4)"},{"$f":"Composite!F206","v":"MEK4(HIS)"},{"$f":"Composite!J206","v":-24.335778321108378},{"$f":"Composite!G206","v":"STE"}]
[77,{"$f":"Composite!B96","v":"CLK4"},{"$f":"Composite!F96","v":"CLK4"},{"$f":"Composite!J96","v":-24.365317782882656},{"$f":"Composite!G96","v":"CMGC"}]

{"sheet":"Compound 1 Kinome Tree","index":5,"n_rows":6,"n_cols":27,"rows_kept":6,"cut":false,"hidden":false,"merged":[[1,1,3,20]]}
[]
[null,{"$f":"Summary!AC10","v":"Kinome Hit View for Gefitinib (0.15 µM) with 399 Kinases (Coral Names) at 1 mM"}]
[null,null,null,null,null,null,null,null,null,null,null,null,null,null,null,null,null,null,null,null,null,null,null,null,null,null,"Kinome Hit View for VVVVVVVVVVVVVVVVVVVVVVVVVVV (VVVVV µM) with VVV Kinases (Coral Names)"]
[null,null,null,null,null,null,null,null,null,null,null,null,null,null,null,null,null,null,null,null,null,null,null,null,null,null,{"$f":"REPLACE(AA3,65,3,Summary!E10)","v":"Kinome Hit View for VVVVVVVVVVVVVVVVVVVVVVVVVVV (VVVVV µM) with 399 Kinases (Coral Names)"}]
[null,null,null,null,null,null,null,null,null,null,null,null,null,null,null,null,null,null,null,null,null,null,null,null,null,null,{"$f":"REPLACE(AA4,50,5,Summary!D10)","v":"Kinome Hit View for VVVVVVVVVVVVVVVVVVVVVVVVVVV (0.15 µM) with 399 Kinases (Coral Names)"}]
[null,null,null,null,null,null,null,null,null,null,null,null,null,null,null,null,null,null,null,null,null,null,null,null,null,null,{"$f":"REPLACE(AA5,21,27,Summary!C10)","v":"Kinome Hit View for Gefitinib (0.15 µM) with 399 Kinases (Coral Names)"}]

{"sheet":"Compound 2","index":6,"n_rows":520,"n_cols":28,"rows_kept":520,"cut":false,"hidden":false,"merged":[]}
[]
["Panel #","Kinase Target","Kinase Target",{"$f":"Summary!AB11","v":"0.15 µM Gefitinib, % inhibition at  ATP Km "},{"$f":"Composite!G19","v":"Group"}]
[1,{"$f":"Composite!B123","v":"EGFR (ERBB1)"},{"$f":"Composite!F123","v":"EGFR"},{"$f":"Composite!L123","v":100},{"$f":"Composite!G123","v":"TK"},null,null,null,null,null,null,null,null,null,null,null,null,null,null,null,null,null,null,null,null,null,null,"VVVVV μM VVVVVVVVVVVVVVVVVVVVVVVVVVV, % inhibition"]
[2,{"$f":"Composite!B351","v":"RIPK2"},{"$f":"Composite!F351","v":"RIPK2"},{"$f":"Composite!L351","v":66.724853211217152},{"$f":"Composite!G351","v":"TKL"},null,null,null,null,null,null,null,null,null,null,null,null,null,null,null,null,null,null,null,null,null,null,{"$f":"REPLACE(AB3,10,27,Summary!#REF!)","v":{"$error":"#REF!"}}]
[3,{"$f":"Composite!B113","v":"DDR1 [SRC treated]"},{"$f":"Composite!F113","v":"DDR1"},{"$f":"Composite!L113","v":61.982899640791274},{"$f":"Composite!G113","v":"TK"},null,null,null,null,null,null,null,null,null,null,null,null,null,null,null,null,null,null,null,null,null,null,{"$f":"REPLACE(AB4,1,5,Summary!#REF!)","v":{"$error":"#REF!"}}]
[4,{"$f":"Composite!B141","v":"ERBB4 (HER4)"},{"$f":"Composite!F141","v":"HER4"},{"$f":"Composite!L141","v":57.953646432681239},{"$f":"Composite!G141","v":"TK"}]
[5,{"$f":"Composite!B140","v":"ERBB2 (HER2)"},{"$f":"Composite!F140","v":"HER2"},{"$f":"Composite!L140","v":35.186513629842196},{"$f":"Composite!G140","v":"TK"}]
[6,{"$f":"Composite!B158","v":"GAK"},{"$f":"Composite!F158","v":"GAK"},{"$f":"Composite!L158","v":33.803535010197152},{"$f":"Composite!G158","v":"Other"}]
[7,{"$f":"Composite!B341","v":"PRKDC (DNA-PK)"},{"$f":"Composite!F341","v":"DNA-PK"},{"$f":"Composite!L341","v":23.13790740921992},{"$f":"Composite!G341","v":"Atypical"}]
[8,{"$f":"Composite!B200","v":"LYNA (LYNa)"},{"$f":"Composite!F200","v":"LYNA"},{"$f":"Composite!L200","v":23.109847538115488},{"$f":"Composite!G200","v":"TK"}]
[9,{"$f":"Composite!B170","v":"HIPK1"},{"$f":"Composite!F170","v":"HIPK1"},{"$f":"Composite!L170","v":22.229152373230207},{"$f":"Composite!G170","v":"CMGC"}]
[10,{"$f":"Composite!B31","v":"BCKDK"},{"$f":"Composite!F31","v":"BCKDK"},{"$f":"Composite!L31","v":22.055239642567031},{"$f":"Composite!G31","v":"Atypical"}]
[11,{"$f":"Composite!B44","v":"CAMK1G (CAMK1γ)"},{"$f":"Composite!F44","v":"CAMK1G"},{"$f":"Composite!L44","v":21.606923571720969},{"$f":"Composite!G44","v":"CAMK"}]
[12,{"$f":"Composite!B166","v":"GSK3A (GSK3α)"},{"$f":"Composite!F166","v":"GSK3A"},{"$f":"Composite!L166","v":21.113654826083746},{"$f":"Composite!G166","v":"CMGC"}]
[13,{"$f":"Composite!B163","v":"GRK5 (GPRK5)"},{"$f":"Composite!F163","v":"GRK5"},{"$f":"Composite!L163","v":20.869561066652665},{"$f":"Composite!G163","v":"AGC"}]
[14,{"$f":"Composite!B191","v":"KSR1"},{"$f":"Composite!F191","v":"KSR1"},{"$f":"Composite!L191","v":20.639066805023816},{"$f":"Composite!G191","v":"TKL"}]
[15,{"$f":"Composite!B40","v":"BTK"},{"$f":"Composite!F40","v":"BTK"},{"$f":"Composite!L40","v":20.419979499681418},{"$f":"Composite!G40","v":"TK"}]
[16,{"$f":"Composite!B353","v":"ROCK1"},{"$f":"Composite!F353","v":"ROCK1"},{"$f":"Composite!L353","v":20.236309223055699},{"$f":"Composite!G353","v":"AGC"}]
[17,{"$f":"Composite!B252","v":"MINK1 (MAP4K6, MINK, ZC3)"},{"$f":"Composite!F252","v":"MINK"},{"$f":"Composite!L252","v":20.005741818773004},{"$f":"Composite!G252","v":"STE"}]
[18,{"$f":"Composite!B293","v":"PDK1 (PDHK1)"},{"$f":"Composite!F293","v":"PDHK1"},{"$f":"Composite!L293","v":19.200225553310489},{"$f":"Composite!G293","v":"Atypical"}]
[19,{"$f":"Composite!B58","v":"CDK1 (CDC2)/CycB1 "},{"$f":"Composite!F58","v":"CDK1/B1"},{"$f":"Composite!L58","v":18.737268181697928},{"$f":"Composite!G58","v":"CMGC"}]
[20,{"$f":"Composite!B288","v":"PAK6"},{"$f":"Composite!F288","v":"PAK6"},{"$f":"Composite!L288","v":18.358510899775013},{"$f":"Composite!G288","v":"STE"}]
[21,{"$f":"Composite!B303","v":"PINK1 (PINK)"},{"$f":"Composite!F303","v":"PINK"},{"$f":"Composite!L303","v":18.354430379746844},{"$f":"Composite!G303","v":"Other"}]
[22,{"$f":"Composite!B162","v":"GRK4 (GPRK4)"},{"$f":"Composite!F162","v":"GRK4"},{"$f":"Composite!L162","v":18.320652925715862},{"$f":"Composite!G162","v":"AGC"}]
[23,{"$f":"Composite!B54","v":"CDC42BPG (DMPK2)"},{"$f":"Composite!F54","v":"DMPK2"},{"$f":"Composite!L54","v":18.129913115432331},{"$f":"Composite!G54","v":"AGC"}]
[24,{"$f":"Composite!B91","v":"CHUK (IKKA, IKKa)"},{"$f":"Composite!F91","v":"IKKA"},{"$f":"Composite!L91","v":17.89885057471264},{"$f":"Composite!G91","v":"Other"}]
[25,{"$f":"Composite!B151","v":"FGR"},{"$f":"Composite!F151","v":"FGR"},{"$f":"Composite!L151","v":17.555803235232105},{"$f":"Composite!G151","v":"TK"}]
[26,{"$f":"Composite!B308","v":"PLK1"},{"$f":"Composite!F308","v":"PLK1"},{"$f":"Composite!L308","v":17.538355587863947},{"$f":"Composite!G308","v":"Other"}]
[27,{"$f":"Composite!B45","v":"CAMK2A (CAMK2α)"},{"$f":"Composite!F45","v":"CAMK2A"},{"$f":"Composite!L45","v":17.280945443357538},{"$f":"Composite!G45","v":"CAMK"}]
[28,{"$f":"Composite!B80","v":"CDK6/CycD1"},{"$f":"Composite!F80","v":"CDK6/D1"},{"$f":"Composite!L80","v":17.2416929420325},{"$f":"Composite!G80","v":"CMGC"}]
[29,{"$f":"Composite!B102","v":"CSNK1E (CK1E, CK1ε)"},{"$f":"Composite!F102","v":"CK1E"},{"$f":"Composite!L102","v":16.989683551640212},{"$f":"Composite!G102","v":"CK1"}]
[30,{"$f":"Composite!B276","v":"NIM1 (NIM1K)"},{"$f":"Composite!F276","v":"NIM1"},{"$f":"Composite!L276","v":16.917235605551426},{"$f":"Composite!G276","v":"CAMK"}]
[31,{"$f":"Composite!B284","v":"PAK2"},{"$f":"Composite!F284","v":"PAK2"},{"$f":"Composite!L284","v":16.807655704768948},{"$f":"Composite!G284","v":"STE"}]
[32,{"$f":"Composite!B231","v":"MAPK13 (p38δ)"},{"$f":"Composite!F231","v":"P38D"},{"$f":"Composite!L231","v":16.757588851679799},{"$f":"Composite!G231","v":"CMGC"}]
[33,{"$f":"Composite!B369","v":"SIK2 (QIK)"},{"$f":"Composite!F369","v":"SIK2"},{"$f":"Composite!L369","v":16.673182173573096},{"$f":"Composite!G369","v":"CAMK"}]
[34,{"$f":"Composite!B263","v":"MYO3A"},{"$f":"Composite!F263","v":"MYO3A"},{"$f":"Composite!L263","v":16.660199198033894},{"$f":"Composite!G263","v":"STE"}]
[35,{"$f":"Composite!B302","v":"PIM3"},{"$f":"Composite!F302","v":"PIM3"},{"$f":"Composite!L302","v":16.550074807493445},{"$f":"Composite!G302","v":"CAMK"}]
[36,{"$f":"Composite!B385","v":"STK25 (YSK1)"},{"$f":"Composite!F385","v":"YSK1"},{"$f":"Composite!L385","v":16.268400686161101},{"$f":"Composite!G385","v":"STE"}]
[37,{"$f":"Composite!B225","v":"MAP4K4 (HGK, ZC1)"},{"$f":"Composite!F225","v":"HGK"},{"$f":"Composite!L225","v":16.215303923350561},{"$f":"Composite!G225","v":"STE"}]
[38,{"$f":"Composite!B131","v":"EPHA4"},{"$f":"Composite!F131","v":"EPHA4"},{"$f":"Composite!L131","v":16.206254920203236},{"$f":"Composite!G131","v":"TK"}]
[39,{"$f":"Composite!B57","v":"CDK1 (CDC2)/CycA2 "},{"$f":"Composite!F57","v":"CDK1/A2"},{"$f":"Composite!L57","v":16.132547764193035},{"$f":"Composite!G57","v":"CMGC"}]
[40,{"$f":"Composite!B47","v":"CAMK2D (CAMK2δ)"},{"$f":"Composite!F47","v":"CAMK2D"},{"$f":"Composite!L47","v":15.235213033880228},{"$f":"Composite!G47","v":"CAMK"}]
[41,{"$f":"Composite!B272","v":"NEK6"},{"$f":"Composite!F272","v":"NEK6"},{"$f":"Composite!L272","v":15.20385362101176},{"$f":"Composite!G272","v":"Other"}]
[42,{"$f":"Composite!B41","v":"BUB1"},{"$f":"Composite!F41","v":"BUB1"},{"$f":"Composite!L41","v":15.086815323718994},{"$f":"Composite!G41","v":"Other"}]
[43,{"$f":"Composite!B81","v":"CDK6/CycD2"},{"$f":"Composite!F81","v":"CDK6/D2"},{"$f":"Composite!L81","v":15.045056810761395},{"$f":"Composite!G81","v":"CMGC"}]
[44,{"$f":"Composite!B360","v":"RPS6KA5 (MSK1)"},{"$f":"Composite!F360","v":"MSK1"},{"$f":"Composite!L360","v":15.034213817967768},{"$f":"Composite!G360","v":"AGC"}]
[45,{"$f":"Composite!B233","v":"MAPK15 (ERK7)"},{"$f":"Composite!F233","v":"ERK7"},{"$f":"Composite!L233","v":14.996118171045666},{"$f":"Composite!G233","v":"CMGC"}]
[46,{"$f":"Composite!B201","v":"LYNB (LYNb)"},{"$f":"Composite!F201","v":"LYNB"},{"$f":"Composite!L201","v":14.806316201579051},{"$f":"Composite!G201","v":"TK"}]
[47,{"$f":"Composite!B382","v":"STK17A (DRAK1)"},{"$f":"Composite!F382","v":"DRAK1"},{"$f":"Composite!L382","v":14.644272504246075},{"$f":"Composite!G382","v":"CAMK"}]
[48,{"$f":"Composite!B195","v":"LCK"},{"$f":"Composite!F195","v":"LCK"},{"$f":"Composite!L195","v":14.625220050032411},{"$f":"Composite!G195","v":"TK"}]
[49,{"$f":"Composite!B310","v":"PLK3"},{"$f":"Composite!F310","v":"PLK3"},{"$f":"Composite!L310","v":14.264185065179717},{"$f":"Composite!G310","v":"Other"}]
[50,{"$f":"Composite!B160","v":"GRK2 (ADRBK1, BARK1)"},{"$f":"Composite!F160","v":"GRK2"},{"$f":"Composite!L160","v":14.233696519233831},{"$f":"Composite!G160","v":"AGC"}]
[51,{"$f":"Composite!B101","v":"CSNK1D (CK1D, CK1δ)"},{"$f":"Composite!F101","v":"CK1D"},{"$f":"Composite!L101","v":14.151743043156785},{"$f":"Composite!G101","v":"CK1"}]
[52,{"$f":"Composite!B342","v":"PRKG1 (PKG1, PGK)"},{"$f":"Composite!F342","v":"PGK"},{"$f":"Composite!L342","v":14.091557823717679},{"$f":"Composite!G342","v":"AGC"}]
[53,{"$f":"Composite!B155","v":"FRK"},{"$f":"Composite!F155","v":"FRK"},{"$f":"Composite!L155","v":13.756634204153144},{"$f":"Composite!G155","v":"TK"}]
[54,{"$f":"Composite!B319","v":"PRKAA2-B1-G1 (AMPKα2β1γ1)"},{"$f":"Composite!F319","v":"AMPK211"},{"$f":"Composite!L319","v":13.602913372542872},{"$f":"Composite!G319","v":"CAMK"}]
[55,{"$f":"Composite!B264","v":"MYO3B"},{"$f":"Composite!F264","v":"MYO3B"},{"$f":"Composite!L264","v":13.420388635842329},{"$f":"Composite!G264","v":"STE"}]
[56,{"$f":"Composite!B156","v":"FYNa (FYN)"},{"$f":"Composite!F156","v":"FYNA"},{"$f":"Composite!L156","v":13.415139908760466},{"$f":"Composite!G156","v":"TK"}]
[57,{"$f":"Composite!B182","v":"IRAK4"},{"$f":"Composite!F182","v":"IRAK4"},{"$f":"Composite!L182","v":13.341599504029759},{"$f":"Composite!G182","v":"TKL"}]
[58,{"$f":"Composite!B73","v":"CDK3/CycE1"},{"$f":"Composite!F73","v":"CDK3/E1"},{"$f":"Composite!L73","v":13.233253437618302},{"$f":"Composite!G73","v":"CMGC"}]
[59,{"$f":"Composite!B146","v":"FES"},{"$f":"Composite!F146","v":"FES"},{"$f":"Composite!L146","v":13.022100819468605},{"$f":"Composite!G146","v":"TK"}]
[60,{"$f":"Composite!B154","v":"FLT4"},{"$f":"Composite!F154","v":"FLT4"},{"$f":"Composite!L154","v":12.795418297810627},{"$f":"Composite!G154","v":"TK"}]
[61,{"$f":"Composite!B199","v":"LTK"},{"$f":"Composite!F199","v":"LTK"},{"$f":"Composite!L199","v":12.712228036817052},{"$f":"Composite!G199","v":"TK"}]
[62,{"$f":"Composite!B186","v":"JAK2 [JH1]"},{"$f":"Composite!F186","v":"JAK2(JH1)"},{"$f":"Composite!L186","v":12.533541493877152},{"$f":"Composite!G186","v":"TK"}]
[63,{"$f":"Composite!B34","v":"BMP2K (BIKE)"},{"$f":"Composite!F34","v":"BIKE"},{"$f":"Composite!L34","v":12.514784918345768},{"$f":"Composite!G34","v":"Other"}]
[64,{"$f":"Composite!B257","v":"mTOR (FRAP)"},{"$f":"Composite!F257","v":"mTOR"},{"$f":"Composite!L257","v":12.463126843657832},{"$f":"Composite!G257","v":"Atypical"}]
[65,{"$f":"Composite!B421","v":"YES1 (YES)"},{"$f":"Composite!F421","v":"YES"},{"$f":"Composite!L421","v":12.326356385966221},{"$f":"Composite!G421","v":"TK"}]
[66,{"$f":"Composite!B193","v":"LATS1"},{"$f":"Composite!F193","v":"LATS1"},{"$f":"Composite!L193","v":12.189322566173175},{"$f":"Composite!G193","v":"AGC"}]
[67,{"$f":"Composite!B226","v":"MAP4K5 (KHS1)"},{"$f":"Composite!F226","v":"KHS1"},{"$f":"Composite!L226","v":12.104914167833201},{"$f":"Composite!G226","v":"STE"}]
[68,{"$f":"Composite!B33","v":"BLK"},{"$f":"Composite!F33","v":"BLK"},{"$f":"Composite!L33","v":12.08589901477832},{"$f":"Composite!G33","v":"TK"}]
[69,{"$f":"Composite!B181","v":"IRAK1"},{"$f":"Composite!F181","v":"IRAK1"},{"$f":"Composite!L181","v":12.083932164415089},{"$f":"Composite!G181","v":"TKL"}]
[70,{"$f":"Composite!B78","v":"CDK5/p25"},{"$f":"Composite!F78","v":"CDK5/P25"},{"$f":"Composite!L78","v":12.028287126853996},{"$f":"Composite!G78","v":"CMGC"}]
[71,{"$f":"Composite!B256","v":"MST1R (RON)"},{"$f":"Composite!F256","v":"MST1R"},{"$f":"Composite!L256","v":11.715550115342992},{"$f":"Composite!G256","v":"TK"}]
[72,{"$f":"Composite!B239","v":"MAPKAPK2 (MK2)"},{"$f":"Composite!F239","v":"MK2"},{"$f":"Composite!L239","v":11.502768872048975},{"$f":"Composite!G239","v":"CAMK"}]
[73,{"$f":"Composite!B70","v":"CDK2/CycE1"},{"$f":"Composite!F70","v":"CDK2/E1"},{"$f":"Composite!L70","v":11.43413600687289},{"$f":"Composite!G70","v":"CMGC"}]
[74,{"$f":"Composite!B133","v":"EPHA6"},{"$f":"Composite!F133","v":"EPHA6"},{"$f":"Composite!L133","v":11.400536495835098},{"$f":"Composite!G133","v":"TK"}]
[75,{"$f":"Composite!B164","v":"GRK6 (GPRK6)"},{"$f":"Composite!F164","v":"GRK6"},{"$f":"Composite!L164","v":11.231657277974833},{"$f":"Composite!G164","v":"AGC"}]
[76,{"$f":"Composite!B250","v":"MERTK (MER)"},{"$f":"Composite!F250","v":"MERTK"},{"$f":"Composite!L250","v":11.191175086220952},{"$f":"Composite!G250","v":"TK"}]
[77,{"$f":"Composite!B86","v":"CDK9 (TAK)/CycT1"},{"$f":"Composite!F86","v":"CDK9/T1"},{"$f":"Composite!L86","v":11.032579429186868},{"$f":"Composite!G86","v":"CMGC"}]
[78,{"$f":"Composite!B409","v":"TSSK6 (SSTK)"},{"$f":"Composite!F409","v":"TSSK6"},{"$f":"Composite!L409","v":10.961052539862337},{"$f":"Composite!G409","v":"CAMK"}]
[79,{"$f":"Composite!B402","v":"TNIK (ZC2)"},{"$f":"Composite!F402","v":"TNIK"},{"$f":"Composite!L402","v":10.880982870293053},{"$f":"Composite!G402","v":"STE"}]
[80,{"$f":"Composite!B232","v":"MAPK14 (p38a)"},{"$f":"Composite!F232","v":"P38A"},{"$f":"Composite!L232","v":10.742944106253475},{"$f":"Composite!G232","v":"CMGC"}]
[81,{"$f":"Composite!B371","v":"SLK"},{"$f":"Composite!F371","v":"SLK"},{"$f":"Composite!L371","v":10.701982014227553},{"$f":"Composite!G371","v":"STE"}]
[82,{"$f":"Composite!B258","v":"MUSK"},{"$f":"Composite!F258","v":"MUSK"},{"$f":"Composite!L258","v":10.699564011097905},{"$f":"Composite!G258","v":"TK"}]
[83,{"$f":"Composite!B97","v":"CSF1R (FMS)"},{"$f":"Composite!F97","v":"FMS/CSF1R"},{"$f":"Composite!L97","v":10.699007438939574},{"$f":"Composite!G97","v":"TK"}]
[84,{"$f":"Composite!B68","v":"CDK2/CycA2"},{"$f":"Composite!F68","v":"CDK2/A2"},{"$f":"Composite!L68","v":10.498892390253019},{"$f":"Composite!G68","v":"CMGC"}]
[85,{"$f":"Composite!B359","v":"RPS6KA4 (MSK2)"},{"$f":"Composite!F359","v":"MSK2"},{"$f":"Composite!L359","v":10.47421611816533},{"$f":"Composite!G359","v":"AGC"}]
[86,{"$f":"Composite!B290","v":"PBK (TOPK)"},{"$f":"Composite!F290","v":"TOPK"},{"$f":"Composite!L290","v":10.451505985699214},{"$f":"Composite!G290","v":"Other"}]
[87,{"$f":"Composite!B392","v":"SYK"},{"$f":"Composite!F392","v":"SYK"},{"$f":"Composite!L392","v":10.321171859491344},{"$f":"Composite!G392","v":"TK"}]
[88,{"$f":"Composite!B364","v":"SBK1 (SBK)"},{"$f":"Composite!F364","v":"SBK1"},{"$f":"Composite!L364","v":10.320445837687203},{"$f":"Composite!G364","v":"Other"}]
[89,{"$f":"Composite!B222","v":"MAP4K1 (HPK1)"},{"$f":"Composite!F222","v":"HPK1"},{"$f":"Composite!L222","v":10.314177820022095},{"$f":"Composite!G222","v":"STE"}]
[90,{"$f":"Composite!B406","v":"TSSK1B (TSSK1)"},{"$f":"Composite!F406","v":"TSSK1"},{"$f":"Composite!L406","v":10.227140361094925},{"$f":"Composite!G406","v":"CAMK"}]
[91,{"$f":"Composite!B221","v":"MAP3K9 (MLK1)"},{"$f":"Composite!F221","v":"MAP3K9"},{"$f":"Composite!L221","v":10.218601047218783},{"$f":"Composite!G221","v":"TKL"}]
[92,{"$f":"Composite!B84","v":"CDK7/CycH1"},{"$f":"Composite!F84","v":"CDK7/H1"},{"$f":"Composite!L84","v":10.146632494432993},{"$f":"Composite!G84","v":"CMGC"}]
[93,{"$f":"Composite!B189","v":"KDR (VEGFR2)"},{"$f":"Composite!F189","v":"KDR"},{"$f":"Composite!L189","v":10.124875605919584},{"$f":"Composite!G189","v":"TK"}]
[94,{"$f":"Composite!B265","v":"NEK1"},{"$f":"Composite!F265","v":"NEK1"},{"$f":"Composite!L265","v":10.113664866862933},{"$f":"Composite!G265","v":"Other"}]
[95,{"$f":"Composite!B161","v":"GRK3 (ADRBK2, BARK2)"},{"$f":"Composite!F161","v":"GRK3"},{"$f":"Composite!L161","v":10.087777300228126},{"$f":"Composite!G161","v":"AGC"}]
[96,{"$f":"Composite!B266","v":"NEK10"},{"$f":"Composite!F266","v":"NEK10"},{"$f":"Composite!L266","v":9.727372957802956},{"$f":"Composite!G266","v":"Other"}]
[97,{"$f":"Composite!B177","v":"IKKB (IKKβ)"},{"$f":"Composite!F177","v":"IKKB"},{"$f":"Composite!L177","v":9.7124948903120298},{"$f":"Composite!G177","v":"Other"}]
[98,{"$f":"Composite!B171","v":"HIPK2"},{"$f":"Composite!F171","v":"HIPK2"},{"$f":"Composite!L171","v":9.6756342584709927},{"$f":"Composite!G171","v":"CMGC"}]
[99,{"$f":"Composite!B145","v":"FER"},{"$f":"Composite!F145","v":"FER"},{"$f":"Composite!L145","v":9.6621073012303924},{"$f":"Composite!G145","v":"TK"}]
[100,{"$f":"Composite!B82","v":"CDK6/CycD3"},{"$f":"Composite!F82","v":"CDK6/D3"},{"$f":"Composite!L82","v":9.6261147176695516},{"$f":"Composite!G82","v":"CMGC"}]
[101,{"$f":"Composite!B297","v":"PDPK1 (PDK1)"},{"$f":"Composite!F297","v":"PDK1"},{"$f":"Composite!L297","v":9.5326568529369951},{"$f":"Composite!G297","v":"AGC"}]
[102,{"$f":"Composite!B254","v":"MNK1"},{"$f":"Composite!F254","v":"MNK1"},{"$f":"Composite!L254","v":9.4166041164618974},{"$f":"Composite!G254","v":"CAMK"}]
[103,{"$f":"Composite!B398","v":"TEK (TIE2)"},{"$f":"Composite!F398","v":"TEK"},{"$f":"Composite!L398","v":9.3996901626646121},{"$f":"Composite!G398","v":"TK"}]
[104,{"$f":"Composite!B144","v":"FAM20C"},{"$f":"Composite!F144","v":"FAM20C"},{"$f":"Composite!L144","v":9.3463666382383224},{"$f":"Composite!G144","v":"Other"}]
[105,{"$f":"Composite!B379","v":"STK10 (LOK)"},{"$f":"Composite!F379","v":"LOK"},{"$f":"Composite!L379","v":9.2965896694018966},{"$f":"Composite!G379","v":"STE"}]
[106,{"$f":"Composite!B126","v":"EIF2AK3 (PERK/PEK)"},{"$f":"Composite!F126","v":"PEK"},{"$f":"Composite!L126","v":9.0803448706734997},{"$f":"Composite!G126","v":"Other"}]
[107,{"$f":"Composite!B114","v":"DDR2"},{"$f":"Composite!F114","v":"DDR2"},{"$f":"Composite!L114","v":9.028743968503008},{"$f":"Composite!G114","v":"TK"}]
[108,{"$f":"Composite!B335","v":"PRKCI (PKCι [iota])"},{"$f":"Composite!F335","v":"PKCI"},{"$f":"Composite!L335","v":8.9271809431993461},{"$f":"Composite!G335","v":"AGC"}]
[109,{"$f":"Composite!B216","v":"MAP3K3 (MEKK3)"},{"$f":"Composite!F216","v":"MAP3K3"},{"$f":"Composite!L216","v":8.8360109123976827},{"$f":"Composite!G216","v":"STE"}]
[110,{"$f":"Composite!B224","v":"MAP4K3 (GLK, KHS2)"},{"$f":"Composite!F224","v":"GLK/KHS2"},{"$f":"Composite!L224","v":8.8355721571725923},{"$f":"Composite!G224","v":"STE"}]
[111,{"$f":"Composite!B358","v":"RPS6KA3 (RSK2)"},{"$f":"Composite!F358","v":"RSK2"},{"$f":"Composite!L358","v":8.6746987951807313},{"$f":"Composite!G358","v":"AGC"}]
[112,{"$f":"Composite!B209","v":"MAP3K11 (MLK3)"},{"$f":"Composite!F209","v":"MAP3K11"},{"$f":"Composite!L209","v":8.5503255905157971},{"$f":"Composite!G209","v":"TKL"}]
[113,{"$f":"Composite!B167","v":"GSK3B (GSK3β)"},{"$f":"Composite!F167","v":"GSK3B"},{"$f":"Composite!L167","v":8.5136837283865816},{"$f":"Composite!G167","v":"CMGC"}]
[114,{"$f":"Composite!B228","v":"MAPK10 (JNK3)"},{"$f":"Composite!F228","v":"JNK3"},{"$f":"Composite!L228","v":8.460665658093788},{"$f":"Composite!G228","v":"CMGC"}]
[115,{"$f":"Composite!B268","v":"NEK2"},{"$f":"Composite!F268","v":"NEK2"},{"$f":"Composite!L268","v":8.2624488482229026},{"$f":"Composite!G268","v":"Other"}]
[116,{"$f":"Composite!B370","v":"SIK3 (QSK)"},{"$f":"Composite!F370","v":"SIK3"},{"$f":"Composite!L370","v":8.2379574896239376},{"$f":"Composite!G370","v":"CAMK"}]
[117,{"$f":"Composite!B22","v":"ABL2 (ARG)"},{"$f":"Composite!F22","v":"ABL2"},{"$f":"Composite!L22","v":8.1997631749209745},{"$f":"Composite!G22","v":"TK"}]
[118,{"$f":"Composite!B253","v":"MLK4 (MAP3K21)"},{"$f":"Composite!F253","v":"MLK4"},{"$f":"Composite!L253","v":8.1916364587615504},{"$f":"Composite!G253","v":"STE"}]
[119,{"$f":"Composite!B363","v":"RPS6KB2 (p70S6KB)"},{"$f":"Composite!F363","v":"P70S6KB"},{"$f":"Composite!L363","v":8.1677618109852403},{"$f":"Composite!G363","v":"AGC"}]
[120,{"$f":"Composite!B403","v":"TNK1"},{"$f":"Composite!F403","v":"TNK1"},{"$f":"Composite!L403","v":8.1569501175887922},{"$f":"Composite!G403","v":"TK"}]
[121,{"$f":"Composite!B188","v":"JAK3 [JH1]"},{"$f":"Composite!F188","v":"JAK3(JH1)"},{"$f":"Composite!L188","v":8.119223407164327},{"$f":"Composite!G188","v":"TK"}]
[122,{"$f":"Composite!B24","v":"AKT2 (PKBb)"},{"$f":"Composite!F24","v":"AKT2"},{"$f":"Composite!L24","v":8.1028151774785897},{"$f":"Composite!G24","v":"AGC"}]
[123,{"$f":"Composite!B74","v":"CDK3/CycE2"},{"$f":"Composite!F74","v":"CDK3/E2"},{"$f":"Composite!L74","v":8.0396588924278376},{"$f":"Composite!G74","v":"CMGC"}]
[124,{"$f":"Composite!B391","v":"STK4 (MST1)"},{"$f":"Composite!F391","v":"MST1"},{"$f":"Composite!L391","v":7.8315663132626696},{"$f":"Composite!G391","v":"STE"}]
[125,{"$f":"Composite!B304","v":"PKMYT1 (MYT1)"},{"$f":"Composite!F304","v":"MYT1"},{"$f":"Composite!L304","v":7.8269733634711685},{"$f":"Composite!G304","v":"Other"}]
[126,{"$f":"Composite!B36","v":"BRAF (BRAF1, RAFB1)"},{"$f":"Composite!F36","v":"BRAF"},{"$f":"Composite!L36","v":7.7941131521838827},{"$f":"Composite!G36","v":"TKL"}]
[127,{"$f":"Composite!B277","v":"NLK (LAK1)"},{"$f":"Composite!F277","v":"NLK"},{"$f":"Composite!L277","v":7.7298830450311584},{"$f":"Composite!G277","v":"CMGC"}]
[128,{"$f":"Composite!B368","v":"SIK1 (SIK)"},{"$f":"Composite!F368","v":"SIK1"},{"$f":"Composite!L368","v":7.6803729214499441},{"$f":"Composite!G368","v":"CAMK"}]
[129,{"$f":"Composite!B129","v":"EPHA2"},{"$f":"Composite!F129","v":"EPHA2"},{"$f":"Composite!L129","v":7.6660317583720428},{"$f":"Composite!G129","v":"TK"}]
[130,{"$f":"Composite!B21","v":"ABL1"},{"$f":"Composite!F21","v":"ABL1"},{"$f":"Composite!L21","v":7.6603158232170472},{"$f":"Composite!G21","v":"TK"}]
[131,{"$f":"Composite!B400","v":"TLK1"},{"$f":"Composite!F400","v":"TLK1"},{"$f":"Composite!L400","v":7.5956489122280573},{"$f":"Composite!G400","v":"Other"}]
[132,{"$f":"Composite!B106","v":"CSNK2A1 (CK2A1, CK2α1)"},{"$f":"Composite!F106","v":"CK2A1"},{"$f":"Composite!L106","v":7.580726052235633},{"$f":"Composite!G106","v":"Other"}]
[133,{"$f":"Composite!B217","v":"MAP3K5 (ASK1)"},{"$f":"Composite!F217","v":"MAP3K5"},{"$f":"Composite!L217","v":7.5438021345572253},{"$f":"Composite!G217","v":"STE"}]
[134,{"$f":"Composite!B30","v":"AXL"},{"$f":"Composite!F30","v":"AXL"},{"$f":"Composite!L30","v":7.4939686369119158},{"$f":"Composite!G30","v":"TK"}]
[135,{"$f":"Composite!B187","v":"JAK2 [JH1-JH2]"},{"$f":"Composite!F187","v":"JAK2(JH1JH2)"},{"$f":"Composite!L187","v":7.2274881516587612},{"$f":"Composite!G187","v":"TK"}]
[136,{"$f":"Composite!B396","v":"TBK1"},{"$f":"Composite!F396","v":"TBK1"},{"$f":"Composite!L396","v":7.1933647253547406},{"$f":"Composite!G396","v":"Other"}]
[137,{"$f":"Composite!B190","v":"KIT (SCFR, CD117)"},{"$f":"Composite!F190","v":"KIT"},{"$f":"Composite!L190","v":7.1527128677616076},{"$f":"Composite!G190","v":"TK"}]
[138,{"$f":"Composite!B375","v":"SRMS (SRM)"},{"$f":"Composite!F375","v":"SRM"},{"$f":"Composite!L375","v":7.074388599336686},{"$f":"Composite!G375","v":"TK"}]
[139,{"$f":"Composite!B174","v":"HUNK"},{"$f":"Composite!F174","v":"HUNK"},{"$f":"Composite!L174","v":7.050872225774043},{"$f":"Composite!G174","v":"CAMK"}]
[140,{"$f":"Composite!B323","v":"PRKAA2-B2-G2 (AMPKα2β2γ2)"},{"$f":"Composite!F323","v":"AMPK222"},{"$f":"Composite!L323","v":7.0495744815867312},{"$f":"Composite!G323","v":"CAMK"}]
[141,{"$f":"Composite!B325","v":"PRKACA (PKACA, PKACα)"},{"$f":"Composite!F325","v":"PKACA"},{"$f":"Composite!L325","v":7.0321393235954304},{"$f":"Composite!G325","v":"AGC"}]
[142,{"$f":"Composite!B197","v":"LIMK2"},{"$f":"Composite!F197","v":"LIMK2"},{"$f":"Composite!L197","v":7.0203442639305536},{"$f":"Composite!G197","v":"TKL"}]
[143,{"$f":"Composite!B153","v":"FLT3"},{"$f":"Composite!F153","v":"FLT3"},{"$f":"Composite!L153","v":6.92531159216567},{"$f":"Composite!G153","v":"TK"}]
[144,{"$f":"Composite!B269","v":"NEK3"},{"$f":"Composite!F269","v":"NEK3"},{"$f":"Composite!L269","v":6.8690284941236115},{"$f":"Composite!G269","v":"Other"}]
[145,{"$f":"Composite!B418","v":"ULK2"},{"$f":"Composite!F418","v":"ULK2"},{"$f":"Composite!L418","v":6.7716410482050122},{"$f":"Composite!G418","v":"Other"}]
[146,{"$f":"Composite!B361","v":"RPS6KA6 (RSK4)"},{"$f":"Composite!F361","v":"RSK4"},{"$f":"Composite!L361","v":6.5692474034271413},{"$f":"Composite!G361","v":"AGC"}]
[147,{"$f":"Composite!B125","v":"EIF2AK2 (PKR)"},{"$f":"Composite!F125","v":"PKR"},{"$f":"Composite!L125","v":6.5355276761016086},{"$f":"Composite!G125","v":"Other"}]
[148,{"$f":"Composite!B365","v":"SGK1 (SGK)"},{"$f":"Composite!F365","v":"SGK"},{"$f":"Composite!L365","v":6.5252827951854897},{"$f":"Composite!G365","v":"AGC"}]
[149,{"$f":"Composite!B138","v":"EPHB3"},{"$f":"Composite!F138","v":"EPHB3"},{"$f":"Composite!L138","v":6.4112326633107273},{"$f":"Composite!G138","v":"TK"}]
[150,{"$f":"Composite!B362","v":"RPS6KB1 (p70S6K)"},{"$f":"Composite!F362","v":"P70S6KA"},{"$f":"Composite!L362","v":6.3923820600421664},{"$f":"Composite!G362","v":"AGC"}]
[151,{"$f":"Composite!B292","v":"PDGFRB (PDGFRβ)"},{"$f":"Composite!F292","v":"PDGFRB"},{"$f":"Composite!L292","v":6.3770268004694088},{"$f":"Composite!G292","v":"TK"}]
[152,{"$f":"Composite!B95","v":"CLK3"},{"$f":"Composite!F95","v":"CLK3"},{"$f":"Composite!L95","v":6.2849635531445927},{"$f":"Composite!G95","v":"CMGC"}]
[153,{"$f":"Composite!B202","v":"MAK"},{"$f":"Composite!F202","v":"MAK"},{"$f":"Composite!L202","v":6.2803826250588202},{"$f":"Composite!G202","v":"Atypical"}]
[154,{"$f":"Composite!B321","v":"PRKAA2-B1-G3 (AMPKα2β1γ3)"},{"$f":"Composite!F321","v":"AMPK213"},{"$f":"Composite!L321","v":6.2264056332781763},{"$f":"Composite!G321","v":"CAMK"}]
[155,{"$f":"Composite!B143","v":"ERN2 (IRE2)"},{"$f":"Composite!F143","v":"ERN2"},{"$f":"Composite!L143","v":6.1507275054038786},{"$f":"Composite!G143","v":"Other"}]
[156,{"$f":"Composite!B354","v":"ROCK2"},{"$f":"Composite!F354","v":"ROCK2"},{"$f":"Composite!L354","v":6.1268369472360433},{"$f":"Composite!G354","v":"AGC"}]
[157,{"$f":"Composite!B347","v":"PTK6 (BRK)"},{"$f":"Composite!F347","v":"PTK6"},{"$f":"Composite!L347","v":6.0961231708162842},{"$f":"Composite!G347","v":"TK"}]
[158,{"$f":"Composite!B147","v":"FGFR1"},{"$f":"Composite!F147","v":"FGFR1"},{"$f":"Composite!L147","v":6.0619845691662562},{"$f":"Composite!G147","v":"TK"}]
[159,{"$f":"Composite!B270","v":"NEK4"},{"$f":"Composite!F270","v":"NEK4"},{"$f":"Composite!L270","v":5.9176410777834292},{"$f":"Composite!G270","v":"Other"}]
[160,{"$f":"Composite!B212","v":"MAP3K14 (NIK)"},{"$f":"Composite!F212","v":"MAP3K14"},{"$f":"Composite!L212","v":5.8363579072671428},{"$f":"Composite!G212","v":"STE"}]
[161,{"$f":"Composite!B237","v":"MAPK8 (JNK1)"},{"$f":"Composite!F237","v":"JNK1"},{"$f":"Composite!L237","v":5.8178563437010666},{"$f":"Composite!G237","v":"CMGC"}]
[162,{"$f":"Composite!B88","v":"CDKL5"},{"$f":"Composite!F88","v":"CDKL5"},{"$f":"Composite!L88","v":5.8036421219319152},{"$f":"Composite!G88","v":"CMGC"}]
[163,{"$f":"Composite!B121","v":"DYRK4"},{"$f":"Composite!F121","v":"DYRK4"},{"$f":"Composite!L121","v":5.7690326568455674},{"$f":"Composite!G121","v":"CMGC"}]
[164,{"$f":"Composite!B62","v":"CDK14 (PFTAIRE1, PFTK1)/CycY"},{"$f":"Composite!F62","v":"CDK14"},{"$f":"Composite!L62","v":5.6656448950719351},{"$f":"Composite!G62","v":"CMGC"}]
[165,{"$f":"Composite!B289","v":"PASK"},{"$f":"Composite!F289","v":"PASK"},{"$f":"Composite!L289","v":5.5290351566887495},{"$f":"Composite!G289","v":"CAMK"}]
[166,{"$f":"Composite!B234","v":"MAPK3 (ERK1)"},{"$f":"Composite!F234","v":"ERK1"},{"$f":"Composite!L234","v":5.3990706854722816},{"$f":"Composite!G234","v":"CAMK"}]
[167,{"$f":"Composite!B175","v":"ICK"},{"$f":"Composite!F175","v":"ICK"},{"$f":"Composite!L175","v":5.3921642070567088},{"$f":"Composite!G175","v":"CMGC"}]
[168,{"$f":"Composite!B136","v":"EPHB1"},{"$f":"Composite!F136","v":"EPHB1"},{"$f":"Composite!L136","v":5.3617213449099808},{"$f":"Composite!G136","v":"TK"}]
[169,{"$f":"Composite!B98","v":"CSK"},{"$f":"Composite!F98","v":"CSK"},{"$f":"Composite!L98","v":5.1829204006325682},{"$f":"Composite!G98","v":"TK"}]
[170,{"$f":"Composite!B207","v":"MAP3K1 (MEKK1)"},{"$f":"Composite!F207","v":"MAP3K1"},{"$f":"Composite!L207","v":5.0447874420097207},{"$f":"Composite!G207","v":"STE"}]
[171,{"$f":"Composite!B63","v":"CDK16 (PCTAIRE1, PCTK1)/CycY "},{"$f":"Composite!F63","v":"CDK16"},{"$f":"Composite!L63","v":5.0015240100861291},{"$f":"Composite!G63","v":"CMGC"}]
[172,{"$f":"Composite!B128","v":"EPHA1"},{"$f":"Composite!F128","v":"EPHA1"},{"$f":"Composite!L128","v":4.9844457430920812},{"$f":"Composite!G128","v":"TK"}]
[173,{"$f":"Composite!B152","v":"FLT1"},{"$f":"Composite!F152","v":"FLT1"},{"$f":"Composite!L152","v":4.9815428917913636},{"$f":"Composite!G152","v":"TK"}]
[174,{"$f":"Composite!B345","v":"PTK2 (FAK)"},{"$f":"Composite!F345","v":"PTK2"},{"$f":"Composite!L345","v":4.9713295462908889},{"$f":"Composite!G345","v":"TK"}]
[175,{"$f":"Composite!B208","v":"MAP3K10 (MLK2)"},{"$f":"Composite!F208","v":"MAP3K10"},{"$f":"Composite!L208","v":4.9302263086166249},{"$f":"Composite!G208","v":"TKL"}]
[176,{"$f":"Composite!B317","v":"PRKAA1-B2-G2 (AMPKα1β2γ2)"},{"$f":"Composite!F317","v":"AMPK122"},{"$f":"Composite!L317","v":4.8827113783902121},{"$f":"Composite!G317","v":"CAMK"}]
[177,{"$f":"Composite!B291","v":"PDGFRA (PDGFRα)"},{"$f":"Composite!F291","v":"PDGFRA"},{"$f":"Composite!L291","v":4.8643241633797345},{"$f":"Composite!G291","v":"TK"}]
[178,{"$f":"Composite!B127","v":"EIF2AK4 (GCN2)"},{"$f":"Composite!F127","v":"GCN2"},{"$f":"Composite!L127","v":4.8482991112473144},{"$f":"Composite!G127","v":"Other"}]
[179,{"$f":"Composite!B176","v":"IGF1R"},{"$f":"Composite!F176","v":"IGF1R"},{"$f":"Composite!L176","v":4.8295454545454533},{"$f":"Composite!G176","v":"TK"}]
[180,{"$f":"Composite!B251","v":"MET (c-MET, HGFR)"},{"$f":"Composite!F251","v":"MET"},{"$f":"Composite!L251","v":4.7796684920430437},{"$f":"Composite!G251","v":"TK"}]
[181,{"$f":"Composite!B66","v":"CDK18 (PCTAIRE3, PCTK3)/CycY "},{"$f":"Composite!F66","v":"CDK18"},{"$f":"Composite!L66","v":4.7733847637415749},{"$f":"Composite!G66","v":"CMGC"}]
[182,{"$f":"Composite!B230","v":"MAPK12 (p38γ)"},{"$f":"Composite!F230","v":"P38G"},{"$f":"Composite!L230","v":4.6994535519125691},{"$f":"Composite!G230","v":"CMGC"}]
[183,{"$f":"Composite!B417","v":"ULK1"},{"$f":"Composite!F417","v":"ULK1"},{"$f":"Composite!L417","v":4.664525267841114},{"$f":"Composite!G417","v":"Other"}]
[184,{"$f":"Composite!B283","v":"PAK1"},{"$f":"Composite!F283","v":"PAK1"},{"$f":"Composite!L283","v":4.6439916193565693},{"$f":"Composite!G283","v":"STE"}]
[185,{"$f":"Composite!B348","v":"RAF1 [Y340E/Y341E]"},{"$f":"Composite!F348","v":"RAF1"},{"$f":"Composite!L348","v":4.5531005798726767},{"$f":"Composite!G348","v":"TKL"}]
[186,{"$f":"Composite!B389","v":"STK38 (NDR1)"},{"$f":"Composite!F389","v":"NDR1"},{"$f":"Composite!L389","v":4.5523099709858883},{"$f":"Composite!G389","v":"AGC"}]
[187,{"$f":"Composite!B390","v":"STK38L (NDR2)"},{"$f":"Composite!F390","v":"NDR2"},{"$f":"Composite!L390","v":4.5494737937132754},{"$f":"Composite!G390","v":"AGC"}]
[188,{"$f":"Composite!B130","v":"EPHA3"},{"$f":"Composite!F130","v":"EPHA3"},{"$f":"Composite!L130","v":4.515445977109394},{"$f":"Composite!G130","v":"TK"}]
[189,{"$f":"Composite!B311","v":"PLK4"},{"$f":"Composite!F311","v":"PLK4"},{"$f":"Composite!L311","v":4.4901648193012704},{"$f":"Composite!G311","v":"Other"}]
[190,{"$f":"Composite!B273","v":"NEK7"},{"$f":"Composite!F273","v":"NEK7"},{"$f":"Composite!L273","v":4.3959318520437876},{"$f":"Composite!G273","v":"Other"}]
[191,{"$f":"Composite!B107","v":"CSNK2A2 (CK2A2, CK2α2)"},{"$f":"Composite!F107","v":"CK2A2"},{"$f":"Composite!L107","v":4.3209476954945814},{"$f":"Composite!G107","v":"Other"}]
[192,{"$f":"Composite!B316","v":"PRKAA1-B2-G1 (AMPKα1β2γ1)"},{"$f":"Composite!F316","v":"AMPK121"},{"$f":"Composite!L316","v":4.291013786612055},{"$f":"Composite!G316","v":"CAMK"}]
[193,{"$f":"Composite!B149","v":"FGFR3"},{"$f":"Composite!F149","v":"FGFR3"},{"$f":"Composite!L149","v":4.2565004163967615},{"$f":"Composite!G149","v":"TK"}]
[194,{"$f":"Composite!B211","v":"MAP3K13 (LZK)"},{"$f":"Composite!F211","v":"MAP3K13"},{"$f":"Composite!L211","v":4.243386974238561},{"$f":"Composite!G211","v":"TKL"}]
[195,{"$f":"Composite!B185","v":"JAK1 [JH1-JH2]"},{"$f":"Composite!F185","v":"JAK1(JH1JH2)"},{"$f":"Composite!L185","v":4.1836345125986156},{"$f":"Composite!G185","v":"TK"}]
[196,{"$f":"Composite!B322","v":"PRKAA2-B2-G1 (AMPKα2β2γ1)"},{"$f":"Composite!F322","v":"AMPK221"},{"$f":"Composite!L322","v":4.1805204286045381},{"$f":"Composite!G322","v":"CAMK"}]
[197,{"$f":"Composite!B413","v":"TXK"},{"$f":"Composite!F413","v":"TXK"},{"$f":"Composite!L413","v":4.0195080122193048},{"$f":"Composite!G413","v":"TK"}]
[198,{"$f":"Composite!B223","v":"MAP4K2 (GCK)"},{"$f":"Composite!F223","v":"GCK"},{"$f":"Composite!L223","v":4.0082876672540095},{"$f":"Composite!G223","v":"STE"}]
[199,{"$f":"Composite!B281","v":"NUAK1 (ARK5)"},{"$f":"Composite!F281","v":"NUAK1"},{"$f":"Composite!L281","v":3.9702437703779196},{"$f":"Composite!G281","v":"CAMK"}]
[200,{"$f":"Composite!B205","v":"MAP2K3 (MEK3)"},{"$f":"Composite!F205","v":"MEK3"},{"$f":"Composite!L205","v":3.9516379961772401},{"$f":"Composite!G205","v":"STE"}]
[201,{"$f":"Composite!B194","v":"LATS2"},{"$f":"Composite!F194","v":"LATS2"},{"$f":"Composite!L194","v":3.9412757807023553},{"$f":"Composite!G194","v":"AGC"}]
[202,{"$f":"Composite!B244","v":"MARK3"},{"$f":"Composite!F244","v":"MARK3"},{"$f":"Composite!L244","v":3.9066463723997913},{"$f":"Composite!G244","v":"CAMK"}]
[203,{"$f":"Composite!B150","v":"FGFR4"},{"$f":"Composite!F150","v":"FGFR4"},{"$f":"Composite!L150","v":3.9034299817000431},{"$f":"Composite!G150","v":"TK"}]
[204,{"$f":"Composite!B381","v":"STK16 (MPSK1, PKL12, TSF1)"},{"$f":"Composite!F381","v":"STK16"},{"$f":"Composite!L381","v":3.8062580368624168},{"$f":"Composite!G381","v":"Other"}]
[205,{"$f":"Composite!B165","v":"GRK7 (GPRK7)"},{"$f":"Composite!F165","v":"GRK7"},{"$f":"Composite!L165","v":3.7735522095277929},{"$f":"Composite!G165","v":"AGC"}]
[206,{"$f":"Composite!B408","v":"TSSK3"},{"$f":"Composite!F408","v":"TSSK3"},{"$f":"Composite!L408","v":3.7682243912868358},{"$f":"Composite!G408","v":"CAMK"}]
[207,{"$f":"Composite!B285","v":"PAK3"},{"$f":"Composite!F285","v":"PAK3"},{"$f":"Composite!L285","v":3.6338217833995259},{"$f":"Composite!G285","v":"STE"}]
[208,{"$f":"Composite!B336","v":"PRKCQ (PKCᶿ [theta])"},{"$f":"Composite!F336","v":"PKCQ"},{"$f":"Composite!L336","v":3.5874350924993621},{"$f":"Composite!G336","v":"AGC"}]
[209,{"$f":"Composite!B355","v":"ROS1 (ROS)"},{"$f":"Composite!F355","v":"ROS"},{"$f":"Composite!L355","v":3.5741783541418215},{"$f":"Composite!G355","v":"TK"}]
[210,{"$f":"Composite!B299","v":"PHKG2"},{"$f":"Composite!F299","v":"PHKG2"},{"$f":"Composite!L299","v":3.567830219014624},{"$f":"Composite!G299","v":"CAMK"}]
[211,{"$f":"Composite!B383","v":"STK17B (DRAK2)"},{"$f":"Composite!F383","v":"DRAK2"},{"$f":"Composite!L383","v":3.5548708920187693},{"$f":"Composite!G383","v":"CAMK"}]
[212,{"$f":"Composite!B135","v":"EPHA8"},{"$f":"Composite!F135","v":"EPHA8"},{"$f":"Composite!L135","v":3.4582994838644936},{"$f":"Composite!G135","v":"TK"}]
[213,{"$f":"Composite!B380","v":"STK11 (LKB1, AMPKK)"},{"$f":"Composite!F380","v":"LKB1"},{"$f":"Composite!L380","v":3.4228379632935741},{"$f":"Composite!G380","v":"CAMK"}]
[214,{"$f":"Composite!B32","v":"BCR RET (fusion)"},{"$f":"Composite!F32","v":"BCR RET"},{"$f":"Composite!L32","v":3.3760358740851188},{"$f":"Composite!G32","v":"TK"}]
[215,{"$f":"Composite!B404","v":"TNK2 (ACK)"},{"$f":"Composite!F404","v":"TNK2"},{"$f":"Composite!L404","v":3.3363979483209221},{"$f":"Composite!G404","v":"TK"}]
[216,{"$f":"Composite!B179","v":"INSR (IR)"},{"$f":"Composite!F179","v":"INSR"},{"$f":"Composite!L179","v":3.3012865827796105},{"$f":"Composite!G179","v":"TK"}]
[217,{"$f":"Composite!B282","v":"NUAK2 (SNARK)"},{"$f":"Composite!F282","v":"NUAK2"},{"$f":"Composite!L282","v":3.2945238560110113},{"$f":"Composite!G282","v":"CAMK"}]
[218,{"$f":"Composite!B99","v":"CSNK1A1 (CK1A1, CK1α)"},{"$f":"Composite!F99","v":"CK1A1"},{"$f":"Composite!L99","v":3.2846226035661488},{"$f":"Composite!G99","v":"CK1"}]
[219,{"$f":"Composite!B309","v":"PLK2"},{"$f":"Composite!F309","v":"PLK2"},{"$f":"Composite!L309","v":3.2556036431755189},{"$f":"Composite!G309","v":"Other"}]
[220,{"$f":"Composite!B139","v":"EPHB4"},{"$f":"Composite!F139","v":"EPHB4"},{"$f":"Composite!L139","v":3.2364234777838732},{"$f":"Composite!G139","v":"TK"}]
[221,{"$f":"Composite!B286","v":"PAK4"},{"$f":"Composite!F286","v":"PAK4"},{"$f":"Composite!L286","v":3.2034173273674185},{"$f":"Composite!G286","v":"STE"}]
[222,{"$f":"Composite!B42","v":"CAMK1 (CAMK1a)"},{"$f":"Composite!F42","v":"CAMK1A"},{"$f":"Composite!L42","v":3.1729091249981991},{"$f":"Composite!G42","v":"CAMK"}]
[223,{"$f":"Composite!B329","v":"PRKCB1 (PKCβ1 [beta1])"},{"$f":"Composite!F329","v":"PKCB1"},{"$f":"Composite!L329","v":3.1074358808708382},{"$f":"Composite!G329","v":"AGC"}]
[224,{"$f":"Composite!B271","v":"NEK5"},{"$f":"Composite!F271","v":"NEK5"},{"$f":"Composite!L271","v":3.1062124248497014},{"$f":"Composite!G271","v":"Other"}]
[225,{"$f":"Composite!B350","v":"RIPK1"},{"$f":"Composite!F350","v":"RIPK1"},{"$f":"Composite!L350","v":3.101889278122087},{"$f":"Composite!G350","v":"TKL"}]
[226,{"$f":"Composite!B387","v":"STK3 (CLIK1, MST2)"},{"$f":"Composite!F387","v":"MST2"},{"$f":"Composite!L387","v":2.9867121784712651},{"$f":"Composite!G387","v":"STE"}]
[227,{"$f":"Composite!B203","v":"MAP2K1 (MEK1)"},{"$f":"Composite!F203","v":"MEK1"},{"$f":"Composite!L203","v":2.9514820733950984},{"$f":"Composite!G203","v":"STE"}]
[228,{"$f":"Composite!B134","v":"EPHA7"},{"$f":"Composite!F134","v":"EPHA7"},{"$f":"Composite!L134","v":2.9376292970641487},{"$f":"Composite!G134","v":"TK"}]
[229,{"$f":"Composite!B112","v":"DCLK2 (DCAMKL2)"},{"$f":"Composite!F112","v":"DCAML2"},{"$f":"Composite!L112","v":2.9178702065309494},{"$f":"Composite!G112","v":"CAMK"}]
[230,{"$f":"Composite!B169","v":"HCK"},{"$f":"Composite!F169","v":"HCK"},{"$f":"Composite!L169","v":2.8573449324563285},{"$f":"Composite!G169","v":"TK"}]
[231,{"$f":"Composite!B287","v":"PAK5 (PAK7)"},{"$f":"Composite!F287","v":"PAK5"},{"$f":"Composite!L287","v":2.7870504503369631},{"$f":"Composite!G287","v":"STE"}]
[232,{"$f":"Composite!B245","v":"MARK4"},{"$f":"Composite!F245","v":"MARK4"},{"$f":"Composite!L245","v":2.7526558863606283},{"$f":"Composite!G245","v":"CAMK"}]
[233,{"$f":"Composite!B248","v":"MATK (CTK)"},{"$f":"Composite!F248","v":"CTK"},{"$f":"Composite!L248","v":2.7167842536967299},{"$f":"Composite!G248","v":"TK"}]
[234,{"$f":"Composite!B148","v":"FGFR2"},{"$f":"Composite!F148","v":"FGFR2"},{"$f":"Composite!L148","v":2.6973608153614919},{"$f":"Composite!G148","v":"TK"}]
[235,{"$f":"Composite!B159","v":"GRK1 (RHOK)"},{"$f":"Composite!F159","v":"GRK1"},{"$f":"Composite!L159","v":2.678617157490379},{"$f":"Composite!G159","v":"AGC"}]
[236,{"$f":"Composite!B196","v":"LIMK1"},{"$f":"Composite!F196","v":"LIMK1"},{"$f":"Composite!L196","v":2.673869007427399},{"$f":"Composite!G196","v":"TKL"}]
[237,{"$f":"Composite!B349","v":"RET"},{"$f":"Composite!F349","v":"RET"},{"$f":"Composite!L349","v":2.6582278481012764},{"$f":"Composite!G349","v":"TK"}]
[238,{"$f":"Composite!B90","v":"CHEK2 (CHK2)"},{"$f":"Composite!F90","v":"CHK2"},{"$f":"Composite!L90","v":2.6408137257657813},{"$f":"Composite!G90","v":"CAMK"}]
[239,{"$f":"Composite!B326","v":"PRKACB (PKACB, PKACβ)"},{"$f":"Composite!F326","v":"PKACB"},{"$f":"Composite!L326","v":2.5339605744435119},{"$f":"Composite!G326","v":"AGC"}]
[240,{"$f":"Composite!B219","v":"MAP3K7 (TAK1)"},{"$f":"Composite!F219","v":"MAP3K7"},{"$f":"Composite!L219","v":2.3911781775971974},{"$f":"Composite!G219","v":"STE"}]
[241,{"$f":"Composite!B215","v":"MAP3K20 (MLK7, ZAK)"},{"$f":"Composite!F215","v":"ZAK"},{"$f":"Composite!L215","v":2.2562965174553824},{"$f":"Composite!G215","v":"TKL"}]
[242,{"$f":"Composite!B178","v":"IKKE (IKKe)"},{"$f":"Composite!F178","v":"IKKE"},{"$f":"Composite!L178","v":2.2059744552238953},{"$f":"Composite!G178","v":"Other"}]
[243,{"$f":"Composite!B227","v":"MAPK1 (ERK2)"},{"$f":"Composite!F227","v":"ERK2"},{"$f":"Composite!L227","v":2.1943790668697574},{"$f":"Composite!G227","v":"CMGC"}]
[244,{"$f":"Composite!B327","v":"PRKACG (PKACG, PKACg)"},{"$f":"Composite!F327","v":"PKACG"},{"$f":"Composite!L327","v":2.1190851999865572},{"$f":"Composite!G327","v":"AGC"}]
[245,{"$f":"Composite!B412","v":"TTK"},{"$f":"Composite!F412","v":"TTK"},{"$f":"Composite!L412","v":2.1150353178607162},{"$f":"Composite!G412","v":"Other"}]
[246,{"$f":"Composite!B79","v":"CDK5/p35NCK"},{"$f":"Composite!F79","v":"CDK5/P35"},{"$f":"Composite!L79","v":2.0516548783793809},{"$f":"Composite!G79","v":"CMGC"}]
[247,{"$f":"Composite!B229","v":"MAPK11 (p38b)"},{"$f":"Composite!F229","v":"P38B"},{"$f":"Composite!L229","v":1.9742656420857259},{"$f":"Composite!G229","v":"CMGC"}]
[248,{"$f":"Composite!B72","v":"CDK2/CycO"},{"$f":"Composite!F72","v":"CDK2/O"},{"$f":"Composite!L72","v":1.954452275982149},{"$f":"Composite!G72","v":"CMGC"}]
[249,{"$f":"Composite!B192","v":"KSR2"},{"$f":"Composite!F192","v":"KSR2"},{"$f":"Composite!L192","v":1.8757327080891315},{"$f":"Composite!G192","v":"TKL"}]
[250,{"$f":"Composite!B419","v":"ULK3"},{"$f":"Composite!F419","v":"ULK3"},{"$f":"Composite!L419","v":1.827928428271349},{"$f":"Composite!G419","v":"Other"}]
[251,{"$f":"Composite!B414","v":"TYK2 [JH1]"},{"$f":"Composite!F414","v":"TYK2(JH1)"},{"$f":"Composite!L414","v":1.6937817503697516},{"$f":"Composite!G414","v":"TK"}]
[252,{"$f":"Composite!B339","v":"PRKD2 (PKD2)"},{"$f":"Composite!F339","v":"PKD2"},{"$f":"Composite!L339","v":1.5826369377933531},{"$f":"Composite!G339","v":"CAMK"}]
[253,{"$f":"Composite!B388","v":"STK33"},{"$f":"Composite!F388","v":"STK33"},{"$f":"Composite!L388","v":1.4989535115982449},{"$f":"Composite!G388","v":"CAMK"}]
[254,{"$f":"Composite!B301","v":"PIM2"},{"$f":"Composite!F301","v":"PIM2"},{"$f":"Composite!L301","v":1.4100711956192526},{"$f":"Composite!G301","v":"CAMK"}]
[255,{"$f":"Composite!B410","v":"TTBK1"},{"$f":"Composite!F410","v":"TTBK1"},{"$f":"Composite!L410","v":1.3846402195407705},{"$f":"Composite!G410","v":"CK1"}]
[256,{"$f":"Composite!B238","v":"MAPK9 (JNK2)"},{"$f":"Composite!F238","v":"JNK2"},{"$f":"Composite!L238","v":1.3206664648981814},{"$f":"Composite!G238","v":"CMGC"}]
[257,{"$f":"Composite!B137","v":"EPHB2"},{"$f":"Composite!F137","v":"EPHB2"},{"$f":"Composite!L137","v":1.3168511561058125},{"$f":"Composite!G137","v":"TK"}]
[258,{"$f":"Composite!B83","v":"CDK7/CycH/MAT1"},{"$f":"Composite!F83","v":"CDK7"},{"$f":"Composite!L83","v":1.2886079664342276},{"$f":"Composite!G83","v":"CMGC"}]
[259,{"$f":"Composite!B242","v":"MARK1"},{"$f":"Composite!F242","v":"MARK1"},{"$f":"Composite!L242","v":1.2741861055764332},{"$f":"Composite!G242","v":"CAMK"}]
[260,{"$f":"Composite!B132","v":"EPHA5"},{"$f":"Composite!F132","v":"EPHA5"},{"$f":"Composite!L132","v":1.2090389032340738},{"$f":"Composite!G132","v":"TK"}]
[261,{"$f":"Composite!B124","v":"EIF2AK1 (HRI)"},{"$f":"Composite!F124","v":"HRI"},{"$f":"Composite!L124","v":1.2076294277929094},{"$f":"Composite!G124","v":"Other"}]
[262,{"$f":"Composite!B300","v":"PIM1"},{"$f":"Composite!F300","v":"PIM1"},{"$f":"Composite!L300","v":1.181425219958939},{"$f":"Composite!G300","v":"CAMK"}]
[263,{"$f":"Composite!B75","v":"CDK4 /CycD3"},{"$f":"Composite!F75","v":"CDK4/D3"},{"$f":"Composite!L75","v":1.1727833383884274},{"$f":"Composite!G75","v":"CMGC"}]
[264,{"$f":"Composite!B104","v":"CSNK1G2 (CK1G2, CK1γ2)"},{"$f":"Composite!F104","v":"CK1G2"},{"$f":"Composite!L104","v":1.1109225634934177},{"$f":"Composite!G104","v":"CK1"}]
[265,{"$f":"Composite!B405","v":"TRPM7 (CHAK1)"},{"$f":"Composite!F405","v":"CHAK1"},{"$f":"Composite!L405","v":1.0530823684808155},{"$f":"Composite!G405","v":"Atypical"}]
[266,{"$f":"Composite!B246","v":"MAST3"},{"$f":"Composite!F246","v":"MAST3"},{"$f":"Composite!L246","v":0.89261362227564689},{"$f":"Composite!G246","v":"AGC"}]
[267,{"$f":"Composite!B94","v":"CLK2"},{"$f":"Composite!F94","v":"CLK2"},{"$f":"Composite!L94","v":0.85650404173595973},{"$f":"Composite!G94","v":"CMGC"}]
[268,{"$f":"Composite!B118","v":"DYRK1B"},{"$f":"Composite!F118","v":"DYRK1B"},{"$f":"Composite!L118","v":0.7882196486950761},{"$f":"Composite!G118","v":"CMGC"}]
[269,{"$f":"Composite!B39","v":"BRSK2"},{"$f":"Composite!F39","v":"BRSK2"},{"$f":"Composite!L39","v":0.76424270495601831},{"$f":"Composite!G39","v":"CAMK"}]
[270,{"$f":"Composite!B343","v":"PRKG2 (PKG2, PGK2, CGK2)"},{"$f":"Composite!F343","v":"PGK2"},{"$f":"Composite!L343","v":0.74810941746427773},{"$f":"Composite!G343","v":"AGC"}]
[271,{"$f":"Composite!B338","v":"PRKD1 (PKD1)"},{"$f":"Composite!F338","v":"PKD1"},{"$f":"Composite!L338","v":0.7201361622641258},{"$f":"Composite!G338","v":"CAMK"}]
[272,{"$f":"Composite!B173","v":"HIPK4"},{"$f":"Composite!F173","v":"HIPK4"},{"$f":"Composite!L173","v":0.71278720016178454},{"$f":"Composite!G173","v":"CMGC"}]
[273,{"$f":"Composite!B394","v":"TAOK2 (TAO2)"},{"$f":"Composite!F394","v":"TAOK2"},{"$f":"Composite!L394","v":0.65599840970082823},{"$f":"Composite!G394","v":"STE"}]
[274,{"$f":"Composite!B37","v":"BRAF, b-[V600E]"},{"$f":"Composite!F37","v":"BRAF(V600E)"},{"$f":"Composite!L37","v":0.63462949376375377},{"$f":"Composite!G37","v":"TKL"}]
[275,{"$f":"Composite!B157","v":"FYNb (FYN)"},{"$f":"Composite!F157","v":"FYNB"},{"$f":"Composite!L157","v":0.60873008017422592},{"$f":"Composite!G157","v":"TK"}]
[276,{"$f":"Composite!B100","v":"CSNK1A1L (CK1A1L, CK1a2)"},{"$f":"Composite!F100","v":"CK1A1L"},{"$f":"Composite!L100","v":0.52115583075334371},{"$f":"Composite!G100","v":"CK1"}]
[277,{"$f":"Composite!B120","v":"DYRK3"},{"$f":"Composite!F120","v":"DYRK3"},{"$f":"Composite!L120","v":0.45622065030018177},{"$f":"Composite!G120","v":"CMGC"}]
[278,{"$f":"Composite!B279","v":"NTRK2 (TRKB)"},{"$f":"Composite!F279","v":"NTRK2"},{"$f":"Composite!L279","v":0.42879652829799397},{"$f":"Composite!G279","v":"TK"}]
[279,{"$f":"Composite!B168","v":"HASPIN"},{"$f":"Composite!F168","v":"HASPIN"},{"$f":"Composite!L168","v":0.41133520260753187},{"$f":"Composite!G168","v":"Other"}]
[280,{"$f":"Composite!B376","v":"SRPK1"},{"$f":"Composite!F376","v":"SRPK1"},{"$f":"Composite!L376","v":0.27011035937540839},{"$f":"Composite!G376","v":"CMGC"}]
[281,{"$f":"Composite!B38","v":"BRSK1"},{"$f":"Composite!F38","v":"BRSK1"},{"$f":"Composite!L38","v":0.23297896403528284},{"$f":"Composite!G38","v":"CAMK"}]
[282,{"$f":"Composite!B103","v":"CSNK1G1 (CK1G1, CK1γ1)"},{"$f":"Composite!F103","v":"CK1G1"},{"$f":"Composite!L103","v":4.1981229409643106E-2},{"$f":"Composite!G103","v":"CK1"}]
[283,{"$f":"Composite!B60","v":"CDK12 (CRK7)/CycK"},{"$f":"Composite!F60","v":"CDK12/K"},{"$f":"Composite!L60","v":0},{"$f":"Composite!G60","v":"CMGC"}]
[284,{"$f":"Composite!B69","v":"CDK2/CycD1"},{"$f":"Composite!F69","v":"CDK2/D1"},{"$f":"Composite!L69","v":0},{"$f":"Composite!G69","v":"CMGC"}]
[285,{"$f":"Composite!B206","v":"MAP2K4 (MEK4)"},{"$f":"Composite!F206","v":"MEK4(HIS)"},{"$f":"Composite!L206","v":0},{"$f":"Composite!G206","v":"STE"}]
[286,{"$f":"Composite!B235","v":"MAPK6 (ERK3)"},{"$f":"Composite!F235","v":"ERK3"},{"$f":"Composite!L235","v":0},{"$f":"Composite!G235","v":"CMGC"}]
[287,{"$f":"Composite!B267","v":"NEK11"},{"$f":"Composite!F267","v":"NEK11"},{"$f":"Composite!L267","v":0},{"$f":"Composite!G267","v":"Other"}]
[288,{"$f":"Composite!B274","v":"NEK8"},{"$f":"Composite!F274","v":"NEK8"},{"$f":"Composite!L274","v":0},{"$f":"Composite!G274","v":"Other"}]
[289,{"$f":"Composite!B374","v":"SRC N1"},{"$f":"Composite!F374","v":"SRC N1"},{"$f":"Composite!L374","v":0},{"$f":"Composite!G374","v":"TK"}]
[290,{"$f":"Composite!B415","v":"TYK2 [JH1-JH2]"},{"$f":"Composite!F415","v":"TYK2(JH1JH2)"},{"$f":"Composite!L415","v":0},{"$f":"Composite!G415","v":"TK"}]
[291,{"$f":"Composite!B420","v":"WEE1"},{"$f":"Composite!F420","v":"WEE1"},{"$f":"Composite!L420","v":0},{"$f":"Composite!G420","v":"Other"}]
[292,{"$f":"Composite!B423","v":0},{"$f":"Composite!F423","v":0},{"$f":"Composite!L423","v":0},{"$f":"Composite!G423","v":0}]
[293,{"$f":"Composite!B424","v":0},{"$f":"Composite!F424","v":0},{"$f":"Composite!L424","v":0},{"$f":"Composite!G424","v":0}]
[294,{"$f":"Composite!B425","v":0},{"$f":"Composite!F425","v":0},{"$f":"Composite!L425","v":0},{"$f":"Composite!G425","v":0}]
[295,{"$f":"Composite!B426","v":0},{"$f":"Composite!F426","v":0},{"$f":"Composite!L426","v":0},{"$f":"Composite!G426","v":0}]
[296,{"$f":"Composite!B427","v":0},{"$f":"Composite!F427","v":0},{"$f":"Composite!L427","v":0},{"$f":"Composite!G427","v":0}]
[297,{"$f":"Composite!B428","v":0},{"$f":"Composite!F428","v":0},{"$f":"Composite!L428","v":0},{"$f":"Composite!G428","v":0}]
[298,{"$f":"Composite!B429","v":0},{"$f":"Composite!F429","v":0},{"$f":"Composite!L429","v":0},{"$f":"Composite!G429","v":0}]
[299,{"$f":"Composite!B430","v":0},{"$f":"Composite!F430","v":0},{"$f":"Composite!L430","v":0},{"$f":"Composite!G430","v":0}]
[300,{"$f":"Composite!B431","v":0},{"$f":"Composite!F431","v":0},{"$f":"Composite!L431","v":0},{"$f":"Composite!G431","v":0}]
[301,{"$f":"Composite!B432","v":0},{"$f":"Composite!F432","v":0},{"$f":"Composite!L432","v":0},{"$f":"Composite!G432","v":0}]
[302,{"$f":"Composite!B433","v":0},{"$f":"Composite!F433","v":0},{"$f":"Composite!L433","v":0},{"$f":"Composite!G433","v":0}]
[303,{"$f":"Composite!B434","v":0},{"$f":"Composite!F434","v":0},{"$f":"Composite!L434","v":0},{"$f":"Composite!G434","v":0}]
[304,{"$f":"Composite!B435","v":0},{"$f":"Composite!F435","v":0},{"$f":"Composite!L435","v":0},{"$f":"Composite!G435","v":0}]
[305,{"$f":"Composite!B436","v":0},{"$f":"Composite!F436","v":0},{"$f":"Composite!L436","v":0},{"$f":"Composite!G436","v":0}]
[306,{"$f":"Composite!B437","v":0},{"$f":"Composite!F437","v":0},{"$f":"Composite!L437","v":0},{"$f":"Composite!G437","v":0}]
[307,{"$f":"Composite!B438","v":0},{"$f":"Composite!F438","v":0},{"$f":"Composite!L438","v":0},{"$f":"Composite!G438","v":0}]
[308,{"$f":"Composite!B439","v":0},{"$f":"Composite!F439","v":0},{"$f":"Composite!L439","v":0},{"$f":"Composite!G439","v":0}]
[309,{"$f":"Composite!B440","v":0},{"$f":"Composite!F440","v":0},{"$f":"Composite!L440","v":0},{"$f":"Composite!G440","v":0}]
[310,{"$f":"Composite!B441","v":0},{"$f":"Composite!F441","v":0},{"$f":"Composite!L441","v":0},{"$f":"Composite!G441","v":0}]
[311,{"$f":"Composite!B442","v":0},{"$f":"Composite!F442","v":0},{"$f":"Composite!L442","v":0},{"$f":"Composite!G442","v":0}]
[312,{"$f":"Composite!B443","v":0},{"$f":"Composite!F443","v":0},{"$f":"Composite!L443","v":0},{"$f":"Composite!G443","v":0}]
[313,{"$f":"Composite!B444","v":0},{"$f":"Composite!F444","v":0},{"$f":"Composite!L444","v":0},{"$f":"Composite!G444","v":0}]
[314,{"$f":"Composite!B445","v":0},{"$f":"Composite!F445","v":0},{"$f":"Composite!L445","v":0},{"$f":"Composite!G445","v":0}]
[315,{"$f":"Composite!B446","v":0},{"$f":"Composite!F446","v":0},{"$f":"Composite!L446","v":0},{"$f":"Composite!G446","v":0}]
[316,{"$f":"Composite!B447","v":0},{"$f":"Composite!F447","v":0},{"$f":"Composite!L447","v":0},{"$f":"Composite!G447","v":0}]
[317,{"$f":"Composite!B448","v":0},{"$f":"Composite!F448","v":0},{"$f":"Composite!L448","v":0},{"$f":"Composite!G448","v":0}]
[318,{"$f":"Composite!B449","v":0},{"$f":"Composite!F449","v":0},{"$f":"Composite!L449","v":0},{"$f":"Composite!G449","v":0}]
[319,{"$f":"Composite!B450","v":0},{"$f":"Composite!F450","v":0},{"$f":"Composite!L450","v":0},{"$f":"Composite!G450","v":0}]
[320,{"$f":"Composite!B451","v":0},{"$f":"Composite!F451","v":0},{"$f":"Composite!L451","v":0},{"$f":"Composite!G451","v":0}]
[321,{"$f":"Composite!B452","v":0},{"$f":"Composite!F452","v":0},{"$f":"Composite!L452","v":0},{"$f":"Composite!G452","v":0}]
[322,{"$f":"Composite!B453","v":0},{"$f":"Composite!F453","v":0},{"$f":"Composite!L453","v":0},{"$f":"Composite!G453","v":0}]
[323,{"$f":"Composite!B454","v":0},{"$f":"Composite!F454","v":0},{"$f":"Composite!L454","v":0},{"$f":"Composite!G454","v":0}]
[324,{"$f":"Composite!B455","v":0},{"$f":"Composite!F455","v":0},{"$f":"Composite!L455","v":0},{"$f":"Composite!G455","v":0}]
[325,{"$f":"Composite!B456","v":0},{"$f":"Composite!F456","v":0},{"$f":"Composite!L456","v":0},{"$f":"Composite!G456","v":0}]
[326,{"$f":"Composite!B457","v":0},{"$f":"Composite!F457","v":0},{"$f":"Composite!L457","v":0},{"$f":"Composite!G457","v":0}]
[327,{"$f":"Composite!B458","v":0},{"$f":"Composite!F458","v":0},{"$f":"Composite!L458","v":0},{"$f":"Composite!G458","v":0}]
[328,{"$f":"Composite!B459","v":0},{"$f":"Composite!F459","v":0},{"$f":"Composite!L459","v":0},{"$f":"Composite!G459","v":0}]
[329,{"$f":"Composite!B460","v":0},{"$f":"Composite!F460","v":0},{"$f":"Composite!L460","v":0},{"$f":"Composite!G460","v":0}]
[330,{"$f":"Composite!B461","v":0},{"$f":"Composite!F461","v":0},{"$f":"Composite!L461","v":0},{"$f":"Composite!G461","v":0}]
[331,{"$f":"Composite!B462","v":0},{"$f":"Composite!F462","v":0},{"$f":"Composite!L462","v":0},{"$f":"Composite!G462","v":0}]
[332,{"$f":"Composite!B463","v":0},{"$f":"Composite!F463","v":0},{"$f":"Composite!L463","v":0},{"$f":"Composite!G463","v":0}]
[333,{"$f":"Composite!B464","v":0},{"$f":"Composite!F464","v":0},{"$f":"Composite!L464","v":0},{"$f":"Composite!G464","v":0}]
[334,{"$f":"Composite!B465","v":0},{"$f":"Composite!F465","v":0},{"$f":"Composite!L465","v":0},{"$f":"Composite!G465","v":0}]
[335,{"$f":"Composite!B466","v":0},{"$f":"Composite!F466","v":0},{"$f":"Composite!L466","v":0},{"$f":"Composite!G466","v":0}]
[336,{"$f":"Composite!B467","v":0},{"$f":"Composite!F467","v":0},{"$f":"Composite!L467","v":0},{"$f":"Composite!G467","v":0}]
[337,{"$f":"Composite!B468","v":0},{"$f":"Composite!F468","v":0},{"$f":"Composite!L468","v":0},{"$f":"Composite!G468","v":0}]
[338,{"$f":"Composite!B469","v":0},{"$f":"Composite!F469","v":0},{"$f":"Composite!L469","v":0},{"$f":"Composite!G469","v":0}]
[339,{"$f":"Composite!B470","v":0},{"$f":"Composite!F470","v":0},{"$f":"Composite!L470","v":0},{"$f":"Composite!G470","v":0}]
[340,{"$f":"Composite!B471","v":0},{"$f":"Composite!F471","v":0},{"$f":"Composite!L471","v":0},{"$f":"Composite!G471","v":0}]
[341,{"$f":"Composite!B472","v":0},{"$f":"Composite!F472","v":0},{"$f":"Composite!L472","v":0},{"$f":"Composite!G472","v":0}]
[342,{"$f":"Composite!B473","v":0},{"$f":"Composite!F473","v":0},{"$f":"Composite!L473","v":0},{"$f":"Composite!G473","v":0}]
[343,{"$f":"Composite!B474","v":0},{"$f":"Composite!F474","v":0},{"$f":"Composite!L474","v":0},{"$f":"Composite!G474","v":0}]
[344,{"$f":"Composite!B475","v":0},{"$f":"Composite!F475","v":0},{"$f":"Composite!L475","v":0},{"$f":"Composite!G475","v":0}]
[345,{"$f":"Composite!B476","v":0},{"$f":"Composite!F476","v":0},{"$f":"Composite!L476","v":0},{"$f":"Composite!G476","v":0}]
[346,{"$f":"Composite!B477","v":0},{"$f":"Composite!F477","v":0},{"$f":"Composite!L477","v":0},{"$f":"Composite!G477","v":0}]
[347,{"$f":"Composite!B478","v":0},{"$f":"Composite!F478","v":0},{"$f":"Composite!L478","v":0},{"$f":"Composite!G478","v":0}]
[348,{"$f":"Composite!B479","v":0},{"$f":"Composite!F479","v":0},{"$f":"Composite!L479","v":0},{"$f":"Composite!G479","v":0}]
[349,{"$f":"Composite!B480","v":0},{"$f":"Composite!F480","v":0},{"$f":"Composite!L480","v":0},{"$f":"Composite!G480","v":0}]
[350,{"$f":"Composite!B481","v":0},{"$f":"Composite!F481","v":0},{"$f":"Composite!L481","v":0},{"$f":"Composite!G481","v":0}]
[351,{"$f":"Composite!B482","v":0},{"$f":"Composite!F482","v":0},{"$f":"Composite!L482","v":0},{"$f":"Composite!G482","v":0}]
[352,{"$f":"Composite!B483","v":0},{"$f":"Composite!F483","v":0},{"$f":"Composite!L483","v":0},{"$f":"Composite!G483","v":0}]
[353,{"$f":"Composite!B484","v":0},{"$f":"Composite!F484","v":0},{"$f":"Composite!L484","v":0},{"$f":"Composite!G484","v":0}]
[354,{"$f":"Composite!B485","v":0},{"$f":"Composite!F485","v":0},{"$f":"Composite!L485","v":0},{"$f":"Composite!G485","v":0}]
[355,{"$f":"Composite!B486","v":0},{"$f":"Composite!F486","v":0},{"$f":"Composite!L486","v":0},{"$f":"Composite!G486","v":0}]
[356,{"$f":"Composite!B487","v":0},{"$f":"Composite!F487","v":0},{"$f":"Composite!L487","v":0},{"$f":"Composite!G487","v":0}]
[357,{"$f":"Composite!B488","v":0},{"$f":"Composite!F488","v":0},{"$f":"Composite!L488","v":0},{"$f":"Composite!G488","v":0}]
[358,{"$f":"Composite!B489","v":0},{"$f":"Composite!F489","v":0},{"$f":"Composite!L489","v":0},{"$f":"Composite!G489","v":0}]
[359,{"$f":"Composite!B490","v":0},{"$f":"Composite!F490","v":0},{"$f":"Composite!L490","v":0},{"$f":"Composite!G490","v":0}]
[360,{"$f":"Composite!B491","v":0},{"$f":"Composite!F491","v":0},{"$f":"Composite!L491","v":0},{"$f":"Composite!G491","v":0}]
[361,{"$f":"Composite!B492","v":0},{"$f":"Composite!F492","v":0},{"$f":"Composite!L492","v":0},{"$f":"Composite!G492","v":0}]
[362,{"$f":"Composite!B493","v":0},{"$f":"Composite!F493","v":0},{"$f":"Composite!L493","v":0},{"$f":"Composite!G493","v":0}]
[363,{"$f":"Composite!B494","v":0},{"$f":"Composite!F494","v":0},{"$f":"Composite!L494","v":0},{"$f":"Composite!G494","v":0}]
[364,{"$f":"Composite!B495","v":0},{"$f":"Composite!F495","v":0},{"$f":"Composite!L495","v":0},{"$f":"Composite!G495","v":0}]
[365,{"$f":"Composite!B496","v":0},{"$f":"Composite!F496","v":0},{"$f":"Composite!L496","v":0},{"$f":"Composite!G496","v":0}]
[366,{"$f":"Composite!B497","v":0},{"$f":"Composite!F497","v":0},{"$f":"Composite!L497","v":0},{"$f":"Composite!G497","v":0}]
[367,{"$f":"Composite!B498","v":0},{"$f":"Composite!F498","v":0},{"$f":"Composite!L498","v":0},{"$f":"Composite!G498","v":0}]
[368,{"$f":"Composite!B499","v":0},{"$f":"Composite!F499","v":0},{"$f":"Composite!L499","v":0},{"$f":"Composite!G499","v":0}]
[369,{"$f":"Composite!B500","v":0},{"$f":"Composite!F500","v":0},{"$f":"Composite!L500","v":0},{"$f":"Composite!G500","v":0}]
[370,{"$f":"Composite!B501","v":0},{"$f":"Composite!F501","v":0},{"$f":"Composite!L501","v":0},{"$f":"Composite!G501","v":0}]
[371,{"$f":"Composite!B502","v":0},{"$f":"Composite!F502","v":0},{"$f":"Composite!L502","v":0},{"$f":"Composite!G502","v":0}]
[372,{"$f":"Composite!B503","v":0},{"$f":"Composite!F503","v":0},{"$f":"Composite!L503","v":0},{"$f":"Composite!G503","v":0}]
[373,{"$f":"Composite!B504","v":0},{"$f":"Composite!F504","v":0},{"$f":"Composite!L504","v":0},{"$f":"Composite!G504","v":0}]
[374,{"$f":"Composite!B505","v":0},{"$f":"Composite!F505","v":0},{"$f":"Composite!L505","v":0},{"$f":"Composite!G505","v":0}]
[375,{"$f":"Composite!B506","v":0},{"$f":"Composite!F506","v":0},{"$f":"Composite!L506","v":0},{"$f":"Composite!G506","v":0}]
[376,{"$f":"Composite!B507","v":0},{"$f":"Composite!F507","v":0},{"$f":"Composite!L507","v":0},{"$f":"Composite!G507","v":0}]
[377,{"$f":"Composite!B508","v":0},{"$f":"Composite!F508","v":0},{"$f":"Composite!L508","v":0},{"$f":"Composite!G508","v":0}]
[378,{"$f":"Composite!B509","v":0},{"$f":"Composite!F509","v":0},{"$f":"Composite!L509","v":0},{"$f":"Composite!G509","v":0}]
[379,{"$f":"Composite!B510","v":0},{"$f":"Composite!F510","v":0},{"$f":"Composite!L510","v":0},{"$f":"Composite!G510","v":0}]
[380,{"$f":"Composite!B511","v":0},{"$f":"Composite!F511","v":0},{"$f":"Composite!L511","v":0},{"$f":"Composite!G511","v":0}]
[381,{"$f":"Composite!B512","v":0},{"$f":"Composite!F512","v":0},{"$f":"Composite!L512","v":0},{"$f":"Composite!G512","v":0}]
[382,{"$f":"Composite!B513","v":0},{"$f":"Composite!F513","v":0},{"$f":"Composite!L513","v":0},{"$f":"Composite!G513","v":0}]
[383,{"$f":"Composite!B514","v":0},{"$f":"Composite!F514","v":0},{"$f":"Composite!L514","v":0},{"$f":"Composite!G514","v":0}]
[384,{"$f":"Composite!B515","v":0},{"$f":"Composite!F515","v":0},{"$f":"Composite!L515","v":0},{"$f":"Composite!G515","v":0}]
[385,{"$f":"Composite!B516","v":0},{"$f":"Composite!F516","v":0},{"$f":"Composite!L516","v":0},{"$f":"Composite!G516","v":0}]
[386,{"$f":"Composite!B517","v":0},{"$f":"Composite!F517","v":0},{"$f":"Composite!L517","v":0},{"$f":"Composite!G517","v":0}]
[387,{"$f":"Composite!B518","v":0},{"$f":"Composite!F518","v":0},{"$f":"Composite!L518","v":0},{"$f":"Composite!G518","v":0}]
[388,{"$f":"Composite!B519","v":0},{"$f":"Composite!F519","v":0},{"$f":"Composite!L519","v":0},{"$f":"Composite!G519","v":0}]
[389,{"$f":"Composite!B520","v":0},{"$f":"Composite!F520","v":0},{"$f":"Composite!L520","v":0},{"$f":"Composite!G520","v":0}]
[390,{"$f":"Composite!B521","v":0},{"$f":"Composite!F521","v":0},{"$f":"Composite!L521","v":0},{"$f":"Composite!G521","v":0}]
[391,{"$f":"Composite!B522","v":0},{"$f":"Composite!F522","v":0},{"$f":"Composite!L522","v":0},{"$f":"Composite!G522","v":0}]
[392,{"$f":"Composite!B523","v":0},{"$f":"Composite!F523","v":0},{"$f":"Composite!L523","v":0},{"$f":"Composite!G523","v":0}]
[393,{"$f":"Composite!B524","v":0},{"$f":"Composite!F524","v":0},{"$f":"Composite!L524","v":0},{"$f":"Composite!G524","v":0}]
[394,{"$f":"Composite!B525","v":0},{"$f":"Composite!F525","v":0},{"$f":"Composite!L525","v":0},{"$f":"Composite!G525","v":0}]
[395,{"$f":"Composite!B526","v":0},{"$f":"Composite!F526","v":0},{"$f":"Composite!L526","v":0},{"$f":"Composite!G526","v":0}]
[396,{"$f":"Composite!B527","v":0},{"$f":"Composite!F527","v":0},{"$f":"Composite!L527","v":0},{"$f":"Composite!G527","v":0}]
[397,{"$f":"Composite!B528","v":0},{"$f":"Composite!F528","v":0},{"$f":"Composite!L528","v":0},{"$f":"Composite!G528","v":0}]
[398,{"$f":"Composite!B529","v":0},{"$f":"Composite!F529","v":0},{"$f":"Composite!L529","v":0},{"$f":"Composite!G529","v":0}]
[399,{"$f":"Composite!B530","v":0},{"$f":"Composite!F530","v":0},{"$f":"Composite!L530","v":0},{"$f":"Composite!G530","v":0}]
[400,{"$f":"Composite!B531","v":0},{"$f":"Composite!F531","v":0},{"$f":"Composite!L531","v":0},{"$f":"Composite!G531","v":0}]
[401,{"$f":"Composite!B532","v":0},{"$f":"Composite!F532","v":0},{"$f":"Composite!L532","v":0},{"$f":"Composite!G532","v":0}]
[402,{"$f":"Composite!B533","v":0},{"$f":"Composite!F533","v":0},{"$f":"Composite!L533","v":0},{"$f":"Composite!G533","v":0}]
[403,{"$f":"Composite!B534","v":0},{"$f":"Composite!F534","v":0},{"$f":"Composite!L534","v":0},{"$f":"Composite!G534","v":0}]
[404,{"$f":"Composite!B535","v":0},{"$f":"Composite!F535","v":0},{"$f":"Composite!L535","v":0},{"$f":"Composite!G535","v":0}]
[405,{"$f":"Composite!B536","v":0},{"$f":"Composite!F536","v":0},{"$f":"Composite!L536","v":0},{"$f":"Composite!G536","v":0}]
[406,{"$f":"Composite!B537","v":0},{"$f":"Composite!F537","v":0},{"$f":"Composite!L537","v":0},{"$f":"Composite!G537","v":0}]
[407,{"$f":"Composite!B243","v":"MARK2"},{"$f":"Composite!F243","v":"MARK2"},{"$f":"Composite!L243","v":-9.5714715453709687E-3},{"$f":"Composite!G243","v":"CAMK"}]
[408,{"$f":"Composite!B119","v":"DYRK2"},{"$f":"Composite!F119","v":"DYRK2"},{"$f":"Composite!L119","v":-0.17131762287280594},{"$f":"Composite!G119","v":"CMGC"}]
[409,{"$f":"Composite!B59","v":"CDK1 (CDC2)/CycE1 "},{"$f":"Composite!F59","v":"CDK1/E1"},{"$f":"Composite!L59","v":-0.30268828237224454},{"$f":"Composite!G59","v":"CMGC"}]
[410,{"$f":"Composite!B236","v":"MAPK7 (BMK, ERK5)"},{"$f":"Composite!F236","v":"ERK5"},{"$f":"Composite!L236","v":-0.37585673225733274},{"$f":"Composite!G236","v":"CMGC"}]
[411,{"$f":"Composite!B395","v":"TAOK3 (TAO3)"},{"$f":"Composite!F395","v":"TAOK3"},{"$f":"Composite!L395","v":-0.37983045249364977},{"$f":"Composite!G395","v":"STE"}]
[412,{"$f":"Composite!B65","v":"CDK17 (PCTAIRE2, PCTK2)/p35NCK"},{"$f":"Composite!F65","v":"CDK17/P35"},{"$f":"Composite!L65","v":-0.43305080820707076},{"$f":"Composite!G65","v":"CMGC"}]
[413,{"$f":"Composite!B344","v":"PRKX"},{"$f":"Composite!F344","v":"PRKX"},{"$f":"Composite!L344","v":-0.52254015568463785},{"$f":"Composite!G344","v":"AGC"}]
[414,{"$f":"Composite!B315","v":"PRKAA1-B1-G3 (AMPKα1β1γ3)"},{"$f":"Composite!F315","v":"AMPK113"},{"$f":"Composite!L315","v":-0.78060249319196373},{"$f":"Composite!G315","v":"CAMK"}]
[415,{"$f":"Composite!B373","v":"SRC"},{"$f":"Composite!F373","v":"SRC"},{"$f":"Composite!L373","v":-0.957453034470646},{"$f":"Composite!G373","v":"TK"}]
[416,{"$f":"Composite!B27","v":"AURKA (AURA)"},{"$f":"Composite!F27","v":"AURA"},{"$f":"Composite!L27","v":-1.0589865399841898},{"$f":"Composite!G27","v":"Other"}]
[417,{"$f":"Composite!B204","v":"MAP2K2 (MEK2)"},{"$f":"Composite!F204","v":"MEK2"},{"$f":"Composite!L204","v":-1.1005367910421739},{"$f":"Composite!G204","v":"STE"}]
[418,{"$f":"Composite!B184","v":"JAK1 [JH1]"},{"$f":"Composite!F184","v":"JAK1(JH1)"},{"$f":"Composite!L184","v":-1.1016095501403811},{"$f":"Composite!G184","v":"TK"}]
[419,{"$f":"Composite!B183","v":"ITK"},{"$f":"Composite!F183","v":"ITK"},{"$f":"Composite!L183","v":-1.1069288296765762},{"$f":"Composite!G183","v":"TK"}]
[420,{"$f":"Composite!B367","v":"SGK3"},{"$f":"Composite!F367","v":"SGK3"},{"$f":"Composite!L367","v":-1.177696355080144},{"$f":"Composite!G367","v":"AGC"}]
[421,{"$f":"Composite!B55","v":"CDC7/DBF4 (CDC7)"},{"$f":"Composite!F55","v":"CDC7"},{"$f":"Composite!L55","v":-1.1923185910150806},{"$f":"Composite!G55","v":"Other"}]
[422,{"$f":"Composite!B142","v":"ERN1 (IRE1)"},{"$f":"Composite!F142","v":"ERN1"},{"$f":"Composite!L142","v":-1.2721347186412686},{"$f":"Composite!G142","v":"Other"}]
[423,{"$f":"Composite!B64","v":"CDK17 (PCTAIRE2, PCTK2)/CycY"},{"$f":"Composite!F64","v":"CDK17"},{"$f":"Composite!L64","v":-1.2725528342616741},{"$f":"Composite!G64","v":"CMGC"}]
[424,{"$f":"Composite!B214","v":"MAP3K2 (MEKK2)"},{"$f":"Composite!F214","v":"MAP3K2"},{"$f":"Composite!L214","v":-1.2922800314642018},{"$f":"Composite!G214","v":"STE"}]
[425,{"$f":"Composite!B307","v":"PKN3"},{"$f":"Composite!F307","v":"PKN3"},{"$f":"Composite!L307","v":-1.4097516334305169},{"$f":"Composite!G307","v":"AGC"}]
[426,{"$f":"Composite!B109","v":"DAPK2 (DRP-1)"},{"$f":"Composite!F109","v":"DAPK2"},{"$f":"Composite!L109","v":-1.4740801692723551},{"$f":"Composite!G109","v":"CAMK"}]
[427,{"$f":"Composite!B105","v":"CSNK1G3 (CK1G3, CK1γ3)"},{"$f":"Composite!F105","v":"CK1G3"},{"$f":"Composite!L105","v":-1.4944956077323752},{"$f":"Composite!G105","v":"CK1"}]
[428,{"$f":"Composite!B220","v":"MAP3K8 (COT, Tpl2)"},{"$f":"Composite!F220","v":"MAP3K8"},{"$f":"Composite!L220","v":-1.6036376889567805},{"$f":"Composite!G220","v":"STE"}]
[429,{"$f":"Composite!B53","v":"CDC42BPB (MRCKB)"},{"$f":"Composite!F53","v":"MRCKB"},{"$f":"Composite!L53","v":-1.6119836210024232},{"$f":"Composite!G53","v":"AGC"}]
[430,{"$f":"Composite!B198","v":"LRRK2"},{"$f":"Composite!F198","v":"LRRK2"},{"$f":"Composite!L198","v":-1.647938712922894},{"$f":"Composite!G198","v":"TKL"}]
[431,{"$f":"Composite!B372","v":"SNRK"},{"$f":"Composite!F372","v":"SNRK"},{"$f":"Composite!L372","v":-1.8850524562203645},{"$f":"Composite!G372","v":"CAMK"}]
[432,{"$f":"Composite!B259","v":"MYLK (smMLCK)"},{"$f":"Composite!F259","v":"MLCK"},{"$f":"Composite!L259","v":-1.9986874583709096},{"$f":"Composite!G259","v":"CAMK"}]
[433,{"$f":"Composite!B71","v":"CDK2/CycE2"},{"$f":"Composite!F71","v":"CDK2/E2"},{"$f":"Composite!L71","v":-2.0452235177282176},{"$f":"Composite!G71","v":"CMGC"}]
[434,{"$f":"Composite!B407","v":"TSSK2"},{"$f":"Composite!F407","v":"TSSK2"},{"$f":"Composite!L407","v":-2.0688090165277941},{"$f":"Composite!G407","v":"CAMK"}]
[435,{"$f":"Composite!B116","v":"DSTYK (RIPK5, SGK496)"},{"$f":"Composite!F116","v":"RIPK5"},{"$f":"Composite!L116","v":-2.1411015020482864},{"$f":"Composite!G116","v":"TKL"}]
[436,{"$f":"Composite!B61","v":"CDK13 (CHED)/CycK"},{"$f":"Composite!F61","v":"CDK13/K"},{"$f":"Composite!L61","v":-2.1938913157033682},{"$f":"Composite!G61","v":"CMGC"}]
[437,{"$f":"Composite!B262","v":"MYLK4 (SgK085)"},{"$f":"Composite!F262","v":"MYLK4"},{"$f":"Composite!L262","v":-2.245279401897804},{"$f":"Composite!G262","v":"CAMK"}]
[438,{"$f":"Composite!B23","v":"AKT1 (PKB)"},{"$f":"Composite!F23","v":"AKT1"},{"$f":"Composite!L23","v":-2.3446587906213807},{"$f":"Composite!G23","v":"AGC"}]
[439,{"$f":"Composite!B386","v":"STK26 (MST4)"},{"$f":"Composite!F386","v":"MST4"},{"$f":"Composite!L386","v":-2.3824866384224208},{"$f":"Composite!G386","v":"STE"}]
[440,{"$f":"Composite!B50","v":"CAMKK1"},{"$f":"Composite!F50","v":"CAMKK1"},{"$f":"Composite!L50","v":-2.573453763684995},{"$f":"Composite!G50","v":"Other"}]
[441,{"$f":"Composite!B218","v":"MAP3K6 (ASK2)"},{"$f":"Composite!F218","v":"MAP3K6"},{"$f":"Composite!L218","v":-2.6531452307001331},{"$f":"Composite!G218","v":"STE"}]
[442,{"$f":"Composite!B51","v":"CAMKK2"},{"$f":"Composite!F51","v":"CAMKK2"},{"$f":"Composite!L51","v":-3.0775111082798361},{"$f":"Composite!G51","v":"Other"}]
[443,{"$f":"Composite!B340","v":"PRKD3 (PKD3)"},{"$f":"Composite!F340","v":"PKD3"},{"$f":"Composite!L340","v":-3.0883084806369823},{"$f":"Composite!G340","v":"CAMK"}]
[444,{"$f":"Composite!B384","v":"STK24 (MST3)"},{"$f":"Composite!F384","v":"MST3"},{"$f":"Composite!L384","v":-3.1504134490534881},{"$f":"Composite!G384","v":"STE"}]
[445,{"$f":"Composite!B29","v":"AURKC (AURC)"},{"$f":"Composite!F29","v":"AURC"},{"$f":"Composite!L29","v":-3.2182903042939301},{"$f":"Composite!G29","v":"Other"}]
[446,{"$f":"Composite!B324","v":"PRKAA2-B2-G3 (AMPKα2β2γ3)"},{"$f":"Composite!F324","v":"AMPK223"},{"$f":"Composite!L324","v":-3.219927620725656},{"$f":"Composite!G324","v":"CAMK"}]
[447,{"$f":"Composite!B306","v":"PKN2"},{"$f":"Composite!F306","v":"PKN2"},{"$f":"Composite!L306","v":-3.2258854171766416},{"$f":"Composite!G306","v":"AGC"}]
[448,{"$f":"Composite!B397","v":"TEC"},{"$f":"Composite!F397","v":"TEC"},{"$f":"Composite!L397","v":-3.2692748057987302},{"$f":"Composite!G397","v":"TK"}]
[449,{"$f":"Composite!B401","v":"TLK2"},{"$f":"Composite!F401","v":"TLK2"},{"$f":"Composite!L401","v":-3.4131715650385104},{"$f":"Composite!G401","v":"Other"}]
[450,{"$f":"Composite!B298","v":"PHKG1"},{"$f":"Composite!F298","v":"PHKG1"},{"$f":"Composite!L298","v":-3.4751457575420659},{"$f":"Composite!G298","v":"CAMK"}]
[451,{"$f":"Composite!B28","v":"AURKB (AURB)"},{"$f":"Composite!F28","v":"AURB"},{"$f":"Composite!L28","v":-3.6268596702854836},{"$f":"Composite!G28","v":"Other"}]
[452,{"$f":"Composite!B213","v":"MAP3K19 (YSK4)"},{"$f":"Composite!F213","v":"YSK4"},{"$f":"Composite!L213","v":-3.6388954033770915},{"$f":"Composite!G213","v":"STE"}]
[453,{"$f":"Composite!B260","v":"MYLK2 (skMLCK)"},{"$f":"Composite!F260","v":"MYLK2"},{"$f":"Composite!L260","v":-3.6500348570859558},{"$f":"Composite!G260","v":"CAMK"}]
[454,{"$f":"Composite!B377","v":"SRPK2"},{"$f":"Composite!F377","v":"SRPK2"},{"$f":"Composite!L377","v":-3.699187737215567},{"$f":"Composite!G377","v":"CMGC"}]
[455,{"$f":"Composite!B89","v":"CHEK1 (CHK1)"},{"$f":"Composite!F89","v":"CHK1"},{"$f":"Composite!L89","v":-3.8033750373283937},{"$f":"Composite!G89","v":"CAMK"}]
[456,{"$f":"Composite!B416","v":"TYRO3"},{"$f":"Composite!F416","v":"TYRO3"},{"$f":"Composite!L416","v":-3.9530831333952392},{"$f":"Composite!G416","v":"TK"}]
[457,{"$f":"Composite!B331","v":"PRKCD (PKCδ [delta])"},{"$f":"Composite!F331","v":"PKCD"},{"$f":"Composite!L331","v":-3.9607038899179798},{"$f":"Composite!G331","v":"AGC"}]
[458,{"$f":"Composite!B328","v":"PRKCA (PKCα [alpha])"},{"$f":"Composite!F328","v":"PKCA"},{"$f":"Composite!L328","v":-4.0043490078825954},{"$f":"Composite!G328","v":"AGC"}]
[459,{"$f":"Composite!B43","v":"CAMK1D (CAMK1δ)"},{"$f":"Composite!F43","v":"CAMK1D"},{"$f":"Composite!L43","v":-4.1856583424279563},{"$f":"Composite!G43","v":"CAMK"}]
[460,{"$f":"Composite!B240","v":"MAPKAPK3 (MK3)"},{"$f":"Composite!F240","v":"MK3"},{"$f":"Composite!L240","v":-4.2200749359100911},{"$f":"Composite!G240","v":"CAMK"}]
[461,{"$f":"Composite!B366","v":"SGK2"},{"$f":"Composite!F366","v":"SGK2"},{"$f":"Composite!L366","v":-4.2478716600476929},{"$f":"Composite!G366","v":"AGC"}]
[462,{"$f":"Composite!B93","v":"CLK1"},{"$f":"Composite!F93","v":"CLK1"},{"$f":"Composite!L93","v":-4.3776941968502712},{"$f":"Composite!G93","v":"CMGC"}]
[463,{"$f":"Composite!B393","v":"TAOK1 (TAO1)"},{"$f":"Composite!F393","v":"TAOK1"},{"$f":"Composite!L393","v":-4.3856481909096203},{"$f":"Composite!G393","v":"STE"}]
[464,{"$f":"Composite!B111","v":"DCLK1 (DCAMKL1)"},{"$f":"Composite!F111","v":"DCAML1"},{"$f":"Composite!L111","v":-4.4289404885293067},{"$f":"Composite!G111","v":"CAMK"}]
[465,{"$f":"Composite!B255","v":"MNK2"},{"$f":"Composite!F255","v":"MNK2"},{"$f":"Composite!L255","v":-4.6852506216463752},{"$f":"Composite!G255","v":"CAMK"}]
[466,{"$f":"Composite!B305","v":"PKN1"},{"$f":"Composite!F305","v":"PKN1"},{"$f":"Composite!L305","v":-4.7725399857661728},{"$f":"Composite!G305","v":"AGC"}]
[467,{"$f":"Composite!B280","v":"NTRK3 (TRKC)"},{"$f":"Composite!F280","v":"NTRK3"},{"$f":"Composite!L280","v":-4.8467607382371796},{"$f":"Composite!G280","v":"TK"}]
[468,{"$f":"Composite!B356","v":"RPS6KA1 (RSK1)"},{"$f":"Composite!F356","v":"RSK1"},{"$f":"Composite!L356","v":-4.8691772074921005},{"$f":"Composite!G356","v":"AGC"}]
[469,{"$f":"Composite!B46","v":"CAMK2B (CAMK2β)"},{"$f":"Composite!F46","v":"CAMK2B"},{"$f":"Composite!L46","v":-4.8693996158329469},{"$f":"Composite!G46","v":"CAMK"}]
[470,{"$f":"Composite!B49","v":"CAMK4"},{"$f":"Composite!F49","v":"CAMK4"},{"$f":"Composite!L49","v":-5.1101692751551155},{"$f":"Composite!G49","v":"CAMK"}]
[471,{"$f":"Composite!B56","v":"CDK1 (CDC2)/CycA1 "},{"$f":"Composite!F56","v":"CDK1/A1"},{"$f":"Composite!L56","v":-5.1367610185811969},{"$f":"Composite!G56","v":"CMGC"}]
[472,{"$f":"Composite!B67","v":"CDK2/CycA1"},{"$f":"Composite!F67","v":"CDK2/A1"},{"$f":"Composite!L67","v":-5.1986717050269107},{"$f":"Composite!G67","v":"CMGC"}]
[473,{"$f":"Composite!B247","v":"MASTL"},{"$f":"Composite!F247","v":"MASTL"},{"$f":"Composite!L247","v":-5.2626696045459767},{"$f":"Composite!G247","v":"AGC"}]
[474,{"$f":"Composite!B295","v":"PDK3 (PDHK3)"},{"$f":"Composite!F295","v":"PDHK3"},{"$f":"Composite!L295","v":-5.3841020935857955},{"$f":"Composite!G295","v":"Atypical"}]
[475,{"$f":"Composite!B110","v":"DAPK3 (ZIPK)"},{"$f":"Composite!F110","v":"DAPK3"},{"$f":"Composite!L110","v":-5.6329215835115747},{"$f":"Composite!G110","v":"CAMK"}]
[476,{"$f":"Composite!B210","v":"MAP3K12 (DLK)"},{"$f":"Composite!F210","v":"MAP3K12"},{"$f":"Composite!L210","v":-6.2871132409625972},{"$f":"Composite!G210","v":"TKL"}]
[477,{"$f":"Composite!B35","v":"BMX"},{"$f":"Composite!F35","v":"BMX"},{"$f":"Composite!L35","v":-6.314263116266801},{"$f":"Composite!G35","v":"TK"}]
[478,{"$f":"Composite!B312","v":"PNCK (CAMK1β)"},{"$f":"Composite!F312","v":"CAMK1B"},{"$f":"Composite!L312","v":-6.697467151610482},{"$f":"Composite!G312","v":"CAMK"}]
[479,{"$f":"Composite!B399","v":"TESK2"},{"$f":"Composite!F399","v":"TESK2"},{"$f":"Composite!L399","v":-6.9291145450085736},{"$f":"Composite!G399","v":"TKL"}]
[480,{"$f":"Composite!B318","v":"PRKAA1-B2-G3 (AMPKα1β2γ3)"},{"$f":"Composite!F318","v":"AMPK123"},{"$f":"Composite!L318","v":-7.1352641433088024},{"$f":"Composite!G318","v":"CAMK"}]
[481,{"$f":"Composite!B261","v":"MYLK3 (caMLCK)"},{"$f":"Composite!F261","v":"MYLK3"},{"$f":"Composite!L261","v":-7.1548741819231623},{"$f":"Composite!G261","v":"CAMK"}]
[482,{"$f":"Composite!B108","v":"DAPK1"},{"$f":"Composite!F108","v":"DAPK1"},{"$f":"Composite!L108","v":-7.1549708586534848},{"$f":"Composite!G108","v":"CAMK"}]
[483,{"$f":"Composite!B76","v":"CDK4/CycD1"},{"$f":"Composite!F76","v":"CDK4/D1"},{"$f":"Composite!L76","v":-7.4150026983270436},{"$f":"Composite!G76","v":"CMGC"}]
[484,{"$f":"Composite!B330","v":"PRKCB2 (PKCβ2 [beta2])"},{"$f":"Composite!F330","v":"PKCB2"},{"$f":"Composite!L330","v":-7.6644942415855724},{"$f":"Composite!G330","v":"AGC"}]
[485,{"$f":"Composite!B92","v":"CIT (CRIK)"},{"$f":"Composite!F92","v":"CRIK"},{"$f":"Composite!L92","v":-7.7221496511116641},{"$f":"Composite!G92","v":"AGC"}]
[486,{"$f":"Composite!B25","v":"AKT3 (PKBg)"},{"$f":"Composite!F25","v":"AKT3"},{"$f":"Composite!L25","v":-7.7743866373293713},{"$f":"Composite!G25","v":"AGC"}]
[487,{"$f":"Composite!B85","v":"CDK9 (TAK)/CycK"},{"$f":"Composite!F85","v":"CDK9/K"},{"$f":"Composite!L85","v":-7.793838516571725},{"$f":"Composite!G85","v":"CMGC"}]
[488,{"$f":"Composite!B313","v":"PRKAA1-B1-G1 (AMPKα1β1γ1)"},{"$f":"Composite!F313","v":"AMPK111"},{"$f":"Composite!L313","v":-8.0661797825500514},{"$f":"Composite!G313","v":"CAMK"}]
[489,{"$f":"Composite!B346","v":"PTK2B (PYK2)"},{"$f":"Composite!F346","v":"PTK2B"},{"$f":"Composite!L346","v":-8.0978949034504524},{"$f":"Composite!G346","v":"TK"}]
[490,{"$f":"Composite!B422","v":"ZAP70"},{"$f":"Composite!F422","v":"ZAP70"},{"$f":"Composite!L422","v":-8.1072994794868549},{"$f":"Composite!G422","v":"TK"}]
[491,{"$f":"Composite!B357","v":"RPS6KA2 (RSK3)"},{"$f":"Composite!F357","v":"RSK3"},{"$f":"Composite!L357","v":-8.1714665319336177},{"$f":"Composite!G357","v":"AGC"}]
[492,{"$f":"Composite!B278","v":"NTRK1 (TRKA)"},{"$f":"Composite!F278","v":"NTRK1"},{"$f":"Composite!L278","v":-8.2550690567146319},{"$f":"Composite!G278","v":"TK"}]
[493,{"$f":"Composite!B117","v":"DYRK1A"},{"$f":"Composite!F117","v":"DYRK1A"},{"$f":"Composite!L117","v":-8.5814807826771897},{"$f":"Composite!G117","v":"CMGC"}]
[494,{"$f":"Composite!B411","v":"TTBK2"},{"$f":"Composite!F411","v":"TTBK2"},{"$f":"Composite!L411","v":-9.1337539133551076},{"$f":"Composite!G411","v":"CK1"}]
[495,{"$f":"Composite!B122","v":"EEF2K (eEF2K)"},{"$f":"Composite!F122","v":"EEF2K"},{"$f":"Composite!L122","v":-9.3418535906798752},{"$f":"Composite!G122","v":"Atypical"}]
[496,{"$f":"Composite!B26","v":"ALK"},{"$f":"Composite!F26","v":"ALK"},{"$f":"Composite!L26","v":-9.5240289832808287},{"$f":"Composite!G26","v":"TK"}]
[497,{"$f":"Composite!B241","v":"MAPKAPK5 (MK5)"},{"$f":"Composite!F241","v":"MK5"},{"$f":"Composite!L241","v":-9.5427634698494757},{"$f":"Composite!G241","v":"CAMK"}]
[498,{"$f":"Composite!B180","v":"INSRR (IRR)"},{"$f":"Composite!F180","v":"INSRR"},{"$f":"Composite!L180","v":-10.074301461610915},{"$f":"Composite!G180","v":"TK"}]
[499,{"$f":"Composite!B275","v":"NEK9"},{"$f":"Composite!F275","v":"NEK9"},{"$f":"Composite!L275","v":-10.561807592941292},{"$f":"Composite!G275","v":"Other"}]
[500,{"$f":"Composite!B294","v":"PDK2 (PDHK2)"},{"$f":"Composite!F294","v":"PDHK2"},{"$f":"Composite!L294","v":-10.668001866807586},{"$f":"Composite!G294","v":"Atypical"}]
[501,{"$f":"Composite!B77","v":"CDK4/CycD2"},{"$f":"Composite!F77","v":"CDK4/D2"},{"$f":"Composite!L77","v":-11.154645015105743},{"$f":"Composite!G77","v":"CMGC"}]
[502,{"$f":"Composite!B87","v":"CDK9 (TAK)/CycT2"},{"$f":"Composite!F87","v":"CDK9/T2"},{"$f":"Composite!L87","v":-11.229008875472232},{"$f":"Composite!G87","v":"CMGC"}]
[503,{"$f":"Composite!B337","v":"PRKCZ (PKCζ [zeta])"},{"$f":"Composite!F337","v":"PKCZ"},{"$f":"Composite!L337","v":-11.26454750738236},{"$f":"Composite!G337","v":"AGC"}]
[504,{"$f":"Composite!B332","v":"PRKCE (PKCe [epsilon])"},{"$f":"Composite!F332","v":"PKCE"},{"$f":"Composite!L332","v":-11.680411050349633},{"$f":"Composite!G332","v":"AGC"}]
[505,{"$f":"Composite!B334","v":"PRKCH (PKCη [eta])"},{"$f":"Composite!F334","v":"PKCH"},{"$f":"Composite!L334","v":-11.920838336712663},{"$f":"Composite!G334","v":"AGC"}]
[506,{"$f":"Composite!B320","v":"PRKAA2-B1-G2 (AMPKα2β1γ2)"},{"$f":"Composite!F320","v":"AMPK212"},{"$f":"Composite!L320","v":-13.446899368733753},{"$f":"Composite!G320","v":"CAMK"}]
[507,{"$f":"Composite!B48","v":"CAMK2G (CAMK2γ)"},{"$f":"Composite!F48","v":"CAMK2G"},{"$f":"Composite!L48","v":-13.827613186505204},{"$f":"Composite!G48","v":"CAMK"}]
[508,{"$f":"Composite!B352","v":"RIPK3"},{"$f":"Composite!F352","v":"RIPK3"},{"$f":"Composite!L352","v":-14.521220050699156},{"$f":"Composite!G352","v":"TKL"}]
[509,{"$f":"Composite!B378","v":"SRPK3 (MSSK1)"},{"$f":"Composite!F378","v":"MSSK1"},{"$f":"Composite!L378","v":-14.69323394495413},{"$f":"Composite!G378","v":"CMGC"}]
[510,{"$f":"Composite!B314","v":"PRKAA1-B1-G2 (AMPKα1β1γ2)"},{"$f":"Composite!F314","v":"AMPK112"},{"$f":"Composite!L314","v":-15.031763748206245},{"$f":"Composite!G314","v":"CAMK"}]
[511,{"$f":"Composite!B52","v":"CDC42BPA (MRCKA)"},{"$f":"Composite!F52","v":"MRCKA"},{"$f":"Composite!L52","v":-15.078828066851614},{"$f":"Composite!G52","v":"AGC"}]
[512,{"$f":"Composite!B172","v":"HIPK3"},{"$f":"Composite!F172","v":"HIPK3"},{"$f":"Composite!L172","v":-15.372562377586632},{"$f":"Composite!G172","v":"CMGC"}]
[513,{"$f":"Composite!B249","v":"MELK"},{"$f":"Composite!F249","v":"MELK"},{"$f":"Composite!L249","v":-16.093150472562584},{"$f":"Composite!G249","v":"CAMK"}]
[514,{"$f":"Composite!B96","v":"CLK4"},{"$f":"Composite!F96","v":"CLK4"},{"$f":"Composite!L96","v":-16.823587710604571},{"$f":"Composite!G96","v":"CMGC"}]
[515,{"$f":"Composite!B296","v":"PDK4 (PDHK4)"},{"$f":"Composite!F296","v":"PDHK4"},{"$f":"Composite!L296","v":-17.182067535708057},{"$f":"Composite!G296","v":"Atypical"}]
[516,{"$f":"Composite!B333","v":"PRKCG (PKCγ [gamma])"},{"$f":"Composite!F333","v":"PKCG"},{"$f":"Composite!L333","v":-19.325290136049844},{"$f":"Composite!G333","v":"AGC"}]
[517,{"$f":"Composite!B20","v":"AAK1"},{"$f":"Composite!F20","v":"AAK1"},{"$f":"Composite!L20","v":-20.538405844796955},{"$f":"Composite!G20","v":"Other"}]
[518,{"$f":"Composite!B115","v":"DMPK (DMPK1)"},{"$f":"Composite!F115","v":"DMPK1"},{"$f":"Composite!L115","v":-23.935288958191251},{"$f":"Composite!G115","v":"AGC"}]

{"sheet":"Compound 2 Kinome Tree","index":7,"n_rows":6,"n_cols":27,"rows_kept":6,"cut":false,"hidden":false,"merged":[[1,1,3,20]]}
[]
[null,{"$f":"Summary!AC11","v":"Kinome Hit View for Gefitinib (0.15 µM) with 386 Kinases (Coral Names) at  ATP Km "}]
[null,null,null,null,null,null,null,null,null,null,null,null,null,null,null,null,null,null,null,null,null,null,null,null,null,null,"Kinome Hit View for VVVVVVVVVVVVVVVVVVVVVVVVVVV (VVVVV µM) with VVV Kinases (Coral Names)"]
[null,null,null,null,null,null,null,null,null,null,null,null,null,null,null,null,null,null,null,null,null,null,null,null,null,null,{"$f":"REPLACE(AA3,65,3,Summary!E11)","v":"Kinome Hit View for VVVVVVVVVVVVVVVVVVVVVVVVVVV (VVVVV µM) with 386 Kinases (Coral Names)"}]
[null,null,null,null,null,null,null,null,null,null,null,null,null,null,null,null,null,null,null,null,null,null,null,null,null,null,{"$f":"REPLACE(AA4,50,5,Summary!#REF!)","v":{"$error":"#REF!"}}]
[null,null,null,null,null,null,null,null,null,null,null,null,null,null,null,null,null,null,null,null,null,null,null,null,null,null,{"$f":"REPLACE(AA5,21,27,Summary!#REF!)","v":{"$error":"#REF!"}}]

{"sheet":"Compound 3","index":8,"n_rows":520,"n_cols":28,"rows_kept":520,"cut":false,"hidden":false,"merged":[]}
[]
["Panel #","Kinase Target","Kinase Target",{"$f":"Summary!AB12","v":"0.015 µM Gefitinib, % inhibition at 1 mM"},{"$f":"Composite!G19","v":"Group"}]
[1,{"$f":"Composite!B123","v":"EGFR (ERBB1)"},{"$f":"Composite!F123","v":"EGFR"},{"$f":"Composite!N123","v":36.222625465750895},{"$f":"Composite!G123","v":"TK"},null,null,null,null,null,null,null,null,null,null,null,null,null,null,null,null,null,null,null,null,null,null,"VVVVV μM VVVVVVVVVVVVVVVVVVVVVVVVVVV, % inhibition"]
[2,{"$f":"Composite!B223","v":"MAP4K2 (GCK)"},{"$f":"Composite!F223","v":"GCK"},{"$f":"Composite!N223","v":19.323880439992081},{"$f":"Composite!G223","v":"STE"},null,null,null,null,null,null,null,null,null,null,null,null,null,null,null,null,null,null,null,null,null,null,{"$f":"REPLACE(AB3,10,27,Summary!C11)","v":"VVVVV μM Gefitinib, % inhibition"}]
[3,{"$f":"Composite!B226","v":"MAP4K5 (KHS1)"},{"$f":"Composite!F226","v":"KHS1"},{"$f":"Composite!N226","v":18.399020288967677},{"$f":"Composite!G226","v":"STE"},null,null,null,null,null,null,null,null,null,null,null,null,null,null,null,null,null,null,null,null,null,null,{"$f":"REPLACE(AB4,1,5,Summary!D11)","v":"0.15 μM Gefitinib, % inhibition"}]
[4,{"$f":"Composite!B258","v":"MUSK"},{"$f":"Composite!F258","v":"MUSK"},{"$f":"Composite!N258","v":15.857615971998783},{"$f":"Composite!G258","v":"TK"}]
[5,{"$f":"Composite!B359","v":"RPS6KA4 (MSK2)"},{"$f":"Composite!F359","v":"MSK2"},{"$f":"Composite!N359","v":15.783922158882149},{"$f":"Composite!G359","v":"AGC"}]
[6,{"$f":"Composite!B40","v":"BTK"},{"$f":"Composite!F40","v":"BTK"},{"$f":"Composite!N40","v":15.624149505579226},{"$f":"Composite!G40","v":"TK"}]
[7,{"$f":"Composite!B392","v":"SYK"},{"$f":"Composite!F392","v":"SYK"},{"$f":"Composite!N392","v":15.579599748465171},{"$f":"Composite!G392","v":"TK"}]
[8,{"$f":"Composite!B75","v":"CDK4 /CycD3"},{"$f":"Composite!F75","v":"CDK4/D3"},{"$f":"Composite!N75","v":15.452192419933453},{"$f":"Composite!G75","v":"CMGC"}]
[9,{"$f":"Composite!B259","v":"MYLK (smMLCK)"},{"$f":"Composite!F259","v":"MLCK"},{"$f":"Composite!N259","v":14.526849746370473},{"$f":"Composite!G259","v":"CAMK"}]
[10,{"$f":"Composite!B103","v":"CSNK1G1 (CK1G1, CK1γ1)"},{"$f":"Composite!F103","v":"CK1G1"},{"$f":"Composite!N103","v":14.02597755680469},{"$f":"Composite!G103","v":"CK1"}]
[11,{"$f":"Composite!B197","v":"LIMK2"},{"$f":"Composite!F197","v":"LIMK2"},{"$f":"Composite!N197","v":13.601009895345527},{"$f":"Composite!G197","v":"TKL"}]
[12,{"$f":"Composite!B206","v":"MAP2K4 (MEK4)"},{"$f":"Composite!F206","v":"MEK4(HIS)"},{"$f":"Composite!N206","v":13.512632436837933},{"$f":"Composite!G206","v":"STE"}]
[13,{"$f":"Composite!B91","v":"CHUK (IKKA, IKKa)"},{"$f":"Composite!F91","v":"IKKA"},{"$f":"Composite!N91","v":13.505816771691698},{"$f":"Composite!G91","v":"Other"}]
[14,{"$f":"Composite!B81","v":"CDK6/CycD2"},{"$f":"Composite!F81","v":"CDK6/D2"},{"$f":"Composite!N81","v":12.476835118617331},{"$f":"Composite!G81","v":"CMGC"}]
[15,{"$f":"Composite!B225","v":"MAP4K4 (HGK, ZC1)"},{"$f":"Composite!F225","v":"HGK"},{"$f":"Composite!N225","v":12.410380807181994},{"$f":"Composite!G225","v":"STE"}]
[16,{"$f":"Composite!B253","v":"MLK4 (MAP3K21)"},{"$f":"Composite!F253","v":"MLK4"},{"$f":"Composite!N253","v":12.353287451216943},{"$f":"Composite!G253","v":"STE"}]
[17,{"$f":"Composite!B215","v":"MAP3K20 (MLK7, ZAK)"},{"$f":"Composite!F215","v":"ZAK"},{"$f":"Composite!N215","v":12.202114001301453},{"$f":"Composite!G215","v":"TKL"}]
[18,{"$f":"Composite!B271","v":"NEK5"},{"$f":"Composite!F271","v":"NEK5"},{"$f":"Composite!N271","v":12.007576563730382},{"$f":"Composite!G271","v":"Other"}]
[19,{"$f":"Composite!B67","v":"CDK2/CycA1"},{"$f":"Composite!F67","v":"CDK2/A1"},{"$f":"Composite!N67","v":11.933326255441116},{"$f":"Composite!G67","v":"CMGC"}]
[20,{"$f":"Composite!B402","v":"TNIK (ZC2)"},{"$f":"Composite!F402","v":"TNIK"},{"$f":"Composite!N402","v":11.845393536068286},{"$f":"Composite!G402","v":"STE"}]
[21,{"$f":"Composite!B76","v":"CDK4/CycD1"},{"$f":"Composite!F76","v":"CDK4/D1"},{"$f":"Composite!N76","v":11.811818124487601},{"$f":"Composite!G76","v":"CMGC"}]
[22,{"$f":"Composite!B384","v":"STK24 (MST3)"},{"$f":"Composite!F384","v":"MST3"},{"$f":"Composite!N384","v":11.766859653538987},{"$f":"Composite!G384","v":"STE"}]
[23,{"$f":"Composite!B360","v":"RPS6KA5 (MSK1)"},{"$f":"Composite!F360","v":"MSK1"},{"$f":"Composite!N360","v":11.540452909621763},{"$f":"Composite!G360","v":"AGC"}]
[24,{"$f":"Composite!B46","v":"CAMK2B (CAMK2β)"},{"$f":"Composite!F46","v":"CAMK2B"},{"$f":"Composite!N46","v":11.335755773942253},{"$f":"Composite!G46","v":"CAMK"}]
[25,{"$f":"Composite!B68","v":"CDK2/CycA2"},{"$f":"Composite!F68","v":"CDK2/A2"},{"$f":"Composite!N68","v":11.222604962308424},{"$f":"Composite!G68","v":"CMGC"}]
[26,{"$f":"Composite!B56","v":"CDK1 (CDC2)/CycA1 "},{"$f":"Composite!F56","v":"CDK1/A1"},{"$f":"Composite!N56","v":11.089592843639053},{"$f":"Composite!G56","v":"CMGC"}]
[27,{"$f":"Composite!B293","v":"PDK1 (PDHK1)"},{"$f":"Composite!F293","v":"PDHK1"},{"$f":"Composite!N293","v":11.047517712788746},{"$f":"Composite!G293","v":"Atypical"}]
[28,{"$f":"Composite!B171","v":"HIPK2"},{"$f":"Composite!F171","v":"HIPK2"},{"$f":"Composite!N171","v":10.815377176552971},{"$f":"Composite!G171","v":"CMGC"}]
[29,{"$f":"Composite!B320","v":"PRKAA2-B1-G2 (AMPKα2β1γ2)"},{"$f":"Composite!F320","v":"AMPK212"},{"$f":"Composite!N320","v":10.584455079960946},{"$f":"Composite!G320","v":"CAMK"}]
[30,{"$f":"Composite!B350","v":"RIPK1"},{"$f":"Composite!F350","v":"RIPK1"},{"$f":"Composite!N350","v":10.551339090988392},{"$f":"Composite!G350","v":"TKL"}]
[31,{"$f":"Composite!B78","v":"CDK5/p25"},{"$f":"Composite!F78","v":"CDK5/P25"},{"$f":"Composite!N78","v":10.52241143673163},{"$f":"Composite!G78","v":"CMGC"}]
[32,{"$f":"Composite!B74","v":"CDK3/CycE2"},{"$f":"Composite!F74","v":"CDK3/E2"},{"$f":"Composite!N74","v":10.50669915985317},{"$f":"Composite!G74","v":"CMGC"}]
[33,{"$f":"Composite!B162","v":"GRK4 (GPRK4)"},{"$f":"Composite!F162","v":"GRK4"},{"$f":"Composite!N162","v":10.490974729241856},{"$f":"Composite!G162","v":"AGC"}]
[34,{"$f":"Composite!B164","v":"GRK6 (GPRK6)"},{"$f":"Composite!F164","v":"GRK6"},{"$f":"Composite!N164","v":10.399510949692541},{"$f":"Composite!G164","v":"AGC"}]
[35,{"$f":"Composite!B57","v":"CDK1 (CDC2)/CycA2 "},{"$f":"Composite!F57","v":"CDK1/A2"},{"$f":"Composite!N57","v":10.224640994472267},{"$f":"Composite!G57","v":"CMGC"}]
[36,{"$f":"Composite!B228","v":"MAPK10 (JNK3)"},{"$f":"Composite!F228","v":"JNK3"},{"$f":"Composite!N228","v":10.150509697491216},{"$f":"Composite!G228","v":"CMGC"}]
[37,{"$f":"Composite!B35","v":"BMX"},{"$f":"Composite!F35","v":"BMX"},{"$f":"Composite!N35","v":9.9236527169771733},{"$f":"Composite!G35","v":"TK"}]
[38,{"$f":"Composite!B77","v":"CDK4/CycD2"},{"$f":"Composite!F77","v":"CDK4/D2"},{"$f":"Composite!N77","v":9.7380418591354356},{"$f":"Composite!G77","v":"CMGC"}]
[39,{"$f":"Composite!B88","v":"CDKL5"},{"$f":"Composite!F88","v":"CDKL5"},{"$f":"Composite!N88","v":9.7203471552555385},{"$f":"Composite!G88","v":"CMGC"}]
[40,{"$f":"Composite!B283","v":"PAK1"},{"$f":"Composite!F283","v":"PAK1"},{"$f":"Composite!N283","v":9.7069815953586271},{"$f":"Composite!G283","v":"STE"}]
[41,{"$f":"Composite!B70","v":"CDK2/CycE1"},{"$f":"Composite!F70","v":"CDK2/E1"},{"$f":"Composite!N70","v":9.2451416736438858},{"$f":"Composite!G70","v":"CMGC"}]
[42,{"$f":"Composite!B199","v":"LTK"},{"$f":"Composite!F199","v":"LTK"},{"$f":"Composite!N199","v":9.071488456081525},{"$f":"Composite!G199","v":"TK"}]
[43,{"$f":"Composite!B382","v":"STK17A (DRAK1)"},{"$f":"Composite!F382","v":"DRAK1"},{"$f":"Composite!N382","v":8.9766447628849591},{"$f":"Composite!G382","v":"CAMK"}]
[44,{"$f":"Composite!B163","v":"GRK5 (GPRK5)"},{"$f":"Composite!F163","v":"GRK5"},{"$f":"Composite!N163","v":8.8778160490159621},{"$f":"Composite!G163","v":"AGC"}]
[45,{"$f":"Composite!B113","v":"DDR1 [SRC treated]"},{"$f":"Composite!F113","v":"DDR1"},{"$f":"Composite!N113","v":8.4992443655956151},{"$f":"Composite!G113","v":"TK"}]
[46,{"$f":"Composite!B250","v":"MERTK (MER)"},{"$f":"Composite!F250","v":"MERTK"},{"$f":"Composite!N250","v":8.4977136489813176},{"$f":"Composite!G250","v":"TK"}]
[47,{"$f":"Composite!B112","v":"DCLK2 (DCAMKL2)"},{"$f":"Composite!F112","v":"DCAML2"},{"$f":"Composite!N112","v":8.3915287687869977},{"$f":"Composite!G112","v":"CAMK"}]
[48,{"$f":"Composite!B150","v":"FGFR4"},{"$f":"Composite!F150","v":"FGFR4"},{"$f":"Composite!N150","v":8.2935548422061913},{"$f":"Composite!G150","v":"TK"}]
[49,{"$f":"Composite!B281","v":"NUAK1 (ARK5)"},{"$f":"Composite!F281","v":"NUAK1"},{"$f":"Composite!N281","v":8.1172049090364737},{"$f":"Composite!G281","v":"CAMK"}]
[50,{"$f":"Composite!B194","v":"LATS2"},{"$f":"Composite!F194","v":"LATS2"},{"$f":"Composite!N194","v":8.0271732069717672},{"$f":"Composite!G194","v":"AGC"}]
[51,{"$f":"Composite!B222","v":"MAP4K1 (HPK1)"},{"$f":"Composite!F222","v":"HPK1"},{"$f":"Composite!N222","v":8.0248550480545191},{"$f":"Composite!G222","v":"STE"}]
[52,{"$f":"Composite!B80","v":"CDK6/CycD1"},{"$f":"Composite!F80","v":"CDK6/D1"},{"$f":"Composite!N80","v":7.9623617863758938},{"$f":"Composite!G80","v":"CMGC"}]
[53,{"$f":"Composite!B144","v":"FAM20C"},{"$f":"Composite!F144","v":"FAM20C"},{"$f":"Composite!N144","v":7.9360943499725778},{"$f":"Composite!G144","v":"Other"}]
[54,{"$f":"Composite!B398","v":"TEK (TIE2)"},{"$f":"Composite!F398","v":"TEK"},{"$f":"Composite!N398","v":7.8298495165931428},{"$f":"Composite!G398","v":"TK"}]
[55,{"$f":"Composite!B161","v":"GRK3 (ADRBK2, BARK2)"},{"$f":"Composite!F161","v":"GRK3"},{"$f":"Composite!N161","v":7.7487956211220705},{"$f":"Composite!G161","v":"AGC"}]
[56,{"$f":"Composite!B58","v":"CDK1 (CDC2)/CycB1 "},{"$f":"Composite!F58","v":"CDK1/B1"},{"$f":"Composite!N58","v":7.7395752122885},{"$f":"Composite!G58","v":"CMGC"}]
[57,{"$f":"Composite!B184","v":"JAK1 [JH1]"},{"$f":"Composite!F184","v":"JAK1(JH1)"},{"$f":"Composite!N184","v":7.6214289117541512},{"$f":"Composite!G184","v":"TK"}]
[58,{"$f":"Composite!B282","v":"NUAK2 (SNARK)"},{"$f":"Composite!F282","v":"NUAK2"},{"$f":"Composite!N282","v":7.1972734562951359},{"$f":"Composite!G282","v":"CAMK"}]
[59,{"$f":"Composite!B71","v":"CDK2/CycE2"},{"$f":"Composite!F71","v":"CDK2/E2"},{"$f":"Composite!N71","v":7.1552555448408839},{"$f":"Composite!G71","v":"CMGC"}]
[60,{"$f":"Composite!B216","v":"MAP3K3 (MEKK3)"},{"$f":"Composite!F216","v":"MAP3K3"},{"$f":"Composite!N216","v":7.1481154299175529},{"$f":"Composite!G216","v":"STE"}]
[61,{"$f":"Composite!B418","v":"ULK2"},{"$f":"Composite!F418","v":"ULK2"},{"$f":"Composite!N418","v":7.1197342530097814},{"$f":"Composite!G418","v":"Other"}]
[62,{"$f":"Composite!B97","v":"CSF1R (FMS)"},{"$f":"Composite!F97","v":"FMS/CSF1R"},{"$f":"Composite!N97","v":7.1137484807320988},{"$f":"Composite!G97","v":"TK"}]
[63,{"$f":"Composite!B65","v":"CDK17 (PCTAIRE2, PCTK2)/p35NCK"},{"$f":"Composite!F65","v":"CDK17/P35"},{"$f":"Composite!N65","v":6.9165300039502569},{"$f":"Composite!G65","v":"CMGC"}]
[64,{"$f":"Composite!B140","v":"ERBB2 (HER2)"},{"$f":"Composite!F140","v":"HER2"},{"$f":"Composite!N140","v":6.869996722999872},{"$f":"Composite!G140","v":"TK"}]
[65,{"$f":"Composite!B272","v":"NEK6"},{"$f":"Composite!F272","v":"NEK6"},{"$f":"Composite!N272","v":6.7864346171800065},{"$f":"Composite!G272","v":"Other"}]
[66,{"$f":"Composite!B47","v":"CAMK2D (CAMK2δ)"},{"$f":"Composite!F47","v":"CAMK2D"},{"$f":"Composite!N47","v":6.7844805417101526},{"$f":"Composite!G47","v":"CAMK"}]
[67,{"$f":"Composite!B383","v":"STK17B (DRAK2)"},{"$f":"Composite!F383","v":"DRAK2"},{"$f":"Composite!N383","v":6.6225490571969914},{"$f":"Composite!G383","v":"CAMK"}]
[68,{"$f":"Composite!B185","v":"JAK1 [JH1-JH2]"},{"$f":"Composite!F185","v":"JAK1(JH1JH2)"},{"$f":"Composite!N185","v":6.5830237431065086},{"$f":"Composite!G185","v":"TK"}]
[69,{"$f":"Composite!B221","v":"MAP3K9 (MLK1)"},{"$f":"Composite!F221","v":"MAP3K9"},{"$f":"Composite!N221","v":6.5127613269873166},{"$f":"Composite!G221","v":"TKL"}]
[70,{"$f":"Composite!B347","v":"PTK6 (BRK)"},{"$f":"Composite!F347","v":"PTK6"},{"$f":"Composite!N347","v":6.5103674992503358},{"$f":"Composite!G347","v":"TK"}]
[71,{"$f":"Composite!B224","v":"MAP4K3 (GLK, KHS2)"},{"$f":"Composite!F224","v":"GLK/KHS2"},{"$f":"Composite!N224","v":6.4963610833233929},{"$f":"Composite!G224","v":"STE"}]
[72,{"$f":"Composite!B85","v":"CDK9 (TAK)/CycK"},{"$f":"Composite!F85","v":"CDK9/K"},{"$f":"Composite!N85","v":6.4703217036701659},{"$f":"Composite!G85","v":"CMGC"}]
[73,{"$f":"Composite!B100","v":"CSNK1A1L (CK1A1L, CK1a2)"},{"$f":"Composite!F100","v":"CK1A1L"},{"$f":"Composite!N100","v":6.4474773643866143},{"$f":"Composite!G100","v":"CK1"}]
[74,{"$f":"Composite!B397","v":"TEC"},{"$f":"Composite!F397","v":"TEC"},{"$f":"Composite!N397","v":6.4175053044581176},{"$f":"Composite!G397","v":"TK"}]
[75,{"$f":"Composite!B284","v":"PAK2"},{"$f":"Composite!F284","v":"PAK2"},{"$f":"Composite!N284","v":6.3766565999672054},{"$f":"Composite!G284","v":"STE"}]
[76,{"$f":"Composite!B158","v":"GAK"},{"$f":"Composite!F158","v":"GAK"},{"$f":"Composite!N158","v":6.3731636567792691},{"$f":"Composite!G158","v":"Other"}]
[77,{"$f":"Composite!B207","v":"MAP3K1 (MEKK1)"},{"$f":"Composite!F207","v":"MAP3K1"},{"$f":"Composite!N207","v":6.3678911848087409},{"$f":"Composite!G207","v":"STE"}]
[78,{"$f":"Composite!B288","v":"PAK6"},{"$f":"Composite!F288","v":"PAK6"},{"$f":"Composite!N288","v":6.3565777788641071},{"$f":"Composite!G288","v":"STE"}]
[79,{"$f":"Composite!B98","v":"CSK"},{"$f":"Composite!F98","v":"CSK"},{"$f":"Composite!N98","v":6.2816785927251004},{"$f":"Composite!G98","v":"TK"}]
[80,{"$f":"Composite!B251","v":"MET (c-MET, HGFR)"},{"$f":"Composite!F251","v":"MET"},{"$f":"Composite!N251","v":6.2151353265842175},{"$f":"Composite!G251","v":"TK"}]
[81,{"$f":"Composite!B238","v":"MAPK9 (JNK2)"},{"$f":"Composite!F238","v":"JNK2"},{"$f":"Composite!N238","v":6.201585973789264},{"$f":"Composite!G238","v":"CMGC"}]
[82,{"$f":"Composite!B190","v":"KIT (SCFR, CD117)"},{"$f":"Composite!F190","v":"KIT"},{"$f":"Composite!N190","v":6.1466581276199435},{"$f":"Composite!G190","v":"TK"}]
[83,{"$f":"Composite!B268","v":"NEK2"},{"$f":"Composite!F268","v":"NEK2"},{"$f":"Composite!N268","v":6.0670325418774382},{"$f":"Composite!G268","v":"Other"}]
[84,{"$f":"Composite!B73","v":"CDK3/CycE1"},{"$f":"Composite!F73","v":"CDK3/E1"},{"$f":"Composite!N73","v":6.0080321285140599},{"$f":"Composite!G73","v":"CMGC"}]
[85,{"$f":"Composite!B380","v":"STK11 (LKB1, AMPKK)"},{"$f":"Composite!F380","v":"LKB1"},{"$f":"Composite!N380","v":5.7996913038651456},{"$f":"Composite!G380","v":"CAMK"}]
[86,{"$f":"Composite!B292","v":"PDGFRB (PDGFRβ)"},{"$f":"Composite!F292","v":"PDGFRB"},{"$f":"Composite!N292","v":5.7974496026264575},{"$f":"Composite!G292","v":"TK"}]
[87,{"$f":"Composite!B79","v":"CDK5/p35NCK"},{"$f":"Composite!F79","v":"CDK5/P35"},{"$f":"Composite!N79","v":5.7452301474376242},{"$f":"Composite!G79","v":"CMGC"}]
[88,{"$f":"Composite!B233","v":"MAPK15 (ERK7)"},{"$f":"Composite!F233","v":"ERK7"},{"$f":"Composite!N233","v":5.6324536415391862},{"$f":"Composite!G233","v":"CMGC"}]
[89,{"$f":"Composite!B421","v":"YES1 (YES)"},{"$f":"Composite!F421","v":"YES"},{"$f":"Composite!N421","v":5.4611901042182041},{"$f":"Composite!G421","v":"TK"}]
[90,{"$f":"Composite!B420","v":"WEE1"},{"$f":"Composite!F420","v":"WEE1"},{"$f":"Composite!N420","v":5.1939303097158955},{"$f":"Composite!G420","v":"Other"}]
[91,{"$f":"Composite!B316","v":"PRKAA1-B2-G1 (AMPKα1β2γ1)"},{"$f":"Composite!F316","v":"AMPK121"},{"$f":"Composite!N316","v":5.1268249652483888},{"$f":"Composite!G316","v":"CAMK"}]
[92,{"$f":"Composite!B270","v":"NEK4"},{"$f":"Composite!F270","v":"NEK4"},{"$f":"Composite!N270","v":5.1055375101854281},{"$f":"Composite!G270","v":"Other"}]
[93,{"$f":"Composite!B183","v":"ITK"},{"$f":"Composite!F183","v":"ITK"},{"$f":"Composite!N183","v":5.0875011953715159},{"$f":"Composite!G183","v":"TK"}]
[94,{"$f":"Composite!B326","v":"PRKACB (PKACB, PKACβ)"},{"$f":"Composite!F326","v":"PKACB"},{"$f":"Composite!N326","v":5.0605120928831298},{"$f":"Composite!G326","v":"AGC"}]
[95,{"$f":"Composite!B276","v":"NIM1 (NIM1K)"},{"$f":"Composite!F276","v":"NIM1"},{"$f":"Composite!N276","v":5.0551707739085714},{"$f":"Composite!G276","v":"CAMK"}]
[96,{"$f":"Composite!B22","v":"ABL2 (ARG)"},{"$f":"Composite!F22","v":"ABL2"},{"$f":"Composite!N22","v":5.0122876997743333},{"$f":"Composite!G22","v":"TK"}]
[97,{"$f":"Composite!B375","v":"SRMS (SRM)"},{"$f":"Composite!F375","v":"SRM"},{"$f":"Composite!N375","v":4.8961275204424055},{"$f":"Composite!G375","v":"TK"}]
[98,{"$f":"Composite!B84","v":"CDK7/CycH1"},{"$f":"Composite!F84","v":"CDK7/H1"},{"$f":"Composite!N84","v":4.8336959900528456},{"$f":"Composite!G84","v":"CMGC"}]
[99,{"$f":"Composite!B279","v":"NTRK2 (TRKB)"},{"$f":"Composite!F279","v":"NTRK2"},{"$f":"Composite!N279","v":4.8156528411768278},{"$f":"Composite!G279","v":"TK"}]
[100,{"$f":"Composite!B154","v":"FLT4"},{"$f":"Composite!F154","v":"FLT4"},{"$f":"Composite!N154","v":4.7368843620516827},{"$f":"Composite!G154","v":"TK"}]
[101,{"$f":"Composite!B372","v":"SNRK"},{"$f":"Composite!F372","v":"SNRK"},{"$f":"Composite!N372","v":4.6503857602818783},{"$f":"Composite!G372","v":"CAMK"}]
[102,{"$f":"Composite!B314","v":"PRKAA1-B1-G2 (AMPKα1β1γ2)"},{"$f":"Composite!F314","v":"AMPK112"},{"$f":"Composite!N314","v":4.6237261308925071},{"$f":"Composite!G314","v":"CAMK"}]
[103,{"$f":"Composite!B41","v":"BUB1"},{"$f":"Composite!F41","v":"BUB1"},{"$f":"Composite!N41","v":4.5389304898116052},{"$f":"Composite!G41","v":"Other"}]
[104,{"$f":"Composite!B172","v":"HIPK3"},{"$f":"Composite!F172","v":"HIPK3"},{"$f":"Composite!N172","v":4.377335016828809},{"$f":"Composite!G172","v":"CMGC"}]
[105,{"$f":"Composite!B87","v":"CDK9 (TAK)/CycT2"},{"$f":"Composite!F87","v":"CDK9/T2"},{"$f":"Composite!N87","v":4.3097442022494192},{"$f":"Composite!G87","v":"CMGC"}]
[106,{"$f":"Composite!B62","v":"CDK14 (PFTAIRE1, PFTK1)/CycY"},{"$f":"Composite!F62","v":"CDK14"},{"$f":"Composite!N62","v":4.2970820587164553},{"$f":"Composite!G62","v":"CMGC"}]
[107,{"$f":"Composite!B341","v":"PRKDC (DNA-PK)"},{"$f":"Composite!F341","v":"DNA-PK"},{"$f":"Composite!N341","v":4.2790637317718137},{"$f":"Composite!G341","v":"Atypical"}]
[108,{"$f":"Composite!B122","v":"EEF2K (eEF2K)"},{"$f":"Composite!F122","v":"EEF2K"},{"$f":"Composite!N122","v":4.1655191407325702},{"$f":"Composite!G122","v":"Atypical"}]
[109,{"$f":"Composite!B26","v":"ALK"},{"$f":"Composite!F26","v":"ALK"},{"$f":"Composite!N26","v":4.1442485174567167},{"$f":"Composite!G26","v":"TK"}]
[110,{"$f":"Composite!B45","v":"CAMK2A (CAMK2α)"},{"$f":"Composite!F45","v":"CAMK2A"},{"$f":"Composite!N45","v":3.9261607538122405},{"$f":"Composite!G45","v":"CAMK"}]
[111,{"$f":"Composite!B213","v":"MAP3K19 (YSK4)"},{"$f":"Composite!F213","v":"YSK4"},{"$f":"Composite!N213","v":3.8743839591497249},{"$f":"Composite!G213","v":"STE"}]
[112,{"$f":"Composite!B177","v":"IKKB (IKKβ)"},{"$f":"Composite!F177","v":"IKKB"},{"$f":"Composite!N177","v":3.8475106418005254},{"$f":"Composite!G177","v":"Other"}]
[113,{"$f":"Composite!B262","v":"MYLK4 (SgK085)"},{"$f":"Composite!F262","v":"MYLK4"},{"$f":"Composite!N262","v":3.8331208481513812},{"$f":"Composite!G262","v":"CAMK"}]
[114,{"$f":"Composite!B33","v":"BLK"},{"$f":"Composite!F33","v":"BLK"},{"$f":"Composite!N33","v":3.7500638634854226},{"$f":"Composite!G33","v":"TK"}]
[115,{"$f":"Composite!B349","v":"RET"},{"$f":"Composite!F349","v":"RET"},{"$f":"Composite!N349","v":3.7036886429161058},{"$f":"Composite!G349","v":"TK"}]
[116,{"$f":"Composite!B220","v":"MAP3K8 (COT, Tpl2)"},{"$f":"Composite!F220","v":"MAP3K8"},{"$f":"Composite!N220","v":3.5696016518010794},{"$f":"Composite!G220","v":"STE"}]
[117,{"$f":"Composite!B115","v":"DMPK (DMPK1)"},{"$f":"Composite!F115","v":"DMPK1"},{"$f":"Composite!N115","v":3.4414874225300736},{"$f":"Composite!G115","v":"AGC"}]
[118,{"$f":"Composite!B212","v":"MAP3K14 (NIK)"},{"$f":"Composite!F212","v":"MAP3K14"},{"$f":"Composite!N212","v":3.3554147465437865},{"$f":"Composite!G212","v":"STE"}]
[119,{"$f":"Composite!B170","v":"HIPK1"},{"$f":"Composite!F170","v":"HIPK1"},{"$f":"Composite!N170","v":3.2990410871912133},{"$f":"Composite!G170","v":"CMGC"}]
[120,{"$f":"Composite!B313","v":"PRKAA1-B1-G1 (AMPKα1β1γ1)"},{"$f":"Composite!F313","v":"AMPK111"},{"$f":"Composite!N313","v":3.1599893059472635},{"$f":"Composite!G313","v":"CAMK"}]
[121,{"$f":"Composite!B193","v":"LATS1"},{"$f":"Composite!F193","v":"LATS1"},{"$f":"Composite!N193","v":3.1367589908087155},{"$f":"Composite!G193","v":"AGC"}]
[122,{"$f":"Composite!B248","v":"MATK (CTK)"},{"$f":"Composite!F248","v":"CTK"},{"$f":"Composite!N248","v":3.0253656730235008},{"$f":"Composite!G248","v":"TK"}]
[123,{"$f":"Composite!B297","v":"PDPK1 (PDK1)"},{"$f":"Composite!F297","v":"PDK1"},{"$f":"Composite!N297","v":3.0205934381362312},{"$f":"Composite!G297","v":"AGC"}]
[124,{"$f":"Composite!B241","v":"MAPKAPK5 (MK5)"},{"$f":"Composite!F241","v":"MK5"},{"$f":"Composite!N241","v":2.9843470725234482},{"$f":"Composite!G241","v":"CAMK"}]
[125,{"$f":"Composite!B126","v":"EIF2AK3 (PERK/PEK)"},{"$f":"Composite!F126","v":"PEK"},{"$f":"Composite!N126","v":2.8383001933852512},{"$f":"Composite!G126","v":"Other"}]
[126,{"$f":"Composite!B237","v":"MAPK8 (JNK1)"},{"$f":"Composite!F237","v":"JNK1"},{"$f":"Composite!N237","v":2.7967648586480749},{"$f":"Composite!G237","v":"CMGC"}]
[127,{"$f":"Composite!B323","v":"PRKAA2-B2-G2 (AMPKα2β2γ2)"},{"$f":"Composite!F323","v":"AMPK222"},{"$f":"Composite!N323","v":2.7940548465063983},{"$f":"Composite!G323","v":"CAMK"}]
[128,{"$f":"Composite!B244","v":"MARK3"},{"$f":"Composite!F244","v":"MARK3"},{"$f":"Composite!N244","v":2.7652935469491524},{"$f":"Composite!G244","v":"CAMK"}]
[129,{"$f":"Composite!B208","v":"MAP3K10 (MLK2)"},{"$f":"Composite!F208","v":"MAP3K10"},{"$f":"Composite!N208","v":2.7591674387771263},{"$f":"Composite!G208","v":"TKL"}]
[130,{"$f":"Composite!B299","v":"PHKG2"},{"$f":"Composite!F299","v":"PHKG2"},{"$f":"Composite!N299","v":2.7322036182326741},{"$f":"Composite!G299","v":"CAMK"}]
[131,{"$f":"Composite!B232","v":"MAPK14 (p38a)"},{"$f":"Composite!F232","v":"P38A"},{"$f":"Composite!N232","v":2.6946459303973711},{"$f":"Composite!G232","v":"CMGC"}]
[132,{"$f":"Composite!B230","v":"MAPK12 (p38γ)"},{"$f":"Composite!F230","v":"P38G"},{"$f":"Composite!N230","v":2.6934562066170002},{"$f":"Composite!G230","v":"CMGC"}]
[133,{"$f":"Composite!B385","v":"STK25 (YSK1)"},{"$f":"Composite!F385","v":"YSK1"},{"$f":"Composite!N385","v":2.6596603963239431},{"$f":"Composite!G385","v":"STE"}]
[134,{"$f":"Composite!B354","v":"ROCK2"},{"$f":"Composite!F354","v":"ROCK2"},{"$f":"Composite!N354","v":2.6487064943769809},{"$f":"Composite!G354","v":"AGC"}]
[135,{"$f":"Composite!B179","v":"INSR (IR)"},{"$f":"Composite!F179","v":"INSR"},{"$f":"Composite!N179","v":2.6447823888608042},{"$f":"Composite!G179","v":"TK"}]
[136,{"$f":"Composite!B227","v":"MAPK1 (ERK2)"},{"$f":"Composite!F227","v":"ERK2"},{"$f":"Composite!N227","v":2.6144008812563015},{"$f":"Composite!G227","v":"CMGC"}]
[137,{"$f":"Composite!B36","v":"BRAF (BRAF1, RAFB1)"},{"$f":"Composite!F36","v":"BRAF"},{"$f":"Composite!N36","v":2.5988936436697969},{"$f":"Composite!G36","v":"TKL"}]
[138,{"$f":"Composite!B169","v":"HCK"},{"$f":"Composite!F169","v":"HCK"},{"$f":"Composite!N169","v":2.4702830052916909},{"$f":"Composite!G169","v":"TK"}]
[139,{"$f":"Composite!B277","v":"NLK (LAK1)"},{"$f":"Composite!F277","v":"NLK"},{"$f":"Composite!N277","v":2.4663911701627086},{"$f":"Composite!G277","v":"CMGC"}]
[140,{"$f":"Composite!B93","v":"CLK1"},{"$f":"Composite!F93","v":"CLK1"},{"$f":"Composite!N93","v":2.4629934210526301},{"$f":"Composite!G93","v":"CMGC"}]
[141,{"$f":"Composite!B278","v":"NTRK1 (TRKA)"},{"$f":"Composite!F278","v":"NTRK1"},{"$f":"Composite!N278","v":2.4509315963731524},{"$f":"Composite!G278","v":"TK"}]
[142,{"$f":"Composite!B265","v":"NEK1"},{"$f":"Composite!F265","v":"NEK1"},{"$f":"Composite!N265","v":2.4448419797257088},{"$f":"Composite!G265","v":"Other"}]
[143,{"$f":"Composite!B319","v":"PRKAA2-B1-G1 (AMPKα2β1γ1)"},{"$f":"Composite!F319","v":"AMPK211"},{"$f":"Composite!N319","v":2.3261444441312733},{"$f":"Composite!G319","v":"CAMK"}]
[144,{"$f":"Composite!B370","v":"SIK3 (QSK)"},{"$f":"Composite!F370","v":"SIK3"},{"$f":"Composite!N370","v":2.2516013968668886},{"$f":"Composite!G370","v":"CAMK"}]
[145,{"$f":"Composite!B61","v":"CDK13 (CHED)/CycK"},{"$f":"Composite!F61","v":"CDK13/K"},{"$f":"Composite!N61","v":2.213452478953684},{"$f":"Composite!G61","v":"CMGC"}]
[146,{"$f":"Composite!B332","v":"PRKCE (PKCe [epsilon])"},{"$f":"Composite!F332","v":"PKCE"},{"$f":"Composite!N332","v":2.1931965661352137},{"$f":"Composite!G332","v":"AGC"}]
[147,{"$f":"Composite!B209","v":"MAP3K11 (MLK3)"},{"$f":"Composite!F209","v":"MAP3K11"},{"$f":"Composite!N209","v":2.1642799964422181},{"$f":"Composite!G209","v":"TKL"}]
[148,{"$f":"Composite!B249","v":"MELK"},{"$f":"Composite!F249","v":"MELK"},{"$f":"Composite!N249","v":2.1436857164952272},{"$f":"Composite!G249","v":"CAMK"}]
[149,{"$f":"Composite!B305","v":"PKN1"},{"$f":"Composite!F305","v":"PKN1"},{"$f":"Composite!N305","v":2.135137509884899},{"$f":"Composite!G305","v":"AGC"}]
[150,{"$f":"Composite!B234","v":"MAPK3 (ERK1)"},{"$f":"Composite!F234","v":"ERK1"},{"$f":"Composite!N234","v":1.9748466035677836},{"$f":"Composite!G234","v":"CAMK"}]
[151,{"$f":"Composite!B302","v":"PIM3"},{"$f":"Composite!F302","v":"PIM3"},{"$f":"Composite!N302","v":1.8913561268778381},{"$f":"Composite!G302","v":"CAMK"}]
[152,{"$f":"Composite!B396","v":"TBK1"},{"$f":"Composite!F396","v":"TBK1"},{"$f":"Composite!N396","v":1.8836583449803186},{"$f":"Composite!G396","v":"Other"}]
[153,{"$f":"Composite!B50","v":"CAMKK1"},{"$f":"Composite!F50","v":"CAMKK1"},{"$f":"Composite!N50","v":1.8608729932057315},{"$f":"Composite!G50","v":"Other"}]
[154,{"$f":"Composite!B260","v":"MYLK2 (skMLCK)"},{"$f":"Composite!F260","v":"MYLK2"},{"$f":"Composite!N260","v":1.8474345004957371},{"$f":"Composite!G260","v":"CAMK"}]
[155,{"$f":"Composite!B82","v":"CDK6/CycD3"},{"$f":"Composite!F82","v":"CDK6/D3"},{"$f":"Composite!N82","v":1.828393525550382},{"$f":"Composite!G82","v":"CMGC"}]
[156,{"$f":"Composite!B196","v":"LIMK1"},{"$f":"Composite!F196","v":"LIMK1"},{"$f":"Composite!N196","v":1.8202922356825582},{"$f":"Composite!G196","v":"TKL"}]
[157,{"$f":"Composite!B317","v":"PRKAA1-B2-G2 (AMPKα1β2γ2)"},{"$f":"Composite!F317","v":"AMPK122"},{"$f":"Composite!N317","v":1.7612526407356768},{"$f":"Composite!G317","v":"CAMK"}]
[158,{"$f":"Composite!B236","v":"MAPK7 (BMK, ERK5)"},{"$f":"Composite!F236","v":"ERK5"},{"$f":"Composite!N236","v":1.7056452470593229},{"$f":"Composite!G236","v":"CMGC"}]
[159,{"$f":"Composite!B151","v":"FGR"},{"$f":"Composite!F151","v":"FGR"},{"$f":"Composite!N151","v":1.6739727757634029},{"$f":"Composite!G151","v":"TK"}]
[160,{"$f":"Composite!B188","v":"JAK3 [JH1]"},{"$f":"Composite!F188","v":"JAK3(JH1)"},{"$f":"Composite!N188","v":1.6206938024609627},{"$f":"Composite!G188","v":"TK"}]
[161,{"$f":"Composite!B83","v":"CDK7/CycH/MAT1"},{"$f":"Composite!F83","v":"CDK7"},{"$f":"Composite!N83","v":1.5849365295002826},{"$f":"Composite!G83","v":"CMGC"}]
[162,{"$f":"Composite!B351","v":"RIPK2"},{"$f":"Composite!F351","v":"RIPK2"},{"$f":"Composite!N351","v":1.4953196362232148},{"$f":"Composite!G351","v":"TKL"}]
[163,{"$f":"Composite!B371","v":"SLK"},{"$f":"Composite!F371","v":"SLK"},{"$f":"Composite!N371","v":1.4939962149610295},{"$f":"Composite!G371","v":"STE"}]
[164,{"$f":"Composite!B178","v":"IKKE (IKKe)"},{"$f":"Composite!F178","v":"IKKE"},{"$f":"Composite!N178","v":1.4698611903403673},{"$f":"Composite!G178","v":"Other"}]
[165,{"$f":"Composite!B261","v":"MYLK3 (caMLCK)"},{"$f":"Composite!F261","v":"MYLK3"},{"$f":"Composite!N261","v":1.4589074404279501},{"$f":"Composite!G261","v":"CAMK"}]
[166,{"$f":"Composite!B49","v":"CAMK4"},{"$f":"Composite!F49","v":"CAMK4"},{"$f":"Composite!N49","v":1.4249318877735391},{"$f":"Composite!G49","v":"CAMK"}]
[167,{"$f":"Composite!B345","v":"PTK2 (FAK)"},{"$f":"Composite!F345","v":"PTK2"},{"$f":"Composite!N345","v":1.383903274825002},{"$f":"Composite!G345","v":"TK"}]
[168,{"$f":"Composite!B89","v":"CHEK1 (CHK1)"},{"$f":"Composite!F89","v":"CHK1"},{"$f":"Composite!N89","v":1.3543542803935367},{"$f":"Composite!G89","v":"CAMK"}]
[169,{"$f":"Composite!B389","v":"STK38 (NDR1)"},{"$f":"Composite!F389","v":"NDR1"},{"$f":"Composite!N389","v":1.2996826356354916},{"$f":"Composite!G389","v":"AGC"}]
[170,{"$f":"Composite!B399","v":"TESK2"},{"$f":"Composite!F399","v":"TESK2"},{"$f":"Composite!N399","v":1.2942739931819318},{"$f":"Composite!G399","v":"TKL"}]
[171,{"$f":"Composite!B107","v":"CSNK2A2 (CK2A2, CK2α2)"},{"$f":"Composite!F107","v":"CK2A2"},{"$f":"Composite!N107","v":1.2571126108244073},{"$f":"Composite!G107","v":"Other"}]
[172,{"$f":"Composite!B242","v":"MARK1"},{"$f":"Composite!F242","v":"MARK1"},{"$f":"Composite!N242","v":1.1436102872912528},{"$f":"Composite!G242","v":"CAMK"}]
[173,{"$f":"Composite!B273","v":"NEK7"},{"$f":"Composite!F273","v":"NEK7"},{"$f":"Composite!N273","v":1.1092421693867323},{"$f":"Composite!G273","v":"Other"}]
[174,{"$f":"Composite!B322","v":"PRKAA2-B2-G1 (AMPKα2β2γ1)"},{"$f":"Composite!F322","v":"AMPK221"},{"$f":"Composite!N322","v":1.0787240566257026},{"$f":"Composite!G322","v":"CAMK"}]
[175,{"$f":"Composite!B291","v":"PDGFRA (PDGFRα)"},{"$f":"Composite!F291","v":"PDGFRA"},{"$f":"Composite!N291","v":1.0502119579248728},{"$f":"Composite!G291","v":"TK"}]
[176,{"$f":"Composite!B195","v":"LCK"},{"$f":"Composite!F195","v":"LCK"},{"$f":"Composite!N195","v":0.97561133389228871},{"$f":"Composite!G195","v":"TK"}]
[177,{"$f":"Composite!B146","v":"FES"},{"$f":"Composite!F146","v":"FES"},{"$f":"Composite!N146","v":0.91930841377688921},{"$f":"Composite!G146","v":"TK"}]
[178,{"$f":"Composite!B318","v":"PRKAA1-B2-G3 (AMPKα1β2γ3)"},{"$f":"Composite!F318","v":"AMPK123"},{"$f":"Composite!N318","v":0.84004825412061734},{"$f":"Composite!G318","v":"CAMK"}]
[179,{"$f":"Composite!B44","v":"CAMK1G (CAMK1γ)"},{"$f":"Composite!F44","v":"CAMK1G"},{"$f":"Composite!N44","v":0.82701748240162942},{"$f":"Composite!G44","v":"CAMK"}]
[180,{"$f":"Composite!B286","v":"PAK4"},{"$f":"Composite!F286","v":"PAK4"},{"$f":"Composite!N286","v":0.78728945791532112},{"$f":"Composite!G286","v":"STE"}]
[181,{"$f":"Composite!B327","v":"PRKACG (PKACG, PKACg)"},{"$f":"Composite!F327","v":"PKACG"},{"$f":"Composite!N327","v":0.69512997696610057},{"$f":"Composite!G327","v":"AGC"}]
[182,{"$f":"Composite!B21","v":"ABL1"},{"$f":"Composite!F21","v":"ABL1"},{"$f":"Composite!N21","v":0.68918741521900984},{"$f":"Composite!G21","v":"TK"}]
[183,{"$f":"Composite!B201","v":"LYNB (LYNb)"},{"$f":"Composite!F201","v":"LYNB"},{"$f":"Composite!N201","v":0.63501452704464612},{"$f":"Composite!G201","v":"TK"}]
[184,{"$f":"Composite!B386","v":"STK26 (MST4)"},{"$f":"Composite!F386","v":"MST4"},{"$f":"Composite!N386","v":0.54650215784626255},{"$f":"Composite!G386","v":"STE"}]
[185,{"$f":"Composite!B252","v":"MINK1 (MAP4K6, MINK, ZC3)"},{"$f":"Composite!F252","v":"MINK"},{"$f":"Composite!N252","v":0.49621178471261373},{"$f":"Composite!G252","v":"STE"}]
[186,{"$f":"Composite!B405","v":"TRPM7 (CHAK1)"},{"$f":"Composite!F405","v":"CHAK1"},{"$f":"Composite!N405","v":0.48565857648179644},{"$f":"Composite!G405","v":"Atypical"}]
[187,{"$f":"Composite!B198","v":"LRRK2"},{"$f":"Composite!F198","v":"LRRK2"},{"$f":"Composite!N198","v":0.47249946910174856},{"$f":"Composite!G198","v":"TKL"}]
[188,{"$f":"Composite!B155","v":"FRK"},{"$f":"Composite!F155","v":"FRK"},{"$f":"Composite!N155","v":0.46124919926259622},{"$f":"Composite!G155","v":"TK"}]
[189,{"$f":"Composite!B37","v":"BRAF, b-[V600E]"},{"$f":"Composite!F37","v":"BRAF(V600E)"},{"$f":"Composite!N37","v":0.43358866888279124},{"$f":"Composite!G37","v":"TKL"}]
[190,{"$f":"Composite!B365","v":"SGK1 (SGK)"},{"$f":"Composite!F365","v":"SGK"},{"$f":"Composite!N365","v":0.43106206917323675},{"$f":"Composite!G365","v":"AGC"}]
[191,{"$f":"Composite!B379","v":"STK10 (LOK)"},{"$f":"Composite!F379","v":"LOK"},{"$f":"Composite!N379","v":0.39773627428675695},{"$f":"Composite!G379","v":"STE"}]
[192,{"$f":"Composite!B247","v":"MASTL"},{"$f":"Composite!F247","v":"MASTL"},{"$f":"Composite!N247","v":0.38048613927817598},{"$f":"Composite!G247","v":"AGC"}]
[193,{"$f":"Composite!B95","v":"CLK3"},{"$f":"Composite!F95","v":"CLK3"},{"$f":"Composite!N95","v":0.37983972759560913},{"$f":"Composite!G95","v":"CMGC"}]
[194,{"$f":"Composite!B307","v":"PKN3"},{"$f":"Composite!F307","v":"PKN3"},{"$f":"Composite!N307","v":0.21107411248793539},{"$f":"Composite!G307","v":"AGC"}]
[195,{"$f":"Composite!B189","v":"KDR (VEGFR2)"},{"$f":"Composite!F189","v":"KDR"},{"$f":"Composite!N189","v":0.17224894176207783},{"$f":"Composite!G189","v":"TK"}]
[196,{"$f":"Composite!B186","v":"JAK2 [JH1]"},{"$f":"Composite!F186","v":"JAK2(JH1)"},{"$f":"Composite!N186","v":0.16847414627611101},{"$f":"Composite!G186","v":"TK"}]
[197,{"$f":"Composite!B119","v":"DYRK2"},{"$f":"Composite!F119","v":"DYRK2"},{"$f":"Composite!N119","v":0.15178431846280205},{"$f":"Composite!G119","v":"CMGC"}]
[198,{"$f":"Composite!B298","v":"PHKG1"},{"$f":"Composite!F298","v":"PHKG1"},{"$f":"Composite!N298","v":0.10237178717115114},{"$f":"Composite!G298","v":"CAMK"}]
[199,{"$f":"Composite!B60","v":"CDK12 (CRK7)/CycK"},{"$f":"Composite!F60","v":"CDK12/K"},{"$f":"Composite!N60","v":0},{"$f":"Composite!G60","v":"CMGC"}]
[200,{"$f":"Composite!B69","v":"CDK2/CycD1"},{"$f":"Composite!F69","v":"CDK2/D1"},{"$f":"Composite!N69","v":0},{"$f":"Composite!G69","v":"CMGC"}]
[201,{"$f":"Composite!B235","v":"MAPK6 (ERK3)"},{"$f":"Composite!F235","v":"ERK3"},{"$f":"Composite!N235","v":0},{"$f":"Composite!G235","v":"CMGC"}]
[202,{"$f":"Composite!B274","v":"NEK8"},{"$f":"Composite!F274","v":"NEK8"},{"$f":"Composite!N274","v":0},{"$f":"Composite!G274","v":"Other"}]
[203,{"$f":"Composite!B423","v":0},{"$f":"Composite!F423","v":0},{"$f":"Composite!N423","v":0},{"$f":"Composite!G423","v":0}]
[204,{"$f":"Composite!B424","v":0},{"$f":"Composite!F424","v":0},{"$f":"Composite!N424","v":0},{"$f":"Composite!G424","v":0}]
[205,{"$f":"Composite!B425","v":0},{"$f":"Composite!F425","v":0},{"$f":"Composite!N425","v":0},{"$f":"Composite!G425","v":0}]
[206,{"$f":"Composite!B426","v":0},{"$f":"Composite!F426","v":0},{"$f":"Composite!N426","v":0},{"$f":"Composite!G426","v":0}]
[207,{"$f":"Composite!B427","v":0},{"$f":"Composite!F427","v":0},{"$f":"Composite!N427","v":0},{"$f":"Composite!G427","v":0}]
[208,{"$f":"Composite!B428","v":0},{"$f":"Composite!F428","v":0},{"$f":"Composite!N428","v":0},{"$f":"Composite!G428","v":0}]
[209,{"$f":"Composite!B429","v":0},{"$f":"Composite!F429","v":0},{"$f":"Composite!N429","v":0},{"$f":"Composite!G429","v":0}]
[210,{"$f":"Composite!B430","v":0},{"$f":"Composite!F430","v":0},{"$f":"Composite!N430","v":0},{"$f":"Composite!G430","v":0}]
[211,{"$f":"Composite!B431","v":0},{"$f":"Composite!F431","v":0},{"$f":"Composite!N431","v":0},{"$f":"Composite!G431","v":0}]
[212,{"$f":"Composite!B432","v":0},{"$f":"Composite!F432","v":0},{"$f":"Composite!N432","v":0},{"$f":"Composite!G432","v":0}]
[213,{"$f":"Composite!B433","v":0},{"$f":"Composite!F433","v":0},{"$f":"Composite!N433","v":0},{"$f":"Composite!G433","v":0}]
[214,{"$f":"Composite!B434","v":0},{"$f":"Composite!F434","v":0},{"$f":"Composite!N434","v":0},{"$f":"Composite!G434","v":0}]
[215,{"$f":"Composite!B435","v":0},{"$f":"Composite!F435","v":0},{"$f":"Composite!N435","v":0},{"$f":"Composite!G435","v":0}]
[216,{"$f":"Composite!B436","v":0},{"$f":"Composite!F436","v":0},{"$f":"Composite!N436","v":0},{"$f":"Composite!G436","v":0}]
[217,{"$f":"Composite!B437","v":0},{"$f":"Composite!F437","v":0},{"$f":"Composite!N437","v":0},{"$f":"Composite!G437","v":0}]
[218,{"$f":"Composite!B438","v":0},{"$f":"Composite!F438","v":0},{"$f":"Composite!N438","v":0},{"$f":"Composite!G438","v":0}]
[219,{"$f":"Composite!B439","v":0},{"$f":"Composite!F439","v":0},{"$f":"Composite!N439","v":0},{"$f":"Composite!G439","v":0}]
[220,{"$f":"Composite!B440","v":0},{"$f":"Composite!F440","v":0},{"$f":"Composite!N440","v":0},{"$f":"Composite!G440","v":0}]
[221,{"$f":"Composite!B441","v":0},{"$f":"Composite!F441","v":0},{"$f":"Composite!N441","v":0},{"$f":"Composite!G441","v":0}]
[222,{"$f":"Composite!B442","v":0},{"$f":"Composite!F442","v":0},{"$f":"Composite!N442","v":0},{"$f":"Composite!G442","v":0}]
[223,{"$f":"Composite!B443","v":0},{"$f":"Composite!F443","v":0},{"$f":"Composite!N443","v":0},{"$f":"Composite!G443","v":0}]
[224,{"$f":"Composite!B444","v":0},{"$f":"Composite!F444","v":0},{"$f":"Composite!N444","v":0},{"$f":"Composite!G444","v":0}]
[225,{"$f":"Composite!B445","v":0},{"$f":"Composite!F445","v":0},{"$f":"Composite!N445","v":0},{"$f":"Composite!G445","v":0}]
[226,{"$f":"Composite!B446","v":0},{"$f":"Composite!F446","v":0},{"$f":"Composite!N446","v":0},{"$f":"Composite!G446","v":0}]
[227,{"$f":"Composite!B447","v":0},{"$f":"Composite!F447","v":0},{"$f":"Composite!N447","v":0},{"$f":"Composite!G447","v":0}]
[228,{"$f":"Composite!B448","v":0},{"$f":"Composite!F448","v":0},{"$f":"Composite!N448","v":0},{"$f":"Composite!G448","v":0}]
[229,{"$f":"Composite!B449","v":0},{"$f":"Composite!F449","v":0},{"$f":"Composite!N449","v":0},{"$f":"Composite!G449","v":0}]
[230,{"$f":"Composite!B450","v":0},{"$f":"Composite!F450","v":0},{"$f":"Composite!N450","v":0},{"$f":"Composite!G450","v":0}]
[231,{"$f":"Composite!B451","v":0},{"$f":"Composite!F451","v":0},{"$f":"Composite!N451","v":0},{"$f":"Composite!G451","v":0}]
[232,{"$f":"Composite!B452","v":0},{"$f":"Composite!F452","v":0},{"$f":"Composite!N452","v":0},{"$f":"Composite!G452","v":0}]
[233,{"$f":"Composite!B453","v":0},{"$f":"Composite!F453","v":0},{"$f":"Composite!N453","v":0},{"$f":"Composite!G453","v":0}]
[234,{"$f":"Composite!B454","v":0},{"$f":"Composite!F454","v":0},{"$f":"Composite!N454","v":0},{"$f":"Composite!G454","v":0}]
[235,{"$f":"Composite!B455","v":0},{"$f":"Composite!F455","v":0},{"$f":"Composite!N455","v":0},{"$f":"Composite!G455","v":0}]
[236,{"$f":"Composite!B456","v":0},{"$f":"Composite!F456","v":0},{"$f":"Composite!N456","v":0},{"$f":"Composite!G456","v":0}]
[237,{"$f":"Composite!B457","v":0},{"$f":"Composite!F457","v":0},{"$f":"Composite!N457","v":0},{"$f":"Composite!G457","v":0}]
[238,{"$f":"Composite!B458","v":0},{"$f":"Composite!F458","v":0},{"$f":"Composite!N458","v":0},{"$f":"Composite!G458","v":0}]
[239,{"$f":"Composite!B459","v":0},{"$f":"Composite!F459","v":0},{"$f":"Composite!N459","v":0},{"$f":"Composite!G459","v":0}]
[240,{"$f":"Composite!B460","v":0},{"$f":"Composite!F460","v":0},{"$f":"Composite!N460","v":0},{"$f":"Composite!G460","v":0}]
[241,{"$f":"Composite!B461","v":0},{"$f":"Composite!F461","v":0},{"$f":"Composite!N461","v":0},{"$f":"Composite!G461","v":0}]
[242,{"$f":"Composite!B462","v":0},{"$f":"Composite!F462","v":0},{"$f":"Composite!N462","v":0},{"$f":"Composite!G462","v":0}]
[243,{"$f":"Composite!B463","v":0},{"$f":"Composite!F463","v":0},{"$f":"Composite!N463","v":0},{"$f":"Composite!G463","v":0}]
[244,{"$f":"Composite!B464","v":0},{"$f":"Composite!F464","v":0},{"$f":"Composite!N464","v":0},{"$f":"Composite!G464","v":0}]
[245,{"$f":"Composite!B465","v":0},{"$f":"Composite!F465","v":0},{"$f":"Composite!N465","v":0},{"$f":"Composite!G465","v":0}]
[246,{"$f":"Composite!B466","v":0},{"$f":"Composite!F466","v":0},{"$f":"Composite!N466","v":0},{"$f":"Composite!G466","v":0}]
[247,{"$f":"Composite!B467","v":0},{"$f":"Composite!F467","v":0},{"$f":"Composite!N467","v":0},{"$f":"Composite!G467","v":0}]
[248,{"$f":"Composite!B468","v":0},{"$f":"Composite!F468","v":0},{"$f":"Composite!N468","v":0},{"$f":"Composite!G468","v":0}]
[249,{"$f":"Composite!B469","v":0},{"$f":"Composite!F469","v":0},{"$f":"Composite!N469","v":0},{"$f":"Composite!G469","v":0}]
[250,{"$f":"Composite!B470","v":0},{"$f":"Composite!F470","v":0},{"$f":"Composite!N470","v":0},{"$f":"Composite!G470","v":0}]
[251,{"$f":"Composite!B471","v":0},{"$f":"Composite!F471","v":0},{"$f":"Composite!N471","v":0},{"$f":"Composite!G471","v":0}]
[252,{"$f":"Composite!B472","v":0},{"$f":"Composite!F472","v":0},{"$f":"Composite!N472","v":0},{"$f":"Composite!G472","v":0}]
[253,{"$f":"Composite!B473","v":0},{"$f":"Composite!F473","v":0},{"$f":"Composite!N473","v":0},{"$f":"Composite!G473","v":0}]
[254,{"$f":"Composite!B474","v":0},{"$f":"Composite!F474","v":0},{"$f":"Composite!N474","v":0},{"$f":"Composite!G474","v":0}]
[255,{"$f":"Composite!B475","v":0},{"$f":"Composite!F475","v":0},{"$f":"Composite!N475","v":0},{"$f":"Composite!G475","v":0}]
[256,{"$f":"Composite!B476","v":0},{"$f":"Composite!F476","v":0},{"$f":"Composite!N476","v":0},{"$f":"Composite!G476","v":0}]
[257,{"$f":"Composite!B477","v":0},{"$f":"Composite!F477","v":0},{"$f":"Composite!N477","v":0},{"$f":"Composite!G477","v":0}]
[258,{"$f":"Composite!B478","v":0},{"$f":"Composite!F478","v":0},{"$f":"Composite!N478","v":0},{"$f":"Composite!G478","v":0}]
[259,{"$f":"Composite!B479","v":0},{"$f":"Composite!F479","v":0},{"$f":"Composite!N479","v":0},{"$f":"Composite!G479","v":0}]
[260,{"$f":"Composite!B480","v":0},{"$f":"Composite!F480","v":0},{"$f":"Composite!N480","v":0},{"$f":"Composite!G480","v":0}]
[261,{"$f":"Composite!B481","v":0},{"$f":"Composite!F481","v":0},{"$f":"Composite!N481","v":0},{"$f":"Composite!G481","v":0}]
[262,{"$f":"Composite!B482","v":0},{"$f":"Composite!F482","v":0},{"$f":"Composite!N482","v":0},{"$f":"Composite!G482","v":0}]
[263,{"$f":"Composite!B483","v":0},{"$f":"Composite!F483","v":0},{"$f":"Composite!N483","v":0},{"$f":"Composite!G483","v":0}]
[264,{"$f":"Composite!B484","v":0},{"$f":"Composite!F484","v":0},{"$f":"Composite!N484","v":0},{"$f":"Composite!G484","v":0}]
[265,{"$f":"Composite!B485","v":0},{"$f":"Composite!F485","v":0},{"$f":"Composite!N485","v":0},{"$f":"Composite!G485","v":0}]
[266,{"$f":"Composite!B486","v":0},{"$f":"Composite!F486","v":0},{"$f":"Composite!N486","v":0},{"$f":"Composite!G486","v":0}]
[267,{"$f":"Composite!B487","v":0},{"$f":"Composite!F487","v":0},{"$f":"Composite!N487","v":0},{"$f":"Composite!G487","v":0}]
[268,{"$f":"Composite!B488","v":0},{"$f":"Composite!F488","v":0},{"$f":"Composite!N488","v":0},{"$f":"Composite!G488","v":0}]
[269,{"$f":"Composite!B489","v":0},{"$f":"Composite!F489","v":0},{"$f":"Composite!N489","v":0},{"$f":"Composite!G489","v":0}]
[270,{"$f":"Composite!B490","v":0},{"$f":"Composite!F490","v":0},{"$f":"Composite!N490","v":0},{"$f":"Composite!G490","v":0}]
[271,{"$f":"Composite!B491","v":0},{"$f":"Composite!F491","v":0},{"$f":"Composite!N491","v":0},{"$f":"Composite!G491","v":0}]
[272,{"$f":"Composite!B492","v":0},{"$f":"Composite!F492","v":0},{"$f":"Composite!N492","v":0},{"$f":"Composite!G492","v":0}]
[273,{"$f":"Composite!B493","v":0},{"$f":"Composite!F493","v":0},{"$f":"Composite!N493","v":0},{"$f":"Composite!G493","v":0}]
[274,{"$f":"Composite!B494","v":0},{"$f":"Composite!F494","v":0},{"$f":"Composite!N494","v":0},{"$f":"Composite!G494","v":0}]
[275,{"$f":"Composite!B495","v":0},{"$f":"Composite!F495","v":0},{"$f":"Composite!N495","v":0},{"$f":"Composite!G495","v":0}]
[276,{"$f":"Composite!B496","v":0},{"$f":"Composite!F496","v":0},{"$f":"Composite!N496","v":0},{"$f":"Composite!G496","v":0}]
[277,{"$f":"Composite!B497","v":0},{"$f":"Composite!F497","v":0},{"$f":"Composite!N497","v":0},{"$f":"Composite!G497","v":0}]
[278,{"$f":"Composite!B498","v":0},{"$f":"Composite!F498","v":0},{"$f":"Composite!N498","v":0},{"$f":"Composite!G498","v":0}]
[279,{"$f":"Composite!B499","v":0},{"$f":"Composite!F499","v":0},{"$f":"Composite!N499","v":0},{"$f":"Composite!G499","v":0}]
[280,{"$f":"Composite!B500","v":0},{"$f":"Composite!F500","v":0},{"$f":"Composite!N500","v":0},{"$f":"Composite!G500","v":0}]
[281,{"$f":"Composite!B501","v":0},{"$f":"Composite!F501","v":0},{"$f":"Composite!N501","v":0},{"$f":"Composite!G501","v":0}]
[282,{"$f":"Composite!B502","v":0},{"$f":"Composite!F502","v":0},{"$f":"Composite!N502","v":0},{"$f":"Composite!G502","v":0}]
[283,{"$f":"Composite!B503","v":0},{"$f":"Composite!F503","v":0},{"$f":"Composite!N503","v":0},{"$f":"Composite!G503","v":0}]
[284,{"$f":"Composite!B504","v":0},{"$f":"Composite!F504","v":0},{"$f":"Composite!N504","v":0},{"$f":"Composite!G504","v":0}]
[285,{"$f":"Composite!B505","v":0},{"$f":"Composite!F505","v":0},{"$f":"Composite!N505","v":0},{"$f":"Composite!G505","v":0}]
[286,{"$f":"Composite!B506","v":0},{"$f":"Composite!F506","v":0},{"$f":"Composite!N506","v":0},{"$f":"Composite!G506","v":0}]
[287,{"$f":"Composite!B507","v":0},{"$f":"Composite!F507","v":0},{"$f":"Composite!N507","v":0},{"$f":"Composite!G507","v":0}]
[288,{"$f":"Composite!B508","v":0},{"$f":"Composite!F508","v":0},{"$f":"Composite!N508","v":0},{"$f":"Composite!G508","v":0}]
[289,{"$f":"Composite!B509","v":0},{"$f":"Composite!F509","v":0},{"$f":"Composite!N509","v":0},{"$f":"Composite!G509","v":0}]
[290,{"$f":"Composite!B510","v":0},{"$f":"Composite!F510","v":0},{"$f":"Composite!N510","v":0},{"$f":"Composite!G510","v":0}]
[291,{"$f":"Composite!B511","v":0},{"$f":"Composite!F511","v":0},{"$f":"Composite!N511","v":0},{"$f":"Composite!G511","v":0}]
[292,{"$f":"Composite!B512","v":0},{"$f":"Composite!F512","v":0},{"$f":"Composite!N512","v":0},{"$f":"Composite!G512","v":0}]
[293,{"$f":"Composite!B513","v":0},{"$f":"Composite!F513","v":0},{"$f":"Composite!N513","v":0},{"$f":"Composite!G513","v":0}]
[294,{"$f":"Composite!B514","v":0},{"$f":"Composite!F514","v":0},{"$f":"Composite!N514","v":0},{"$f":"Composite!G514","v":0}]
[295,{"$f":"Composite!B515","v":0},{"$f":"Composite!F515","v":0},{"$f":"Composite!N515","v":0},{"$f":"Composite!G515","v":0}]
[296,{"$f":"Composite!B516","v":0},{"$f":"Composite!F516","v":0},{"$f":"Composite!N516","v":0},{"$f":"Composite!G516","v":0}]
[297,{"$f":"Composite!B517","v":0},{"$f":"Composite!F517","v":0},{"$f":"Composite!N517","v":0},{"$f":"Composite!G517","v":0}]
[298,{"$f":"Composite!B518","v":0},{"$f":"Composite!F518","v":0},{"$f":"Composite!N518","v":0},{"$f":"Composite!G518","v":0}]
[299,{"$f":"Composite!B519","v":0},{"$f":"Composite!F519","v":0},{"$f":"Composite!N519","v":0},{"$f":"Composite!G519","v":0}]
[300,{"$f":"Composite!B520","v":0},{"$f":"Composite!F520","v":0},{"$f":"Composite!N520","v":0},{"$f":"Composite!G520","v":0}]
[301,{"$f":"Composite!B521","v":0},{"$f":"Composite!F521","v":0},{"$f":"Composite!N521","v":0},{"$f":"Composite!G521","v":0}]
[302,{"$f":"Composite!B522","v":0},{"$f":"Composite!F522","v":0},{"$f":"Composite!N522","v":0},{"$f":"Composite!G522","v":0}]
[303,{"$f":"Composite!B523","v":0},{"$f":"Composite!F523","v":0},{"$f":"Composite!N523","v":0},{"$f":"Composite!G523","v":0}]
[304,{"$f":"Composite!B524","v":0},{"$f":"Composite!F524","v":0},{"$f":"Composite!N524","v":0},{"$f":"Composite!G524","v":0}]
[305,{"$f":"Composite!B525","v":0},{"$f":"Composite!F525","v":0},{"$f":"Composite!N525","v":0},{"$f":"Composite!G525","v":0}]
[306,{"$f":"Composite!B526","v":0},{"$f":"Composite!F526","v":0},{"$f":"Composite!N526","v":0},{"$f":"Composite!G526","v":0}]
[307,{"$f":"Composite!B527","v":0},{"$f":"Composite!F527","v":0},{"$f":"Composite!N527","v":0},{"$f":"Composite!G527","v":0}]
[308,{"$f":"Composite!B528","v":0},{"$f":"Composite!F528","v":0},{"$f":"Composite!N528","v":0},{"$f":"Composite!G528","v":0}]
[309,{"$f":"Composite!B529","v":0},{"$f":"Composite!F529","v":0},{"$f":"Composite!N529","v":0},{"$f":"Composite!G529","v":0}]
[310,{"$f":"Composite!B530","v":0},{"$f":"Composite!F530","v":0},{"$f":"Composite!N530","v":0},{"$f":"Composite!G530","v":0}]
[311,{"$f":"Composite!B531","v":0},{"$f":"Composite!F531","v":0},{"$f":"Composite!N531","v":0},{"$f":"Composite!G531","v":0}]
[312,{"$f":"Composite!B532","v":0},{"$f":"Composite!F532","v":0},{"$f":"Composite!N532","v":0},{"$f":"Composite!G532","v":0}]
[313,{"$f":"Composite!B533","v":0},{"$f":"Composite!F533","v":0},{"$f":"Composite!N533","v":0},{"$f":"Composite!G533","v":0}]
[314,{"$f":"Composite!B534","v":0},{"$f":"Composite!F534","v":0},{"$f":"Composite!N534","v":0},{"$f":"Composite!G534","v":0}]
[315,{"$f":"Composite!B535","v":0},{"$f":"Composite!F535","v":0},{"$f":"Composite!N535","v":0},{"$f":"Composite!G535","v":0}]
[316,{"$f":"Composite!B536","v":0},{"$f":"Composite!F536","v":0},{"$f":"Composite!N536","v":0},{"$f":"Composite!G536","v":0}]
[317,{"$f":"Composite!B537","v":0},{"$f":"Composite!F537","v":0},{"$f":"Composite!N537","v":0},{"$f":"Composite!G537","v":0}]
[318,{"$f":"Composite!B145","v":"FER"},{"$f":"Composite!F145","v":"FER"},{"$f":"Composite!N145","v":-1.0884156296498304E-2},{"$f":"Composite!G145","v":"TK"}]
[319,{"$f":"Composite!B105","v":"CSNK1G3 (CK1G3, CK1γ3)"},{"$f":"Composite!F105","v":"CK1G3"},{"$f":"Composite!N105","v":-1.2761332283076854E-2},{"$f":"Composite!G105","v":"CK1"}]
[320,{"$f":"Composite!B148","v":"FGFR2"},{"$f":"Composite!F148","v":"FGFR2"},{"$f":"Composite!N148","v":-2.0443575730979546E-2},{"$f":"Composite!G148","v":"TK"}]
[321,{"$f":"Composite!B136","v":"EPHB1"},{"$f":"Composite!F136","v":"EPHB1"},{"$f":"Composite!N136","v":-0.10785049080129738},{"$f":"Composite!G136","v":"TK"}]
[322,{"$f":"Composite!B377","v":"SRPK2"},{"$f":"Composite!F377","v":"SRPK2"},{"$f":"Composite!N377","v":-0.17604803396031343},{"$f":"Composite!G377","v":"CMGC"}]
[323,{"$f":"Composite!B157","v":"FYNb (FYN)"},{"$f":"Composite!F157","v":"FYNB"},{"$f":"Composite!N157","v":-0.1789174667488993},{"$f":"Composite!G157","v":"TK"}]
[324,{"$f":"Composite!B187","v":"JAK2 [JH1-JH2]"},{"$f":"Composite!F187","v":"JAK2(JH1JH2)"},{"$f":"Composite!N187","v":-0.22483876693686966},{"$f":"Composite!G187","v":"TK"}]
[325,{"$f":"Composite!B30","v":"AXL"},{"$f":"Composite!F30","v":"AXL"},{"$f":"Composite!N30","v":-0.28987465377787203},{"$f":"Composite!G30","v":"TK"}]
[326,{"$f":"Composite!B135","v":"EPHA8"},{"$f":"Composite!F135","v":"EPHA8"},{"$f":"Composite!N135","v":-0.36857948335202195},{"$f":"Composite!G135","v":"TK"}]
[327,{"$f":"Composite!B324","v":"PRKAA2-B2-G3 (AMPKα2β2γ3)"},{"$f":"Composite!F324","v":"AMPK223"},{"$f":"Composite!N324","v":-0.53846132831388616},{"$f":"Composite!G324","v":"CAMK"}]
[328,{"$f":"Composite!B121","v":"DYRK4"},{"$f":"Composite!F121","v":"DYRK4"},{"$f":"Composite!N121","v":-0.58820646046761738},{"$f":"Composite!G121","v":"CMGC"}]
[329,{"$f":"Composite!B114","v":"DDR2"},{"$f":"Composite!F114","v":"DDR2"},{"$f":"Composite!N114","v":-0.61712576334663538},{"$f":"Composite!G114","v":"TK"}]
[330,{"$f":"Composite!B243","v":"MARK2"},{"$f":"Composite!F243","v":"MARK2"},{"$f":"Composite!N243","v":-0.63770968112335424},{"$f":"Composite!G243","v":"CAMK"}]
[331,{"$f":"Composite!B120","v":"DYRK3"},{"$f":"Composite!F120","v":"DYRK3"},{"$f":"Composite!N120","v":-0.75124058077558686},{"$f":"Composite!G120","v":"CMGC"}]
[332,{"$f":"Composite!B409","v":"TSSK6 (SSTK)"},{"$f":"Composite!F409","v":"TSSK6"},{"$f":"Composite!N409","v":-0.78096324784959847},{"$f":"Composite!G409","v":"CAMK"}]
[333,{"$f":"Composite!B348","v":"RAF1 [Y340E/Y341E]"},{"$f":"Composite!F348","v":"RAF1"},{"$f":"Composite!N348","v":-0.81688658505996159},{"$f":"Composite!G348","v":"TKL"}]
[334,{"$f":"Composite!B338","v":"PRKD1 (PKD1)"},{"$f":"Composite!F338","v":"PKD1"},{"$f":"Composite!N338","v":-0.88660847256797126},{"$f":"Composite!G338","v":"CAMK"}]
[335,{"$f":"Composite!B269","v":"NEK3"},{"$f":"Composite!F269","v":"NEK3"},{"$f":"Composite!N269","v":-0.89524473898383405},{"$f":"Composite!G269","v":"Other"}]
[336,{"$f":"Composite!B138","v":"EPHB3"},{"$f":"Composite!F138","v":"EPHB3"},{"$f":"Composite!N138","v":-0.90682153955883393},{"$f":"Composite!G138","v":"TK"}]
[337,{"$f":"Composite!B407","v":"TSSK2"},{"$f":"Composite!F407","v":"TSSK2"},{"$f":"Composite!N407","v":-0.93767412242299031},{"$f":"Composite!G407","v":"CAMK"}]
[338,{"$f":"Composite!B414","v":"TYK2 [JH1]"},{"$f":"Composite!F414","v":"TYK2(JH1)"},{"$f":"Composite!N414","v":-0.94335906727589247},{"$f":"Composite!G414","v":"TK"}]
[339,{"$f":"Composite!B373","v":"SRC"},{"$f":"Composite!F373","v":"SRC"},{"$f":"Composite!N373","v":-1.0032102728732042},{"$f":"Composite!G373","v":"TK"}]
[340,{"$f":"Composite!B333","v":"PRKCG (PKCγ [gamma])"},{"$f":"Composite!F333","v":"PKCG"},{"$f":"Composite!N333","v":-1.0137388288648594},{"$f":"Composite!G333","v":"AGC"}]
[341,{"$f":"Composite!B264","v":"MYO3B"},{"$f":"Composite!F264","v":"MYO3B"},{"$f":"Composite!N264","v":-1.0314201927105273},{"$f":"Composite!G264","v":"STE"}]
[342,{"$f":"Composite!B245","v":"MARK4"},{"$f":"Composite!F245","v":"MARK4"},{"$f":"Composite!N245","v":-1.0360485128393719},{"$f":"Composite!G245","v":"CAMK"}]
[343,{"$f":"Composite!B124","v":"EIF2AK1 (HRI)"},{"$f":"Composite!F124","v":"HRI"},{"$f":"Composite!N124","v":-1.0432750941732962},{"$f":"Composite!G124","v":"Other"}]
[344,{"$f":"Composite!B393","v":"TAOK1 (TAO1)"},{"$f":"Composite!F393","v":"TAOK1"},{"$f":"Composite!N393","v":-1.0751783786814713},{"$f":"Composite!G393","v":"STE"}]
[345,{"$f":"Composite!B204","v":"MAP2K2 (MEK2)"},{"$f":"Composite!F204","v":"MEK2"},{"$f":"Composite!N204","v":-1.1226146975233604},{"$f":"Composite!G204","v":"STE"}]
[346,{"$f":"Composite!B290","v":"PBK (TOPK)"},{"$f":"Composite!F290","v":"TOPK"},{"$f":"Composite!N290","v":-1.1437520068048315},{"$f":"Composite!G290","v":"Other"}]
[347,{"$f":"Composite!B174","v":"HUNK"},{"$f":"Composite!F174","v":"HUNK"},{"$f":"Composite!N174","v":-1.165130014738935},{"$f":"Composite!G174","v":"CAMK"}]
[348,{"$f":"Composite!B134","v":"EPHA7"},{"$f":"Composite!F134","v":"EPHA7"},{"$f":"Composite!N134","v":-1.1694017189915087},{"$f":"Composite!G134","v":"TK"}]
[349,{"$f":"Composite!B296","v":"PDK4 (PDHK4)"},{"$f":"Composite!F296","v":"PDHK4"},{"$f":"Composite!N296","v":-1.3323865597601383},{"$f":"Composite!G296","v":"Atypical"}]
[350,{"$f":"Composite!B294","v":"PDK2 (PDHK2)"},{"$f":"Composite!F294","v":"PDHK2"},{"$f":"Composite!N294","v":-1.353139613016495},{"$f":"Composite!G294","v":"Atypical"}]
[351,{"$f":"Composite!B376","v":"SRPK1"},{"$f":"Composite!F376","v":"SRPK1"},{"$f":"Composite!N376","v":-1.4071290617599175},{"$f":"Composite!G376","v":"CMGC"}]
[352,{"$f":"Composite!B337","v":"PRKCZ (PKCζ [zeta])"},{"$f":"Composite!F337","v":"PKCZ"},{"$f":"Composite!N337","v":-1.4182872581326933},{"$f":"Composite!G337","v":"AGC"}]
[353,{"$f":"Composite!B173","v":"HIPK4"},{"$f":"Composite!F173","v":"HIPK4"},{"$f":"Composite!N173","v":-1.4378195507846954},{"$f":"Composite!G173","v":"CMGC"}]
[354,{"$f":"Composite!B116","v":"DSTYK (RIPK5, SGK496)"},{"$f":"Composite!F116","v":"RIPK5"},{"$f":"Composite!N116","v":-1.5277709329259324},{"$f":"Composite!G116","v":"TKL"}]
[355,{"$f":"Composite!B217","v":"MAP3K5 (ASK1)"},{"$f":"Composite!F217","v":"MAP3K5"},{"$f":"Composite!N217","v":-1.5425131677953345},{"$f":"Composite!G217","v":"STE"}]
[356,{"$f":"Composite!B48","v":"CAMK2G (CAMK2γ)"},{"$f":"Composite!F48","v":"CAMK2G"},{"$f":"Composite!N48","v":-1.556199586624416},{"$f":"Composite!G48","v":"CAMK"}]
[357,{"$f":"Composite!B315","v":"PRKAA1-B1-G3 (AMPKα1β1γ3)"},{"$f":"Composite!F315","v":"AMPK113"},{"$f":"Composite!N315","v":-1.6832512369554848},{"$f":"Composite!G315","v":"CAMK"}]
[358,{"$f":"Composite!B346","v":"PTK2B (PYK2)"},{"$f":"Composite!F346","v":"PTK2B"},{"$f":"Composite!N346","v":-1.7449622696031355},{"$f":"Composite!G346","v":"TK"}]
[359,{"$f":"Composite!B403","v":"TNK1"},{"$f":"Composite!F403","v":"TNK1"},{"$f":"Composite!N403","v":-1.8143952541730926},{"$f":"Composite!G403","v":"TK"}]
[360,{"$f":"Composite!B285","v":"PAK3"},{"$f":"Composite!F285","v":"PAK3"},{"$f":"Composite!N285","v":-1.8184096355349482},{"$f":"Composite!G285","v":"STE"}]
[361,{"$f":"Composite!B147","v":"FGFR1"},{"$f":"Composite!F147","v":"FGFR1"},{"$f":"Composite!N147","v":-1.8460037136932215},{"$f":"Composite!G147","v":"TK"}]
[362,{"$f":"Composite!B240","v":"MAPKAPK3 (MK3)"},{"$f":"Composite!F240","v":"MK3"},{"$f":"Composite!N240","v":-1.8721021733505836},{"$f":"Composite!G240","v":"CAMK"}]
[363,{"$f":"Composite!B312","v":"PNCK (CAMK1β)"},{"$f":"Composite!F312","v":"CAMK1B"},{"$f":"Composite!N312","v":-1.95341604846287},{"$f":"Composite!G312","v":"CAMK"}]
[364,{"$f":"Composite!B152","v":"FLT1"},{"$f":"Composite!F152","v":"FLT1"},{"$f":"Composite!N152","v":-2.0635460198756306},{"$f":"Composite!G152","v":"TK"}]
[365,{"$f":"Composite!B331","v":"PRKCD (PKCδ [delta])"},{"$f":"Composite!F331","v":"PKCD"},{"$f":"Composite!N331","v":-2.0941779391964843},{"$f":"Composite!G331","v":"AGC"}]
[366,{"$f":"Composite!B117","v":"DYRK1A"},{"$f":"Composite!F117","v":"DYRK1A"},{"$f":"Composite!N117","v":-2.1577739134550455},{"$f":"Composite!G117","v":"CMGC"}]
[367,{"$f":"Composite!B410","v":"TTBK1"},{"$f":"Composite!F410","v":"TTBK1"},{"$f":"Composite!N410","v":-2.1614551156141744},{"$f":"Composite!G410","v":"CK1"}]
[368,{"$f":"Composite!B280","v":"NTRK3 (TRKC)"},{"$f":"Composite!F280","v":"NTRK3"},{"$f":"Composite!N280","v":-2.2354082858449971},{"$f":"Composite!G280","v":"TK"}]
[369,{"$f":"Composite!B363","v":"RPS6KB2 (p70S6KB)"},{"$f":"Composite!F363","v":"P70S6KB"},{"$f":"Composite!N363","v":-2.2997112396457879},{"$f":"Composite!G363","v":"AGC"}]
[370,{"$f":"Composite!B300","v":"PIM1"},{"$f":"Composite!F300","v":"PIM1"},{"$f":"Composite!N300","v":-2.3561018411986794},{"$f":"Composite!G300","v":"CAMK"}]
[371,{"$f":"Composite!B118","v":"DYRK1B"},{"$f":"Composite!F118","v":"DYRK1B"},{"$f":"Composite!N118","v":-2.4513760338155777},{"$f":"Composite!G118","v":"CMGC"}]
[372,{"$f":"Composite!B295","v":"PDK3 (PDHK3)"},{"$f":"Composite!F295","v":"PDHK3"},{"$f":"Composite!N295","v":-2.4544078999761041},{"$f":"Composite!G295","v":"Atypical"}]
[373,{"$f":"Composite!B94","v":"CLK2"},{"$f":"Composite!F94","v":"CLK2"},{"$f":"Composite!N94","v":-2.4847258695535999},{"$f":"Composite!G94","v":"CMGC"}]
[374,{"$f":"Composite!B388","v":"STK33"},{"$f":"Composite!F388","v":"STK33"},{"$f":"Composite!N388","v":-2.5269488956772506},{"$f":"Composite!G388","v":"CAMK"}]
[375,{"$f":"Composite!B390","v":"STK38L (NDR2)"},{"$f":"Composite!F390","v":"NDR2"},{"$f":"Composite!N390","v":-2.5472202790008538},{"$f":"Composite!G390","v":"AGC"}]
[376,{"$f":"Composite!B342","v":"PRKG1 (PKG1, PGK)"},{"$f":"Composite!F342","v":"PGK"},{"$f":"Composite!N342","v":-2.6358625133763098},{"$f":"Composite!G342","v":"AGC"}]
[377,{"$f":"Composite!B111","v":"DCLK1 (DCAMKL1)"},{"$f":"Composite!F111","v":"DCAML1"},{"$f":"Composite!N111","v":-2.6691715997305892},{"$f":"Composite!G111","v":"CAMK"}]
[378,{"$f":"Composite!B266","v":"NEK10"},{"$f":"Composite!F266","v":"NEK10"},{"$f":"Composite!N266","v":-2.8159903079977937},{"$f":"Composite!G266","v":"Other"}]
[379,{"$f":"Composite!B287","v":"PAK5 (PAK7)"},{"$f":"Composite!F287","v":"PAK5"},{"$f":"Composite!N287","v":-2.8625344182681829},{"$f":"Composite!G287","v":"STE"}]
[380,{"$f":"Composite!B309","v":"PLK2"},{"$f":"Composite!F309","v":"PLK2"},{"$f":"Composite!N309","v":-2.8777881554236586},{"$f":"Composite!G309","v":"Other"}]
[381,{"$f":"Composite!B308","v":"PLK1"},{"$f":"Composite!F308","v":"PLK1"},{"$f":"Composite!N308","v":-2.8783178214408736},{"$f":"Composite!G308","v":"Other"}]
[382,{"$f":"Composite!B104","v":"CSNK1G2 (CK1G2, CK1γ2)"},{"$f":"Composite!F104","v":"CK1G2"},{"$f":"Composite!N104","v":-2.8970400668513747},{"$f":"Composite!G104","v":"CK1"}]
[383,{"$f":"Composite!B29","v":"AURKC (AURC)"},{"$f":"Composite!F29","v":"AURC"},{"$f":"Composite!N29","v":-2.9600231067940399},{"$f":"Composite!G29","v":"Other"}]
[384,{"$f":"Composite!B422","v":"ZAP70"},{"$f":"Composite!F422","v":"ZAP70"},{"$f":"Composite!N422","v":-2.9765062487266221},{"$f":"Composite!G422","v":"TK"}]
[385,{"$f":"Composite!B368","v":"SIK1 (SIK)"},{"$f":"Composite!F368","v":"SIK1"},{"$f":"Composite!N368","v":-3.0216049913201743},{"$f":"Composite!G368","v":"CAMK"}]
[386,{"$f":"Composite!B369","v":"SIK2 (QIK)"},{"$f":"Composite!F369","v":"SIK2"},{"$f":"Composite!N369","v":-3.0382629820832108},{"$f":"Composite!G369","v":"CAMK"}]
[387,{"$f":"Composite!B353","v":"ROCK1"},{"$f":"Composite!F353","v":"ROCK1"},{"$f":"Composite!N353","v":-3.1967732370066955},{"$f":"Composite!G353","v":"AGC"}]
[388,{"$f":"Composite!B90","v":"CHEK2 (CHK2)"},{"$f":"Composite!F90","v":"CHK2"},{"$f":"Composite!N90","v":-3.3583461851845016},{"$f":"Composite!G90","v":"CAMK"}]
[389,{"$f":"Composite!B59","v":"CDK1 (CDC2)/CycE1 "},{"$f":"Composite!F59","v":"CDK1/E1"},{"$f":"Composite!N59","v":-3.4880761960156832},{"$f":"Composite!G59","v":"CMGC"}]
[390,{"$f":"Composite!B408","v":"TSSK3"},{"$f":"Composite!F408","v":"TSSK3"},{"$f":"Composite!N408","v":-3.5636839996693226},{"$f":"Composite!G408","v":"CAMK"}]
[391,{"$f":"Composite!B165","v":"GRK7 (GPRK7)"},{"$f":"Composite!F165","v":"GRK7"},{"$f":"Composite!N165","v":-3.7104620322379418},{"$f":"Composite!G165","v":"AGC"}]
[392,{"$f":"Composite!B54","v":"CDC42BPG (DMPK2)"},{"$f":"Composite!F54","v":"DMPK2"},{"$f":"Composite!N54","v":-3.7458763435138991},{"$f":"Composite!G54","v":"AGC"}]
[393,{"$f":"Composite!B23","v":"AKT1 (PKB)"},{"$f":"Composite!F23","v":"AKT1"},{"$f":"Composite!N23","v":-3.8053292798586398},{"$f":"Composite!G23","v":"AGC"}]
[394,{"$f":"Composite!B330","v":"PRKCB2 (PKCβ2 [beta2])"},{"$f":"Composite!F330","v":"PKCB2"},{"$f":"Composite!N330","v":-3.8841612175834825},{"$f":"Composite!G330","v":"AGC"}]
[395,{"$f":"Composite!B159","v":"GRK1 (RHOK)"},{"$f":"Composite!F159","v":"GRK1"},{"$f":"Composite!N159","v":-3.9207962681313973},{"$f":"Composite!G159","v":"AGC"}]
[396,{"$f":"Composite!B203","v":"MAP2K1 (MEK1)"},{"$f":"Composite!F203","v":"MEK1"},{"$f":"Composite!N203","v":-3.9476569924702147},{"$f":"Composite!G203","v":"STE"}]
[397,{"$f":"Composite!B34","v":"BMP2K (BIKE)"},{"$f":"Composite!F34","v":"BIKE"},{"$f":"Composite!N34","v":-4.0040570237223392},{"$f":"Composite!G34","v":"Other"}]
[398,{"$f":"Composite!B109","v":"DAPK2 (DRP-1)"},{"$f":"Composite!F109","v":"DAPK2"},{"$f":"Composite!N109","v":-4.0514206688458643},{"$f":"Composite!G109","v":"CAMK"}]
[399,{"$f":"Composite!B413","v":"TXK"},{"$f":"Composite!F413","v":"TXK"},{"$f":"Composite!N413","v":-4.1262580054894897},{"$f":"Composite!G413","v":"TK"}]
[400,{"$f":"Composite!B133","v":"EPHA6"},{"$f":"Composite!F133","v":"EPHA6"},{"$f":"Composite!N133","v":-4.255734822460596},{"$f":"Composite!G133","v":"TK"}]
[401,{"$f":"Composite!B99","v":"CSNK1A1 (CK1A1, CK1α)"},{"$f":"Composite!F99","v":"CK1A1"},{"$f":"Composite!N99","v":-4.3122170761702847},{"$f":"Composite!G99","v":"CK1"}]
[402,{"$f":"Composite!B406","v":"TSSK1B (TSSK1)"},{"$f":"Composite!F406","v":"TSSK1"},{"$f":"Composite!N406","v":-4.3303866251115011},{"$f":"Composite!G406","v":"CAMK"}]
[403,{"$f":"Composite!B306","v":"PKN2"},{"$f":"Composite!F306","v":"PKN2"},{"$f":"Composite!N306","v":-4.4284027434658242},{"$f":"Composite!G306","v":"AGC"}]
[404,{"$f":"Composite!B387","v":"STK3 (CLIK1, MST2)"},{"$f":"Composite!F387","v":"MST2"},{"$f":"Composite!N387","v":-4.6443478007063561},{"$f":"Composite!G387","v":"STE"}]
[405,{"$f":"Composite!B27","v":"AURKA (AURA)"},{"$f":"Composite!F27","v":"AURA"},{"$f":"Composite!N27","v":-4.7436248971757777},{"$f":"Composite!G27","v":"Other"}]
[406,{"$f":"Composite!B214","v":"MAP3K2 (MEKK2)"},{"$f":"Composite!F214","v":"MAP3K2"},{"$f":"Composite!N214","v":-4.7814132526807782},{"$f":"Composite!G214","v":"STE"}]
[407,{"$f":"Composite!B24","v":"AKT2 (PKBb)"},{"$f":"Composite!F24","v":"AKT2"},{"$f":"Composite!N24","v":-4.7862115544472061},{"$f":"Composite!G24","v":"AGC"}]
[408,{"$f":"Composite!B301","v":"PIM2"},{"$f":"Composite!F301","v":"PIM2"},{"$f":"Composite!N301","v":-4.8388576575975293},{"$f":"Composite!G301","v":"CAMK"}]
[409,{"$f":"Composite!B166","v":"GSK3A (GSK3α)"},{"$f":"Composite!F166","v":"GSK3A"},{"$f":"Composite!N166","v":-4.8522590306439213},{"$f":"Composite!G166","v":"CMGC"}]
[410,{"$f":"Composite!B102","v":"CSNK1E (CK1E, CK1ε)"},{"$f":"Composite!F102","v":"CK1E"},{"$f":"Composite!N102","v":-4.8533313679245396},{"$f":"Composite!G102","v":"CK1"}]
[411,{"$f":"Composite!B131","v":"EPHA4"},{"$f":"Composite!F131","v":"EPHA4"},{"$f":"Composite!N131","v":-4.886473674321806},{"$f":"Composite!G131","v":"TK"}]
[412,{"$f":"Composite!B325","v":"PRKACA (PKACA, PKACα)"},{"$f":"Composite!F325","v":"PKACA"},{"$f":"Composite!N325","v":-4.9175967790750263},{"$f":"Composite!G325","v":"AGC"}]
[413,{"$f":"Composite!B125","v":"EIF2AK2 (PKR)"},{"$f":"Composite!F125","v":"PKR"},{"$f":"Composite!N125","v":-4.9825400173427852},{"$f":"Composite!G125","v":"Other"}]
[414,{"$f":"Composite!B141","v":"ERBB4 (HER4)"},{"$f":"Composite!F141","v":"HER4"},{"$f":"Composite!N141","v":-5.0155210230863361},{"$f":"Composite!G141","v":"TK"}]
[415,{"$f":"Composite!B205","v":"MAP2K3 (MEK3)"},{"$f":"Composite!F205","v":"MEK3"},{"$f":"Composite!N205","v":-5.1060022602653845},{"$f":"Composite!G205","v":"STE"}]
[416,{"$f":"Composite!B66","v":"CDK18 (PCTAIRE3, PCTK3)/CycY "},{"$f":"Composite!F66","v":"CDK18"},{"$f":"Composite!N66","v":-5.1111292029634399},{"$f":"Composite!G66","v":"CMGC"}]
[417,{"$f":"Composite!B263","v":"MYO3A"},{"$f":"Composite!F263","v":"MYO3A"},{"$f":"Composite!N263","v":-5.3143400112114989},{"$f":"Composite!G263","v":"STE"}]
[418,{"$f":"Composite!B412","v":"TTK"},{"$f":"Composite!F412","v":"TTK"},{"$f":"Composite!N412","v":-5.348482924971421},{"$f":"Composite!G412","v":"Other"}]
[419,{"$f":"Composite!B101","v":"CSNK1D (CK1D, CK1δ)"},{"$f":"Composite!F101","v":"CK1D"},{"$f":"Composite!N101","v":-5.3497757847533762},{"$f":"Composite!G101","v":"CK1"}]
[420,{"$f":"Composite!B32","v":"BCR RET (fusion)"},{"$f":"Composite!F32","v":"BCR RET"},{"$f":"Composite!N32","v":-5.4147987884033171},{"$f":"Composite!G32","v":"TK"}]
[421,{"$f":"Composite!B362","v":"RPS6KB1 (p70S6K)"},{"$f":"Composite!F362","v":"P70S6KA"},{"$f":"Composite!N362","v":-5.4986006904622542},{"$f":"Composite!G362","v":"AGC"}]
[422,{"$f":"Composite!B127","v":"EIF2AK4 (GCN2)"},{"$f":"Composite!F127","v":"GCN2"},{"$f":"Composite!N127","v":-5.5981778949892202},{"$f":"Composite!G127","v":"Other"}]
[423,{"$f":"Composite!B42","v":"CAMK1 (CAMK1a)"},{"$f":"Composite!F42","v":"CAMK1A"},{"$f":"Composite!N42","v":-5.6644809452704266},{"$f":"Composite!G42","v":"CAMK"}]
[424,{"$f":"Composite!B229","v":"MAPK11 (p38b)"},{"$f":"Composite!F229","v":"P38B"},{"$f":"Composite!N229","v":-5.6751386472506056},{"$f":"Composite!G229","v":"CMGC"}]
[425,{"$f":"Composite!B355","v":"ROS1 (ROS)"},{"$f":"Composite!F355","v":"ROS"},{"$f":"Composite!N355","v":-5.6780792012024648},{"$f":"Composite!G355","v":"TK"}]
[426,{"$f":"Composite!B321","v":"PRKAA2-B1-G3 (AMPKα2β1γ3)"},{"$f":"Composite!F321","v":"AMPK213"},{"$f":"Composite!N321","v":-5.6783136335506725},{"$f":"Composite!G321","v":"CAMK"}]
[427,{"$f":"Composite!B352","v":"RIPK3"},{"$f":"Composite!F352","v":"RIPK3"},{"$f":"Composite!N352","v":-5.7481702112202839},{"$f":"Composite!G352","v":"TKL"}]
[428,{"$f":"Composite!B366","v":"SGK2"},{"$f":"Composite!F366","v":"SGK2"},{"$f":"Composite!N366","v":-5.7758571591297425},{"$f":"Composite!G366","v":"AGC"}]
[429,{"$f":"Composite!B334","v":"PRKCH (PKCη [eta])"},{"$f":"Composite!F334","v":"PKCH"},{"$f":"Composite!N334","v":-5.9439060448359413},{"$f":"Composite!G334","v":"AGC"}]
[430,{"$f":"Composite!B219","v":"MAP3K7 (TAK1)"},{"$f":"Composite!F219","v":"MAP3K7"},{"$f":"Composite!N219","v":-6.1060002972896967},{"$f":"Composite!G219","v":"STE"}]
[431,{"$f":"Composite!B139","v":"EPHB4"},{"$f":"Composite!F139","v":"EPHB4"},{"$f":"Composite!N139","v":-6.150671823292555},{"$f":"Composite!G139","v":"TK"}]
[432,{"$f":"Composite!B86","v":"CDK9 (TAK)/CycT1"},{"$f":"Composite!F86","v":"CDK9/T1"},{"$f":"Composite!N86","v":-6.16952361050501},{"$f":"Composite!G86","v":"CMGC"}]
[433,{"$f":"Composite!B110","v":"DAPK3 (ZIPK)"},{"$f":"Composite!F110","v":"DAPK3"},{"$f":"Composite!N110","v":-6.1799270565986575},{"$f":"Composite!G110","v":"CAMK"}]
[434,{"$f":"Composite!B31","v":"BCKDK"},{"$f":"Composite!F31","v":"BCKDK"},{"$f":"Composite!N31","v":-6.217459780288479},{"$f":"Composite!G31","v":"Atypical"}]
[435,{"$f":"Composite!B356","v":"RPS6KA1 (RSK1)"},{"$f":"Composite!F356","v":"RSK1"},{"$f":"Composite!N356","v":-6.2213716392390523},{"$f":"Composite!G356","v":"AGC"}]
[436,{"$f":"Composite!B358","v":"RPS6KA3 (RSK2)"},{"$f":"Composite!F358","v":"RSK2"},{"$f":"Composite!N358","v":-6.3551939809128442},{"$f":"Composite!G358","v":"AGC"}]
[437,{"$f":"Composite!B176","v":"IGF1R"},{"$f":"Composite!F176","v":"IGF1R"},{"$f":"Composite!N176","v":-6.4052662336946753},{"$f":"Composite!G176","v":"TK"}]
[438,{"$f":"Composite!B340","v":"PRKD3 (PKD3)"},{"$f":"Composite!F340","v":"PKD3"},{"$f":"Composite!N340","v":-6.4901502809999556},{"$f":"Composite!G340","v":"CAMK"}]
[439,{"$f":"Composite!B211","v":"MAP3K13 (LZK)"},{"$f":"Composite!F211","v":"MAP3K13"},{"$f":"Composite!N211","v":-6.5019310810304063},{"$f":"Composite!G211","v":"TKL"}]
[440,{"$f":"Composite!B231","v":"MAPK13 (p38δ)"},{"$f":"Composite!F231","v":"P38D"},{"$f":"Composite!N231","v":-6.5038374507196437},{"$f":"Composite!G231","v":"CMGC"}]
[441,{"$f":"Composite!B289","v":"PASK"},{"$f":"Composite!F289","v":"PASK"},{"$f":"Composite!N289","v":-6.5643529511953318},{"$f":"Composite!G289","v":"CAMK"}]
[442,{"$f":"Composite!B311","v":"PLK4"},{"$f":"Composite!F311","v":"PLK4"},{"$f":"Composite!N311","v":-6.5981984049572588},{"$f":"Composite!G311","v":"Other"}]
[443,{"$f":"Composite!B156","v":"FYNa (FYN)"},{"$f":"Composite!F156","v":"FYNA"},{"$f":"Composite!N156","v":-6.6778967273249492},{"$f":"Composite!G156","v":"TK"}]
[444,{"$f":"Composite!B137","v":"EPHB2"},{"$f":"Composite!F137","v":"EPHB2"},{"$f":"Composite!N137","v":-6.6907088188312542},{"$f":"Composite!G137","v":"TK"}]
[445,{"$f":"Composite!B182","v":"IRAK4"},{"$f":"Composite!F182","v":"IRAK4"},{"$f":"Composite!N182","v":-6.7454837264855456},{"$f":"Composite!G182","v":"TKL"}]
[446,{"$f":"Composite!B153","v":"FLT3"},{"$f":"Composite!F153","v":"FLT3"},{"$f":"Composite!N153","v":-6.7768061798854404},{"$f":"Composite!G153","v":"TK"}]
[447,{"$f":"Composite!B416","v":"TYRO3"},{"$f":"Composite!F416","v":"TYRO3"},{"$f":"Composite!N416","v":-7.0938623802283303},{"$f":"Composite!G416","v":"TK"}]
[448,{"$f":"Composite!B128","v":"EPHA1"},{"$f":"Composite!F128","v":"EPHA1"},{"$f":"Composite!N128","v":-7.1244108508836348},{"$f":"Composite!G128","v":"TK"}]
[449,{"$f":"Composite!B378","v":"SRPK3 (MSSK1)"},{"$f":"Composite!F378","v":"MSSK1"},{"$f":"Composite!N378","v":-7.2831730998860564},{"$f":"Composite!G378","v":"CMGC"}]
[450,{"$f":"Composite!B167","v":"GSK3B (GSK3β)"},{"$f":"Composite!F167","v":"GSK3B"},{"$f":"Composite!N167","v":-7.328884597091502},{"$f":"Composite!G167","v":"CMGC"}]
[451,{"$f":"Composite!B129","v":"EPHA2"},{"$f":"Composite!F129","v":"EPHA2"},{"$f":"Composite!N129","v":-7.6553163624458023},{"$f":"Composite!G129","v":"TK"}]
[452,{"$f":"Composite!B335","v":"PRKCI (PKCι [iota])"},{"$f":"Composite!F335","v":"PKCI"},{"$f":"Composite!N335","v":-7.7210317038230727},{"$f":"Composite!G335","v":"AGC"}]
[453,{"$f":"Composite!B168","v":"HASPIN"},{"$f":"Composite!F168","v":"HASPIN"},{"$f":"Composite!N168","v":-7.7855724685638847},{"$f":"Composite!G168","v":"Other"}]
[454,{"$f":"Composite!B28","v":"AURKB (AURB)"},{"$f":"Composite!F28","v":"AURB"},{"$f":"Composite!N28","v":-7.911375768842916},{"$f":"Composite!G28","v":"Other"}]
[455,{"$f":"Composite!B391","v":"STK4 (MST1)"},{"$f":"Composite!F391","v":"MST1"},{"$f":"Composite!N391","v":-7.9652848662126701},{"$f":"Composite!G391","v":"STE"}]
[456,{"$f":"Composite!B181","v":"IRAK1"},{"$f":"Composite!F181","v":"IRAK1"},{"$f":"Composite!N181","v":-8.0797246828605864},{"$f":"Composite!G181","v":"TKL"}]
[457,{"$f":"Composite!B395","v":"TAOK3 (TAO3)"},{"$f":"Composite!F395","v":"TAOK3"},{"$f":"Composite!N395","v":-8.1750690607734526},{"$f":"Composite!G395","v":"STE"}]
[458,{"$f":"Composite!B267","v":"NEK11"},{"$f":"Composite!F267","v":"NEK11"},{"$f":"Composite!N267","v":-8.2208464427078241},{"$f":"Composite!G267","v":"Other"}]
[459,{"$f":"Composite!B143","v":"ERN2 (IRE2)"},{"$f":"Composite!F143","v":"ERN2"},{"$f":"Composite!N143","v":-8.3317788465437559},{"$f":"Composite!G143","v":"Other"}]
[460,{"$f":"Composite!B64","v":"CDK17 (PCTAIRE2, PCTK2)/CycY"},{"$f":"Composite!F64","v":"CDK17"},{"$f":"Composite!N64","v":-8.4016131469149258},{"$f":"Composite!G64","v":"CMGC"}]
[461,{"$f":"Composite!B108","v":"DAPK1"},{"$f":"Composite!F108","v":"DAPK1"},{"$f":"Composite!N108","v":-8.4476325608281826},{"$f":"Composite!G108","v":"CAMK"}]
[462,{"$f":"Composite!B364","v":"SBK1 (SBK)"},{"$f":"Composite!F364","v":"SBK1"},{"$f":"Composite!N364","v":-8.495620689931954},{"$f":"Composite!G364","v":"Other"}]
[463,{"$f":"Composite!B52","v":"CDC42BPA (MRCKA)"},{"$f":"Composite!F52","v":"MRCKA"},{"$f":"Composite!N52","v":-8.7463314690735814},{"$f":"Composite!G52","v":"AGC"}]
[464,{"$f":"Composite!B254","v":"MNK1"},{"$f":"Composite!F254","v":"MNK1"},{"$f":"Composite!N254","v":-8.8016536552055271},{"$f":"Composite!G254","v":"CAMK"}]
[465,{"$f":"Composite!B257","v":"mTOR (FRAP)"},{"$f":"Composite!F257","v":"mTOR"},{"$f":"Composite!N257","v":-9.0524819511465182},{"$f":"Composite!G257","v":"Atypical"}]
[466,{"$f":"Composite!B246","v":"MAST3"},{"$f":"Composite!F246","v":"MAST3"},{"$f":"Composite!N246","v":-9.0612573164737853},{"$f":"Composite!G246","v":"AGC"}]
[467,{"$f":"Composite!B404","v":"TNK2 (ACK)"},{"$f":"Composite!F404","v":"TNK2"},{"$f":"Composite!N404","v":-9.1094992571878208},{"$f":"Composite!G404","v":"TK"}]
[468,{"$f":"Composite!B275","v":"NEK9"},{"$f":"Composite!F275","v":"NEK9"},{"$f":"Composite!N275","v":-9.228887529882698},{"$f":"Composite!G275","v":"Other"}]
[469,{"$f":"Composite!B132","v":"EPHA5"},{"$f":"Composite!F132","v":"EPHA5"},{"$f":"Composite!N132","v":-9.7462936913702123},{"$f":"Composite!G132","v":"TK"}]
[470,{"$f":"Composite!B130","v":"EPHA3"},{"$f":"Composite!F130","v":"EPHA3"},{"$f":"Composite!N130","v":-9.8237012187254606},{"$f":"Composite!G130","v":"TK"}]
[471,{"$f":"Composite!B255","v":"MNK2"},{"$f":"Composite!F255","v":"MNK2"},{"$f":"Composite!N255","v":-9.8327513324756524},{"$f":"Composite!G255","v":"CAMK"}]
[472,{"$f":"Composite!B160","v":"GRK2 (ADRBK1, BARK1)"},{"$f":"Composite!F160","v":"GRK2"},{"$f":"Composite!N160","v":-10.041449512504897},{"$f":"Composite!G160","v":"AGC"}]
[473,{"$f":"Composite!B239","v":"MAPKAPK2 (MK2)"},{"$f":"Composite!F239","v":"MK2"},{"$f":"Composite!N239","v":-10.044106798097616},{"$f":"Composite!G239","v":"CAMK"}]
[474,{"$f":"Composite!B329","v":"PRKCB1 (PKCβ1 [beta1])"},{"$f":"Composite!F329","v":"PKCB1"},{"$f":"Composite!N329","v":-10.690228825860757},{"$f":"Composite!G329","v":"AGC"}]
[475,{"$f":"Composite!B328","v":"PRKCA (PKCα [alpha])"},{"$f":"Composite!F328","v":"PKCA"},{"$f":"Composite!N328","v":-10.760727370058731},{"$f":"Composite!G328","v":"AGC"}]
[476,{"$f":"Composite!B344","v":"PRKX"},{"$f":"Composite!F344","v":"PRKX"},{"$f":"Composite!N344","v":-11.106323142520196},{"$f":"Composite!G344","v":"AGC"}]
[477,{"$f":"Composite!B63","v":"CDK16 (PCTAIRE1, PCTK1)/CycY "},{"$f":"Composite!F63","v":"CDK16"},{"$f":"Composite!N63","v":-11.162697818381488},{"$f":"Composite!G63","v":"CMGC"}]
[478,{"$f":"Composite!B336","v":"PRKCQ (PKCᶿ [theta])"},{"$f":"Composite!F336","v":"PKCQ"},{"$f":"Composite!N336","v":-11.827275586975972},{"$f":"Composite!G336","v":"AGC"}]
[479,{"$f":"Composite!B96","v":"CLK4"},{"$f":"Composite!F96","v":"CLK4"},{"$f":"Composite!N96","v":-12.007421805972768},{"$f":"Composite!G96","v":"CMGC"}]
[480,{"$f":"Composite!B51","v":"CAMKK2"},{"$f":"Composite!F51","v":"CAMKK2"},{"$f":"Composite!N51","v":-12.029882760133574},{"$f":"Composite!G51","v":"Other"}]
[481,{"$f":"Composite!B39","v":"BRSK2"},{"$f":"Composite!F39","v":"BRSK2"},{"$f":"Composite!N39","v":-12.086605759470004},{"$f":"Composite!G39","v":"CAMK"}]
[482,{"$f":"Composite!B191","v":"KSR1"},{"$f":"Composite!F191","v":"KSR1"},{"$f":"Composite!N191","v":-12.248565483321755},{"$f":"Composite!G191","v":"TKL"}]
[483,{"$f":"Composite!B343","v":"PRKG2 (PKG2, PGK2, CGK2)"},{"$f":"Composite!F343","v":"PGK2"},{"$f":"Composite!N343","v":-12.527681506271151},{"$f":"Composite!G343","v":"AGC"}]
[484,{"$f":"Composite!B374","v":"SRC N1"},{"$f":"Composite!F374","v":"SRC N1"},{"$f":"Composite!N374","v":-12.786578482587444},{"$f":"Composite!G374","v":"TK"}]
[485,{"$f":"Composite!B394","v":"TAOK2 (TAO2)"},{"$f":"Composite!F394","v":"TAOK2"},{"$f":"Composite!N394","v":-12.878787878787875},{"$f":"Composite!G394","v":"STE"}]
[486,{"$f":"Composite!B417","v":"ULK1"},{"$f":"Composite!F417","v":"ULK1"},{"$f":"Composite!N417","v":-12.927523782253218},{"$f":"Composite!G417","v":"Other"}]
[487,{"$f":"Composite!B72","v":"CDK2/CycO"},{"$f":"Composite!F72","v":"CDK2/O"},{"$f":"Composite!N72","v":-13.015083767787914},{"$f":"Composite!G72","v":"CMGC"}]
[488,{"$f":"Composite!B20","v":"AAK1"},{"$f":"Composite!F20","v":"AAK1"},{"$f":"Composite!N20","v":-13.041673734395346},{"$f":"Composite!G20","v":"Other"}]
[489,{"$f":"Composite!B256","v":"MST1R (RON)"},{"$f":"Composite!F256","v":"MST1R"},{"$f":"Composite!N256","v":-13.290706329674151},{"$f":"Composite!G256","v":"TK"}]
[490,{"$f":"Composite!B200","v":"LYNA (LYNa)"},{"$f":"Composite!F200","v":"LYNA"},{"$f":"Composite!N200","v":-13.344117717544975},{"$f":"Composite!G200","v":"TK"}]
[491,{"$f":"Composite!B367","v":"SGK3"},{"$f":"Composite!F367","v":"SGK3"},{"$f":"Composite!N367","v":-13.347984599134534},{"$f":"Composite!G367","v":"AGC"}]
[492,{"$f":"Composite!B38","v":"BRSK1"},{"$f":"Composite!F38","v":"BRSK1"},{"$f":"Composite!N38","v":-13.408590927338409},{"$f":"Composite!G38","v":"CAMK"}]
[493,{"$f":"Composite!B175","v":"ICK"},{"$f":"Composite!F175","v":"ICK"},{"$f":"Composite!N175","v":-13.66700999359746},{"$f":"Composite!G175","v":"CMGC"}]
[494,{"$f":"Composite!B53","v":"CDC42BPB (MRCKB)"},{"$f":"Composite!F53","v":"MRCKB"},{"$f":"Composite!N53","v":-13.880406508005748},{"$f":"Composite!G53","v":"AGC"}]
[495,{"$f":"Composite!B303","v":"PINK1 (PINK)"},{"$f":"Composite!F303","v":"PINK"},{"$f":"Composite!N303","v":-14.064224177203656},{"$f":"Composite!G303","v":"Other"}]
[496,{"$f":"Composite!B310","v":"PLK3"},{"$f":"Composite!F310","v":"PLK3"},{"$f":"Composite!N310","v":-14.110022729732677},{"$f":"Composite!G310","v":"Other"}]
[497,{"$f":"Composite!B401","v":"TLK2"},{"$f":"Composite!F401","v":"TLK2"},{"$f":"Composite!N401","v":-14.32787964784923},{"$f":"Composite!G401","v":"Other"}]
[498,{"$f":"Composite!B106","v":"CSNK2A1 (CK2A1, CK2α1)"},{"$f":"Composite!F106","v":"CK2A1"},{"$f":"Composite!N106","v":-14.667972777892373},{"$f":"Composite!G106","v":"Other"}]
[499,{"$f":"Composite!B361","v":"RPS6KA6 (RSK4)"},{"$f":"Composite!F361","v":"RSK4"},{"$f":"Composite!N361","v":-14.795989989822445},{"$f":"Composite!G361","v":"AGC"}]
[500,{"$f":"Composite!B304","v":"PKMYT1 (MYT1)"},{"$f":"Composite!F304","v":"MYT1"},{"$f":"Composite!N304","v":-15.107672399483761},{"$f":"Composite!G304","v":"Other"}]
[501,{"$f":"Composite!B339","v":"PRKD2 (PKD2)"},{"$f":"Composite!F339","v":"PKD2"},{"$f":"Composite!N339","v":-15.138375207243982},{"$f":"Composite!G339","v":"CAMK"}]
[502,{"$f":"Composite!B210","v":"MAP3K12 (DLK)"},{"$f":"Composite!F210","v":"MAP3K12"},{"$f":"Composite!N210","v":-15.35704967439284},{"$f":"Composite!G210","v":"TKL"}]
[503,{"$f":"Composite!B180","v":"INSRR (IRR)"},{"$f":"Composite!F180","v":"INSRR"},{"$f":"Composite!N180","v":-15.456725528667988},{"$f":"Composite!G180","v":"TK"}]
[504,{"$f":"Composite!B149","v":"FGFR3"},{"$f":"Composite!F149","v":"FGFR3"},{"$f":"Composite!N149","v":-15.846810257613299},{"$f":"Composite!G149","v":"TK"}]
[505,{"$f":"Composite!B25","v":"AKT3 (PKBg)"},{"$f":"Composite!F25","v":"AKT3"},{"$f":"Composite!N25","v":-15.859368739195645},{"$f":"Composite!G25","v":"AGC"}]
[506,{"$f":"Composite!B192","v":"KSR2"},{"$f":"Composite!F192","v":"KSR2"},{"$f":"Composite!N192","v":-16.108529065637015},{"$f":"Composite!G192","v":"TKL"}]
[507,{"$f":"Composite!B92","v":"CIT (CRIK)"},{"$f":"Composite!F92","v":"CRIK"},{"$f":"Composite!N92","v":-16.205564636941389},{"$f":"Composite!G92","v":"AGC"}]
[508,{"$f":"Composite!B381","v":"STK16 (MPSK1, PKL12, TSF1)"},{"$f":"Composite!F381","v":"STK16"},{"$f":"Composite!N381","v":-16.217070516308695},{"$f":"Composite!G381","v":"Other"}]
[509,{"$f":"Composite!B43","v":"CAMK1D (CAMK1δ)"},{"$f":"Composite!F43","v":"CAMK1D"},{"$f":"Composite!N43","v":-16.297176676045396},{"$f":"Composite!G43","v":"CAMK"}]
[510,{"$f":"Composite!B202","v":"MAK"},{"$f":"Composite!F202","v":"MAK"},{"$f":"Composite!N202","v":-16.336909386293627},{"$f":"Composite!G202","v":"Atypical"}]
[511,{"$f":"Composite!B400","v":"TLK1"},{"$f":"Composite!F400","v":"TLK1"},{"$f":"Composite!N400","v":-17.748310423439563},{"$f":"Composite!G400","v":"Other"}]
[512,{"$f":"Composite!B357","v":"RPS6KA2 (RSK3)"},{"$f":"Composite!F357","v":"RSK3"},{"$f":"Composite!N357","v":-18.101317677300088},{"$f":"Composite!G357","v":"AGC"}]
[513,{"$f":"Composite!B415","v":"TYK2 [JH1-JH2]"},{"$f":"Composite!F415","v":"TYK2(JH1JH2)"},{"$f":"Composite!N415","v":-18.201685919450469},{"$f":"Composite!G415","v":"TK"}]
[514,{"$f":"Composite!B55","v":"CDC7/DBF4 (CDC7)"},{"$f":"Composite!F55","v":"CDC7"},{"$f":"Composite!N55","v":-18.525479582503237},{"$f":"Composite!G55","v":"Other"}]
[515,{"$f":"Composite!B142","v":"ERN1 (IRE1)"},{"$f":"Composite!F142","v":"ERN1"},{"$f":"Composite!N142","v":-18.688152407274885},{"$f":"Composite!G142","v":"Other"}]
[516,{"$f":"Composite!B218","v":"MAP3K6 (ASK2)"},{"$f":"Composite!F218","v":"MAP3K6"},{"$f":"Composite!N218","v":-19.752474376199061},{"$f":"Composite!G218","v":"STE"}]
[517,{"$f":"Composite!B411","v":"TTBK2"},{"$f":"Composite!F411","v":"TTBK2"},{"$f":"Composite!N411","v":-22.706114446349545},{"$f":"Composite!G411","v":"CK1"}]
[518,{"$f":"Composite!B419","v":"ULK3"},{"$f":"Composite!F419","v":"ULK3"},{"$f":"Composite!N419","v":-25.855382456883433},{"$f":"Composite!G419","v":"Other"}]

{"sheet":"Compound 3 Kinome Tree","index":9,"n_rows":6,"n_cols":27,"rows_kept":6,"cut":false,"hidden":false,"merged":[[1,1,3,20]]}
[]
[null,{"$f":"Summary!AC12","v":"Kinome Hit View for Gefitinib (0.015 µM) with 399 Kinases (Coral Names) at 1 mM"}]
[null,null,null,null,null,null,null,null,null,null,null,null,null,null,null,null,null,null,null,null,null,null,null,null,null,null,"Kinome Hit View for VVVVVVVVVVVVVVVVVVVVVVVVVVV (VVVVV µM) with VVV Kinases (Coral Names)"]
[null,null,null,null,null,null,null,null,null,null,null,null,null,null,null,null,null,null,null,null,null,null,null,null,null,null,{"$f":"REPLACE(AA3,65,3,Summary!E12)","v":"Kinome Hit View for VVVVVVVVVVVVVVVVVVVVVVVVVVV (VVVVV µM) with 399 Kinases (Coral Names)"}]
[null,null,null,null,null,null,null,null,null,null,null,null,null,null,null,null,null,null,null,null,null,null,null,null,null,null,{"$f":"REPLACE(AA4,50,5,Summary!D11)","v":"Kinome Hit View for VVVVVVVVVVVVVVVVVVVVVVVVVVV (0.15 µM) with 399 Kinases (Coral Names)"}]
[null,null,null,null,null,null,null,null,null,null,null,null,null,null,null,null,null,null,null,null,null,null,null,null,null,null,{"$f":"REPLACE(AA5,21,27,Summary!C11)","v":"Kinome Hit View for Gefitinib (0.15 µM) with 399 Kinases (Coral Names)"}]

{"sheet":"Compound 4","index":10,"n_rows":520,"n_cols":28,"rows_kept":520,"cut":false,"hidden":false,"merged":[]}
[]
["Panel #","Kinase Target","Kinase Target",{"$f":"Summary!AB13","v":"0.015 µM Gefitinib, % inhibition at  ATP Km "},{"$f":"Composite!G19","v":"Group"}]
[1,{"$f":"Composite!B123","v":"EGFR (ERBB1)"},{"$f":"Composite!F123","v":"EGFR"},{"$f":"Composite!P123","v":92.288076588337688},{"$f":"Composite!G123","v":"TK"},null,null,null,null,null,null,null,null,null,null,null,null,null,null,null,null,null,null,null,null,null,null,"VVVVV μM VVVVVVVVVVVVVVVVVVVVVVVVVVV, % inhibition"]
[2,{"$f":"Composite!B163","v":"GRK5 (GPRK5)"},{"$f":"Composite!F163","v":"GRK5"},{"$f":"Composite!P163","v":26.078051423293498},{"$f":"Composite!G163","v":"AGC"},null,null,null,null,null,null,null,null,null,null,null,null,null,null,null,null,null,null,null,null,null,null,{"$f":"REPLACE(AB3,10,27,Summary!C13)","v":"VVVVV μM Gefitinib, % inhibition"}]
[3,{"$f":"Composite!B310","v":"PLK3"},{"$f":"Composite!F310","v":"PLK3"},{"$f":"Composite!P310","v":25.3625951322432},{"$f":"Composite!G310","v":"Other"},null,null,null,null,null,null,null,null,null,null,null,null,null,null,null,null,null,null,null,null,null,null,{"$f":"REPLACE(AB4,1,5,Summary!D13)","v":"0.015 μM Gefitinib, % inhibition"}]
[4,{"$f":"Composite!B365","v":"SGK1 (SGK)"},{"$f":"Composite!F365","v":"SGK"},{"$f":"Composite!P365","v":24.732847051849902},{"$f":"Composite!G365","v":"AGC"}]
[5,{"$f":"Composite!B256","v":"MST1R (RON)"},{"$f":"Composite!F256","v":"MST1R"},{"$f":"Composite!P256","v":24.464479073489954},{"$f":"Composite!G256","v":"TK"}]
[6,{"$f":"Composite!B55","v":"CDC7/DBF4 (CDC7)"},{"$f":"Composite!F55","v":"CDC7"},{"$f":"Composite!P55","v":24.262702443490227},{"$f":"Composite!G55","v":"Other"}]
[7,{"$f":"Composite!B252","v":"MINK1 (MAP4K6, MINK, ZC3)"},{"$f":"Composite!F252","v":"MINK"},{"$f":"Composite!P252","v":23.921593043406091},{"$f":"Composite!G252","v":"STE"}]
[8,{"$f":"Composite!B170","v":"HIPK1"},{"$f":"Composite!F170","v":"HIPK1"},{"$f":"Composite!P170","v":23.446284894547844},{"$f":"Composite!G170","v":"CMGC"}]
[9,{"$f":"Composite!B58","v":"CDK1 (CDC2)/CycB1 "},{"$f":"Composite!F58","v":"CDK1/B1"},{"$f":"Composite!P58","v":22.960924892192907},{"$f":"Composite!G58","v":"CMGC"}]
[10,{"$f":"Composite!B31","v":"BCKDK"},{"$f":"Composite!F31","v":"BCKDK"},{"$f":"Composite!P31","v":21.966837100396617},{"$f":"Composite!G31","v":"Atypical"}]
[11,{"$f":"Composite!B78","v":"CDK5/p25"},{"$f":"Composite!F78","v":"CDK5/P25"},{"$f":"Composite!P78","v":21.359284060329173},{"$f":"Composite!G78","v":"CMGC"}]
[12,{"$f":"Composite!B40","v":"BTK"},{"$f":"Composite!F40","v":"BTK"},{"$f":"Composite!P40","v":21.181815663351529},{"$f":"Composite!G40","v":"TK"}]
[13,{"$f":"Composite!B382","v":"STK17A (DRAK1)"},{"$f":"Composite!F382","v":"DRAK1"},{"$f":"Composite!P382","v":20.928477071145494},{"$f":"Composite!G382","v":"CAMK"}]
[14,{"$f":"Composite!B385","v":"STK25 (YSK1)"},{"$f":"Composite!F385","v":"YSK1"},{"$f":"Composite!P385","v":20.253720030318775},{"$f":"Composite!G385","v":"STE"}]
[15,{"$f":"Composite!B54","v":"CDC42BPG (DMPK2)"},{"$f":"Composite!F54","v":"DMPK2"},{"$f":"Composite!P54","v":20.248241621845239},{"$f":"Composite!G54","v":"AGC"}]
[16,{"$f":"Composite!B57","v":"CDK1 (CDC2)/CycA2 "},{"$f":"Composite!F57","v":"CDK1/A2"},{"$f":"Composite!P57","v":20.232946224840802},{"$f":"Composite!G57","v":"CMGC"}]
[17,{"$f":"Composite!B79","v":"CDK5/p35NCK"},{"$f":"Composite!F79","v":"CDK5/P35"},{"$f":"Composite!P79","v":20.100056682357007},{"$f":"Composite!G79","v":"CMGC"}]
[18,{"$f":"Composite!B342","v":"PRKG1 (PKG1, PGK)"},{"$f":"Composite!F342","v":"PGK"},{"$f":"Composite!P342","v":19.477661966957854},{"$f":"Composite!G342","v":"AGC"}]
[19,{"$f":"Composite!B302","v":"PIM3"},{"$f":"Composite!F302","v":"PIM3"},{"$f":"Composite!P302","v":19.38293927017925},{"$f":"Composite!G302","v":"CAMK"}]
[20,{"$f":"Composite!B400","v":"TLK1"},{"$f":"Composite!F400","v":"TLK1"},{"$f":"Composite!P400","v":19.336084021005249},{"$f":"Composite!G400","v":"Other"}]
[21,{"$f":"Composite!B351","v":"RIPK2"},{"$f":"Composite!F351","v":"RIPK2"},{"$f":"Composite!P351","v":18.829770352066376},{"$f":"Composite!G351","v":"TKL"}]
[22,{"$f":"Composite!B375","v":"SRMS (SRM)"},{"$f":"Composite!F375","v":"SRM"},{"$f":"Composite!P375","v":18.70466887779277},{"$f":"Composite!G375","v":"TK"}]
[23,{"$f":"Composite!B360","v":"RPS6KA5 (MSK1)"},{"$f":"Composite!F360","v":"MSK1"},{"$f":"Composite!P360","v":17.985431535575017},{"$f":"Composite!G360","v":"AGC"}]
[24,{"$f":"Composite!B70","v":"CDK2/CycE1"},{"$f":"Composite!F70","v":"CDK2/E1"},{"$f":"Composite!P70","v":17.966736452277488},{"$f":"Composite!G70","v":"CMGC"}]
[25,{"$f":"Composite!B234","v":"MAPK3 (ERK1)"},{"$f":"Composite!F234","v":"ERK1"},{"$f":"Composite!P234","v":17.896843346080558},{"$f":"Composite!G234","v":"CAMK"}]
[26,{"$f":"Composite!B115","v":"DMPK (DMPK1)"},{"$f":"Composite!F115","v":"DMPK1"},{"$f":"Composite!P115","v":17.376474027872533},{"$f":"Composite!G115","v":"AGC"}]
[27,{"$f":"Composite!B207","v":"MAP3K1 (MEKK1)"},{"$f":"Composite!F207","v":"MAP3K1"},{"$f":"Composite!P207","v":17.083418434336053},{"$f":"Composite!G207","v":"STE"}]
[28,{"$f":"Composite!B80","v":"CDK6/CycD1"},{"$f":"Composite!F80","v":"CDK6/D1"},{"$f":"Composite!P80","v":16.711132670385652},{"$f":"Composite!G80","v":"CMGC"}]
[29,{"$f":"Composite!B166","v":"GSK3A (GSK3α)"},{"$f":"Composite!F166","v":"GSK3A"},{"$f":"Composite!P166","v":16.468503064766253},{"$f":"Composite!G166","v":"CMGC"}]
[30,{"$f":"Composite!B68","v":"CDK2/CycA2"},{"$f":"Composite!F68","v":"CDK2/A2"},{"$f":"Composite!P68","v":16.330223705968606},{"$f":"Composite!G68","v":"CMGC"}]
[31,{"$f":"Composite!B263","v":"MYO3A"},{"$f":"Composite!F263","v":"MYO3A"},{"$f":"Composite!P263","v":16.220411331005053},{"$f":"Composite!G263","v":"STE"}]
[32,{"$f":"Composite!B141","v":"ERBB4 (HER4)"},{"$f":"Composite!F141","v":"HER4"},{"$f":"Composite!P141","v":15.905494821634079},{"$f":"Composite!G141","v":"TK"}]
[33,{"$f":"Composite!B45","v":"CAMK2A (CAMK2α)"},{"$f":"Composite!F45","v":"CAMK2A"},{"$f":"Composite!P45","v":15.845768217973202},{"$f":"Composite!G45","v":"CAMK"}]
[34,{"$f":"Composite!B308","v":"PLK1"},{"$f":"Composite!F308","v":"PLK1"},{"$f":"Composite!P308","v":15.721008531966177},{"$f":"Composite!G308","v":"Other"}]
[35,{"$f":"Composite!B97","v":"CSF1R (FMS)"},{"$f":"Composite!F97","v":"FMS/CSF1R"},{"$f":"Composite!P97","v":15.596484942996227},{"$f":"Composite!G97","v":"TK"}]
[36,{"$f":"Composite!B226","v":"MAP4K5 (KHS1)"},{"$f":"Composite!F226","v":"KHS1"},{"$f":"Composite!P226","v":15.589773815663449},{"$f":"Composite!G226","v":"STE"}]
[37,{"$f":"Composite!B164","v":"GRK6 (GPRK6)"},{"$f":"Composite!F164","v":"GRK6"},{"$f":"Composite!P164","v":14.885133412151987},{"$f":"Composite!G164","v":"AGC"}]
[38,{"$f":"Composite!B323","v":"PRKAA2-B2-G2 (AMPKα2β2γ2)"},{"$f":"Composite!F323","v":"AMPK222"},{"$f":"Composite!P323","v":14.864306514274446},{"$f":"Composite!G323","v":"CAMK"}]
[39,{"$f":"Composite!B209","v":"MAP3K11 (MLK3)"},{"$f":"Composite!F209","v":"MAP3K11"},{"$f":"Composite!P209","v":14.760648076278869},{"$f":"Composite!G209","v":"TKL"}]
[40,{"$f":"Composite!B276","v":"NIM1 (NIM1K)"},{"$f":"Composite!F276","v":"NIM1"},{"$f":"Composite!P276","v":14.715766387208603},{"$f":"Composite!G276","v":"CAMK"}]
[41,{"$f":"Composite!B257","v":"mTOR (FRAP)"},{"$f":"Composite!F257","v":"mTOR"},{"$f":"Composite!P257","v":14.557522123893804},{"$f":"Composite!G257","v":"Atypical"}]
[42,{"$f":"Composite!B409","v":"TSSK6 (SSTK)"},{"$f":"Composite!F409","v":"TSSK6"},{"$f":"Composite!P409","v":14.472423107083742},{"$f":"Composite!G409","v":"CAMK"}]
[43,{"$f":"Composite!B215","v":"MAP3K20 (MLK7, ZAK)"},{"$f":"Composite!F215","v":"ZAK"},{"$f":"Composite!P215","v":14.346036552856603},{"$f":"Composite!G215","v":"TKL"}]
[44,{"$f":"Composite!B154","v":"FLT4"},{"$f":"Composite!F154","v":"FLT4"},{"$f":"Composite!P154","v":14.273206856938913},{"$f":"Composite!G154","v":"TK"}]
[45,{"$f":"Composite!B81","v":"CDK6/CycD2"},{"$f":"Composite!F81","v":"CDK6/D2"},{"$f":"Composite!P81","v":14.257106786818156},{"$f":"Composite!G81","v":"CMGC"}]
[46,{"$f":"Composite!B225","v":"MAP4K4 (HGK, ZC1)"},{"$f":"Composite!F225","v":"HGK"},{"$f":"Composite!P225","v":14.256225170721549},{"$f":"Composite!G225","v":"STE"}]
[47,{"$f":"Composite!B353","v":"ROCK1"},{"$f":"Composite!F353","v":"ROCK1"},{"$f":"Composite!P353","v":14.089937424695862},{"$f":"Composite!G353","v":"AGC"}]
[48,{"$f":"Composite!B47","v":"CAMK2D (CAMK2δ)"},{"$f":"Composite!F47","v":"CAMK2D"},{"$f":"Composite!P47","v":14.087908215614547},{"$f":"Composite!G47","v":"CAMK"}]
[49,{"$f":"Composite!B264","v":"MYO3B"},{"$f":"Composite!F264","v":"MYO3B"},{"$f":"Composite!P264","v":14.024969689025809},{"$f":"Composite!G264","v":"STE"}]
[50,{"$f":"Composite!B82","v":"CDK6/CycD3"},{"$f":"Composite!F82","v":"CDK6/D3"},{"$f":"Composite!P82","v":14.024822178878821},{"$f":"Composite!G82","v":"CMGC"}]
[51,{"$f":"Composite!B140","v":"ERBB2 (HER2)"},{"$f":"Composite!F140","v":"HER2"},{"$f":"Composite!P140","v":13.946530426566824},{"$f":"Composite!G140","v":"TK"}]
[52,{"$f":"Composite!B102","v":"CSNK1E (CK1E, CK1ε)"},{"$f":"Composite!F102","v":"CK1E"},{"$f":"Composite!P102","v":13.917932073722056},{"$f":"Composite!G102","v":"CK1"}]
[53,{"$f":"Composite!B177","v":"IKKB (IKKβ)"},{"$f":"Composite!F177","v":"IKKB"},{"$f":"Composite!P177","v":13.846573102602548},{"$f":"Composite!G177","v":"Other"}]
[54,{"$f":"Composite!B174","v":"HUNK"},{"$f":"Composite!F174","v":"HUNK"},{"$f":"Composite!P174","v":13.613115353000268},{"$f":"Composite!G174","v":"CAMK"}]
[55,{"$f":"Composite!B297","v":"PDPK1 (PDK1)"},{"$f":"Composite!F297","v":"PDK1"},{"$f":"Composite!P297","v":13.580820351579263},{"$f":"Composite!G297","v":"AGC"}]
[56,{"$f":"Composite!B189","v":"KDR (VEGFR2)"},{"$f":"Composite!F189","v":"KDR"},{"$f":"Composite!P189","v":13.550126801707862},{"$f":"Composite!G189","v":"TK"}]
[57,{"$f":"Composite!B230","v":"MAPK12 (p38γ)"},{"$f":"Composite!F230","v":"P38G"},{"$f":"Composite!P230","v":13.315118397085598},{"$f":"Composite!G230","v":"CMGC"}]
[58,{"$f":"Composite!B74","v":"CDK3/CycE2"},{"$f":"Composite!F74","v":"CDK3/E2"},{"$f":"Composite!P74","v":13.112606596116294},{"$f":"Composite!G74","v":"CMGC"}]
[59,{"$f":"Composite!B34","v":"BMP2K (BIKE)"},{"$f":"Composite!F34","v":"BIKE"},{"$f":"Composite!P34","v":12.9152746363429},{"$f":"Composite!G34","v":"Other"}]
[60,{"$f":"Composite!B36","v":"BRAF (BRAF1, RAFB1)"},{"$f":"Composite!F36","v":"BRAF"},{"$f":"Composite!P36","v":12.886267078277385},{"$f":"Composite!G36","v":"TKL"}]
[61,{"$f":"Composite!B186","v":"JAK2 [JH1]"},{"$f":"Composite!F186","v":"JAK2(JH1)"},{"$f":"Composite!P186","v":12.879933648826665},{"$f":"Composite!G186","v":"TK"}]
[62,{"$f":"Composite!B318","v":"PRKAA1-B2-G3 (AMPKα1β2γ3)"},{"$f":"Composite!F318","v":"AMPK123"},{"$f":"Composite!P318","v":12.857283286811935},{"$f":"Composite!G318","v":"CAMK"}]
[63,{"$f":"Composite!B303","v":"PINK1 (PINK)"},{"$f":"Composite!F303","v":"PINK"},{"$f":"Composite!P303","v":12.770652898067965},{"$f":"Composite!G303","v":"Other"}]
[64,{"$f":"Composite!B216","v":"MAP3K3 (MEKK3)"},{"$f":"Composite!F216","v":"MAP3K3"},{"$f":"Composite!P216","v":12.564413458623818},{"$f":"Composite!G216","v":"STE"}]
[65,{"$f":"Composite!B86","v":"CDK9 (TAK)/CycT1"},{"$f":"Composite!F86","v":"CDK9/T1"},{"$f":"Composite!P86","v":12.452880990845458},{"$f":"Composite!G86","v":"CMGC"}]
[66,{"$f":"Composite!B91","v":"CHUK (IKKA, IKKa)"},{"$f":"Composite!F91","v":"IKKA"},{"$f":"Composite!P91","v":12.418390804597706},{"$f":"Composite!G91","v":"Other"}]
[67,{"$f":"Composite!B191","v":"KSR1"},{"$f":"Composite!F191","v":"KSR1"},{"$f":"Composite!P191","v":12.290227931441677},{"$f":"Composite!G191","v":"TKL"}]
[68,{"$f":"Composite!B156","v":"FYNa (FYN)"},{"$f":"Composite!F156","v":"FYNA"},{"$f":"Composite!P156","v":12.156326998609444},{"$f":"Composite!G156","v":"TK"}]
[69,{"$f":"Composite!B199","v":"LTK"},{"$f":"Composite!F199","v":"LTK"},{"$f":"Composite!P199","v":12.138013427787783},{"$f":"Composite!G199","v":"TK"}]
[70,{"$f":"Composite!B359","v":"RPS6KA4 (MSK2)"},{"$f":"Composite!F359","v":"MSK2"},{"$f":"Composite!P359","v":12.00829230370563},{"$f":"Composite!G359","v":"AGC"}]
[71,{"$f":"Composite!B221","v":"MAP3K9 (MLK1)"},{"$f":"Composite!F221","v":"MAP3K9"},{"$f":"Composite!P221","v":11.918570522904972},{"$f":"Composite!G221","v":"TKL"}]
[72,{"$f":"Composite!B352","v":"RIPK3"},{"$f":"Composite!F352","v":"RIPK3"},{"$f":"Composite!P352","v":11.796549186360281},{"$f":"Composite!G352","v":"TKL"}]
[73,{"$f":"Composite!B265","v":"NEK1"},{"$f":"Composite!F265","v":"NEK1"},{"$f":"Composite!P265","v":11.794215105149902},{"$f":"Composite!G265","v":"Other"}]
[74,{"$f":"Composite!B284","v":"PAK2"},{"$f":"Composite!F284","v":"PAK2"},{"$f":"Composite!P284","v":11.6315956434387},{"$f":"Composite!G284","v":"STE"}]
[75,{"$f":"Composite!B144","v":"FAM20C"},{"$f":"Composite!F144","v":"FAM20C"},{"$f":"Composite!P144","v":11.608060530516724},{"$f":"Composite!G144","v":"Other"}]
[76,{"$f":"Composite!B150","v":"FGFR4"},{"$f":"Composite!F150","v":"FGFR4"},{"$f":"Composite!P150","v":11.557510535063713},{"$f":"Composite!G150","v":"TK"}]
[77,{"$f":"Composite!B113","v":"DDR1 [SRC treated]"},{"$f":"Composite!F113","v":"DDR1"},{"$f":"Composite!P113","v":11.332782434187223},{"$f":"Composite!G113","v":"TK"}]
[78,{"$f":"Composite!B41","v":"BUB1"},{"$f":"Composite!F41","v":"BUB1"},{"$f":"Composite!P41","v":11.161124107909615},{"$f":"Composite!G41","v":"Other"}]
[79,{"$f":"Composite!B381","v":"STK16 (MPSK1, PKL12, TSF1)"},{"$f":"Composite!F381","v":"STK16"},{"$f":"Composite!P381","v":11.050150021431662},{"$f":"Composite!G381","v":"Other"}]
[80,{"$f":"Composite!B202","v":"MAK"},{"$f":"Composite!F202","v":"MAK"},{"$f":"Composite!P202","v":10.97694840834248},{"$f":"Composite!G202","v":"Atypical"}]
[81,{"$f":"Composite!B33","v":"BLK"},{"$f":"Composite!F33","v":"BLK"},{"$f":"Composite!P33","v":10.971366995073893},{"$f":"Composite!G33","v":"TK"}]
[82,{"$f":"Composite!B383","v":"STK17B (DRAK2)"},{"$f":"Composite!F383","v":"DRAK2"},{"$f":"Composite!P383","v":10.80399061032864},{"$f":"Composite!G383","v":"CAMK"}]
[83,{"$f":"Composite!B390","v":"STK38L (NDR2)"},{"$f":"Composite!F390","v":"NDR2"},{"$f":"Composite!P390","v":10.695771277979119},{"$f":"Composite!G390","v":"AGC"}]
[84,{"$f":"Composite!B75","v":"CDK4 /CycD3"},{"$f":"Composite!F75","v":"CDK4/D3"},{"$f":"Composite!P75","v":10.459003134162387},{"$f":"Composite!G75","v":"CMGC"}]
[85,{"$f":"Composite!B146","v":"FES"},{"$f":"Composite!F146","v":"FES"},{"$f":"Composite!P146","v":10.379935435808306},{"$f":"Composite!G146","v":"TK"}]
[86,{"$f":"Composite!B190","v":"KIT (SCFR, CD117)"},{"$f":"Composite!F190","v":"KIT"},{"$f":"Composite!P190","v":10.339609204611207},{"$f":"Composite!G190","v":"TK"}]
[87,{"$f":"Composite!B282","v":"NUAK2 (SNARK)"},{"$f":"Composite!F282","v":"NUAK2"},{"$f":"Composite!P282","v":10.334693206457501},{"$f":"Composite!G282","v":"CAMK"}]
[88,{"$f":"Composite!B341","v":"PRKDC (DNA-PK)"},{"$f":"Composite!F341","v":"DNA-PK"},{"$f":"Composite!P341","v":10.075364588431043},{"$f":"Composite!G341","v":"Atypical"}]
[89,{"$f":"Composite!B251","v":"MET (c-MET, HGFR)"},{"$f":"Composite!F251","v":"MET"},{"$f":"Composite!P251","v":10.053352444656781},{"$f":"Composite!G251","v":"TK"}]
[90,{"$f":"Composite!B279","v":"NTRK2 (TRKB)"},{"$f":"Composite!F279","v":"NTRK2"},{"$f":"Composite!P279","v":9.8907343786325015},{"$f":"Composite!G279","v":"TK"}]
[91,{"$f":"Composite!B95","v":"CLK3"},{"$f":"Composite!F95","v":"CLK3"},{"$f":"Composite!P95","v":9.8660789964400664},{"$f":"Composite!G95","v":"CMGC"}]
[92,{"$f":"Composite!B98","v":"CSK"},{"$f":"Composite!F98","v":"CSK"},{"$f":"Composite!P98","v":9.4331400456861729},{"$f":"Composite!G98","v":"TK"}]
[93,{"$f":"Composite!B364","v":"SBK1 (SBK)"},{"$f":"Composite!F364","v":"SBK1"},{"$f":"Composite!P364","v":9.4252873563218316},{"$f":"Composite!G364","v":"Other"}]
[94,{"$f":"Composite!B109","v":"DAPK2 (DRP-1)"},{"$f":"Composite!F109","v":"DAPK2"},{"$f":"Composite!P109","v":9.4204772540261104},{"$f":"Composite!G109","v":"CAMK"}]
[95,{"$f":"Composite!B171","v":"HIPK2"},{"$f":"Composite!F171","v":"HIPK2"},{"$f":"Composite!P171","v":9.2946534990635143},{"$f":"Composite!G171","v":"CMGC"}]
[96,{"$f":"Composite!B200","v":"LYNA (LYNa)"},{"$f":"Composite!F200","v":"LYNA"},{"$f":"Composite!P200","v":9.2476880779804986},{"$f":"Composite!G200","v":"TK"}]
[97,{"$f":"Composite!B422","v":"ZAP70"},{"$f":"Composite!F422","v":"ZAP70"},{"$f":"Composite!P422","v":9.1175867863437219},{"$f":"Composite!G422","v":"TK"}]
[98,{"$f":"Composite!B233","v":"MAPK15 (ERK7)"},{"$f":"Composite!F233","v":"ERK7"},{"$f":"Composite!P233","v":9.0793936174559917},{"$f":"Composite!G233","v":"CMGC"}]
[99,{"$f":"Composite!B126","v":"EIF2AK3 (PERK/PEK)"},{"$f":"Composite!F126","v":"PEK"},{"$f":"Composite!P126","v":9.0241159565163116},{"$f":"Composite!G126","v":"Other"}]
[100,{"$f":"Composite!B270","v":"NEK4"},{"$f":"Composite!F270","v":"NEK4"},{"$f":"Composite!P270","v":9.0137264870361236},{"$f":"Composite!G270","v":"Other"}]
[101,{"$f":"Composite!B162","v":"GRK4 (GPRK4)"},{"$f":"Composite!F162","v":"GRK4"},{"$f":"Composite!P162","v":9.0081615714483263},{"$f":"Composite!G162","v":"AGC"}]
[102,{"$f":"Composite!B176","v":"IGF1R"},{"$f":"Composite!F176","v":"IGF1R"},{"$f":"Composite!P176","v":9.005681818181813},{"$f":"Composite!G176","v":"TK"}]
[103,{"$f":"Composite!B217","v":"MAP3K5 (ASK1)"},{"$f":"Composite!F217","v":"MAP3K5"},{"$f":"Composite!P217","v":8.9461989582195116},{"$f":"Composite!G217","v":"STE"}]
[104,{"$f":"Composite!B253","v":"MLK4 (MAP3K21)"},{"$f":"Composite!F253","v":"MLK4"},{"$f":"Composite!P253","v":8.9016779401323021},{"$f":"Composite!G253","v":"STE"}]
[105,{"$f":"Composite!B30","v":"AXL"},{"$f":"Composite!F30","v":"AXL"},{"$f":"Composite!P30","v":8.8835629483842382},{"$f":"Composite!G30","v":"TK"}]
[106,{"$f":"Composite!B27","v":"AURKA (AURA)"},{"$f":"Composite!F27","v":"AURA"},{"$f":"Composite!P27","v":8.8632764701648199},{"$f":"Composite!G27","v":"Other"}]
[107,{"$f":"Composite!B38","v":"BRSK1"},{"$f":"Composite!F38","v":"BRSK1"},{"$f":"Composite!P38","v":8.6609364397195208},{"$f":"Composite!G38","v":"CAMK"}]
[108,{"$f":"Composite!B223","v":"MAP4K2 (GCK)"},{"$f":"Composite!F223","v":"GCK"},{"$f":"Composite!P223","v":8.5839319946555861},{"$f":"Composite!G223","v":"STE"}]
[109,{"$f":"Composite!B197","v":"LIMK2"},{"$f":"Composite!F197","v":"LIMK2"},{"$f":"Composite!P197","v":8.4147436438564256},{"$f":"Composite!G197","v":"TKL"}]
[110,{"$f":"Composite!B193","v":"LATS1"},{"$f":"Composite!F193","v":"LATS1"},{"$f":"Composite!P193","v":8.3871691341408763},{"$f":"Composite!G193","v":"AGC"}]
[111,{"$f":"Composite!B145","v":"FER"},{"$f":"Composite!F145","v":"FER"},{"$f":"Composite!P145","v":8.3650823392251255},{"$f":"Composite!G145","v":"TK"}]
[112,{"$f":"Composite!B288","v":"PAK6"},{"$f":"Composite!F288","v":"PAK6"},{"$f":"Composite!P288","v":8.2395870753058205},{"$f":"Composite!G288","v":"STE"}]
[113,{"$f":"Composite!B28","v":"AURKB (AURB)"},{"$f":"Composite!F28","v":"AURB"},{"$f":"Composite!P28","v":8.2348210695617325},{"$f":"Composite!G28","v":"Other"}]
[114,{"$f":"Composite!B22","v":"ABL2 (ARG)"},{"$f":"Composite!F22","v":"ABL2"},{"$f":"Composite!P22","v":8.1423880269052944},{"$f":"Composite!G22","v":"TK"}]
[115,{"$f":"Composite!B407","v":"TSSK2"},{"$f":"Composite!F407","v":"TSSK2"},{"$f":"Composite!P407","v":8.1277341435433215},{"$f":"Composite!G407","v":"CAMK"}]
[116,{"$f":"Composite!B326","v":"PRKACB (PKACB, PKACβ)"},{"$f":"Composite!F326","v":"PKACB"},{"$f":"Composite!P326","v":8.1014447405617034},{"$f":"Composite!G326","v":"AGC"}]
[117,{"$f":"Composite!B24","v":"AKT2 (PKBb)"},{"$f":"Composite!F24","v":"AKT2"},{"$f":"Composite!P24","v":7.9706242350061274},{"$f":"Composite!G24","v":"AGC"}]
[118,{"$f":"Composite!B349","v":"RET"},{"$f":"Composite!F349","v":"RET"},{"$f":"Composite!P349","v":7.9368732533289688},{"$f":"Composite!G349","v":"TK"}]
[119,{"$f":"Composite!B169","v":"HCK"},{"$f":"Composite!F169","v":"HCK"},{"$f":"Composite!P169","v":7.9213522879977489},{"$f":"Composite!G169","v":"TK"}]
[120,{"$f":"Composite!B159","v":"GRK1 (RHOK)"},{"$f":"Composite!F159","v":"GRK1"},{"$f":"Composite!P159","v":7.8903969270166527},{"$f":"Composite!G159","v":"AGC"}]
[121,{"$f":"Composite!B157","v":"FYNb (FYN)"},{"$f":"Composite!F157","v":"FYNB"},{"$f":"Composite!P157","v":7.8887459170543934},{"$f":"Composite!G157","v":"TK"}]
[122,{"$f":"Composite!B196","v":"LIMK1"},{"$f":"Composite!F196","v":"LIMK1"},{"$f":"Composite!P196","v":7.8437992347512875},{"$f":"Composite!G196","v":"TKL"}]
[123,{"$f":"Composite!B222","v":"MAP4K1 (HPK1)"},{"$f":"Composite!F222","v":"HPK1"},{"$f":"Composite!P222","v":7.8171962904924612},{"$f":"Composite!G222","v":"STE"}]
[124,{"$f":"Composite!B105","v":"CSNK1G3 (CK1G3, CK1γ3)"},{"$f":"Composite!F105","v":"CK1G3"},{"$f":"Composite!P105","v":7.6186786959401331},{"$f":"Composite!G105","v":"CK1"}]
[125,{"$f":"Composite!B149","v":"FGFR3"},{"$f":"Composite!F149","v":"FGFR3"},{"$f":"Composite!P149","v":7.5395576940871649},{"$f":"Composite!G149","v":"TK"}]
[126,{"$f":"Composite!B151","v":"FGR"},{"$f":"Composite!F151","v":"FGR"},{"$f":"Composite!P151","v":7.5112208934542224},{"$f":"Composite!G151","v":"TK"}]
[127,{"$f":"Composite!B242","v":"MARK1"},{"$f":"Composite!F242","v":"MARK1"},{"$f":"Composite!P242","v":7.3872030506061463},{"$f":"Composite!G242","v":"CAMK"}]
[128,{"$f":"Composite!B272","v":"NEK6"},{"$f":"Composite!F272","v":"NEK6"},{"$f":"Composite!P272","v":7.3397071931816811},{"$f":"Composite!G272","v":"Other"}]
[129,{"$f":"Composite!B239","v":"MAPKAPK2 (MK2)"},{"$f":"Composite!F239","v":"MK2"},{"$f":"Composite!P239","v":7.3232293791897689},{"$f":"Composite!G239","v":"CAMK"}]
[130,{"$f":"Composite!B309","v":"PLK2"},{"$f":"Composite!F309","v":"PLK2"},{"$f":"Composite!P309","v":7.2863510109166043},{"$f":"Composite!G309","v":"Other"}]
[131,{"$f":"Composite!B250","v":"MERTK (MER)"},{"$f":"Composite!F250","v":"MERTK"},{"$f":"Composite!P250","v":7.1971998528040473},{"$f":"Composite!G250","v":"TK"}]
[132,{"$f":"Composite!B219","v":"MAP3K7 (TAK1)"},{"$f":"Composite!F219","v":"MAP3K7"},{"$f":"Composite!P219","v":7.1890114142000243},{"$f":"Composite!G219","v":"STE"}]
[133,{"$f":"Composite!B161","v":"GRK3 (ADRBK2, BARK2)"},{"$f":"Composite!F161","v":"GRK3"},{"$f":"Composite!P161","v":7.1781223482218621},{"$f":"Composite!G161","v":"AGC"}]
[134,{"$f":"Composite!B281","v":"NUAK1 (ARK5)"},{"$f":"Composite!F281","v":"NUAK1"},{"$f":"Composite!P281","v":7.12948903562976},{"$f":"Composite!G281","v":"CAMK"}]
[135,{"$f":"Composite!B277","v":"NLK (LAK1)"},{"$f":"Composite!F277","v":"NLK"},{"$f":"Composite!P277","v":7.1100917431192556},{"$f":"Composite!G277","v":"CMGC"}]
[136,{"$f":"Composite!B194","v":"LATS2"},{"$f":"Composite!F194","v":"LATS2"},{"$f":"Composite!P194","v":7.0838310938225106},{"$f":"Composite!G194","v":"AGC"}]
[137,{"$f":"Composite!B21","v":"ABL1"},{"$f":"Composite!F21","v":"ABL1"},{"$f":"Composite!P21","v":7.0704818185619303},{"$f":"Composite!G21","v":"TK"}]
[138,{"$f":"Composite!B227","v":"MAPK1 (ERK2)"},{"$f":"Composite!F227","v":"ERK2"},{"$f":"Composite!P227","v":6.770040149522373},{"$f":"Composite!G227","v":"CMGC"}]
[139,{"$f":"Composite!B84","v":"CDK7/CycH1"},{"$f":"Composite!F84","v":"CDK7/H1"},{"$f":"Composite!P84","v":6.6887945884626703},{"$f":"Composite!G84","v":"CMGC"}]
[140,{"$f":"Composite!B289","v":"PASK"},{"$f":"Composite!F289","v":"PASK"},{"$f":"Composite!P289","v":6.4135684600696408},{"$f":"Composite!G289","v":"CAMK"}]
[141,{"$f":"Composite!B178","v":"IKKE (IKKe)"},{"$f":"Composite!F178","v":"IKKE"},{"$f":"Composite!P178","v":6.251035407920412},{"$f":"Composite!G178","v":"Other"}]
[142,{"$f":"Composite!B254","v":"MNK1"},{"$f":"Composite!F254","v":"MNK1"},{"$f":"Composite!P254","v":6.2018528029075952},{"$f":"Composite!G254","v":"CAMK"}]
[143,{"$f":"Composite!B321","v":"PRKAA2-B1-G3 (AMPKα2β1γ3)"},{"$f":"Composite!F321","v":"AMPK213"},{"$f":"Composite!P321","v":6.1827090451937323},{"$f":"Composite!G321","v":"CAMK"}]
[144,{"$f":"Composite!B203","v":"MAP2K1 (MEK1)"},{"$f":"Composite!F203","v":"MEK1"},{"$f":"Composite!P203","v":6.1423876006392959},{"$f":"Composite!G203","v":"STE"}]
[145,{"$f":"Composite!B152","v":"FLT1"},{"$f":"Composite!F152","v":"FLT1"},{"$f":"Composite!P152","v":6.1217556867446348},{"$f":"Composite!G152","v":"TK"}]
[146,{"$f":"Composite!B406","v":"TSSK1B (TSSK1)"},{"$f":"Composite!F406","v":"TSSK1"},{"$f":"Composite!P406","v":6.119200155309656},{"$f":"Composite!G406","v":"CAMK"}]
[147,{"$f":"Composite!B237","v":"MAPK8 (JNK1)"},{"$f":"Composite!F237","v":"JNK1"},{"$f":"Composite!P237","v":6.0639964197807217},{"$f":"Composite!G237","v":"CMGC"}]
[148,{"$f":"Composite!B392","v":"SYK"},{"$f":"Composite!F392","v":"SYK"},{"$f":"Composite!P392","v":5.9765572703392849},{"$f":"Composite!G392","v":"TK"}]
[149,{"$f":"Composite!B387","v":"STK3 (CLIK1, MST2)"},{"$f":"Composite!F387","v":"MST2"},{"$f":"Composite!P387","v":5.9490430330366877},{"$f":"Composite!G387","v":"STE"}]
[150,{"$f":"Composite!B268","v":"NEK2"},{"$f":"Composite!F268","v":"NEK2"},{"$f":"Composite!P268","v":5.9198124051680594},{"$f":"Composite!G268","v":"Other"}]
[151,{"$f":"Composite!B208","v":"MAP3K10 (MLK2)"},{"$f":"Composite!F208","v":"MAP3K10"},{"$f":"Composite!P208","v":5.9062901894542819},{"$f":"Composite!G208","v":"TKL"}]
[152,{"$f":"Composite!B246","v":"MAST3"},{"$f":"Composite!F246","v":"MAST3"},{"$f":"Composite!P246","v":5.8119064739282322},{"$f":"Composite!G246","v":"AGC"}]
[153,{"$f":"Composite!B138","v":"EPHB3"},{"$f":"Composite!F138","v":"EPHB3"},{"$f":"Composite!P138","v":5.6814350651615513},{"$f":"Composite!G138","v":"TK"}]
[154,{"$f":"Composite!B258","v":"MUSK"},{"$f":"Composite!F258","v":"MUSK"},{"$f":"Composite!P258","v":5.6150085876601707},{"$f":"Composite!G258","v":"TK"}]
[155,{"$f":"Composite!B192","v":"KSR2"},{"$f":"Composite!F192","v":"KSR2"},{"$f":"Composite!P192","v":5.6004019427231668},{"$f":"Composite!G192","v":"TKL"}]
[156,{"$f":"Composite!B398","v":"TEK (TIE2)"},{"$f":"Composite!F398","v":"TEK"},{"$f":"Composite!P398","v":5.5267234701781689},{"$f":"Composite!G398","v":"TK"}]
[157,{"$f":"Composite!B39","v":"BRSK2"},{"$f":"Composite!F39","v":"BRSK2"},{"$f":"Composite!P39","v":5.504091400339675},{"$f":"Composite!G39","v":"CAMK"}]
[158,{"$f":"Composite!B329","v":"PRKCB1 (PKCβ1 [beta1])"},{"$f":"Composite!F329","v":"PKCB1"},{"$f":"Composite!P329","v":5.3836380472468051},{"$f":"Composite!G329","v":"AGC"}]
[159,{"$f":"Composite!B369","v":"SIK2 (QIK)"},{"$f":"Composite!F369","v":"SIK2"},{"$f":"Composite!P369","v":5.3313135261923321},{"$f":"Composite!G369","v":"CAMK"}]
[160,{"$f":"Composite!B48","v":"CAMK2G (CAMK2γ)"},{"$f":"Composite!F48","v":"CAMK2G"},{"$f":"Composite!P48","v":5.3273854705545745},{"$f":"Composite!G48","v":"CAMK"}]
[161,{"$f":"Composite!B316","v":"PRKAA1-B2-G1 (AMPKα1β2γ1)"},{"$f":"Composite!F316","v":"AMPK121"},{"$f":"Composite!P316","v":5.2959415314766574},{"$f":"Composite!G316","v":"CAMK"}]
[162,{"$f":"Composite!B319","v":"PRKAA2-B1-G1 (AMPKα2β1γ1)"},{"$f":"Composite!F319","v":"AMPK211"},{"$f":"Composite!P319","v":5.2694346032798762},{"$f":"Composite!G319","v":"CAMK"}]
[163,{"$f":"Composite!B143","v":"ERN2 (IRE2)"},{"$f":"Composite!F143","v":"ERN2"},{"$f":"Composite!P143","v":5.1608254739808217},{"$f":"Composite!G143","v":"Other"}]
[164,{"$f":"Composite!B240","v":"MAPKAPK3 (MK3)"},{"$f":"Composite!F240","v":"MK3"},{"$f":"Composite!P240","v":5.146913823703386},{"$f":"Composite!G240","v":"CAMK"}]
[165,{"$f":"Composite!B278","v":"NTRK1 (TRKA)"},{"$f":"Composite!F278","v":"NTRK1"},{"$f":"Composite!P278","v":5.1222030981067093},{"$f":"Composite!G278","v":"TK"}]
[166,{"$f":"Composite!B42","v":"CAMK1 (CAMK1a)"},{"$f":"Composite!F42","v":"CAMK1A"},{"$f":"Composite!P42","v":5.0665589800539408},{"$f":"Composite!G42","v":"CAMK"}]
[167,{"$f":"Composite!B121","v":"DYRK4"},{"$f":"Composite!F121","v":"DYRK4"},{"$f":"Composite!P121","v":5.0272998866797138},{"$f":"Composite!G121","v":"CMGC"}]
[168,{"$f":"Composite!B131","v":"EPHA4"},{"$f":"Composite!F131","v":"EPHA4"},{"$f":"Composite!P131","v":4.9452515565733961},{"$f":"Composite!G131","v":"TK"}]
[169,{"$f":"Composite!B147","v":"FGFR1"},{"$f":"Composite!F147","v":"FGFR1"},{"$f":"Composite!P147","v":4.9409295433355993},{"$f":"Composite!G147","v":"TK"}]
[170,{"$f":"Composite!B397","v":"TEC"},{"$f":"Composite!F397","v":"TEC"},{"$f":"Composite!P397","v":4.8602279332757945},{"$f":"Composite!G397","v":"TK"}]
[171,{"$f":"Composite!B224","v":"MAP4K3 (GLK, KHS2)"},{"$f":"Composite!F224","v":"GLK/KHS2"},{"$f":"Composite!P224","v":4.7956324976653946},{"$f":"Composite!G224","v":"STE"}]
[172,{"$f":"Composite!B46","v":"CAMK2B (CAMK2β)"},{"$f":"Composite!F46","v":"CAMK2B"},{"$f":"Composite!P46","v":4.7528361051370211},{"$f":"Composite!G46","v":"CAMK"}]
[173,{"$f":"Composite!B160","v":"GRK2 (ADRBK1, BARK1)"},{"$f":"Composite!F160","v":"GRK2"},{"$f":"Composite!P160","v":4.6515010745422529},{"$f":"Composite!G160","v":"AGC"}]
[174,{"$f":"Composite!B96","v":"CLK4"},{"$f":"Composite!F96","v":"CLK4"},{"$f":"Composite!P96","v":4.3483647175421112},{"$f":"Composite!G96","v":"CMGC"}]
[175,{"$f":"Composite!B231","v":"MAPK13 (p38δ)"},{"$f":"Composite!F231","v":"P38D"},{"$f":"Composite!P231","v":4.3129523603759026},{"$f":"Composite!G231","v":"CMGC"}]
[176,{"$f":"Composite!B418","v":"ULK2"},{"$f":"Composite!F418","v":"ULK2"},{"$f":"Composite!P418","v":4.2751934909151146},{"$f":"Composite!G418","v":"Other"}]
[177,{"$f":"Composite!B167","v":"GSK3B (GSK3β)"},{"$f":"Composite!F167","v":"GSK3B"},{"$f":"Composite!P167","v":4.2448185045230389},{"$f":"Composite!G167","v":"CMGC"}]
[178,{"$f":"Composite!B127","v":"EIF2AK4 (GCN2)"},{"$f":"Composite!F127","v":"GCN2"},{"$f":"Composite!P127","v":4.2169782408826251},{"$f":"Composite!G127","v":"Other"}]
[179,{"$f":"Composite!B283","v":"PAK1"},{"$f":"Composite!F283","v":"PAK1"},{"$f":"Composite!P283","v":4.2156663963233285},{"$f":"Composite!G283","v":"STE"}]
[180,{"$f":"Composite!B339","v":"PRKD2 (PKD2)"},{"$f":"Composite!F339","v":"PKD2"},{"$f":"Composite!P339","v":4.1612235953700178},{"$f":"Composite!G339","v":"CAMK"}]
[181,{"$f":"Composite!B93","v":"CLK1"},{"$f":"Composite!F93","v":"CLK1"},{"$f":"Composite!P93","v":4.1372559122056742},{"$f":"Composite!G93","v":"CMGC"}]
[182,{"$f":"Composite!B347","v":"PTK6 (BRK)"},{"$f":"Composite!F347","v":"PTK6"},{"$f":"Composite!P347","v":4.117252698985169},{"$f":"Composite!G347","v":"TK"}]
[183,{"$f":"Composite!B417","v":"ULK1"},{"$f":"Composite!F417","v":"ULK1"},{"$f":"Composite!P417","v":4.1078945793348254},{"$f":"Composite!G417","v":"Other"}]
[184,{"$f":"Composite!B51","v":"CAMKK2"},{"$f":"Composite!F51","v":"CAMKK2"},{"$f":"Composite!P51","v":4.0735137201191236},{"$f":"Composite!G51","v":"Other"}]
[185,{"$f":"Composite!B185","v":"JAK1 [JH1-JH2]"},{"$f":"Composite!F185","v":"JAK1(JH1JH2)"},{"$f":"Composite!P185","v":4.0022906592008241},{"$f":"Composite!G185","v":"TK"}]
[186,{"$f":"Composite!B184","v":"JAK1 [JH1]"},{"$f":"Composite!F184","v":"JAK1(JH1)"},{"$f":"Composite!P184","v":3.9981568400523031},{"$f":"Composite!G184","v":"TK"}]
[187,{"$f":"Composite!B142","v":"ERN1 (IRE1)"},{"$f":"Composite!F142","v":"ERN1"},{"$f":"Composite!P142","v":3.989993107497483},{"$f":"Composite!G142","v":"Other"}]
[188,{"$f":"Composite!B327","v":"PRKACG (PKACG, PKACg)"},{"$f":"Composite!F327","v":"PKACG"},{"$f":"Composite!P327","v":3.9459985895153977},{"$f":"Composite!G327","v":"AGC"}]
[189,{"$f":"Composite!B248","v":"MATK (CTK)"},{"$f":"Composite!F248","v":"CTK"},{"$f":"Composite!P248","v":3.9211264204116389},{"$f":"Composite!G248","v":"TK"}]
[190,{"$f":"Composite!B204","v":"MAP2K2 (MEK2)"},{"$f":"Composite!F204","v":"MEK2"},{"$f":"Composite!P204","v":3.8912872322548964},{"$f":"Composite!G204","v":"STE"}]
[191,{"$f":"Composite!B245","v":"MARK4"},{"$f":"Composite!F245","v":"MARK4"},{"$f":"Composite!P245","v":3.8798249104655724},{"$f":"Composite!G245","v":"CAMK"}]
[192,{"$f":"Composite!B384","v":"STK24 (MST3)"},{"$f":"Composite!F384","v":"MST3"},{"$f":"Composite!P384","v":3.8770814824938924},{"$f":"Composite!G384","v":"STE"}]
[193,{"$f":"Composite!B291","v":"PDGFRA (PDGFRα)"},{"$f":"Composite!F291","v":"PDGFRA"},{"$f":"Composite!P291","v":3.8640264158896969},{"$f":"Composite!G291","v":"TK"}]
[194,{"$f":"Composite!B125","v":"EIF2AK2 (PKR)"},{"$f":"Composite!F125","v":"PKR"},{"$f":"Composite!P125","v":3.7776970577551907},{"$f":"Composite!G125","v":"Other"}]
[195,{"$f":"Composite!B107","v":"CSNK2A2 (CK2A2, CK2α2)"},{"$f":"Composite!F107","v":"CK2A2"},{"$f":"Composite!P107","v":3.6574313827032654},{"$f":"Composite!G107","v":"Other"}]
[196,{"$f":"Composite!B322","v":"PRKAA2-B2-G1 (AMPKα2β2γ1)"},{"$f":"Composite!F322","v":"AMPK221"},{"$f":"Composite!P322","v":3.4420183302137417},{"$f":"Composite!G322","v":"CAMK"}]
[197,{"$f":"Composite!B273","v":"NEK7"},{"$f":"Composite!F273","v":"NEK7"},{"$f":"Composite!P273","v":3.4410831120036391},{"$f":"Composite!G273","v":"Other"}]
[198,{"$f":"Composite!B232","v":"MAPK14 (p38a)"},{"$f":"Composite!F232","v":"P38A"},{"$f":"Composite!P232","v":3.43801881571666},{"$f":"Composite!G232","v":"CMGC"}]
[199,{"$f":"Composite!B187","v":"JAK2 [JH1-JH2]"},{"$f":"Composite!F187","v":"JAK2(JH1JH2)"},{"$f":"Composite!P187","v":3.3357637623040404},{"$f":"Composite!G187","v":"TK"}]
[200,{"$f":"Composite!B391","v":"STK4 (MST1)"},{"$f":"Composite!F391","v":"MST1"},{"$f":"Composite!P391","v":3.1806361272254549},{"$f":"Composite!G391","v":"STE"}]
[201,{"$f":"Composite!B238","v":"MAPK9 (JNK2)"},{"$f":"Composite!F238","v":"JNK2"},{"$f":"Composite!P238","v":3.1585939618814791},{"$f":"Composite!G238","v":"CMGC"}]
[202,{"$f":"Composite!B106","v":"CSNK2A1 (CK2A1, CK2α1)"},{"$f":"Composite!F106","v":"CK2A1"},{"$f":"Composite!P106","v":3.1518845723544615},{"$f":"Composite!G106","v":"Other"}]
[203,{"$f":"Composite!B213","v":"MAP3K19 (YSK4)"},{"$f":"Composite!F213","v":"YSK4"},{"$f":"Composite!P213","v":3.1414165103189902},{"$f":"Composite!G213","v":"STE"}]
[204,{"$f":"Composite!B188","v":"JAK3 [JH1]"},{"$f":"Composite!F188","v":"JAK3(JH1)"},{"$f":"Composite!P188","v":3.1337161607875004},{"$f":"Composite!G188","v":"TK"}]
[205,{"$f":"Composite!B356","v":"RPS6KA1 (RSK1)"},{"$f":"Composite!F356","v":"RSK1"},{"$f":"Composite!P356","v":3.0759699586475477},{"$f":"Composite!G356","v":"AGC"}]
[206,{"$f":"Composite!B129","v":"EPHA2"},{"$f":"Composite!F129","v":"EPHA2"},{"$f":"Composite!P129","v":3.0747701696760146},{"$f":"Composite!G129","v":"TK"}]
[207,{"$f":"Composite!B137","v":"EPHB2"},{"$f":"Composite!F137","v":"EPHB2"},{"$f":"Composite!P137","v":2.9974280743337118},{"$f":"Composite!G137","v":"TK"}]
[208,{"$f":"Composite!B62","v":"CDK14 (PFTAIRE1, PFTK1)/CycY"},{"$f":"Composite!F62","v":"CDK14"},{"$f":"Composite!P62","v":2.947418061777924},{"$f":"Composite!G62","v":"CMGC"}]
[209,{"$f":"Composite!B368","v":"SIK1 (SIK)"},{"$f":"Composite!F368","v":"SIK1"},{"$f":"Composite!P368","v":2.7676894176581044},{"$f":"Composite!G368","v":"CAMK"}]
[210,{"$f":"Composite!B306","v":"PKN2"},{"$f":"Composite!F306","v":"PKN2"},{"$f":"Composite!P306","v":2.7289551245018657},{"$f":"Composite!G306","v":"AGC"}]
[211,{"$f":"Composite!B135","v":"EPHA8"},{"$f":"Composite!F135","v":"EPHA8"},{"$f":"Composite!P135","v":2.7189748960162348},{"$f":"Composite!G135","v":"TK"}]
[212,{"$f":"Composite!B290","v":"PBK (TOPK)"},{"$f":"Composite!F290","v":"TOPK"},{"$f":"Composite!P290","v":2.6987796822306365},{"$f":"Composite!G290","v":"Other"}]
[213,{"$f":"Composite!B348","v":"RAF1 [Y340E/Y341E]"},{"$f":"Composite!F348","v":"RAF1"},{"$f":"Composite!P348","v":2.6921138736487933},{"$f":"Composite!G348","v":"TKL"}]
[214,{"$f":"Composite!B380","v":"STK11 (LKB1, AMPKK)"},{"$f":"Composite!F380","v":"LKB1"},{"$f":"Composite!P380","v":2.6722845104620347},{"$f":"Composite!G380","v":"CAMK"}]
[215,{"$f":"Composite!B338","v":"PRKD1 (PKD1)"},{"$f":"Composite!F338","v":"PKD1"},{"$f":"Composite!P338","v":2.6390655434508687},{"$f":"Composite!G338","v":"CAMK"}]
[216,{"$f":"Composite!B63","v":"CDK16 (PCTAIRE1, PCTK1)/CycY "},{"$f":"Composite!F63","v":"CDK16"},{"$f":"Composite!P63","v":2.5575660173459625},{"$f":"Composite!G63","v":"CMGC"}]
[217,{"$f":"Composite!B44","v":"CAMK1G (CAMK1γ)"},{"$f":"Composite!F44","v":"CAMK1G"},{"$f":"Composite!P44","v":2.5451727969124534},{"$f":"Composite!G44","v":"CAMK"}]
[218,{"$f":"Composite!B324","v":"PRKAA2-B2-G3 (AMPKα2β2γ3)"},{"$f":"Composite!F324","v":"AMPK223"},{"$f":"Composite!P324","v":2.4680641567123871},{"$f":"Composite!G324","v":"CAMK"}]
[219,{"$f":"Composite!B133","v":"EPHA6"},{"$f":"Composite!F133","v":"EPHA6"},{"$f":"Composite!P133","v":2.4459974587039426},{"$f":"Composite!G133","v":"TK"}]
[220,{"$f":"Composite!B90","v":"CHEK2 (CHK2)"},{"$f":"Composite!F90","v":"CHK2"},{"$f":"Composite!P90","v":2.3835961731275432},{"$f":"Composite!G90","v":"CAMK"}]
[221,{"$f":"Composite!B363","v":"RPS6KB2 (p70S6KB)"},{"$f":"Composite!F363","v":"P70S6KB"},{"$f":"Composite!P363","v":2.2481330551601815},{"$f":"Composite!G363","v":"AGC"}]
[222,{"$f":"Composite!B134","v":"EPHA7"},{"$f":"Composite!F134","v":"EPHA7"},{"$f":"Composite!P134","v":2.2043223733439277},{"$f":"Composite!G134","v":"TK"}]
[223,{"$f":"Composite!B408","v":"TSSK3"},{"$f":"Composite!F408","v":"TSSK3"},{"$f":"Composite!P408","v":2.0866054321637364},{"$f":"Composite!G408","v":"CAMK"}]
[224,{"$f":"Composite!B108","v":"DAPK1"},{"$f":"Composite!F108","v":"DAPK1"},{"$f":"Composite!P108","v":1.903573342723476},{"$f":"Composite!G108","v":"CAMK"}]
[225,{"$f":"Composite!B214","v":"MAP3K2 (MEKK2)"},{"$f":"Composite!F214","v":"MAP3K2"},{"$f":"Composite!P214","v":1.8766153500393301},{"$f":"Composite!G214","v":"STE"}]
[226,{"$f":"Composite!B195","v":"LCK"},{"$f":"Composite!F195","v":"LCK"},{"$f":"Composite!P195","v":1.8468760616448918},{"$f":"Composite!G195","v":"TK"}]
[227,{"$f":"Composite!B85","v":"CDK9 (TAK)/CycK"},{"$f":"Composite!F85","v":"CDK9/K"},{"$f":"Composite!P85","v":1.7929624762739564},{"$f":"Composite!G85","v":"CMGC"}]
[228,{"$f":"Composite!B205","v":"MAP2K3 (MEK3)"},{"$f":"Composite!F205","v":"MEK3"},{"$f":"Composite!P205","v":1.7780148464239289},{"$f":"Composite!G205","v":"STE"}]
[229,{"$f":"Composite!B89","v":"CHEK1 (CHK1)"},{"$f":"Composite!F89","v":"CHK1"},{"$f":"Composite!P89","v":1.6310909420681696},{"$f":"Composite!G89","v":"CAMK"}]
[230,{"$f":"Composite!B179","v":"INSR (IR)"},{"$f":"Composite!F179","v":"INSR"},{"$f":"Composite!P179","v":1.5947971157924741},{"$f":"Composite!G179","v":"TK"}]
[231,{"$f":"Composite!B32","v":"BCR RET (fusion)"},{"$f":"Composite!F32","v":"BCR RET"},{"$f":"Composite!P32","v":1.5931965666762125},{"$f":"Composite!G32","v":"TK"}]
[232,{"$f":"Composite!B119","v":"DYRK2"},{"$f":"Composite!F119","v":"DYRK2"},{"$f":"Composite!P119","v":1.560893897285581},{"$f":"Composite!G119","v":"CMGC"}]
[233,{"$f":"Composite!B312","v":"PNCK (CAMK1β)"},{"$f":"Composite!F312","v":"CAMK1B"},{"$f":"Composite!P312","v":1.4351715324879564},{"$f":"Composite!G312","v":"CAMK"}]
[234,{"$f":"Composite!B50","v":"CAMKK1"},{"$f":"Composite!F50","v":"CAMKK1"},{"$f":"Composite!P50","v":1.3984773554516607},{"$f":"Composite!G50","v":"Other"}]
[235,{"$f":"Composite!B299","v":"PHKG2"},{"$f":"Composite!F299","v":"PHKG2"},{"$f":"Composite!P299","v":1.344814034084834},{"$f":"Composite!G299","v":"CAMK"}]
[236,{"$f":"Composite!B285","v":"PAK3"},{"$f":"Composite!F285","v":"PAK3"},{"$f":"Composite!P285","v":1.3378837485415715},{"$f":"Composite!G285","v":"STE"}]
[237,{"$f":"Composite!B396","v":"TBK1"},{"$f":"Composite!F396","v":"TBK1"},{"$f":"Composite!P396","v":1.3118128630466543},{"$f":"Composite!G396","v":"Other"}]
[238,{"$f":"Composite!B148","v":"FGFR2"},{"$f":"Composite!F148","v":"FGFR2"},{"$f":"Composite!P148","v":1.3112015245141748},{"$f":"Composite!G148","v":"TK"}]
[239,{"$f":"Composite!B165","v":"GRK7 (GPRK7)"},{"$f":"Composite!F165","v":"GRK7"},{"$f":"Composite!P165","v":1.2981116642897064},{"$f":"Composite!G165","v":"AGC"}]
[240,{"$f":"Composite!B340","v":"PRKD3 (PKD3)"},{"$f":"Composite!F340","v":"PKD3"},{"$f":"Composite!P340","v":1.2833391701841634},{"$f":"Composite!G340","v":"CAMK"}]
[241,{"$f":"Composite!B354","v":"ROCK2"},{"$f":"Composite!F354","v":"ROCK2"},{"$f":"Composite!P354","v":1.2569470440867008},{"$f":"Composite!G354","v":"AGC"}]
[242,{"$f":"Composite!B307","v":"PKN3"},{"$f":"Composite!F307","v":"PKN3"},{"$f":"Composite!P307","v":1.1986294081341526},{"$f":"Composite!G307","v":"AGC"}]
[243,{"$f":"Composite!B301","v":"PIM2"},{"$f":"Composite!F301","v":"PIM2"},{"$f":"Composite!P301","v":1.1617948562679032},{"$f":"Composite!G301","v":"CAMK"}]
[244,{"$f":"Composite!B198","v":"LRRK2"},{"$f":"Composite!F198","v":"LRRK2"},{"$f":"Composite!P198","v":1.0697358691831198},{"$f":"Composite!G198","v":"TKL"}]
[245,{"$f":"Composite!B117","v":"DYRK1A"},{"$f":"Composite!F117","v":"DYRK1A"},{"$f":"Composite!P117","v":1.0554821811078625},{"$f":"Composite!G117","v":"CMGC"}]
[246,{"$f":"Composite!B300","v":"PIM1"},{"$f":"Composite!F300","v":"PIM1"},{"$f":"Composite!P300","v":1.0474522608687522},{"$f":"Composite!G300","v":"CAMK"}]
[247,{"$f":"Composite!B182","v":"IRAK4"},{"$f":"Composite!F182","v":"IRAK4"},{"$f":"Composite!P182","v":1.0415375077495241},{"$f":"Composite!G182","v":"TKL"}]
[248,{"$f":"Composite!B155","v":"FRK"},{"$f":"Composite!F155","v":"FRK"},{"$f":"Composite!P155","v":1.0344205698974491},{"$f":"Composite!G155","v":"TK"}]
[249,{"$f":"Composite!B220","v":"MAP3K8 (COT, Tpl2)"},{"$f":"Composite!F220","v":"MAP3K8"},{"$f":"Composite!P220","v":0.94586855030458139},{"$f":"Composite!G220","v":"STE"}]
[250,{"$f":"Composite!B101","v":"CSNK1D (CK1D, CK1δ)"},{"$f":"Composite!F101","v":"CK1D"},{"$f":"Composite!P101","v":0.93779869790257919},{"$f":"Composite!G101","v":"CK1"}]
[251,{"$f":"Composite!B373","v":"SRC"},{"$f":"Composite!F373","v":"SRC"},{"$f":"Composite!P373","v":0.92233862000352929},{"$f":"Composite!G373","v":"TK"}]
[252,{"$f":"Composite!B269","v":"NEK3"},{"$f":"Composite!F269","v":"NEK3"},{"$f":"Composite!P269","v":0.85566923141962548},{"$f":"Composite!G269","v":"Other"}]
[253,{"$f":"Composite!B118","v":"DYRK1B"},{"$f":"Composite!F118","v":"DYRK1B"},{"$f":"Composite!P118","v":0.81592508450157197},{"$f":"Composite!G118","v":"CMGC"}]
[254,{"$f":"Composite!B139","v":"EPHB4"},{"$f":"Composite!F139","v":"EPHB4"},{"$f":"Composite!P139","v":0.80201259765070176},{"$f":"Composite!G139","v":"TK"}]
[255,{"$f":"Composite!B378","v":"SRPK3 (MSSK1)"},{"$f":"Composite!F378","v":"MSSK1"},{"$f":"Composite!P378","v":0.7597477064220044},{"$f":"Composite!G378","v":"CMGC"}]
[256,{"$f":"Composite!B229","v":"MAPK11 (p38b)"},{"$f":"Composite!F229","v":"P38B"},{"$f":"Composite!P229","v":0.75645231354573639},{"$f":"Composite!G229","v":"CMGC"}]
[257,{"$f":"Composite!B236","v":"MAPK7 (BMK, ERK5)"},{"$f":"Composite!F236","v":"ERK5"},{"$f":"Composite!P236","v":0.75613530842362309},{"$f":"Composite!G236","v":"CMGC"}]
[258,{"$f":"Composite!B210","v":"MAP3K12 (DLK)"},{"$f":"Composite!F210","v":"MAP3K12"},{"$f":"Composite!P210","v":0.72924262944056295},{"$f":"Composite!G210","v":"TKL"}]
[259,{"$f":"Composite!B100","v":"CSNK1A1L (CK1A1L, CK1a2)"},{"$f":"Composite!F100","v":"CK1A1L"},{"$f":"Composite!P100","v":0.72342621259026885},{"$f":"Composite!G100","v":"CK1"}]
[260,{"$f":"Composite!B132","v":"EPHA5"},{"$f":"Composite!F132","v":"EPHA5"},{"$f":"Composite!P132","v":0.72257015278826486},{"$f":"Composite!G132","v":"TK"}]
[261,{"$f":"Composite!B183","v":"ITK"},{"$f":"Composite!F183","v":"ITK"},{"$f":"Composite!P183","v":0.58194244960627373},{"$f":"Composite!G183","v":"TK"}]
[262,{"$f":"Composite!B371","v":"SLK"},{"$f":"Composite!F371","v":"SLK"},{"$f":"Composite!P371","v":0.53017762068809304},{"$f":"Composite!G371","v":"STE"}]
[263,{"$f":"Composite!B136","v":"EPHB1"},{"$f":"Composite!F136","v":"EPHB1"},{"$f":"Composite!P136","v":0.52881533710156248},{"$f":"Composite!G136","v":"TK"}]
[264,{"$f":"Composite!B376","v":"SRPK1"},{"$f":"Composite!F376","v":"SRPK1"},{"$f":"Composite!P376","v":0.50780747562572515},{"$f":"Composite!G376","v":"CMGC"}]
[265,{"$f":"Composite!B394","v":"TAOK2 (TAO2)"},{"$f":"Composite!F394","v":"TAOK2"},{"$f":"Composite!P394","v":0.34539310207730978},{"$f":"Composite!G394","v":"STE"}]
[266,{"$f":"Composite!B72","v":"CDK2/CycO"},{"$f":"Composite!F72","v":"CDK2/O"},{"$f":"Composite!P72","v":0.29766083513520414},{"$f":"Composite!G72","v":"CMGC"}]
[267,{"$f":"Composite!B389","v":"STK38 (NDR1)"},{"$f":"Composite!F389","v":"NDR1"},{"$f":"Composite!P389","v":0.17178528192400222},{"$f":"Composite!G389","v":"AGC"}]
[268,{"$f":"Composite!B73","v":"CDK3/CycE1"},{"$f":"Composite!F73","v":"CDK3/E1"},{"$f":"Composite!P73","v":0.16399646776842758},{"$f":"Composite!G73","v":"CMGC"}]
[269,{"$f":"Composite!B158","v":"GAK"},{"$f":"Composite!F158","v":"GAK"},{"$f":"Composite!P158","v":7.0813505551797107E-2},{"$f":"Composite!G158","v":"Other"}]
[270,{"$f":"Composite!B66","v":"CDK18 (PCTAIRE3, PCTK3)/CycY "},{"$f":"Composite!F66","v":"CDK18"},{"$f":"Composite!P66","v":6.1776759884267562E-2},{"$f":"Composite!G66","v":"CMGC"}]
[271,{"$f":"Composite!B355","v":"ROS1 (ROS)"},{"$f":"Composite!F355","v":"ROS"},{"$f":"Composite!P355","v":3.4722746418282213E-2},{"$f":"Composite!G355","v":"TK"}]
[272,{"$f":"Composite!B60","v":"CDK12 (CRK7)/CycK"},{"$f":"Composite!F60","v":"CDK12/K"},{"$f":"Composite!P60","v":0},{"$f":"Composite!G60","v":"CMGC"}]
[273,{"$f":"Composite!B69","v":"CDK2/CycD1"},{"$f":"Composite!F69","v":"CDK2/D1"},{"$f":"Composite!P69","v":0},{"$f":"Composite!G69","v":"CMGC"}]
[274,{"$f":"Composite!B206","v":"MAP2K4 (MEK4)"},{"$f":"Composite!F206","v":"MEK4(HIS)"},{"$f":"Composite!P206","v":0},{"$f":"Composite!G206","v":"STE"}]
[275,{"$f":"Composite!B235","v":"MAPK6 (ERK3)"},{"$f":"Composite!F235","v":"ERK3"},{"$f":"Composite!P235","v":0},{"$f":"Composite!G235","v":"CMGC"}]
[276,{"$f":"Composite!B267","v":"NEK11"},{"$f":"Composite!F267","v":"NEK11"},{"$f":"Composite!P267","v":0},{"$f":"Composite!G267","v":"Other"}]
[277,{"$f":"Composite!B274","v":"NEK8"},{"$f":"Composite!F274","v":"NEK8"},{"$f":"Composite!P274","v":0},{"$f":"Composite!G274","v":"Other"}]
[278,{"$f":"Composite!B374","v":"SRC N1"},{"$f":"Composite!F374","v":"SRC N1"},{"$f":"Composite!P374","v":0},{"$f":"Composite!G374","v":"TK"}]
[279,{"$f":"Composite!B415","v":"TYK2 [JH1-JH2]"},{"$f":"Composite!F415","v":"TYK2(JH1JH2)"},{"$f":"Composite!P415","v":0},{"$f":"Composite!G415","v":"TK"}]
[280,{"$f":"Composite!B420","v":"WEE1"},{"$f":"Composite!F420","v":"WEE1"},{"$f":"Composite!P420","v":0},{"$f":"Composite!G420","v":"Other"}]
[281,{"$f":"Composite!B423","v":0},{"$f":"Composite!F423","v":0},{"$f":"Composite!P423","v":0},{"$f":"Composite!G423","v":0}]
[282,{"$f":"Composite!B424","v":0},{"$f":"Composite!F424","v":0},{"$f":"Composite!P424","v":0},{"$f":"Composite!G424","v":0}]
[283,{"$f":"Composite!B425","v":0},{"$f":"Composite!F425","v":0},{"$f":"Composite!P425","v":0},{"$f":"Composite!G425","v":0}]
[284,{"$f":"Composite!B426","v":0},{"$f":"Composite!F426","v":0},{"$f":"Composite!P426","v":0},{"$f":"Composite!G426","v":0}]
[285,{"$f":"Composite!B427","v":0},{"$f":"Composite!F427","v":0},{"$f":"Composite!P427","v":0},{"$f":"Composite!G427","v":0}]
[286,{"$f":"Composite!B428","v":0},{"$f":"Composite!F428","v":0},{"$f":"Composite!P428","v":0},{"$f":"Composite!G428","v":0}]
[287,{"$f":"Composite!B429","v":0},{"$f":"Composite!F429","v":0},{"$f":"Composite!P429","v":0},{"$f":"Composite!G429","v":0}]
[288,{"$f":"Composite!B430","v":0},{"$f":"Composite!F430","v":0},{"$f":"Composite!P430","v":0},{"$f":"Composite!G430","v":0}]
[289,{"$f":"Composite!B431","v":0},{"$f":"Composite!F431","v":0},{"$f":"Composite!P431","v":0},{"$f":"Composite!G431","v":0}]
[290,{"$f":"Composite!B432","v":0},{"$f":"Composite!F432","v":0},{"$f":"Composite!P432","v":0},{"$f":"Composite!G432","v":0}]
[291,{"$f":"Composite!B433","v":0},{"$f":"Composite!F433","v":0},{"$f":"Composite!P433","v":0},{"$f":"Composite!G433","v":0}]
[292,{"$f":"Composite!B434","v":0},{"$f":"Composite!F434","v":0},{"$f":"Composite!P434","v":0},{"$f":"Composite!G434","v":0}]
[293,{"$f":"Composite!B435","v":0},{"$f":"Composite!F435","v":0},{"$f":"Composite!P435","v":0},{"$f":"Composite!G435","v":0}]
[294,{"$f":"Composite!B436","v":0},{"$f":"Composite!F436","v":0},{"$f":"Composite!P436","v":0},{"$f":"Composite!G436","v":0}]
[295,{"$f":"Composite!B437","v":0},{"$f":"Composite!F437","v":0},{"$f":"Composite!P437","v":0},{"$f":"Composite!G437","v":0}]
[296,{"$f":"Composite!B438","v":0},{"$f":"Composite!F438","v":0},{"$f":"Composite!P438","v":0},{"$f":"Composite!G438","v":0}]
[297,{"$f":"Composite!B439","v":0},{"$f":"Composite!F439","v":0},{"$f":"Composite!P439","v":0},{"$f":"Composite!G439","v":0}]
[298,{"$f":"Composite!B440","v":0},{"$f":"Composite!F440","v":0},{"$f":"Composite!P440","v":0},{"$f":"Composite!G440","v":0}]
[299,{"$f":"Composite!B441","v":0},{"$f":"Composite!F441","v":0},{"$f":"Composite!P441","v":0},{"$f":"Composite!G441","v":0}]
[300,{"$f":"Composite!B442","v":0},{"$f":"Composite!F442","v":0},{"$f":"Composite!P442","v":0},{"$f":"Composite!G442","v":0}]
[301,{"$f":"Composite!B443","v":0},{"$f":"Composite!F443","v":0},{"$f":"Composite!P443","v":0},{"$f":"Composite!G443","v":0}]
[302,{"$f":"Composite!B444","v":0},{"$f":"Composite!F444","v":0},{"$f":"Composite!P444","v":0},{"$f":"Composite!G444","v":0}]
[303,{"$f":"Composite!B445","v":0},{"$f":"Composite!F445","v":0},{"$f":"Composite!P445","v":0},{"$f":"Composite!G445","v":0}]
[304,{"$f":"Composite!B446","v":0},{"$f":"Composite!F446","v":0},{"$f":"Composite!P446","v":0},{"$f":"Composite!G446","v":0}]
[305,{"$f":"Composite!B447","v":0},{"$f":"Composite!F447","v":0},{"$f":"Composite!P447","v":0},{"$f":"Composite!G447","v":0}]
[306,{"$f":"Composite!B448","v":0},{"$f":"Composite!F448","v":0},{"$f":"Composite!P448","v":0},{"$f":"Composite!G448","v":0}]
[307,{"$f":"Composite!B449","v":0},{"$f":"Composite!F449","v":0},{"$f":"Composite!P449","v":0},{"$f":"Composite!G449","v":0}]
[308,{"$f":"Composite!B450","v":0},{"$f":"Composite!F450","v":0},{"$f":"Composite!P450","v":0},{"$f":"Composite!G450","v":0}]
[309,{"$f":"Composite!B451","v":0},{"$f":"Composite!F451","v":0},{"$f":"Composite!P451","v":0},{"$f":"Composite!G451","v":0}]
[310,{"$f":"Composite!B452","v":0},{"$f":"Composite!F452","v":0},{"$f":"Composite!P452","v":0},{"$f":"Composite!G452","v":0}]
[311,{"$f":"Composite!B453","v":0},{"$f":"Composite!F453","v":0},{"$f":"Composite!P453","v":0},{"$f":"Composite!G453","v":0}]
[312,{"$f":"Composite!B454","v":0},{"$f":"Composite!F454","v":0},{"$f":"Composite!P454","v":0},{"$f":"Composite!G454","v":0}]
[313,{"$f":"Composite!B455","v":0},{"$f":"Composite!F455","v":0},{"$f":"Composite!P455","v":0},{"$f":"Composite!G455","v":0}]
[314,{"$f":"Composite!B456","v":0},{"$f":"Composite!F456","v":0},{"$f":"Composite!P456","v":0},{"$f":"Composite!G456","v":0}]
[315,{"$f":"Composite!B457","v":0},{"$f":"Composite!F457","v":0},{"$f":"Composite!P457","v":0},{"$f":"Composite!G457","v":0}]
[316,{"$f":"Composite!B458","v":0},{"$f":"Composite!F458","v":0},{"$f":"Composite!P458","v":0},{"$f":"Composite!G458","v":0}]
[317,{"$f":"Composite!B459","v":0},{"$f":"Composite!F459","v":0},{"$f":"Composite!P459","v":0},{"$f":"Composite!G459","v":0}]
[318,{"$f":"Composite!B460","v":0},{"$f":"Composite!F460","v":0},{"$f":"Composite!P460","v":0},{"$f":"Composite!G460","v":0}]
[319,{"$f":"Composite!B461","v":0},{"$f":"Composite!F461","v":0},{"$f":"Composite!P461","v":0},{"$f":"Composite!G461","v":0}]
[320,{"$f":"Composite!B462","v":0},{"$f":"Composite!F462","v":0},{"$f":"Composite!P462","v":0},{"$f":"Composite!G462","v":0}]
[321,{"$f":"Composite!B463","v":0},{"$f":"Composite!F463","v":0},{"$f":"Composite!P463","v":0},{"$f":"Composite!G463","v":0}]
[322,{"$f":"Composite!B464","v":0},{"$f":"Composite!F464","v":0},{"$f":"Composite!P464","v":0},{"$f":"Composite!G464","v":0}]
[323,{"$f":"Composite!B465","v":0},{"$f":"Composite!F465","v":0},{"$f":"Composite!P465","v":0},{"$f":"Composite!G465","v":0}]
[324,{"$f":"Composite!B466","v":0},{"$f":"Composite!F466","v":0},{"$f":"Composite!P466","v":0},{"$f":"Composite!G466","v":0}]
[325,{"$f":"Composite!B467","v":0},{"$f":"Composite!F467","v":0},{"$f":"Composite!P467","v":0},{"$f":"Composite!G467","v":0}]
[326,{"$f":"Composite!B468","v":0},{"$f":"Composite!F468","v":0},{"$f":"Composite!P468","v":0},{"$f":"Composite!G468","v":0}]
[327,{"$f":"Composite!B469","v":0},{"$f":"Composite!F469","v":0},{"$f":"Composite!P469","v":0},{"$f":"Composite!G469","v":0}]
[328,{"$f":"Composite!B470","v":0},{"$f":"Composite!F470","v":0},{"$f":"Composite!P470","v":0},{"$f":"Composite!G470","v":0}]
[329,{"$f":"Composite!B471","v":0},{"$f":"Composite!F471","v":0},{"$f":"Composite!P471","v":0},{"$f":"Composite!G471","v":0}]
[330,{"$f":"Composite!B472","v":0},{"$f":"Composite!F472","v":0},{"$f":"Composite!P472","v":0},{"$f":"Composite!G472","v":0}]
[331,{"$f":"Composite!B473","v":0},{"$f":"Composite!F473","v":0},{"$f":"Composite!P473","v":0},{"$f":"Composite!G473","v":0}]
[332,{"$f":"Composite!B474","v":0},{"$f":"Composite!F474","v":0},{"$f":"Composite!P474","v":0},{"$f":"Composite!G474","v":0}]
[333,{"$f":"Composite!B475","v":0},{"$f":"Composite!F475","v":0},{"$f":"Composite!P475","v":0},{"$f":"Composite!G475","v":0}]
[334,{"$f":"Composite!B476","v":0},{"$f":"Composite!F476","v":0},{"$f":"Composite!P476","v":0},{"$f":"Composite!G476","v":0}]
[335,{"$f":"Composite!B477","v":0},{"$f":"Composite!F477","v":0},{"$f":"Composite!P477","v":0},{"$f":"Composite!G477","v":0}]
[336,{"$f":"Composite!B478","v":0},{"$f":"Composite!F478","v":0},{"$f":"Composite!P478","v":0},{"$f":"Composite!G478","v":0}]
[337,{"$f":"Composite!B479","v":0},{"$f":"Composite!F479","v":0},{"$f":"Composite!P479","v":0},{"$f":"Composite!G479","v":0}]
[338,{"$f":"Composite!B480","v":0},{"$f":"Composite!F480","v":0},{"$f":"Composite!P480","v":0},{"$f":"Composite!G480","v":0}]
[339,{"$f":"Composite!B481","v":0},{"$f":"Composite!F481","v":0},{"$f":"Composite!P481","v":0},{"$f":"Composite!G481","v":0}]
[340,{"$f":"Composite!B482","v":0},{"$f":"Composite!F482","v":0},{"$f":"Composite!P482","v":0},{"$f":"Composite!G482","v":0}]
[341,{"$f":"Composite!B483","v":0},{"$f":"Composite!F483","v":0},{"$f":"Composite!P483","v":0},{"$f":"Composite!G483","v":0}]
[342,{"$f":"Composite!B484","v":0},{"$f":"Composite!F484","v":0},{"$f":"Composite!P484","v":0},{"$f":"Composite!G484","v":0}]
[343,{"$f":"Composite!B485","v":0},{"$f":"Composite!F485","v":0},{"$f":"Composite!P485","v":0},{"$f":"Composite!G485","v":0}]
[344,{"$f":"Composite!B486","v":0},{"$f":"Composite!F486","v":0},{"$f":"Composite!P486","v":0},{"$f":"Composite!G486","v":0}]
[345,{"$f":"Composite!B487","v":0},{"$f":"Composite!F487","v":0},{"$f":"Composite!P487","v":0},{"$f":"Composite!G487","v":0}]
[346,{"$f":"Composite!B488","v":0},{"$f":"Composite!F488","v":0},{"$f":"Composite!P488","v":0},{"$f":"Composite!G488","v":0}]
[347,{"$f":"Composite!B489","v":0},{"$f":"Composite!F489","v":0},{"$f":"Composite!P489","v":0},{"$f":"Composite!G489","v":0}]
[348,{"$f":"Composite!B490","v":0},{"$f":"Composite!F490","v":0},{"$f":"Composite!P490","v":0},{"$f":"Composite!G490","v":0}]
[349,{"$f":"Composite!B491","v":0},{"$f":"Composite!F491","v":0},{"$f":"Composite!P491","v":0},{"$f":"Composite!G491","v":0}]
[350,{"$f":"Composite!B492","v":0},{"$f":"Composite!F492","v":0},{"$f":"Composite!P492","v":0},{"$f":"Composite!G492","v":0}]
[351,{"$f":"Composite!B493","v":0},{"$f":"Composite!F493","v":0},{"$f":"Composite!P493","v":0},{"$f":"Composite!G493","v":0}]
[352,{"$f":"Composite!B494","v":0},{"$f":"Composite!F494","v":0},{"$f":"Composite!P494","v":0},{"$f":"Composite!G494","v":0}]
[353,{"$f":"Composite!B495","v":0},{"$f":"Composite!F495","v":0},{"$f":"Composite!P495","v":0},{"$f":"Composite!G495","v":0}]
[354,{"$f":"Composite!B496","v":0},{"$f":"Composite!F496","v":0},{"$f":"Composite!P496","v":0},{"$f":"Composite!G496","v":0}]
[355,{"$f":"Composite!B497","v":0},{"$f":"Composite!F497","v":0},{"$f":"Composite!P497","v":0},{"$f":"Composite!G497","v":0}]
[356,{"$f":"Composite!B498","v":0},{"$f":"Composite!F498","v":0},{"$f":"Composite!P498","v":0},{"$f":"Composite!G498","v":0}]
[357,{"$f":"Composite!B499","v":0},{"$f":"Composite!F499","v":0},{"$f":"Composite!P499","v":0},{"$f":"Composite!G499","v":0}]
[358,{"$f":"Composite!B500","v":0},{"$f":"Composite!F500","v":0},{"$f":"Composite!P500","v":0},{"$f":"Composite!G500","v":0}]
[359,{"$f":"Composite!B501","v":0},{"$f":"Composite!F501","v":0},{"$f":"Composite!P501","v":0},{"$f":"Composite!G501","v":0}]
[360,{"$f":"Composite!B502","v":0},{"$f":"Composite!F502","v":0},{"$f":"Composite!P502","v":0},{"$f":"Composite!G502","v":0}]
[361,{"$f":"Composite!B503","v":0},{"$f":"Composite!F503","v":0},{"$f":"Composite!P503","v":0},{"$f":"Composite!G503","v":0}]
[362,{"$f":"Composite!B504","v":0},{"$f":"Composite!F504","v":0},{"$f":"Composite!P504","v":0},{"$f":"Composite!G504","v":0}]
[363,{"$f":"Composite!B505","v":0},{"$f":"Composite!F505","v":0},{"$f":"Composite!P505","v":0},{"$f":"Composite!G505","v":0}]
[364,{"$f":"Composite!B506","v":0},{"$f":"Composite!F506","v":0},{"$f":"Composite!P506","v":0},{"$f":"Composite!G506","v":0}]
[365,{"$f":"Composite!B507","v":0},{"$f":"Composite!F507","v":0},{"$f":"Composite!P507","v":0},{"$f":"Composite!G507","v":0}]
[366,{"$f":"Composite!B508","v":0},{"$f":"Composite!F508","v":0},{"$f":"Composite!P508","v":0},{"$f":"Composite!G508","v":0}]
[367,{"$f":"Composite!B509","v":0},{"$f":"Composite!F509","v":0},{"$f":"Composite!P509","v":0},{"$f":"Composite!G509","v":0}]
[368,{"$f":"Composite!B510","v":0},{"$f":"Composite!F510","v":0},{"$f":"Composite!P510","v":0},{"$f":"Composite!G510","v":0}]
[369,{"$f":"Composite!B511","v":0},{"$f":"Composite!F511","v":0},{"$f":"Composite!P511","v":0},{"$f":"Composite!G511","v":0}]
[370,{"$f":"Composite!B512","v":0},{"$f":"Composite!F512","v":0},{"$f":"Composite!P512","v":0},{"$f":"Composite!G512","v":0}]
[371,{"$f":"Composite!B513","v":0},{"$f":"Composite!F513","v":0},{"$f":"Composite!P513","v":0},{"$f":"Composite!G513","v":0}]
[372,{"$f":"Composite!B514","v":0},{"$f":"Composite!F514","v":0},{"$f":"Composite!P514","v":0},{"$f":"Composite!G514","v":0}]
[373,{"$f":"Composite!B515","v":0},{"$f":"Composite!F515","v":0},{"$f":"Composite!P515","v":0},{"$f":"Composite!G515","v":0}]
[374,{"$f":"Composite!B516","v":0},{"$f":"Composite!F516","v":0},{"$f":"Composite!P516","v":0},{"$f":"Composite!G516","v":0}]
[375,{"$f":"Composite!B517","v":0},{"$f":"Composite!F517","v":0},{"$f":"Composite!P517","v":0},{"$f":"Composite!G517","v":0}]
[376,{"$f":"Composite!B518","v":0},{"$f":"Composite!F518","v":0},{"$f":"Composite!P518","v":0},{"$f":"Composite!G518","v":0}]
[377,{"$f":"Composite!B519","v":0},{"$f":"Composite!F519","v":0},{"$f":"Composite!P519","v":0},{"$f":"Composite!G519","v":0}]
[378,{"$f":"Composite!B520","v":0},{"$f":"Composite!F520","v":0},{"$f":"Composite!P520","v":0},{"$f":"Composite!G520","v":0}]
[379,{"$f":"Composite!B521","v":0},{"$f":"Composite!F521","v":0},{"$f":"Composite!P521","v":0},{"$f":"Composite!G521","v":0}]
[380,{"$f":"Composite!B522","v":0},{"$f":"Composite!F522","v":0},{"$f":"Composite!P522","v":0},{"$f":"Composite!G522","v":0}]
[381,{"$f":"Composite!B523","v":0},{"$f":"Composite!F523","v":0},{"$f":"Composite!P523","v":0},{"$f":"Composite!G523","v":0}]
[382,{"$f":"Composite!B524","v":0},{"$f":"Composite!F524","v":0},{"$f":"Composite!P524","v":0},{"$f":"Composite!G524","v":0}]
[383,{"$f":"Composite!B525","v":0},{"$f":"Composite!F525","v":0},{"$f":"Composite!P525","v":0},{"$f":"Composite!G525","v":0}]
[384,{"$f":"Composite!B526","v":0},{"$f":"Composite!F526","v":0},{"$f":"Composite!P526","v":0},{"$f":"Composite!G526","v":0}]
[385,{"$f":"Composite!B527","v":0},{"$f":"Composite!F527","v":0},{"$f":"Composite!P527","v":0},{"$f":"Composite!G527","v":0}]
[386,{"$f":"Composite!B528","v":0},{"$f":"Composite!F528","v":0},{"$f":"Composite!P528","v":0},{"$f":"Composite!G528","v":0}]
[387,{"$f":"Composite!B529","v":0},{"$f":"Composite!F529","v":0},{"$f":"Composite!P529","v":0},{"$f":"Composite!G529","v":0}]
[388,{"$f":"Composite!B530","v":0},{"$f":"Composite!F530","v":0},{"$f":"Composite!P530","v":0},{"$f":"Composite!G530","v":0}]
[389,{"$f":"Composite!B531","v":0},{"$f":"Composite!F531","v":0},{"$f":"Composite!P531","v":0},{"$f":"Composite!G531","v":0}]
[390,{"$f":"Composite!B532","v":0},{"$f":"Composite!F532","v":0},{"$f":"Composite!P532","v":0},{"$f":"Composite!G532","v":0}]
[391,{"$f":"Composite!B533","v":0},{"$f":"Composite!F533","v":0},{"$f":"Composite!P533","v":0},{"$f":"Composite!G533","v":0}]
[392,{"$f":"Composite!B534","v":0},{"$f":"Composite!F534","v":0},{"$f":"Composite!P534","v":0},{"$f":"Composite!G534","v":0}]
[393,{"$f":"Composite!B535","v":0},{"$f":"Composite!F535","v":0},{"$f":"Composite!P535","v":0},{"$f":"Composite!G535","v":0}]
[394,{"$f":"Composite!B536","v":0},{"$f":"Composite!F536","v":0},{"$f":"Composite!P536","v":0},{"$f":"Composite!G536","v":0}]
[395,{"$f":"Composite!B537","v":0},{"$f":"Composite!F537","v":0},{"$f":"Composite!P537","v":0},{"$f":"Composite!G537","v":0}]
[396,{"$f":"Composite!B343","v":"PRKG2 (PKG2, PGK2, CGK2)"},{"$f":"Composite!F343","v":"PGK2"},{"$f":"Composite!P343","v":-2.4370790499816053E-2},{"$f":"Composite!G343","v":"AGC"}]
[397,{"$f":"Composite!B65","v":"CDK17 (PCTAIRE2, PCTK2)/p35NCK"},{"$f":"Composite!F65","v":"CDK17/P35"},{"$f":"Composite!P65","v":-8.799962947520612E-2},{"$f":"Composite!G65","v":"CMGC"}]
[398,{"$f":"Composite!B99","v":"CSNK1A1 (CK1A1, CK1α)"},{"$f":"Composite!F99","v":"CK1A1"},{"$f":"Composite!P99","v":-0.16087947446037276},{"$f":"Composite!G99","v":"CK1"}]
[399,{"$f":"Composite!B88","v":"CDKL5"},{"$f":"Composite!F88","v":"CDKL5"},{"$f":"Composite!P88","v":-0.19794140934283178},{"$f":"Composite!G88","v":"CMGC"}]
[400,{"$f":"Composite!B64","v":"CDK17 (PCTAIRE2, PCTK2)/CycY"},{"$f":"Composite!F64","v":"CDK17"},{"$f":"Composite!P64","v":-0.1998774085227808},{"$f":"Composite!G64","v":"CMGC"}]
[401,{"$f":"Composite!B388","v":"STK33"},{"$f":"Composite!F388","v":"STK33"},{"$f":"Composite!P388","v":-0.41077926476592097},{"$f":"Composite!G388","v":"CAMK"}]
[402,{"$f":"Composite!B386","v":"STK26 (MST4)"},{"$f":"Composite!F386","v":"MST4"},{"$f":"Composite!P386","v":-0.57936616699856813},{"$f":"Composite!G386","v":"STE"}]
[403,{"$f":"Composite!B379","v":"STK10 (LOK)"},{"$f":"Composite!F379","v":"LOK"},{"$f":"Composite!P379","v":-0.59605685465380986},{"$f":"Composite!G379","v":"STE"}]
[404,{"$f":"Composite!B201","v":"LYNB (LYNb)"},{"$f":"Composite!F201","v":"LYNB"},{"$f":"Composite!P201","v":-0.70905017726254016},{"$f":"Composite!G201","v":"TK"}]
[405,{"$f":"Composite!B243","v":"MARK2"},{"$f":"Composite!F243","v":"MARK2"},{"$f":"Composite!P243","v":-0.71922771898159965},{"$f":"Composite!G243","v":"CAMK"}]
[406,{"$f":"Composite!B362","v":"RPS6KB1 (p70S6K)"},{"$f":"Composite!F362","v":"P70S6KA"},{"$f":"Composite!P362","v":-0.73271788907464952},{"$f":"Composite!G362","v":"AGC"}]
[407,{"$f":"Composite!B130","v":"EPHA3"},{"$f":"Composite!F130","v":"EPHA3"},{"$f":"Composite!P130","v":-0.83177666766050606},{"$f":"Composite!G130","v":"TK"}]
[408,{"$f":"Composite!B173","v":"HIPK4"},{"$f":"Composite!F173","v":"HIPK4"},{"$f":"Composite!P173","v":-0.93774486262414314},{"$f":"Composite!G173","v":"CMGC"}]
[409,{"$f":"Composite!B49","v":"CAMK4"},{"$f":"Composite!F49","v":"CAMK4"},{"$f":"Composite!P49","v":-1.0314805831439884},{"$f":"Composite!G49","v":"CAMK"}]
[410,{"$f":"Composite!B372","v":"SNRK"},{"$f":"Composite!F372","v":"SNRK"},{"$f":"Composite!P372","v":-1.1463022826884668},{"$f":"Composite!G372","v":"CAMK"}]
[411,{"$f":"Composite!B114","v":"DDR2"},{"$f":"Composite!F114","v":"DDR2"},{"$f":"Composite!P114","v":-1.2048192771084274},{"$f":"Composite!G114","v":"TK"}]
[412,{"$f":"Composite!B153","v":"FLT3"},{"$f":"Composite!F153","v":"FLT3"},{"$f":"Composite!P153","v":-1.2446648094666273},{"$f":"Composite!G153","v":"TK"}]
[413,{"$f":"Composite!B23","v":"AKT1 (PKB)"},{"$f":"Composite!F23","v":"AKT1"},{"$f":"Composite!P23","v":-1.2789047948844114},{"$f":"Composite!G23","v":"AGC"}]
[414,{"$f":"Composite!B228","v":"MAPK10 (JNK3)"},{"$f":"Composite!F228","v":"JNK3"},{"$f":"Composite!P228","v":-1.3313161875945525},{"$f":"Composite!G228","v":"CMGC"}]
[415,{"$f":"Composite!B83","v":"CDK7/CycH/MAT1"},{"$f":"Composite!F83","v":"CDK7"},{"$f":"Composite!P83","v":-1.3494785241063738},{"$f":"Composite!G83","v":"CMGC"}]
[416,{"$f":"Composite!B414","v":"TYK2 [JH1]"},{"$f":"Composite!F414","v":"TYK2(JH1)"},{"$f":"Composite!P414","v":-1.3799755642723852},{"$f":"Composite!G414","v":"TK"}]
[417,{"$f":"Composite!B328","v":"PRKCA (PKCα [alpha])"},{"$f":"Composite!F328","v":"PKCA"},{"$f":"Composite!P328","v":-1.460179396575171},{"$f":"Composite!G328","v":"AGC"}]
[418,{"$f":"Composite!B181","v":"IRAK1"},{"$f":"Composite!F181","v":"IRAK1"},{"$f":"Composite!P181","v":-1.5435469962632737},{"$f":"Composite!G181","v":"TKL"}]
[419,{"$f":"Composite!B112","v":"DCLK2 (DCAMKL2)"},{"$f":"Composite!F112","v":"DCAML2"},{"$f":"Composite!P112","v":-1.8317119057776949},{"$f":"Composite!G112","v":"CAMK"}]
[420,{"$f":"Composite!B366","v":"SGK2"},{"$f":"Composite!F366","v":"SGK2"},{"$f":"Composite!P366","v":-1.8585395930590778},{"$f":"Composite!G366","v":"AGC"}]
[421,{"$f":"Composite!B275","v":"NEK9"},{"$f":"Composite!F275","v":"NEK9"},{"$f":"Composite!P275","v":-1.9004247493103463},{"$f":"Composite!G275","v":"Other"}]
[422,{"$f":"Composite!B120","v":"DYRK3"},{"$f":"Composite!F120","v":"DYRK3"},{"$f":"Composite!P120","v":-1.9407953397134889},{"$f":"Composite!G120","v":"CMGC"}]
[423,{"$f":"Composite!B292","v":"PDGFRB (PDGFRβ)"},{"$f":"Composite!F292","v":"PDGFRB"},{"$f":"Composite!P292","v":-1.9418963906785223},{"$f":"Composite!G292","v":"TK"}]
[424,{"$f":"Composite!B416","v":"TYRO3"},{"$f":"Composite!F416","v":"TYRO3"},{"$f":"Composite!P416","v":-2.0231694716379991},{"$f":"Composite!G416","v":"TK"}]
[425,{"$f":"Composite!B255","v":"MNK2"},{"$f":"Composite!F255","v":"MNK2"},{"$f":"Composite!P255","v":-2.0547048815599993},{"$f":"Composite!G255","v":"CAMK"}]
[426,{"$f":"Composite!B104","v":"CSNK1G2 (CK1G2, CK1γ2)"},{"$f":"Composite!F104","v":"CK1G2"},{"$f":"Composite!P104","v":-2.170937270207574},{"$f":"Composite!G104","v":"CK1"}]
[427,{"$f":"Composite!B218","v":"MAP3K6 (ASK2)"},{"$f":"Composite!F218","v":"MAP3K6"},{"$f":"Composite!P218","v":-2.1928675672641589},{"$f":"Composite!G218","v":"STE"}]
[428,{"$f":"Composite!B315","v":"PRKAA1-B1-G3 (AMPKα1β1γ3)"},{"$f":"Composite!F315","v":"AMPK113"},{"$f":"Composite!P315","v":-2.484734696639137},{"$f":"Composite!G315","v":"CAMK"}]
[429,{"$f":"Composite!B26","v":"ALK"},{"$f":"Composite!F26","v":"ALK"},{"$f":"Composite!P26","v":-2.6335868090227024},{"$f":"Composite!G26","v":"TK"}]
[430,{"$f":"Composite!B172","v":"HIPK3"},{"$f":"Composite!F172","v":"HIPK3"},{"$f":"Composite!P172","v":-2.8101847909392887},{"$f":"Composite!G172","v":"CMGC"}]
[431,{"$f":"Composite!B244","v":"MARK3"},{"$f":"Composite!F244","v":"MARK3"},{"$f":"Composite!P244","v":-2.8394171628970639},{"$f":"Composite!G244","v":"CAMK"}]
[432,{"$f":"Composite!B304","v":"PKMYT1 (MYT1)"},{"$f":"Composite!F304","v":"MYT1"},{"$f":"Composite!P304","v":-2.8985507246377011},{"$f":"Composite!G304","v":"Other"}]
[433,{"$f":"Composite!B103","v":"CSNK1G1 (CK1G1, CK1γ1)"},{"$f":"Composite!F103","v":"CK1G1"},{"$f":"Composite!P103","v":-2.9628786315542328},{"$f":"Composite!G103","v":"CK1"}]
[434,{"$f":"Composite!B53","v":"CDC42BPB (MRCKB)"},{"$f":"Composite!F53","v":"MRCKB"},{"$f":"Composite!P53","v":-3.1151194733840981},{"$f":"Composite!G53","v":"AGC"}]
[435,{"$f":"Composite!B128","v":"EPHA1"},{"$f":"Composite!F128","v":"EPHA1"},{"$f":"Composite!P128","v":-3.2513414439780917},{"$f":"Composite!G128","v":"TK"}]
[436,{"$f":"Composite!B76","v":"CDK4/CycD1"},{"$f":"Composite!F76","v":"CDK4/D1"},{"$f":"Composite!P76","v":-3.3675121424716679},{"$f":"Composite!G76","v":"CMGC"}]
[437,{"$f":"Composite!B67","v":"CDK2/CycA1"},{"$f":"Composite!F67","v":"CDK2/A1"},{"$f":"Composite!P67","v":-3.5146379632810465},{"$f":"Composite!G67","v":"CMGC"}]
[438,{"$f":"Composite!B346","v":"PTK2B (PYK2)"},{"$f":"Composite!F346","v":"PTK2B"},{"$f":"Composite!P346","v":-3.5335549224438125},{"$f":"Composite!G346","v":"TK"}]
[439,{"$f":"Composite!B35","v":"BMX"},{"$f":"Composite!F35","v":"BMX"},{"$f":"Composite!P35","v":-3.8521252599818041},{"$f":"Composite!G35","v":"TK"}]
[440,{"$f":"Composite!B405","v":"TRPM7 (CHAK1)"},{"$f":"Composite!F405","v":"CHAK1"},{"$f":"Composite!P405","v":-3.9197779291271928},{"$f":"Composite!G405","v":"Atypical"}]
[441,{"$f":"Composite!B56","v":"CDK1 (CDC2)/CycA1 "},{"$f":"Composite!F56","v":"CDK1/A1"},{"$f":"Composite!P56","v":-3.9207367648320428},{"$f":"Composite!G56","v":"CMGC"}]
[442,{"$f":"Composite!B94","v":"CLK2"},{"$f":"Composite!F94","v":"CLK2"},{"$f":"Composite!P94","v":-3.955741558218179},{"$f":"Composite!G94","v":"CMGC"}]
[443,{"$f":"Composite!B335","v":"PRKCI (PKCι [iota])"},{"$f":"Composite!F335","v":"PKCI"},{"$f":"Composite!P335","v":-3.9828798143900599},{"$f":"Composite!G335","v":"AGC"}]
[444,{"$f":"Composite!B71","v":"CDK2/CycE2"},{"$f":"Composite!F71","v":"CDK2/E2"},{"$f":"Composite!P71","v":-4.0973175374247433},{"$f":"Composite!G71","v":"CMGC"}]
[445,{"$f":"Composite!B286","v":"PAK4"},{"$f":"Composite!F286","v":"PAK4"},{"$f":"Composite!P286","v":-4.1231650836015348},{"$f":"Composite!G286","v":"STE"}]
[446,{"$f":"Composite!B287","v":"PAK5 (PAK7)"},{"$f":"Composite!F287","v":"PAK5"},{"$f":"Composite!P287","v":-4.2293884235056822},{"$f":"Composite!G287","v":"STE"}]
[447,{"$f":"Composite!B344","v":"PRKX"},{"$f":"Composite!F344","v":"PRKX"},{"$f":"Composite!P344","v":-4.3114052020578413},{"$f":"Composite!G344","v":"AGC"}]
[448,{"$f":"Composite!B402","v":"TNIK (ZC2)"},{"$f":"Composite!F402","v":"TNIK"},{"$f":"Composite!P402","v":-4.3483102277155865},{"$f":"Composite!G402","v":"STE"}]
[449,{"$f":"Composite!B266","v":"NEK10"},{"$f":"Composite!F266","v":"NEK10"},{"$f":"Composite!P266","v":-4.4301894357021041},{"$f":"Composite!G266","v":"Other"}]
[450,{"$f":"Composite!B313","v":"PRKAA1-B1-G1 (AMPKα1β1γ1)"},{"$f":"Composite!F313","v":"AMPK111"},{"$f":"Composite!P313","v":-4.4376195492558281},{"$f":"Composite!G313","v":"CAMK"}]
[451,{"$f":"Composite!B124","v":"EIF2AK1 (HRI)"},{"$f":"Composite!F124","v":"HRI"},{"$f":"Composite!P124","v":-4.4588555858310457},{"$f":"Composite!G124","v":"Other"}]
[452,{"$f":"Composite!B330","v":"PRKCB2 (PKCβ2 [beta2])"},{"$f":"Composite!F330","v":"PKCB2"},{"$f":"Composite!P330","v":-4.4781715918221749},{"$f":"Composite!G330","v":"AGC"}]
[453,{"$f":"Composite!B421","v":"YES1 (YES)"},{"$f":"Composite!F421","v":"YES"},{"$f":"Composite!P421","v":-4.5886846145205453},{"$f":"Composite!G421","v":"TK"}]
[454,{"$f":"Composite!B337","v":"PRKCZ (PKCζ [zeta])"},{"$f":"Composite!F337","v":"PKCZ"},{"$f":"Composite!P337","v":-4.7019681725257669},{"$f":"Composite!G337","v":"AGC"}]
[455,{"$f":"Composite!B29","v":"AURKC (AURC)"},{"$f":"Composite!F29","v":"AURC"},{"$f":"Composite!P29","v":-4.7085331052970361},{"$f":"Composite!G29","v":"Other"}]
[456,{"$f":"Composite!B37","v":"BRAF, b-[V600E]"},{"$f":"Composite!F37","v":"BRAF(V600E)"},{"$f":"Composite!P37","v":-4.8679383712399158},{"$f":"Composite!G37","v":"TKL"}]
[457,{"$f":"Composite!B249","v":"MELK"},{"$f":"Composite!F249","v":"MELK"},{"$f":"Composite!P249","v":-4.8812087857328805},{"$f":"Composite!G249","v":"CAMK"}]
[458,{"$f":"Composite!B317","v":"PRKAA1-B2-G2 (AMPKα1β2γ2)"},{"$f":"Composite!F317","v":"AMPK122"},{"$f":"Composite!P317","v":-4.9185550997650296},{"$f":"Composite!G317","v":"CAMK"}]
[459,{"$f":"Composite!B280","v":"NTRK3 (TRKC)"},{"$f":"Composite!F280","v":"NTRK3"},{"$f":"Composite!P280","v":-5.0713939088400934},{"$f":"Composite!G280","v":"TK"}]
[460,{"$f":"Composite!B357","v":"RPS6KA2 (RSK3)"},{"$f":"Composite!F357","v":"RSK3"},{"$f":"Composite!P357","v":-5.0770504687587703},{"$f":"Composite!G357","v":"AGC"}]
[461,{"$f":"Composite!B271","v":"NEK5"},{"$f":"Composite!F271","v":"NEK5"},{"$f":"Composite!P271","v":-5.0914328657314627},{"$f":"Composite!G271","v":"Other"}]
[462,{"$f":"Composite!B367","v":"SGK3"},{"$f":"Composite!F367","v":"SGK3"},{"$f":"Composite!P367","v":-5.1192109330230835},{"$f":"Composite!G367","v":"AGC"}]
[463,{"$f":"Composite!B262","v":"MYLK4 (SgK085)"},{"$f":"Composite!F262","v":"MYLK4"},{"$f":"Composite!P262","v":-5.1543180293300139},{"$f":"Composite!G262","v":"CAMK"}]
[464,{"$f":"Composite!B175","v":"ICK"},{"$f":"Composite!F175","v":"ICK"},{"$f":"Composite!P175","v":-5.3037680725148135},{"$f":"Composite!G175","v":"CMGC"}]
[465,{"$f":"Composite!B110","v":"DAPK3 (ZIPK)"},{"$f":"Composite!F110","v":"DAPK3"},{"$f":"Composite!P110","v":-5.5754146251696},{"$f":"Composite!G110","v":"CAMK"}]
[466,{"$f":"Composite!B410","v":"TTBK1"},{"$f":"Composite!F410","v":"TTBK1"},{"$f":"Composite!P410","v":-5.699180757899839},{"$f":"Composite!G410","v":"CK1"}]
[467,{"$f":"Composite!B325","v":"PRKACA (PKACA, PKACα)"},{"$f":"Composite!F325","v":"PKACA"},{"$f":"Composite!P325","v":-6.2342415183463373},{"$f":"Composite!G325","v":"AGC"}]
[468,{"$f":"Composite!B336","v":"PRKCQ (PKCᶿ [theta])"},{"$f":"Composite!F336","v":"PKCQ"},{"$f":"Composite!P336","v":-6.2706075144622986},{"$f":"Composite!G336","v":"AGC"}]
[469,{"$f":"Composite!B419","v":"ULK3"},{"$f":"Composite!F419","v":"ULK3"},{"$f":"Composite!P419","v":-6.4267259073237568},{"$f":"Composite!G419","v":"Other"}]
[470,{"$f":"Composite!B87","v":"CDK9 (TAK)/CycT2"},{"$f":"Composite!F87","v":"CDK9/T2"},{"$f":"Composite!P87","v":-6.5856546338641522},{"$f":"Composite!G87","v":"CMGC"}]
[471,{"$f":"Composite!B260","v":"MYLK2 (skMLCK)"},{"$f":"Composite!F260","v":"MYLK2"},{"$f":"Composite!P260","v":-6.8270092620256833},{"$f":"Composite!G260","v":"CAMK"}]
[472,{"$f":"Composite!B122","v":"EEF2K (eEF2K)"},{"$f":"Composite!F122","v":"EEF2K"},{"$f":"Composite!P122","v":-6.9813945400799753},{"$f":"Composite!G122","v":"Atypical"}]
[473,{"$f":"Composite!B320","v":"PRKAA2-B1-G2 (AMPKα2β1γ2)"},{"$f":"Composite!F320","v":"AMPK212"},{"$f":"Composite!P320","v":-7.011232825844786},{"$f":"Composite!G320","v":"CAMK"}]
[474,{"$f":"Composite!B298","v":"PHKG1"},{"$f":"Composite!F298","v":"PHKG1"},{"$f":"Composite!P298","v":-7.0869143882949288},{"$f":"Composite!G298","v":"CAMK"}]
[475,{"$f":"Composite!B305","v":"PKN1"},{"$f":"Composite!F305","v":"PKN1"},{"$f":"Composite!P305","v":-7.1899464359291159},{"$f":"Composite!G305","v":"AGC"}]
[476,{"$f":"Composite!B116","v":"DSTYK (RIPK5, SGK496)"},{"$f":"Composite!F116","v":"RIPK5"},{"$f":"Composite!P116","v":-7.4726141708390372},{"$f":"Composite!G116","v":"TKL"}]
[477,{"$f":"Composite!B295","v":"PDK3 (PDHK3)"},{"$f":"Composite!F295","v":"PDHK3"},{"$f":"Composite!P295","v":-7.4756026357494392},{"$f":"Composite!G295","v":"Atypical"}]
[478,{"$f":"Composite!B294","v":"PDK2 (PDHK2)"},{"$f":"Composite!F294","v":"PDHK2"},{"$f":"Composite!P294","v":-7.5284270909636035},{"$f":"Composite!G294","v":"Atypical"}]
[479,{"$f":"Composite!B377","v":"SRPK2"},{"$f":"Composite!F377","v":"SRPK2"},{"$f":"Composite!P377","v":-7.6076294028126625},{"$f":"Composite!G377","v":"CMGC"}]
[480,{"$f":"Composite!B332","v":"PRKCE (PKCe [epsilon])"},{"$f":"Composite!F332","v":"PKCE"},{"$f":"Composite!P332","v":-7.7379419162120797},{"$f":"Composite!G332","v":"AGC"}]
[481,{"$f":"Composite!B61","v":"CDK13 (CHED)/CycK"},{"$f":"Composite!F61","v":"CDK13/K"},{"$f":"Composite!P61","v":-7.907652214842912},{"$f":"Composite!G61","v":"CMGC"}]
[482,{"$f":"Composite!B399","v":"TESK2"},{"$f":"Composite!F399","v":"TESK2"},{"$f":"Composite!P399","v":-7.9470198675496704},{"$f":"Composite!G399","v":"TKL"}]
[483,{"$f":"Composite!B261","v":"MYLK3 (caMLCK)"},{"$f":"Composite!F261","v":"MYLK3"},{"$f":"Composite!P261","v":-8.288792967358134},{"$f":"Composite!G261","v":"CAMK"}]
[484,{"$f":"Composite!B259","v":"MYLK (smMLCK)"},{"$f":"Composite!F259","v":"MLCK"},{"$f":"Composite!P259","v":-8.3495768522509479},{"$f":"Composite!G259","v":"CAMK"}]
[485,{"$f":"Composite!B52","v":"CDC42BPA (MRCKA)"},{"$f":"Composite!F52","v":"MRCKA"},{"$f":"Composite!P52","v":-8.4613302659178373},{"$f":"Composite!G52","v":"AGC"}]
[486,{"$f":"Composite!B331","v":"PRKCD (PKCδ [delta])"},{"$f":"Composite!F331","v":"PKCD"},{"$f":"Composite!P331","v":-8.6656522889653189},{"$f":"Composite!G331","v":"AGC"}]
[487,{"$f":"Composite!B59","v":"CDK1 (CDC2)/CycE1 "},{"$f":"Composite!F59","v":"CDK1/E1"},{"$f":"Composite!P59","v":-8.6856146111225172},{"$f":"Composite!G59","v":"CMGC"}]
[488,{"$f":"Composite!B350","v":"RIPK1"},{"$f":"Composite!F350","v":"RIPK1"},{"$f":"Composite!P350","v":-8.6978652055450993},{"$f":"Composite!G350","v":"TKL"}]
[489,{"$f":"Composite!B180","v":"INSRR (IRR)"},{"$f":"Composite!F180","v":"INSRR"},{"$f":"Composite!P180","v":-9.3208218509087004},{"$f":"Composite!G180","v":"TK"}]
[490,{"$f":"Composite!B111","v":"DCLK1 (DCAMKL1)"},{"$f":"Composite!F111","v":"DCAML1"},{"$f":"Composite!P111","v":-9.3796477797839231},{"$f":"Composite!G111","v":"CAMK"}]
[491,{"$f":"Composite!B358","v":"RPS6KA3 (RSK2)"},{"$f":"Composite!F358","v":"RSK2"},{"$f":"Composite!P358","v":-9.5792400370713722},{"$f":"Composite!G358","v":"AGC"}]
[492,{"$f":"Composite!B241","v":"MAPKAPK5 (MK5)"},{"$f":"Composite!F241","v":"MK5"},{"$f":"Composite!P241","v":-9.7224066221397294},{"$f":"Composite!G241","v":"CAMK"}]
[493,{"$f":"Composite!B77","v":"CDK4/CycD2"},{"$f":"Composite!F77","v":"CDK4/D2"},{"$f":"Composite!P77","v":-9.7258937562940559},{"$f":"Composite!G77","v":"CMGC"}]
[494,{"$f":"Composite!B411","v":"TTBK2"},{"$f":"Composite!F411","v":"TTBK2"},{"$f":"Composite!P411","v":-9.8734879066339403},{"$f":"Composite!G411","v":"CK1"}]
[495,{"$f":"Composite!B311","v":"PLK4"},{"$f":"Composite!F311","v":"PLK4"},{"$f":"Composite!P311","v":-10.159044976965504},{"$f":"Composite!G311","v":"Other"}]
[496,{"$f":"Composite!B403","v":"TNK1"},{"$f":"Composite!F403","v":"TNK1"},{"$f":"Composite!P403","v":-10.449313033791313},{"$f":"Composite!G403","v":"TK"}]
[497,{"$f":"Composite!B393","v":"TAOK1 (TAO1)"},{"$f":"Composite!F393","v":"TAOK1"},{"$f":"Composite!P393","v":-10.467449808133154},{"$f":"Composite!G393","v":"STE"}]
[498,{"$f":"Composite!B361","v":"RPS6KA6 (RSK4)"},{"$f":"Composite!F361","v":"RSK4"},{"$f":"Composite!P361","v":-10.530454441204427},{"$f":"Composite!G361","v":"AGC"}]
[499,{"$f":"Composite!B25","v":"AKT3 (PKBg)"},{"$f":"Composite!F25","v":"AKT3"},{"$f":"Composite!P25","v":-11.118603165590187},{"$f":"Composite!G25","v":"AGC"}]
[500,{"$f":"Composite!B345","v":"PTK2 (FAK)"},{"$f":"Composite!F345","v":"PTK2"},{"$f":"Composite!P345","v":-11.524384940150014},{"$f":"Composite!G345","v":"TK"}]
[501,{"$f":"Composite!B92","v":"CIT (CRIK)"},{"$f":"Composite!F92","v":"CRIK"},{"$f":"Composite!P92","v":-11.677092837778417},{"$f":"Composite!G92","v":"AGC"}]
[502,{"$f":"Composite!B293","v":"PDK1 (PDHK1)"},{"$f":"Composite!F293","v":"PDHK1"},{"$f":"Composite!P293","v":-12.193975846999663},{"$f":"Composite!G293","v":"Atypical"}]
[503,{"$f":"Composite!B43","v":"CAMK1D (CAMK1δ)"},{"$f":"Composite!F43","v":"CAMK1D"},{"$f":"Composite!P43","v":-12.634011683892936},{"$f":"Composite!G43","v":"CAMK"}]
[504,{"$f":"Composite!B247","v":"MASTL"},{"$f":"Composite!F247","v":"MASTL"},{"$f":"Composite!P247","v":-13.227415052765863},{"$f":"Composite!G247","v":"AGC"}]
[505,{"$f":"Composite!B212","v":"MAP3K14 (NIK)"},{"$f":"Composite!F212","v":"MAP3K14"},{"$f":"Composite!P212","v":-13.867914619487223},{"$f":"Composite!G212","v":"STE"}]
[506,{"$f":"Composite!B168","v":"HASPIN"},{"$f":"Composite!F168","v":"HASPIN"},{"$f":"Composite!P168","v":-14.77960118988311},{"$f":"Composite!G168","v":"Other"}]
[507,{"$f":"Composite!B370","v":"SIK3 (QSK)"},{"$f":"Composite!F370","v":"SIK3"},{"$f":"Composite!P370","v":-14.803169412652508},{"$f":"Composite!G370","v":"CAMK"}]
[508,{"$f":"Composite!B334","v":"PRKCH (PKCη [eta])"},{"$f":"Composite!F334","v":"PKCH"},{"$f":"Composite!P334","v":-14.906789503730394},{"$f":"Composite!G334","v":"AGC"}]
[509,{"$f":"Composite!B296","v":"PDK4 (PDHK4)"},{"$f":"Composite!F296","v":"PDHK4"},{"$f":"Composite!P296","v":-14.922621067985219},{"$f":"Composite!G296","v":"Atypical"}]
[510,{"$f":"Composite!B211","v":"MAP3K13 (LZK)"},{"$f":"Composite!F211","v":"MAP3K13"},{"$f":"Composite!P211","v":-15.527315422335789},{"$f":"Composite!G211","v":"TKL"}]
[511,{"$f":"Composite!B314","v":"PRKAA1-B1-G2 (AMPKα1β1γ2)"},{"$f":"Composite!F314","v":"AMPK112"},{"$f":"Composite!P314","v":-16.308188081671062},{"$f":"Composite!G314","v":"CAMK"}]
[512,{"$f":"Composite!B395","v":"TAOK3 (TAO3)"},{"$f":"Composite!F395","v":"TAOK3"},{"$f":"Composite!P395","v":-17.22448530221294},{"$f":"Composite!G395","v":"STE"}]
[513,{"$f":"Composite!B412","v":"TTK"},{"$f":"Composite!F412","v":"TTK"},{"$f":"Composite!P412","v":-18.756811301715402},{"$f":"Composite!G412","v":"Other"}]
[514,{"$f":"Composite!B20","v":"AAK1"},{"$f":"Composite!F20","v":"AAK1"},{"$f":"Composite!P20","v":-20.226420061870627},{"$f":"Composite!G20","v":"Other"}]
[515,{"$f":"Composite!B413","v":"TXK"},{"$f":"Composite!F413","v":"TXK"},{"$f":"Composite!P413","v":-21.801811458277513},{"$f":"Composite!G413","v":"TK"}]
[516,{"$f":"Composite!B333","v":"PRKCG (PKCγ [gamma])"},{"$f":"Composite!F333","v":"PKCG"},{"$f":"Composite!P333","v":-23.575665049921},{"$f":"Composite!G333","v":"AGC"}]
[517,{"$f":"Composite!B404","v":"TNK2 (ACK)"},{"$f":"Composite!F404","v":"TNK2"},{"$f":"Composite!P404","v":-24.772573308816419},{"$f":"Composite!G404","v":"TK"}]
[518,{"$f":"Composite!B401","v":"TLK2"},{"$f":"Composite!F401","v":"TLK2"},{"$f":"Composite!P401","v":-26.203674650489859},{"$f":"Composite!G401","v":"Other"}]

{"sheet":"Compound 4 Kinome Tree","index":11,"n_rows":6,"n_cols":27,"rows_kept":6,"cut":false,"hidden":false,"merged":[[1,1,3,20]]}
[]
[null,{"$f":"Summary!AC13","v":"Kinome Hit View for Gefitinib (0.015 µM) with 386 Kinases (Coral Names) at  ATP Km "}]
[null,null,null,null,null,null,null,null,null,null,null,null,null,null,null,null,null,null,null,null,null,null,null,null,null,null,"Kinome Hit View for VVVVVVVVVVVVVVVVVVVVVVVVVVV (VVVVV µM) with VVV Kinases (Coral Names)"]
[null,null,null,null,null,null,null,null,null,null,null,null,null,null,null,null,null,null,null,null,null,null,null,null,null,null,{"$f":"REPLACE(AA3,65,3,Summary!E13)","v":"Kinome Hit View for VVVVVVVVVVVVVVVVVVVVVVVVVVV (VVVVV µM) with 386 Kinases (Coral Names)"}]
[null,null,null,null,null,null,null,null,null,null,null,null,null,null,null,null,null,null,null,null,null,null,null,null,null,null,{"$f":"REPLACE(AA4,50,5,Summary!D13)","v":"Kinome Hit View for VVVVVVVVVVVVVVVVVVVVVVVVVVV (0.015 µM) with 386 Kinases (Coral Names)"}]
[null,null,null,null,null,null,null,null,null,null,null,null,null,null,null,null,null,null,null,null,null,null,null,null,null,null,{"$f":"REPLACE(AA5,21,27,Summary!C13)","v":"Kinome Hit View for Gefitinib (0.015 µM) with 386 Kinases (Coral Names)"}]

{"sheet":"Compound 5","index":12,"n_rows":520,"n_cols":28,"rows_kept":520,"cut":false,"hidden":false,"merged":[]}
[]
["Panel #","Kinase Target","Kinase Target",{"$f":"Summary!AB14","v":"0.0025 µM Gefitinib, % inhibition at  ATP Km "},{"$f":"Composite!G19","v":"Group"}]
[1,{"$f":"Composite!B123","v":"EGFR (ERBB1)"},{"$f":"Composite!F123","v":"EGFR"},{"$f":"Composite!R123","v":69.382071366405569},{"$f":"Composite!G123","v":"TK"},null,null,null,null,null,null,null,null,null,null,null,null,null,null,null,null,null,null,null,null,null,null,"VVVVV μM VVVVVVVVVVVVVVVVVVVVVVVVVVV, % inhibition"]
[2,{"$f":"Composite!B302","v":"PIM3"},{"$f":"Composite!F302","v":"PIM3"},{"$f":"Composite!R302","v":27.332751818197565},{"$f":"Composite!G302","v":"CAMK"},null,null,null,null,null,null,null,null,null,null,null,null,null,null,null,null,null,null,null,null,null,null,{"$f":"REPLACE(AB3,10,27,Summary!C14)","v":"VVVVV μM Gefitinib, % inhibition"}]
[3,{"$f":"Composite!B341","v":"PRKDC (DNA-PK)"},{"$f":"Composite!F341","v":"DNA-PK"},{"$f":"Composite!R341","v":25.42037780170304},{"$f":"Composite!G341","v":"Atypical"},null,null,null,null,null,null,null,null,null,null,null,null,null,null,null,null,null,null,null,null,null,null,{"$f":"REPLACE(AB4,1,5,Summary!D14)","v":"0.0025 μM Gefitinib, % inhibition"}]
[4,{"$f":"Composite!B54","v":"CDC42BPG (DMPK2)"},{"$f":"Composite!F54","v":"DMPK2"},{"$f":"Composite!R54","v":25.022755482002481},{"$f":"Composite!G54","v":"AGC"}]
[5,{"$f":"Composite!B385","v":"STK25 (YSK1)"},{"$f":"Composite!F385","v":"YSK1"},{"$f":"Composite!R385","v":23.054214704591715},{"$f":"Composite!G385","v":"STE"}]
[6,{"$f":"Composite!B78","v":"CDK5/p25"},{"$f":"Composite!F78","v":"CDK5/P25"},{"$f":"Composite!R78","v":22.304274360097608},{"$f":"Composite!G78","v":"CMGC"}]
[7,{"$f":"Composite!B365","v":"SGK1 (SGK)"},{"$f":"Composite!F365","v":"SGK"},{"$f":"Composite!R365","v":22.039089127821782},{"$f":"Composite!G365","v":"AGC"}]
[8,{"$f":"Composite!B24","v":"AKT2 (PKBb)"},{"$f":"Composite!F24","v":"AKT2"},{"$f":"Composite!R24","v":21.826193390452872},{"$f":"Composite!G24","v":"AGC"}]
[9,{"$f":"Composite!B164","v":"GRK6 (GPRK6)"},{"$f":"Composite!F164","v":"GRK6"},{"$f":"Composite!R164","v":21.661218907202624},{"$f":"Composite!G164","v":"AGC"}]
[10,{"$f":"Composite!B225","v":"MAP4K4 (HGK, ZC1)"},{"$f":"Composite!F225","v":"HGK"},{"$f":"Composite!R225","v":21.644639472385947},{"$f":"Composite!G225","v":"STE"}]
[11,{"$f":"Composite!B166","v":"GSK3A (GSK3α)"},{"$f":"Composite!F166","v":"GSK3A"},{"$f":"Composite!R166","v":21.220737020899463},{"$f":"Composite!G166","v":"CMGC"}]
[12,{"$f":"Composite!B252","v":"MINK1 (MAP4K6, MINK, ZC3)"},{"$f":"Composite!F252","v":"MINK"},{"$f":"Composite!R252","v":21.113636127800461},{"$f":"Composite!G252","v":"STE"}]
[13,{"$f":"Composite!B31","v":"BCKDK"},{"$f":"Composite!F31","v":"BCKDK"},{"$f":"Composite!R31","v":20.817604052181395},{"$f":"Composite!G31","v":"Atypical"}]
[14,{"$f":"Composite!B40","v":"BTK"},{"$f":"Composite!F40","v":"BTK"},{"$f":"Composite!R40","v":20.059838767764617},{"$f":"Composite!G40","v":"TK"}]
[15,{"$f":"Composite!B45","v":"CAMK2A (CAMK2α)"},{"$f":"Composite!F45","v":"CAMK2A"},{"$f":"Composite!R45","v":19.518772226696456},{"$f":"Composite!G45","v":"CAMK"}]
[16,{"$f":"Composite!B80","v":"CDK6/CycD1"},{"$f":"Composite!F80","v":"CDK6/D1"},{"$f":"Composite!R80","v":19.394251758428339},{"$f":"Composite!G80","v":"CMGC"}]
[17,{"$f":"Composite!B58","v":"CDK1 (CDC2)/CycB1 "},{"$f":"Composite!F58","v":"CDK1/B1"},{"$f":"Composite!R58","v":18.894679753432641},{"$f":"Composite!G58","v":"CMGC"}]
[18,{"$f":"Composite!B57","v":"CDK1 (CDC2)/CycA2 "},{"$f":"Composite!F57","v":"CDK1/A2"},{"$f":"Composite!R57","v":18.788952082552868},{"$f":"Composite!G57","v":"CMGC"}]
[19,{"$f":"Composite!B203","v":"MAP2K1 (MEK1)"},{"$f":"Composite!F203","v":"MEK1"},{"$f":"Composite!R203","v":18.605071917498435},{"$f":"Composite!G203","v":"STE"}]
[20,{"$f":"Composite!B205","v":"MAP2K3 (MEK3)"},{"$f":"Composite!F205","v":"MEK3"},{"$f":"Composite!R205","v":18.335778103747145},{"$f":"Composite!G205","v":"STE"}]
[21,{"$f":"Composite!B288","v":"PAK6"},{"$f":"Composite!F288","v":"PAK6"},{"$f":"Composite!R288","v":18.06356468964475},{"$f":"Composite!G288","v":"STE"}]
[22,{"$f":"Composite!B192","v":"KSR2"},{"$f":"Composite!F192","v":"KSR2"},{"$f":"Composite!R192","v":18.010383520348341},{"$f":"Composite!G192","v":"TKL"}]
[23,{"$f":"Composite!B276","v":"NIM1 (NIM1K)"},{"$f":"Composite!F276","v":"NIM1"},{"$f":"Composite!R276","v":17.941915172096643},{"$f":"Composite!G276","v":"CAMK"}]
[24,{"$f":"Composite!B297","v":"PDPK1 (PDK1)"},{"$f":"Composite!F297","v":"PDK1"},{"$f":"Composite!R297","v":17.921966557095914},{"$f":"Composite!G297","v":"AGC"}]
[25,{"$f":"Composite!B36","v":"BRAF (BRAF1, RAFB1)"},{"$f":"Composite!F36","v":"BRAF"},{"$f":"Composite!R36","v":17.623865268820509},{"$f":"Composite!G36","v":"TKL"}]
[26,{"$f":"Composite!B81","v":"CDK6/CycD2"},{"$f":"Composite!F81","v":"CDK6/D2"},{"$f":"Composite!R81","v":17.321840581602899},{"$f":"Composite!G81","v":"CMGC"}]
[27,{"$f":"Composite!B68","v":"CDK2/CycA2"},{"$f":"Composite!F68","v":"CDK2/A2"},{"$f":"Composite!R68","v":17.103990515116521},{"$f":"Composite!G68","v":"CMGC"}]
[28,{"$f":"Composite!B193","v":"LATS1"},{"$f":"Composite!F193","v":"LATS1"},{"$f":"Composite!R193","v":16.97622252131},{"$f":"Composite!G193","v":"AGC"}]
[29,{"$f":"Composite!B270","v":"NEK4"},{"$f":"Composite!F270","v":"NEK4"},{"$f":"Composite!R270","v":16.883579054397586},{"$f":"Composite!G270","v":"Other"}]
[30,{"$f":"Composite!B382","v":"STK17A (DRAK1)"},{"$f":"Composite!F382","v":"DRAK1"},{"$f":"Composite!R382","v":16.71384537963138},{"$f":"Composite!G382","v":"CAMK"}]
[31,{"$f":"Composite!B226","v":"MAP4K5 (KHS1)"},{"$f":"Composite!F226","v":"KHS1"},{"$f":"Composite!R226","v":16.66298288268375},{"$f":"Composite!G226","v":"STE"}]
[32,{"$f":"Composite!B174","v":"HUNK"},{"$f":"Composite!F174","v":"HUNK"},{"$f":"Composite!R174","v":16.439857521234799},{"$f":"Composite!G174","v":"CAMK"}]
[33,{"$f":"Composite!B146","v":"FES"},{"$f":"Composite!F146","v":"FES"},{"$f":"Composite!R146","v":16.342190216041715},{"$f":"Composite!G146","v":"TK"}]
[34,{"$f":"Composite!B211","v":"MAP3K13 (LZK)"},{"$f":"Composite!F211","v":"MAP3K13"},{"$f":"Composite!R211","v":16.244215760756958},{"$f":"Composite!G211","v":"TKL"}]
[35,{"$f":"Composite!B326","v":"PRKACB (PKACB, PKACβ)"},{"$f":"Composite!F326","v":"PKACB"},{"$f":"Composite!R326","v":16.16782296263527},{"$f":"Composite!G326","v":"AGC"}]
[36,{"$f":"Composite!B359","v":"RPS6KA4 (MSK2)"},{"$f":"Composite!F359","v":"MSK2"},{"$f":"Composite!R359","v":16.076703809277035},{"$f":"Composite!G359","v":"AGC"}]
[37,{"$f":"Composite!B325","v":"PRKACA (PKACA, PKACα)"},{"$f":"Composite!F325","v":"PKACA"},{"$f":"Composite!R325","v":15.788801770269259},{"$f":"Composite!G325","v":"AGC"}]
[38,{"$f":"Composite!B163","v":"GRK5 (GPRK5)"},{"$f":"Composite!F163","v":"GRK5"},{"$f":"Composite!R163","v":15.531524393008951},{"$f":"Composite!G163","v":"AGC"}]
[39,{"$f":"Composite!B70","v":"CDK2/CycE1"},{"$f":"Composite!F70","v":"CDK2/E1"},{"$f":"Composite!R70","v":15.366040820411882},{"$f":"Composite!G70","v":"CMGC"}]
[40,{"$f":"Composite!B162","v":"GRK4 (GPRK4)"},{"$f":"Composite!F162","v":"GRK4"},{"$f":"Composite!R162","v":15.158389818785452},{"$f":"Composite!G162","v":"AGC"}]
[41,{"$f":"Composite!B264","v":"MYO3B"},{"$f":"Composite!F264","v":"MYO3B"},{"$f":"Composite!R264","v":14.503391552249568},{"$f":"Composite!G264","v":"STE"}]
[42,{"$f":"Composite!B215","v":"MAP3K20 (MLK7, ZAK)"},{"$f":"Composite!F215","v":"ZAK"},{"$f":"Composite!R215","v":14.192488963767005},{"$f":"Composite!G215","v":"TKL"}]
[43,{"$f":"Composite!B230","v":"MAPK12 (p38γ)"},{"$f":"Composite!F230","v":"P38G"},{"$f":"Composite!R230","v":13.934426229508205},{"$f":"Composite!G230","v":"CMGC"}]
[44,{"$f":"Composite!B360","v":"RPS6KA5 (MSK1)"},{"$f":"Composite!F360","v":"MSK1"},{"$f":"Composite!R360","v":13.868000882937224},{"$f":"Composite!G360","v":"AGC"}]
[45,{"$f":"Composite!B189","v":"KDR (VEGFR2)"},{"$f":"Composite!F189","v":"KDR"},{"$f":"Composite!R189","v":13.681743764245155},{"$f":"Composite!G189","v":"TK"}]
[46,{"$f":"Composite!B79","v":"CDK5/p35NCK"},{"$f":"Composite!F79","v":"CDK5/P35"},{"$f":"Composite!R79","v":13.639500209478271},{"$f":"Composite!G79","v":"CMGC"}]
[47,{"$f":"Composite!B342","v":"PRKG1 (PKG1, PGK)"},{"$f":"Composite!F342","v":"PGK"},{"$f":"Composite!R342","v":13.341730819133275},{"$f":"Composite!G342","v":"AGC"}]
[48,{"$f":"Composite!B402","v":"TNIK (ZC2)"},{"$f":"Composite!F402","v":"TNIK"},{"$f":"Composite!R402","v":13.065345285154876},{"$f":"Composite!G402","v":"STE"}]
[49,{"$f":"Composite!B38","v":"BRSK1"},{"$f":"Composite!F38","v":"BRSK1"},{"$f":"Composite!R38","v":13.01515494232072},{"$f":"Composite!G38","v":"CAMK"}]
[50,{"$f":"Composite!B209","v":"MAP3K11 (MLK3)"},{"$f":"Composite!F209","v":"MAP3K11"},{"$f":"Composite!R209","v":12.972147099915844},{"$f":"Composite!G209","v":"TKL"}]
[51,{"$f":"Composite!B406","v":"TSSK1B (TSSK1)"},{"$f":"Composite!F406","v":"TSSK1"},{"$f":"Composite!R406","v":12.867404387497587},{"$f":"Composite!G406","v":"CAMK"}]
[52,{"$f":"Composite!B272","v":"NEK6"},{"$f":"Composite!F272","v":"NEK6"},{"$f":"Composite!R272","v":12.700098904721798},{"$f":"Composite!G272","v":"Other"}]
[53,{"$f":"Composite!B279","v":"NTRK2 (TRKB)"},{"$f":"Composite!F279","v":"NTRK2"},{"$f":"Composite!R279","v":12.431224653217285},{"$f":"Composite!G279","v":"TK"}]
[54,{"$f":"Composite!B353","v":"ROCK1"},{"$f":"Composite!F353","v":"ROCK1"},{"$f":"Composite!R353","v":12.38524622021842},{"$f":"Composite!G353","v":"AGC"}]
[55,{"$f":"Composite!B84","v":"CDK7/CycH1"},{"$f":"Composite!F84","v":"CDK7/H1"},{"$f":"Composite!R84","v":12.247384563673776},{"$f":"Composite!G84","v":"CMGC"}]
[56,{"$f":"Composite!B139","v":"EPHB4"},{"$f":"Composite!F139","v":"EPHB4"},{"$f":"Composite!R139","v":12.056670512796259},{"$f":"Composite!G139","v":"TK"}]
[57,{"$f":"Composite!B383","v":"STK17B (DRAK2)"},{"$f":"Composite!F383","v":"DRAK2"},{"$f":"Composite!R383","v":11.910211267605646},{"$f":"Composite!G383","v":"CAMK"}]
[58,{"$f":"Composite!B144","v":"FAM20C"},{"$f":"Composite!F144","v":"FAM20C"},{"$f":"Composite!R144","v":11.86063548295391},{"$f":"Composite!G144","v":"Other"}]
[59,{"$f":"Composite!B246","v":"MAST3"},{"$f":"Composite!F246","v":"MAST3"},{"$f":"Composite!R246","v":11.690758969527138},{"$f":"Composite!G246","v":"AGC"}]
[60,{"$f":"Composite!B268","v":"NEK2"},{"$f":"Composite!F268","v":"NEK2"},{"$f":"Composite!R268","v":11.526966757092282},{"$f":"Composite!G268","v":"Other"}]
[61,{"$f":"Composite!B74","v":"CDK3/CycE2"},{"$f":"Composite!F74","v":"CDK3/E2"},{"$f":"Composite!R74","v":11.520086304325488},{"$f":"Composite!G74","v":"CMGC"}]
[62,{"$f":"Composite!B150","v":"FGFR4"},{"$f":"Composite!F150","v":"FGFR4"},{"$f":"Composite!R150","v":11.480281382737587},{"$f":"Composite!G150","v":"TK"}]
[63,{"$f":"Composite!B102","v":"CSNK1E (CK1E, CK1ε)"},{"$f":"Composite!F102","v":"CK1E"},{"$f":"Composite!R102","v":11.311000347745448},{"$f":"Composite!G102","v":"CK1"}]
[64,{"$f":"Composite!B97","v":"CSF1R (FMS)"},{"$f":"Composite!F97","v":"FMS/CSF1R"},{"$f":"Composite!R97","v":11.236381261458732},{"$f":"Composite!G97","v":"TK"}]
[65,{"$f":"Composite!B256","v":"MST1R (RON)"},{"$f":"Composite!F256","v":"MST1R"},{"$f":"Composite!R256","v":11.117649828162527},{"$f":"Composite!G256","v":"TK"}]
[66,{"$f":"Composite!B363","v":"RPS6KB2 (p70S6KB)"},{"$f":"Composite!F363","v":"P70S6KB"},{"$f":"Composite!R363","v":11.06518220991677},{"$f":"Composite!G363","v":"AGC"}]
[67,{"$f":"Composite!B231","v":"MAPK13 (p38δ)"},{"$f":"Composite!F231","v":"P38D"},{"$f":"Composite!R231","v":10.889056929890884},{"$f":"Composite!G231","v":"CMGC"}]
[68,{"$f":"Composite!B284","v":"PAK2"},{"$f":"Composite!F284","v":"PAK2"},{"$f":"Composite!R284","v":10.790948503753825},{"$f":"Composite!G284","v":"STE"}]
[69,{"$f":"Composite!B398","v":"TEK (TIE2)"},{"$f":"Composite!F398","v":"TEK"},{"$f":"Composite!R398","v":10.762974438419832},{"$f":"Composite!G398","v":"TK"}]
[70,{"$f":"Composite!B351","v":"RIPK2"},{"$f":"Composite!F351","v":"RIPK2"},{"$f":"Composite!R351","v":10.711613883158392},{"$f":"Composite!G351","v":"TKL"}]
[71,{"$f":"Composite!B149","v":"FGFR3"},{"$f":"Composite!F149","v":"FGFR3"},{"$f":"Composite!R149","v":10.39881558249283},{"$f":"Composite!G149","v":"TK"}]
[72,{"$f":"Composite!B228","v":"MAPK10 (JNK3)"},{"$f":"Composite!F228","v":"JNK3"},{"$f":"Composite!R228","v":10.109682299546151},{"$f":"Composite!G228","v":"CMGC"}]
[73,{"$f":"Composite!B156","v":"FYNa (FYN)"},{"$f":"Composite!F156","v":"FYNA"},{"$f":"Composite!R156","v":10.075382401014849},{"$f":"Composite!G156","v":"TK"}]
[74,{"$f":"Composite!B271","v":"NEK5"},{"$f":"Composite!F271","v":"NEK5"},{"$f":"Composite!R271","v":10.015343186372746},{"$f":"Composite!G271","v":"Other"}]
[75,{"$f":"Composite!B125","v":"EIF2AK2 (PKR)"},{"$f":"Composite!F125","v":"PKR"},{"$f":"Composite!R125","v":9.9499846321495369},{"$f":"Composite!G125","v":"Other"}]
[76,{"$f":"Composite!B151","v":"FGR"},{"$f":"Composite!F151","v":"FGR"},{"$f":"Composite!R151","v":9.9361388077235802},{"$f":"Composite!G151","v":"TK"}]
[77,{"$f":"Composite!B154","v":"FLT4"},{"$f":"Composite!F154","v":"FLT4"},{"$f":"Composite!R154","v":9.5571095571095412},{"$f":"Composite!G154","v":"TK"}]
[78,{"$f":"Composite!B161","v":"GRK3 (ADRBK2, BARK2)"},{"$f":"Composite!F161","v":"GRK3"},{"$f":"Composite!R161","v":9.4871667713602506},{"$f":"Composite!G161","v":"AGC"}]
[79,{"$f":"Composite!B277","v":"NLK (LAK1)"},{"$f":"Composite!F277","v":"NLK"},{"$f":"Composite!R277","v":9.3423909237341434},{"$f":"Composite!G277","v":"CMGC"}]
[80,{"$f":"Composite!B214","v":"MAP3K2 (MEKK2)"},{"$f":"Composite!F214","v":"MAP3K2"},{"$f":"Composite!R214","v":9.3044162265423154},{"$f":"Composite!G214","v":"STE"}]
[81,{"$f":"Composite!B265","v":"NEK1"},{"$f":"Composite!F265","v":"NEK1"},{"$f":"Composite!R265","v":9.1974811548667219},{"$f":"Composite!G265","v":"Other"}]
[82,{"$f":"Composite!B222","v":"MAP4K1 (HPK1)"},{"$f":"Composite!F222","v":"HPK1"},{"$f":"Composite!R222","v":9.1735813188789308},{"$f":"Composite!G222","v":"STE"}]
[83,{"$f":"Composite!B400","v":"TLK1"},{"$f":"Composite!F400","v":"TLK1"},{"$f":"Composite!R400","v":9.0585146286571643},{"$f":"Composite!G400","v":"Other"}]
[84,{"$f":"Composite!B307","v":"PKN3"},{"$f":"Composite!F307","v":"PKN3"},{"$f":"Composite!R307","v":9.016962138463839},{"$f":"Composite!G307","v":"AGC"}]
[85,{"$f":"Composite!B82","v":"CDK6/CycD3"},{"$f":"Composite!F82","v":"CDK6/D3"},{"$f":"Composite!R82","v":9.0021639350625549},{"$f":"Composite!G82","v":"CMGC"}]
[86,{"$f":"Composite!B91","v":"CHUK (IKKA, IKKa)"},{"$f":"Composite!F91","v":"IKKA"},{"$f":"Composite!R91","v":8.9839080459770173},{"$f":"Composite!G91","v":"Other"}]
[87,{"$f":"Composite!B348","v":"RAF1 [Y340E/Y341E]"},{"$f":"Composite!F348","v":"RAF1"},{"$f":"Composite!R348","v":8.9543128473380591},{"$f":"Composite!G348","v":"TKL"}]
[88,{"$f":"Composite!B143","v":"ERN2 (IRE2)"},{"$f":"Composite!F143","v":"ERN2"},{"$f":"Composite!R143","v":8.9209476389680589},{"$f":"Composite!G143","v":"Other"}]
[89,{"$f":"Composite!B253","v":"MLK4 (MAP3K21)"},{"$f":"Composite!F253","v":"MLK4"},{"$f":"Composite!R253","v":8.8568332149930882},{"$f":"Composite!G253","v":"STE"}]
[90,{"$f":"Composite!B95","v":"CLK3"},{"$f":"Composite!F95","v":"CLK3"},{"$f":"Composite!R95","v":8.6709611798609956},{"$f":"Composite!G95","v":"CMGC"}]
[91,{"$f":"Composite!B299","v":"PHKG2"},{"$f":"Composite!F299","v":"PHKG2"},{"$f":"Composite!R299","v":8.6610215918158389},{"$f":"Composite!G299","v":"CAMK"}]
[92,{"$f":"Composite!B263","v":"MYO3A"},{"$f":"Composite!F263","v":"MYO3A"},{"$f":"Composite!R263","v":8.4465140344069169},{"$f":"Composite!G263","v":"STE"}]
[93,{"$f":"Composite!B257","v":"mTOR (FRAP)"},{"$f":"Composite!F257","v":"mTOR"},{"$f":"Composite!R257","v":8.3775811209439439},{"$f":"Composite!G257","v":"Atypical"}]
[94,{"$f":"Composite!B121","v":"DYRK4"},{"$f":"Composite!F121","v":"DYRK4"},{"$f":"Composite!R121","v":8.3393427423508655},{"$f":"Composite!G121","v":"CMGC"}]
[95,{"$f":"Composite!B113","v":"DDR1 [SRC treated]"},{"$f":"Composite!F113","v":"DDR1"},{"$f":"Composite!R113","v":8.329257803936116},{"$f":"Composite!G113","v":"TK"}]
[96,{"$f":"Composite!B237","v":"MAPK8 (JNK1)"},{"$f":"Composite!F237","v":"JNK1"},{"$f":"Composite!R237","v":8.2792571044976881},{"$f":"Composite!G237","v":"CMGC"}]
[97,{"$f":"Composite!B233","v":"MAPK15 (ERK7)"},{"$f":"Composite!F233","v":"ERK7"},{"$f":"Composite!R233","v":8.243778858333684},{"$f":"Composite!G233","v":"CMGC"}]
[98,{"$f":"Composite!B283","v":"PAK1"},{"$f":"Composite!F283","v":"PAK1"},{"$f":"Composite!R283","v":8.2395579886455721},{"$f":"Composite!G283","v":"STE"}]
[99,{"$f":"Composite!B42","v":"CAMK1 (CAMK1a)"},{"$f":"Composite!F42","v":"CAMK1A"},{"$f":"Composite!R42","v":8.0966871944272327},{"$f":"Composite!G42","v":"CAMK"}]
[100,{"$f":"Composite!B194","v":"LATS2"},{"$f":"Composite!F194","v":"LATS2"},{"$f":"Composite!R194","v":8.0918577902396009},{"$f":"Composite!G194","v":"AGC"}]
[101,{"$f":"Composite!B419","v":"ULK3"},{"$f":"Composite!F419","v":"ULK3"},{"$f":"Composite!R419","v":8.048197425929061},{"$f":"Composite!G419","v":"Other"}]
[102,{"$f":"Composite!B207","v":"MAP3K1 (MEKK1)"},{"$f":"Composite!F207","v":"MAP3K1"},{"$f":"Composite!R207","v":8.0383975724331123},{"$f":"Composite!G207","v":"STE"}]
[103,{"$f":"Composite!B223","v":"MAP4K2 (GCK)"},{"$f":"Composite!F223","v":"GCK"},{"$f":"Composite!R223","v":7.9178204209669758},{"$f":"Composite!G223","v":"STE"}]
[104,{"$f":"Composite!B414","v":"TYK2 [JH1]"},{"$f":"Composite!F414","v":"TYK2(JH1)"},{"$f":"Composite!R414","v":7.9030287441322287},{"$f":"Composite!G414","v":"TK"}]
[105,{"$f":"Composite!B234","v":"MAPK3 (ERK1)"},{"$f":"Composite!F234","v":"ERK1"},{"$f":"Composite!R234","v":7.8909494633825545},{"$f":"Composite!G234","v":"CAMK"}]
[106,{"$f":"Composite!B39","v":"BRSK2"},{"$f":"Composite!F39","v":"BRSK2"},{"$f":"Composite!R39","v":7.8894549945962922},{"$f":"Composite!G39","v":"CAMK"}]
[107,{"$f":"Composite!B409","v":"TSSK6 (SSTK)"},{"$f":"Composite!F409","v":"TSSK6"},{"$f":"Composite!R409","v":7.8591966541779357},{"$f":"Composite!G409","v":"CAMK"}]
[108,{"$f":"Composite!B392","v":"SYK"},{"$f":"Composite!F392","v":"SYK"},{"$f":"Composite!R392","v":7.8457894955519834},{"$f":"Composite!G392","v":"TK"}]
[109,{"$f":"Composite!B418","v":"ULK2"},{"$f":"Composite!F418","v":"ULK2"},{"$f":"Composite!R418","v":7.8052756479150531},{"$f":"Composite!G418","v":"Other"}]
[110,{"$f":"Composite!B310","v":"PLK3"},{"$f":"Composite!F310","v":"PLK3"},{"$f":"Composite!R310","v":7.6105794589707045},{"$f":"Composite!G310","v":"Other"}]
[111,{"$f":"Composite!B202","v":"MAK"},{"$f":"Composite!F202","v":"MAK"},{"$f":"Composite!R202","v":7.5427316920181937},{"$f":"Composite!G202","v":"Atypical"}]
[112,{"$f":"Composite!B175","v":"ICK"},{"$f":"Composite!F175","v":"ICK"},{"$f":"Composite!R175","v":7.5226608734736544},{"$f":"Composite!G175","v":"CMGC"}]
[113,{"$f":"Composite!B191","v":"KSR1"},{"$f":"Composite!F191","v":"KSR1"},{"$f":"Composite!R191","v":7.458761226607507},{"$f":"Composite!G191","v":"TKL"}]
[114,{"$f":"Composite!B35","v":"BMX"},{"$f":"Composite!F35","v":"BMX"},{"$f":"Composite!R35","v":7.4215660427102961},{"$f":"Composite!G35","v":"TK"}]
[115,{"$f":"Composite!B224","v":"MAP4K3 (GLK, KHS2)"},{"$f":"Composite!F224","v":"GLK/KHS2"},{"$f":"Composite!R224","v":7.3414266216507542},{"$f":"Composite!G224","v":"STE"}]
[116,{"$f":"Composite!B126","v":"EIF2AK3 (PERK/PEK)"},{"$f":"Composite!F126","v":"PEK"},{"$f":"Composite!R126","v":7.2860177433462354},{"$f":"Composite!G126","v":"Other"}]
[117,{"$f":"Composite!B199","v":"LTK"},{"$f":"Composite!F199","v":"LTK"},{"$f":"Composite!R199","v":7.2847431388715904},{"$f":"Composite!G199","v":"TK"}]
[118,{"$f":"Composite!B243","v":"MARK2"},{"$f":"Composite!F243","v":"MARK2"},{"$f":"Composite!R243","v":7.2647469029452623},{"$f":"Composite!G243","v":"CAMK"}]
[119,{"$f":"Composite!B90","v":"CHEK2 (CHK2)"},{"$f":"Composite!F90","v":"CHK2"},{"$f":"Composite!R90","v":7.1976405326136899},{"$f":"Composite!G90","v":"CAMK"}]
[120,{"$f":"Composite!B86","v":"CDK9 (TAK)/CycT1"},{"$f":"Composite!F86","v":"CDK9/T1"},{"$f":"Composite!R86","v":7.0880452342488098},{"$f":"Composite!G86","v":"CMGC"}]
[121,{"$f":"Composite!B364","v":"SBK1 (SBK)"},{"$f":"Composite!F364","v":"SBK1"},{"$f":"Composite!R364","v":7.0637408568442908},{"$f":"Composite!G364","v":"Other"}]
[122,{"$f":"Composite!B349","v":"RET"},{"$f":"Composite!F349","v":"RET"},{"$f":"Composite!R349","v":6.986684201874084},{"$f":"Composite!G349","v":"TK"}]
[123,{"$f":"Composite!B110","v":"DAPK3 (ZIPK)"},{"$f":"Composite!F110","v":"DAPK3"},{"$f":"Composite!R110","v":6.959722126377315},{"$f":"Composite!G110","v":"CAMK"}]
[124,{"$f":"Composite!B232","v":"MAPK14 (p38a)"},{"$f":"Composite!F232","v":"P38A"},{"$f":"Composite!R232","v":6.9590481460985103},{"$f":"Composite!G232","v":"CMGC"}]
[125,{"$f":"Composite!B140","v":"ERBB2 (HER2)"},{"$f":"Composite!F140","v":"HER2"},{"$f":"Composite!R140","v":6.954018966301561},{"$f":"Composite!G140","v":"TK"}]
[126,{"$f":"Composite!B322","v":"PRKAA2-B2-G1 (AMPKα2β2γ1)"},{"$f":"Composite!F322","v":"AMPK221"},{"$f":"Composite!R322","v":6.7978867318730494},{"$f":"Composite!G322","v":"CAMK"}]
[127,{"$f":"Composite!B171","v":"HIPK2"},{"$f":"Composite!F171","v":"HIPK2"},{"$f":"Composite!R171","v":6.7576196151881476},{"$f":"Composite!G171","v":"CMGC"}]
[128,{"$f":"Composite!B190","v":"KIT (SCFR, CD117)"},{"$f":"Composite!F190","v":"KIT"},{"$f":"Composite!R190","v":6.7120665865491418},{"$f":"Composite!G190","v":"TK"}]
[129,{"$f":"Composite!B197","v":"LIMK2"},{"$f":"Composite!F197","v":"LIMK2"},{"$f":"Composite!R197","v":6.6964936649604283},{"$f":"Composite!G197","v":"TKL"}]
[130,{"$f":"Composite!B85","v":"CDK9 (TAK)/CycK"},{"$f":"Composite!F85","v":"CDK9/K"},{"$f":"Composite!R85","v":6.6579062636881332},{"$f":"Composite!G85","v":"CMGC"}]
[131,{"$f":"Composite!B41","v":"BUB1"},{"$f":"Composite!F41","v":"BUB1"},{"$f":"Composite!R41","v":6.6333027332760821},{"$f":"Composite!G41","v":"Other"}]
[132,{"$f":"Composite!B21","v":"ABL1"},{"$f":"Composite!F21","v":"ABL1"},{"$f":"Composite!R21","v":6.5815551436256925},{"$f":"Composite!G21","v":"TK"}]
[133,{"$f":"Composite!B221","v":"MAP3K9 (MLK1)"},{"$f":"Composite!F221","v":"MAP3K9"},{"$f":"Composite!R221","v":6.5486393200121853},{"$f":"Composite!G221","v":"TKL"}]
[134,{"$f":"Composite!B217","v":"MAP3K5 (ASK1)"},{"$f":"Composite!F217","v":"MAP3K5"},{"$f":"Composite!R217","v":6.5275197610461504},{"$f":"Composite!G217","v":"STE"}]
[135,{"$f":"Composite!B152","v":"FLT1"},{"$f":"Composite!F152","v":"FLT1"},{"$f":"Composite!R152","v":6.516178855205041},{"$f":"Composite!G152","v":"TK"}]
[136,{"$f":"Composite!B33","v":"BLK"},{"$f":"Composite!F33","v":"BLK"},{"$f":"Composite!R33","v":6.4901477832512313},{"$f":"Composite!G33","v":"TK"}]
[137,{"$f":"Composite!B187","v":"JAK2 [JH1-JH2]"},{"$f":"Composite!F187","v":"JAK2(JH1JH2)"},{"$f":"Composite!R187","v":6.3981042654028357},{"$f":"Composite!G187","v":"TK"}]
[138,{"$f":"Composite!B254","v":"MNK1"},{"$f":"Composite!F254","v":"MNK1"},{"$f":"Composite!R254","v":6.3677754513491038},{"$f":"Composite!G254","v":"CAMK"}]
[139,{"$f":"Composite!B198","v":"LRRK2"},{"$f":"Composite!F198","v":"LRRK2"},{"$f":"Composite!R198","v":6.3250784877025978},{"$f":"Composite!G198","v":"TKL"}]
[140,{"$f":"Composite!B30","v":"AXL"},{"$f":"Composite!F30","v":"AXL"},{"$f":"Composite!R30","v":6.3003936258015329},{"$f":"Composite!G30","v":"TK"}]
[141,{"$f":"Composite!B339","v":"PRKD2 (PKD2)"},{"$f":"Composite!F339","v":"PKD2"},{"$f":"Composite!R339","v":6.1865754277354057},{"$f":"Composite!G339","v":"CAMK"}]
[142,{"$f":"Composite!B417","v":"ULK1"},{"$f":"Composite!F417","v":"ULK1"},{"$f":"Composite!R417","v":6.1568541388185025},{"$f":"Composite!G417","v":"Other"}]
[143,{"$f":"Composite!B105","v":"CSNK1G3 (CK1G3, CK1γ3)"},{"$f":"Composite!F105","v":"CK1G3"},{"$f":"Composite!R105","v":6.0354630312269535},{"$f":"Composite!G105","v":"CK1"}]
[144,{"$f":"Composite!B338","v":"PRKD1 (PKD1)"},{"$f":"Composite!F338","v":"PKD1"},{"$f":"Composite!R338","v":5.976761476402018},{"$f":"Composite!G338","v":"CAMK"}]
[145,{"$f":"Composite!B155","v":"FRK"},{"$f":"Composite!F155","v":"FRK"},{"$f":"Composite!R155","v":5.928273303447213},{"$f":"Composite!G155","v":"TK"}]
[146,{"$f":"Composite!B177","v":"IKKB (IKKβ)"},{"$f":"Composite!F177","v":"IKKB"},{"$f":"Composite!R177","v":5.9245128764136865},{"$f":"Composite!G177","v":"Other"}]
[147,{"$f":"Composite!B196","v":"LIMK1"},{"$f":"Composite!F196","v":"LIMK1"},{"$f":"Composite!R196","v":5.8226423587665863},{"$f":"Composite!G196","v":"TKL"}]
[148,{"$f":"Composite!B421","v":"YES1 (YES)"},{"$f":"Composite!F421","v":"YES"},{"$f":"Composite!R421","v":5.7138577900924901},{"$f":"Composite!G421","v":"TK"}]
[149,{"$f":"Composite!B176","v":"IGF1R"},{"$f":"Composite!F176","v":"IGF1R"},{"$f":"Composite!R176","v":5.6881313131312936},{"$f":"Composite!G176","v":"TK"}]
[150,{"$f":"Composite!B403","v":"TNK1"},{"$f":"Composite!F403","v":"TNK1"},{"$f":"Composite!R403","v":5.6294095803936131},{"$f":"Composite!G403","v":"TK"}]
[151,{"$f":"Composite!B356","v":"RPS6KA1 (RSK1)"},{"$f":"Composite!F356","v":"RSK1"},{"$f":"Composite!R356","v":5.5958860374604598},{"$f":"Composite!G356","v":"AGC"}]
[152,{"$f":"Composite!B185","v":"JAK1 [JH1-JH2]"},{"$f":"Composite!F185","v":"JAK1(JH1JH2)"},{"$f":"Composite!R185","v":5.5484856197505792},{"$f":"Composite!G185","v":"TK"}]
[153,{"$f":"Composite!B169","v":"HCK"},{"$f":"Composite!F169","v":"HCK"},{"$f":"Composite!R169","v":5.5449466015984257},{"$f":"Composite!G169","v":"TK"}]
[154,{"$f":"Composite!B183","v":"ITK"},{"$f":"Composite!F183","v":"ITK"},{"$f":"Composite!R183","v":5.4628299737506865},{"$f":"Composite!G183","v":"TK"}]
[155,{"$f":"Composite!B133","v":"EPHA6"},{"$f":"Composite!F133","v":"EPHA6"},{"$f":"Composite!R133","v":5.4249611746435136},{"$f":"Composite!G133","v":"TK"}]
[156,{"$f":"Composite!B369","v":"SIK2 (QIK)"},{"$f":"Composite!F369","v":"SIK2"},{"$f":"Composite!R369","v":5.3850664581704422},{"$f":"Composite!G369","v":"CAMK"}]
[157,{"$f":"Composite!B145","v":"FER"},{"$f":"Composite!F145","v":"FER"},{"$f":"Composite!R145","v":5.3629796181791676},{"$f":"Composite!G145","v":"TK"}]
[158,{"$f":"Composite!B355","v":"ROS1 (ROS)"},{"$f":"Composite!F355","v":"ROS"},{"$f":"Composite!R355","v":5.3239028366974139},{"$f":"Composite!G355","v":"TK"}]
[159,{"$f":"Composite!B390","v":"STK38L (NDR2)"},{"$f":"Composite!F390","v":"NDR2"},{"$f":"Composite!R390","v":5.1580352653570714},{"$f":"Composite!G390","v":"AGC"}]
[160,{"$f":"Composite!B250","v":"MERTK (MER)"},{"$f":"Composite!F250","v":"MERTK"},{"$f":"Composite!R250","v":5.1424463633174184},{"$f":"Composite!G250","v":"TK"}]
[161,{"$f":"Composite!B216","v":"MAP3K3 (MEKK3)"},{"$f":"Composite!F216","v":"MAP3K3"},{"$f":"Composite!R216","v":5.1379205819945355},{"$f":"Composite!G216","v":"STE"}]
[162,{"$f":"Composite!B251","v":"MET (c-MET, HGFR)"},{"$f":"Composite!F251","v":"MET"},{"$f":"Composite!R251","v":5.1174856358802714},{"$f":"Composite!G251","v":"TK"}]
[163,{"$f":"Composite!B304","v":"PKMYT1 (MYT1)"},{"$f":"Composite!F304","v":"MYT1"},{"$f":"Composite!R304","v":5.1101360634667401},{"$f":"Composite!G304","v":"Other"}]
[164,{"$f":"Composite!B258","v":"MUSK"},{"$f":"Composite!F258","v":"MUSK"},{"$f":"Composite!R258","v":5.0475624256837222},{"$f":"Composite!G258","v":"TK"}]
[165,{"$f":"Composite!B303","v":"PINK1 (PINK)"},{"$f":"Composite!F303","v":"PINK"},{"$f":"Composite!R303","v":4.952948034643569},{"$f":"Composite!G303","v":"Other"}]
[166,{"$f":"Composite!B327","v":"PRKACG (PKACG, PKACg)"},{"$f":"Composite!F327","v":"PKACG"},{"$f":"Composite!R327","v":4.9131880310306713},{"$f":"Composite!G327","v":"AGC"}]
[167,{"$f":"Composite!B376","v":"SRPK1"},{"$f":"Composite!F376","v":"SRPK1"},{"$f":"Composite!R376","v":4.9093200936382573},{"$f":"Composite!G376","v":"CMGC"}]
[168,{"$f":"Composite!B289","v":"PASK"},{"$f":"Composite!F289","v":"PASK"},{"$f":"Composite!R289","v":4.8424688307312209},{"$f":"Composite!G289","v":"CAMK"}]
[169,{"$f":"Composite!B301","v":"PIM2"},{"$f":"Composite!F301","v":"PIM2"},{"$f":"Composite!R301","v":4.7354170090919467},{"$f":"Composite!G301","v":"CAMK"}]
[170,{"$f":"Composite!B375","v":"SRMS (SRM)"},{"$f":"Composite!F375","v":"SRM"},{"$f":"Composite!R375","v":4.7271932062543556},{"$f":"Composite!G375","v":"TK"}]
[171,{"$f":"Composite!B104","v":"CSNK1G2 (CK1G2, CK1γ2)"},{"$f":"Composite!F104","v":"CK1G2"},{"$f":"Composite!R104","v":4.7038859664008186},{"$f":"Composite!G104","v":"CK1"}]
[172,{"$f":"Composite!B396","v":"TBK1"},{"$f":"Composite!F396","v":"TBK1"},{"$f":"Composite!R396","v":4.7009464746829792},{"$f":"Composite!G396","v":"Other"}]
[173,{"$f":"Composite!B371","v":"SLK"},{"$f":"Composite!F371","v":"SLK"},{"$f":"Composite!R371","v":4.658628249295333},{"$f":"Composite!G371","v":"STE"}]
[174,{"$f":"Composite!B218","v":"MAP3K6 (ASK2)"},{"$f":"Composite!F218","v":"MAP3K6"},{"$f":"Composite!R218","v":4.6364554877820581},{"$f":"Composite!G218","v":"STE"}]
[175,{"$f":"Composite!B186","v":"JAK2 [JH1]"},{"$f":"Composite!F186","v":"JAK2(JH1)"},{"$f":"Composite!R186","v":4.615309557496218},{"$f":"Composite!G186","v":"TK"}]
[176,{"$f":"Composite!B413","v":"TXK"},{"$f":"Composite!F413","v":"TXK"},{"$f":"Composite!R413","v":4.5768797899136899},{"$f":"Composite!G413","v":"TK"}]
[177,{"$f":"Composite!B72","v":"CDK2/CycO"},{"$f":"Composite!F72","v":"CDK2/O"},{"$f":"Composite!R72","v":4.5688130072168747},{"$f":"Composite!G72","v":"CMGC"}]
[178,{"$f":"Composite!B405","v":"TRPM7 (CHAK1)"},{"$f":"Composite!F405","v":"CHAK1"},{"$f":"Composite!R405","v":4.5456421686995725},{"$f":"Composite!G405","v":"Atypical"}]
[179,{"$f":"Composite!B242","v":"MARK1"},{"$f":"Composite!F242","v":"MARK1"},{"$f":"Composite!R242","v":4.4721714463550484},{"$f":"Composite!G242","v":"CAMK"}]
[180,{"$f":"Composite!B75","v":"CDK4 /CycD3"},{"$f":"Composite!F75","v":"CDK4/D3"},{"$f":"Composite!R75","v":4.4029926195531317},{"$f":"Composite!G75","v":"CMGC"}]
[181,{"$f":"Composite!B178","v":"IKKE (IKKe)"},{"$f":"Composite!F178","v":"IKKE"},{"$f":"Composite!R178","v":4.3808361651319245},{"$f":"Composite!G178","v":"Other"}]
[182,{"$f":"Composite!B352","v":"RIPK3"},{"$f":"Composite!F352","v":"RIPK3"},{"$f":"Composite!R352","v":4.379753046038104},{"$f":"Composite!G352","v":"TKL"}]
[183,{"$f":"Composite!B282","v":"NUAK2 (SNARK)"},{"$f":"Composite!F282","v":"NUAK2"},{"$f":"Composite!R282","v":4.347826086956502},{"$f":"Composite!G282","v":"CAMK"}]
[184,{"$f":"Composite!B98","v":"CSK"},{"$f":"Composite!F98","v":"CSK"},{"$f":"Composite!R98","v":4.3437005798629684},{"$f":"Composite!G98","v":"TK"}]
[185,{"$f":"Composite!B388","v":"STK33"},{"$f":"Composite!F388","v":"STK33"},{"$f":"Composite!R388","v":4.3246169389273348},{"$f":"Composite!G388","v":"CAMK"}]
[186,{"$f":"Composite!B118","v":"DYRK1B"},{"$f":"Composite!F118","v":"DYRK1B"},{"$f":"Composite!R118","v":4.1987587964758433},{"$f":"Composite!G118","v":"CMGC"}]
[187,{"$f":"Composite!B184","v":"JAK1 [JH1]"},{"$f":"Composite!F184","v":"JAK1(JH1)"},{"$f":"Composite!R184","v":4.197475299513485},{"$f":"Composite!G184","v":"TK"}]
[188,{"$f":"Composite!B408","v":"TSSK3"},{"$f":"Composite!F408","v":"TSSK3"},{"$f":"Composite!R408","v":4.1172939502832975},{"$f":"Composite!G408","v":"CAMK"}]
[189,{"$f":"Composite!B101","v":"CSNK1D (CK1D, CK1δ)"},{"$f":"Composite!F101","v":"CK1D"},{"$f":"Composite!R101","v":4.0812277949106317},{"$f":"Composite!G101","v":"CK1"}]
[190,{"$f":"Composite!B107","v":"CSNK2A2 (CK2A2, CK2α2)"},{"$f":"Composite!F107","v":"CK2A2"},{"$f":"Composite!R107","v":4.0523045054376041},{"$f":"Composite!G107","v":"Other"}]
[191,{"$f":"Composite!B260","v":"MYLK2 (skMLCK)"},{"$f":"Composite!F260","v":"MYLK2"},{"$f":"Composite!R260","v":4.0235036350960911},{"$f":"Composite!G260","v":"CAMK"}]
[192,{"$f":"Composite!B422","v":"ZAP70"},{"$f":"Composite!F422","v":"ZAP70"},{"$f":"Composite!R422","v":3.9788515922783887},{"$f":"Composite!G422","v":"TK"}]
[193,{"$f":"Composite!B49","v":"CAMK4"},{"$f":"Composite!F49","v":"CAMK4"},{"$f":"Composite!R49","v":3.9637960527995517},{"$f":"Composite!G49","v":"CAMK"}]
[194,{"$f":"Composite!B127","v":"EIF2AK4 (GCN2)"},{"$f":"Composite!F127","v":"GCN2"},{"$f":"Composite!R127","v":3.9595464296659486},{"$f":"Composite!G127","v":"Other"}]
[195,{"$f":"Composite!B22","v":"ABL2 (ARG)"},{"$f":"Composite!F22","v":"ABL2"},{"$f":"Composite!R22","v":3.90517230855626},{"$f":"Composite!G22","v":"TK"}]
[196,{"$f":"Composite!B147","v":"FGFR1"},{"$f":"Composite!F147","v":"FGFR1"},{"$f":"Composite!R147","v":3.8568076280385384},{"$f":"Composite!G147","v":"TK"}]
[197,{"$f":"Composite!B362","v":"RPS6KB1 (p70S6K)"},{"$f":"Composite!F362","v":"P70S6KA"},{"$f":"Composite!R362","v":3.8394998909646034},{"$f":"Composite!G362","v":"AGC"}]
[198,{"$f":"Composite!B170","v":"HIPK1"},{"$f":"Composite!F170","v":"HIPK1"},{"$f":"Composite!R170","v":3.8367296023380248},{"$f":"Composite!G170","v":"CMGC"}]
[199,{"$f":"Composite!B308","v":"PLK1"},{"$f":"Composite!F308","v":"PLK1"},{"$f":"Composite!R308","v":3.8259938018900357},{"$f":"Composite!G308","v":"Other"}]
[200,{"$f":"Composite!B94","v":"CLK2"},{"$f":"Composite!F94","v":"CLK2"},{"$f":"Composite!R94","v":3.8158573639855717},{"$f":"Composite!G94","v":"CMGC"}]
[201,{"$f":"Composite!B247","v":"MASTL"},{"$f":"Composite!F247","v":"MASTL"},{"$f":"Composite!R247","v":3.694769801693127},{"$f":"Composite!G247","v":"AGC"}]
[202,{"$f":"Composite!B245","v":"MARK4"},{"$f":"Composite!F245","v":"MARK4"},{"$f":"Composite!R245","v":3.6549337384991958},{"$f":"Composite!G245","v":"CAMK"}]
[203,{"$f":"Composite!B240","v":"MAPKAPK3 (MK3)"},{"$f":"Composite!F240","v":"MK3"},{"$f":"Composite!R240","v":3.6334056399132209},{"$f":"Composite!G240","v":"CAMK"}]
[204,{"$f":"Composite!B286","v":"PAK4"},{"$f":"Composite!F286","v":"PAK4"},{"$f":"Composite!R286","v":3.5723630844912009},{"$f":"Composite!G286","v":"STE"}]
[205,{"$f":"Composite!B407","v":"TSSK2"},{"$f":"Composite!F407","v":"TSSK2"},{"$f":"Composite!R407","v":3.5690422460634608},{"$f":"Composite!G407","v":"CAMK"}]
[206,{"$f":"Composite!B273","v":"NEK7"},{"$f":"Composite!F273","v":"NEK7"},{"$f":"Composite!R273","v":3.5162272462265918},{"$f":"Composite!G273","v":"Other"}]
[207,{"$f":"Composite!B204","v":"MAP2K2 (MEK2)"},{"$f":"Composite!F204","v":"MEK2"},{"$f":"Composite!R204","v":3.5140066380230337},{"$f":"Composite!G204","v":"STE"}]
[208,{"$f":"Composite!B380","v":"STK11 (LKB1, AMPKK)"},{"$f":"Composite!F380","v":"LKB1"},{"$f":"Composite!R380","v":3.3699921445404755},{"$f":"Composite!G380","v":"CAMK"}]
[209,{"$f":"Composite!B379","v":"STK10 (LOK)"},{"$f":"Composite!F379","v":"LOK"},{"$f":"Composite!R379","v":3.2459011209663657},{"$f":"Composite!G379","v":"STE"}]
[210,{"$f":"Composite!B200","v":"LYNA (LYNa)"},{"$f":"Composite!F200","v":"LYNA"},{"$f":"Composite!R200","v":3.2398150462384621},{"$f":"Composite!G200","v":"TK"}]
[211,{"$f":"Composite!B321","v":"PRKAA2-B1-G3 (AMPKα2β1γ3)"},{"$f":"Composite!F321","v":"AMPK213"},{"$f":"Composite!R321","v":3.163346442309745},{"$f":"Composite!G321","v":"CAMK"}]
[212,{"$f":"Composite!B61","v":"CDK13 (CHED)/CycK"},{"$f":"Composite!F61","v":"CDK13/K"},{"$f":"Composite!R61","v":3.1131788463415262},{"$f":"Composite!G61","v":"CMGC"}]
[213,{"$f":"Composite!B153","v":"FLT3"},{"$f":"Composite!F153","v":"FLT3"},{"$f":"Composite!R153","v":3.0822705548597895},{"$f":"Composite!G153","v":"TK"}]
[214,{"$f":"Composite!B344","v":"PRKX"},{"$f":"Composite!F344","v":"PRKX"},{"$f":"Composite!R344","v":3.0391725549699657},{"$f":"Composite!G344","v":"AGC"}]
[215,{"$f":"Composite!B397","v":"TEC"},{"$f":"Composite!F397","v":"TEC"},{"$f":"Composite!R397","v":2.8750594493667592},{"$f":"Composite!G397","v":"TK"}]
[216,{"$f":"Composite!B293","v":"PDK1 (PDHK1)"},{"$f":"Composite!F293","v":"PDHK1"},{"$f":"Composite!R293","v":2.838212490014584},{"$f":"Composite!G293","v":"Atypical"}]
[217,{"$f":"Composite!B89","v":"CHEK1 (CHK1)"},{"$f":"Composite!F89","v":"CHK1"},{"$f":"Composite!R89","v":2.8164395206574966},{"$f":"Composite!G89","v":"CAMK"}]
[218,{"$f":"Composite!B119","v":"DYRK2"},{"$f":"Composite!F119","v":"DYRK2"},{"$f":"Composite!R119","v":2.7677313739673366},{"$f":"Composite!G119","v":"CMGC"}]
[219,{"$f":"Composite!B391","v":"STK4 (MST1)"},{"$f":"Composite!F391","v":"MST1"},{"$f":"Composite!R391","v":2.6755351070213749},{"$f":"Composite!G391","v":"STE"}]
[220,{"$f":"Composite!B389","v":"STK38 (NDR1)"},{"$f":"Composite!F389","v":"NDR1"},{"$f":"Composite!R389","v":2.6275032294280436},{"$f":"Composite!G389","v":"AGC"}]
[221,{"$f":"Composite!B159","v":"GRK1 (RHOK)"},{"$f":"Composite!F159","v":"GRK1"},{"$f":"Composite!R159","v":2.5710627400768402},{"$f":"Composite!G159","v":"AGC"}]
[222,{"$f":"Composite!B291","v":"PDGFRA (PDGFRα)"},{"$f":"Composite!F291","v":"PDGFRA"},{"$f":"Composite!R291","v":2.5489192435206576},{"$f":"Composite!G291","v":"TK"}]
[223,{"$f":"Composite!B148","v":"FGFR2"},{"$f":"Composite!F148","v":"FGFR2"},{"$f":"Composite!R148","v":2.5101528616339408},{"$f":"Composite!G148","v":"TK"}]
[224,{"$f":"Composite!B346","v":"PTK2B (PYK2)"},{"$f":"Composite!F346","v":"PTK2B"},{"$f":"Composite!R346","v":2.5047483380816686},{"$f":"Composite!G346","v":"TK"}]
[225,{"$f":"Composite!B138","v":"EPHB3"},{"$f":"Composite!F138","v":"EPHB3"},{"$f":"Composite!R138","v":2.4370182638315612},{"$f":"Composite!G138","v":"TK"}]
[226,{"$f":"Composite!B201","v":"LYNB (LYNb)"},{"$f":"Composite!F201","v":"LYNB"},{"$f":"Composite!R201","v":2.3098505774626403},{"$f":"Composite!G201","v":"TK"}]
[227,{"$f":"Composite!B37","v":"BRAF, b-[V600E]"},{"$f":"Composite!F37","v":"BRAF(V600E)"},{"$f":"Composite!R37","v":2.2945707997065341},{"$f":"Composite!G37","v":"TKL"}]
[228,{"$f":"Composite!B212","v":"MAP3K14 (NIK)"},{"$f":"Composite!F212","v":"MAP3K14"},{"$f":"Composite!R212","v":2.2558847899914696},{"$f":"Composite!G212","v":"STE"}]
[229,{"$f":"Composite!B173","v":"HIPK4"},{"$f":"Composite!F173","v":"HIPK4"},{"$f":"Composite!R173","v":2.1857543664535228},{"$f":"Composite!G173","v":"CMGC"}]
[230,{"$f":"Composite!B416","v":"TYRO3"},{"$f":"Composite!F416","v":"TYRO3"},{"$f":"Composite!R416","v":2.1820983870684927},{"$f":"Composite!G416","v":"TK"}]
[231,{"$f":"Composite!B292","v":"PDGFRB (PDGFRβ)"},{"$f":"Composite!F292","v":"PDGFRB"},{"$f":"Composite!R292","v":1.9998562977510375},{"$f":"Composite!G292","v":"TK"}]
[232,{"$f":"Composite!B141","v":"ERBB4 (HER4)"},{"$f":"Composite!F141","v":"HER4"},{"$f":"Composite!R141","v":1.9908839182968734},{"$f":"Composite!G141","v":"TK"}]
[233,{"$f":"Composite!B120","v":"DYRK3"},{"$f":"Composite!F120","v":"DYRK3"},{"$f":"Composite!R120","v":1.9170183677108383},{"$f":"Composite!G120","v":"CMGC"}]
[234,{"$f":"Composite!B167","v":"GSK3B (GSK3β)"},{"$f":"Composite!F167","v":"GSK3B"},{"$f":"Composite!R167","v":1.8676285354402893},{"$f":"Composite!G167","v":"CMGC"}]
[235,{"$f":"Composite!B182","v":"IRAK4"},{"$f":"Composite!F182","v":"IRAK4"},{"$f":"Composite!R182","v":1.8598884066956032},{"$f":"Composite!G182","v":"TKL"}]
[236,{"$f":"Composite!B361","v":"RPS6KA6 (RSK4)"},{"$f":"Composite!F361","v":"RSK4"},{"$f":"Composite!R361","v":1.7987615084695676},{"$f":"Composite!G361","v":"AGC"}]
[237,{"$f":"Composite!B384","v":"STK24 (MST3)"},{"$f":"Composite!F384","v":"MST3"},{"$f":"Composite!R384","v":1.7768058497915575},{"$f":"Composite!G384","v":"STE"}]
[238,{"$f":"Composite!B188","v":"JAK3 [JH1]"},{"$f":"Composite!F188","v":"JAK3(JH1)"},{"$f":"Composite!R188","v":1.6767842493847525},{"$f":"Composite!G188","v":"TK"}]
[239,{"$f":"Composite!B99","v":"CSNK1A1 (CK1A1, CK1α)"},{"$f":"Composite!F99","v":"CK1A1"},{"$f":"Composite!R99","v":1.6423113017830815},{"$f":"Composite!G99","v":"CK1"}]
[240,{"$f":"Composite!B32","v":"BCR RET (fusion)"},{"$f":"Composite!F32","v":"BCR RET"},{"$f":"Composite!R32","v":1.5645526110447037},{"$f":"Composite!G32","v":"TK"}]
[241,{"$f":"Composite!B340","v":"PRKD3 (PKD3)"},{"$f":"Composite!F340","v":"PKD3"},{"$f":"Composite!R340","v":1.5049858993972975},{"$f":"Composite!G340","v":"CAMK"}]
[242,{"$f":"Composite!B347","v":"PTK6 (BRK)"},{"$f":"Composite!F347","v":"PTK6"},{"$f":"Composite!R347","v":1.4587234436044696},{"$f":"Composite!G347","v":"TK"}]
[243,{"$f":"Composite!B106","v":"CSNK2A1 (CK2A1, CK2α1)"},{"$f":"Composite!F106","v":"CK2A1"},{"$f":"Composite!R106","v":1.4042668106940397},{"$f":"Composite!G106","v":"Other"}]
[244,{"$f":"Composite!B343","v":"PRKG2 (PKG2, PGK2, CGK2)"},{"$f":"Composite!F343","v":"PGK2"},{"$f":"Composite!R343","v":1.303468037339016},{"$f":"Composite!G343","v":"AGC"}]
[245,{"$f":"Composite!B135","v":"EPHA8"},{"$f":"Composite!F135","v":"EPHA8"},{"$f":"Composite!R135","v":1.3001675222537159},{"$f":"Composite!G135","v":"TK"}]
[246,{"$f":"Composite!B300","v":"PIM1"},{"$f":"Composite!F300","v":"PIM1"},{"$f":"Composite!R300","v":1.1944920892872375},{"$f":"Composite!G300","v":"CAMK"}]
[247,{"$f":"Composite!B48","v":"CAMK2G (CAMK2γ)"},{"$f":"Composite!F48","v":"CAMK2G"},{"$f":"Composite!R48","v":1.1689418798827518},{"$f":"Composite!G48","v":"CAMK"}]
[248,{"$f":"Composite!B131","v":"EPHA4"},{"$f":"Composite!F131","v":"EPHA4"},{"$f":"Composite!R131","v":1.1486438130680483},{"$f":"Composite!G131","v":"TK"}]
[249,{"$f":"Composite!B179","v":"INSR (IR)"},{"$f":"Composite!F179","v":"INSR"},{"$f":"Composite!R179","v":1.1239926480984366},{"$f":"Composite!G179","v":"TK"}]
[250,{"$f":"Composite!B315","v":"PRKAA1-B1-G3 (AMPKα1β1γ3)"},{"$f":"Composite!F315","v":"AMPK113"},{"$f":"Composite!R315","v":1.0165592598230404},{"$f":"Composite!G315","v":"CAMK"}]
[251,{"$f":"Composite!B262","v":"MYLK4 (SgK085)"},{"$f":"Composite!F262","v":"MYLK4"},{"$f":"Composite!R262","v":0.98964823157290027},{"$f":"Composite!G262","v":"CAMK"}]
[252,{"$f":"Composite!B195","v":"LCK"},{"$f":"Composite!F195","v":"LCK"},{"$f":"Composite!R195","v":0.94196855986905348},{"$f":"Composite!G195","v":"TK"}]
[253,{"$f":"Composite!B73","v":"CDK3/CycE1"},{"$f":"Composite!F73","v":"CDK3/E1"},{"$f":"Composite!R73","v":0.93351835498928892},{"$f":"Composite!G73","v":"CMGC"}]
[254,{"$f":"Composite!B117","v":"DYRK1A"},{"$f":"Composite!F117","v":"DYRK1A"},{"$f":"Composite!R117","v":0.88900234181640769},{"$f":"Composite!G117","v":"CMGC"}]
[255,{"$f":"Composite!B287","v":"PAK5 (PAK7)"},{"$f":"Composite!F287","v":"PAK5"},{"$f":"Composite!R287","v":0.82614263819780831},{"$f":"Composite!G287","v":"STE"}]
[256,{"$f":"Composite!B368","v":"SIK1 (SIK)"},{"$f":"Composite!F368","v":"SIK1"},{"$f":"Composite!R368","v":0.55729492798997171},{"$f":"Composite!G368","v":"CAMK"}]
[257,{"$f":"Composite!B290","v":"PBK (TOPK)"},{"$f":"Composite!F290","v":"TOPK"},{"$f":"Composite!R290","v":0.54757848624967664},{"$f":"Composite!G290","v":"Other"}]
[258,{"$f":"Composite!B244","v":"MARK3"},{"$f":"Composite!F244","v":"MARK3"},{"$f":"Composite!R244","v":0.50290617461973852},{"$f":"Composite!G244","v":"CAMK"}]
[259,{"$f":"Composite!B285","v":"PAK3"},{"$f":"Composite!F285","v":"PAK3"},{"$f":"Composite!R285","v":0.44356268728058978},{"$f":"Composite!G285","v":"STE"}]
[260,{"$f":"Composite!B305","v":"PKN1"},{"$f":"Composite!F305","v":"PKN1"},{"$f":"Composite!R305","v":0.31604674682549216},{"$f":"Composite!G305","v":"AGC"}]
[261,{"$f":"Composite!B108","v":"DAPK1"},{"$f":"Composite!F108","v":"DAPK1"},{"$f":"Composite!R108","v":0.3099261821599697},{"$f":"Composite!G108","v":"CAMK"}]
[262,{"$f":"Composite!B34","v":"BMP2K (BIKE)"},{"$f":"Composite!F34","v":"BIKE"},{"$f":"Composite!R34","v":0.30711128633980422},{"$f":"Composite!G34","v":"Other"}]
[263,{"$f":"Composite!B136","v":"EPHB1"},{"$f":"Composite!F136","v":"EPHB1"},{"$f":"Composite!R136","v":0.27387681370548478},{"$f":"Composite!G136","v":"TK"}]
[264,{"$f":"Composite!B66","v":"CDK18 (PCTAIRE3, PCTK3)/CycY "},{"$f":"Composite!F66","v":"CDK18"},{"$f":"Composite!R66","v":0.2350530376084663},{"$f":"Composite!G66","v":"CMGC"}]
[265,{"$f":"Composite!B345","v":"PTK2 (FAK)"},{"$f":"Composite!F345","v":"PTK2"},{"$f":"Composite!R345","v":0.14653044019348727},{"$f":"Composite!G345","v":"TK"}]
[266,{"$f":"Composite!B387","v":"STK3 (CLIK1, MST2)"},{"$f":"Composite!F387","v":"MST2"},{"$f":"Composite!R387","v":9.7525295623526631E-2},{"$f":"Composite!G387","v":"STE"}]
[267,{"$f":"Composite!B51","v":"CAMKK2"},{"$f":"Composite!F51","v":"CAMKK2"},{"$f":"Composite!R51","v":1.6562883215769375E-2},{"$f":"Composite!G51","v":"Other"}]
[268,{"$f":"Composite!B60","v":"CDK12 (CRK7)/CycK"},{"$f":"Composite!F60","v":"CDK12/K"},{"$f":"Composite!R60","v":0},{"$f":"Composite!G60","v":"CMGC"}]
[269,{"$f":"Composite!B69","v":"CDK2/CycD1"},{"$f":"Composite!F69","v":"CDK2/D1"},{"$f":"Composite!R69","v":0},{"$f":"Composite!G69","v":"CMGC"}]
[270,{"$f":"Composite!B206","v":"MAP2K4 (MEK4)"},{"$f":"Composite!F206","v":"MEK4(HIS)"},{"$f":"Composite!R206","v":0},{"$f":"Composite!G206","v":"STE"}]
[271,{"$f":"Composite!B235","v":"MAPK6 (ERK3)"},{"$f":"Composite!F235","v":"ERK3"},{"$f":"Composite!R235","v":0},{"$f":"Composite!G235","v":"CMGC"}]
[272,{"$f":"Composite!B267","v":"NEK11"},{"$f":"Composite!F267","v":"NEK11"},{"$f":"Composite!R267","v":0},{"$f":"Composite!G267","v":"Other"}]
[273,{"$f":"Composite!B274","v":"NEK8"},{"$f":"Composite!F274","v":"NEK8"},{"$f":"Composite!R274","v":0},{"$f":"Composite!G274","v":"Other"}]
[274,{"$f":"Composite!B374","v":"SRC N1"},{"$f":"Composite!F374","v":"SRC N1"},{"$f":"Composite!R374","v":0},{"$f":"Composite!G374","v":"TK"}]
[275,{"$f":"Composite!B415","v":"TYK2 [JH1-JH2]"},{"$f":"Composite!F415","v":"TYK2(JH1JH2)"},{"$f":"Composite!R415","v":0},{"$f":"Composite!G415","v":"TK"}]
[276,{"$f":"Composite!B420","v":"WEE1"},{"$f":"Composite!F420","v":"WEE1"},{"$f":"Composite!R420","v":0},{"$f":"Composite!G420","v":"Other"}]
[277,{"$f":"Composite!B423","v":0},{"$f":"Composite!F423","v":0},{"$f":"Composite!R423","v":0},{"$f":"Composite!G423","v":0}]
[278,{"$f":"Composite!B424","v":0},{"$f":"Composite!F424","v":0},{"$f":"Composite!R424","v":0},{"$f":"Composite!G424","v":0}]
[279,{"$f":"Composite!B425","v":0},{"$f":"Composite!F425","v":0},{"$f":"Composite!R425","v":0},{"$f":"Composite!G425","v":0}]
[280,{"$f":"Composite!B426","v":0},{"$f":"Composite!F426","v":0},{"$f":"Composite!R426","v":0},{"$f":"Composite!G426","v":0}]
[281,{"$f":"Composite!B427","v":0},{"$f":"Composite!F427","v":0},{"$f":"Composite!R427","v":0},{"$f":"Composite!G427","v":0}]
[282,{"$f":"Composite!B428","v":0},{"$f":"Composite!F428","v":0},{"$f":"Composite!R428","v":0},{"$f":"Composite!G428","v":0}]
[283,{"$f":"Composite!B429","v":0},{"$f":"Composite!F429","v":0},{"$f":"Composite!R429","v":0},{"$f":"Composite!G429","v":0}]
[284,{"$f":"Composite!B430","v":0},{"$f":"Composite!F430","v":0},{"$f":"Composite!R430","v":0},{"$f":"Composite!G430","v":0}]
[285,{"$f":"Composite!B431","v":0},{"$f":"Composite!F431","v":0},{"$f":"Composite!R431","v":0},{"$f":"Composite!G431","v":0}]
[286,{"$f":"Composite!B432","v":0},{"$f":"Composite!F432","v":0},{"$f":"Composite!R432","v":0},{"$f":"Composite!G432","v":0}]
[287,{"$f":"Composite!B433","v":0},{"$f":"Composite!F433","v":0},{"$f":"Composite!R433","v":0},{"$f":"Composite!G433","v":0}]
[288,{"$f":"Composite!B434","v":0},{"$f":"Composite!F434","v":0},{"$f":"Composite!R434","v":0},{"$f":"Composite!G434","v":0}]
[289,{"$f":"Composite!B435","v":0},{"$f":"Composite!F435","v":0},{"$f":"Composite!R435","v":0},{"$f":"Composite!G435","v":0}]
[290,{"$f":"Composite!B436","v":0},{"$f":"Composite!F436","v":0},{"$f":"Composite!R436","v":0},{"$f":"Composite!G436","v":0}]
[291,{"$f":"Composite!B437","v":0},{"$f":"Composite!F437","v":0},{"$f":"Composite!R437","v":0},{"$f":"Composite!G437","v":0}]
[292,{"$f":"Composite!B438","v":0},{"$f":"Composite!F438","v":0},{"$f":"Composite!R438","v":0},{"$f":"Composite!G438","v":0}]
[293,{"$f":"Composite!B439","v":0},{"$f":"Composite!F439","v":0},{"$f":"Composite!R439","v":0},{"$f":"Composite!G439","v":0}]
[294,{"$f":"Composite!B440","v":0},{"$f":"Composite!F440","v":0},{"$f":"Composite!R440","v":0},{"$f":"Composite!G440","v":0}]
[295,{"$f":"Composite!B441","v":0},{"$f":"Composite!F441","v":0},{"$f":"Composite!R441","v":0},{"$f":"Composite!G441","v":0}]
[296,{"$f":"Composite!B442","v":0},{"$f":"Composite!F442","v":0},{"$f":"Composite!R442","v":0},{"$f":"Composite!G442","v":0}]
[297,{"$f":"Composite!B443","v":0},{"$f":"Composite!F443","v":0},{"$f":"Composite!R443","v":0},{"$f":"Composite!G443","v":0}]
[298,{"$f":"Composite!B444","v":0},{"$f":"Composite!F444","v":0},{"$f":"Composite!R444","v":0},{"$f":"Composite!G444","v":0}]
[299,{"$f":"Composite!B445","v":0},{"$f":"Composite!F445","v":0},{"$f":"Composite!R445","v":0},{"$f":"Composite!G445","v":0}]
[300,{"$f":"Composite!B446","v":0},{"$f":"Composite!F446","v":0},{"$f":"Composite!R446","v":0},{"$f":"Composite!G446","v":0}]
[301,{"$f":"Composite!B447","v":0},{"$f":"Composite!F447","v":0},{"$f":"Composite!R447","v":0},{"$f":"Composite!G447","v":0}]
[302,{"$f":"Composite!B448","v":0},{"$f":"Composite!F448","v":0},{"$f":"Composite!R448","v":0},{"$f":"Composite!G448","v":0}]
[303,{"$f":"Composite!B449","v":0},{"$f":"Composite!F449","v":0},{"$f":"Composite!R449","v":0},{"$f":"Composite!G449","v":0}]
[304,{"$f":"Composite!B450","v":0},{"$f":"Composite!F450","v":0},{"$f":"Composite!R450","v":0},{"$f":"Composite!G450","v":0}]
[305,{"$f":"Composite!B451","v":0},{"$f":"Composite!F451","v":0},{"$f":"Composite!R451","v":0},{"$f":"Composite!G451","v":0}]
[306,{"$f":"Composite!B452","v":0},{"$f":"Composite!F452","v":0},{"$f":"Composite!R452","v":0},{"$f":"Composite!G452","v":0}]
[307,{"$f":"Composite!B453","v":0},{"$f":"Composite!F453","v":0},{"$f":"Composite!R453","v":0},{"$f":"Composite!G453","v":0}]
[308,{"$f":"Composite!B454","v":0},{"$f":"Composite!F454","v":0},{"$f":"Composite!R454","v":0},{"$f":"Composite!G454","v":0}]
[309,{"$f":"Composite!B455","v":0},{"$f":"Composite!F455","v":0},{"$f":"Composite!R455","v":0},{"$f":"Composite!G455","v":0}]
[310,{"$f":"Composite!B456","v":0},{"$f":"Composite!F456","v":0},{"$f":"Composite!R456","v":0},{"$f":"Composite!G456","v":0}]
[311,{"$f":"Composite!B457","v":0},{"$f":"Composite!F457","v":0},{"$f":"Composite!R457","v":0},{"$f":"Composite!G457","v":0}]
[312,{"$f":"Composite!B458","v":0},{"$f":"Composite!F458","v":0},{"$f":"Composite!R458","v":0},{"$f":"Composite!G458","v":0}]
[313,{"$f":"Composite!B459","v":0},{"$f":"Composite!F459","v":0},{"$f":"Composite!R459","v":0},{"$f":"Composite!G459","v":0}]
[314,{"$f":"Composite!B460","v":0},{"$f":"Composite!F460","v":0},{"$f":"Composite!R460","v":0},{"$f":"Composite!G460","v":0}]
[315,{"$f":"Composite!B461","v":0},{"$f":"Composite!F461","v":0},{"$f":"Composite!R461","v":0},{"$f":"Composite!G461","v":0}]
[316,{"$f":"Composite!B462","v":0},{"$f":"Composite!F462","v":0},{"$f":"Composite!R462","v":0},{"$f":"Composite!G462","v":0}]
[317,{"$f":"Composite!B463","v":0},{"$f":"Composite!F463","v":0},{"$f":"Composite!R463","v":0},{"$f":"Composite!G463","v":0}]
[318,{"$f":"Composite!B464","v":0},{"$f":"Composite!F464","v":0},{"$f":"Composite!R464","v":0},{"$f":"Composite!G464","v":0}]
[319,{"$f":"Composite!B465","v":0},{"$f":"Composite!F465","v":0},{"$f":"Composite!R465","v":0},{"$f":"Composite!G465","v":0}]
[320,{"$f":"Composite!B466","v":0},{"$f":"Composite!F466","v":0},{"$f":"Composite!R466","v":0},{"$f":"Composite!G466","v":0}]
[321,{"$f":"Composite!B467","v":0},{"$f":"Composite!F467","v":0},{"$f":"Composite!R467","v":0},{"$f":"Composite!G467","v":0}]
[322,{"$f":"Composite!B468","v":0},{"$f":"Composite!F468","v":0},{"$f":"Composite!R468","v":0},{"$f":"Composite!G468","v":0}]
[323,{"$f":"Composite!B469","v":0},{"$f":"Composite!F469","v":0},{"$f":"Composite!R469","v":0},{"$f":"Composite!G469","v":0}]
[324,{"$f":"Composite!B470","v":0},{"$f":"Composite!F470","v":0},{"$f":"Composite!R470","v":0},{"$f":"Composite!G470","v":0}]
[325,{"$f":"Composite!B471","v":0},{"$f":"Composite!F471","v":0},{"$f":"Composite!R471","v":0},{"$f":"Composite!G471","v":0}]
[326,{"$f":"Composite!B472","v":0},{"$f":"Composite!F472","v":0},{"$f":"Composite!R472","v":0},{"$f":"Composite!G472","v":0}]
[327,{"$f":"Composite!B473","v":0},{"$f":"Composite!F473","v":0},{"$f":"Composite!R473","v":0},{"$f":"Composite!G473","v":0}]
[328,{"$f":"Composite!B474","v":0},{"$f":"Composite!F474","v":0},{"$f":"Composite!R474","v":0},{"$f":"Composite!G474","v":0}]
[329,{"$f":"Composite!B475","v":0},{"$f":"Composite!F475","v":0},{"$f":"Composite!R475","v":0},{"$f":"Composite!G475","v":0}]
[330,{"$f":"Composite!B476","v":0},{"$f":"Composite!F476","v":0},{"$f":"Composite!R476","v":0},{"$f":"Composite!G476","v":0}]
[331,{"$f":"Composite!B477","v":0},{"$f":"Composite!F477","v":0},{"$f":"Composite!R477","v":0},{"$f":"Composite!G477","v":0}]
[332,{"$f":"Composite!B478","v":0},{"$f":"Composite!F478","v":0},{"$f":"Composite!R478","v":0},{"$f":"Composite!G478","v":0}]
[333,{"$f":"Composite!B479","v":0},{"$f":"Composite!F479","v":0},{"$f":"Composite!R479","v":0},{"$f":"Composite!G479","v":0}]
[334,{"$f":"Composite!B480","v":0},{"$f":"Composite!F480","v":0},{"$f":"Composite!R480","v":0},{"$f":"Composite!G480","v":0}]
[335,{"$f":"Composite!B481","v":0},{"$f":"Composite!F481","v":0},{"$f":"Composite!R481","v":0},{"$f":"Composite!G481","v":0}]
[336,{"$f":"Composite!B482","v":0},{"$f":"Composite!F482","v":0},{"$f":"Composite!R482","v":0},{"$f":"Composite!G482","v":0}]
[337,{"$f":"Composite!B483","v":0},{"$f":"Composite!F483","v":0},{"$f":"Composite!R483","v":0},{"$f":"Composite!G483","v":0}]
[338,{"$f":"Composite!B484","v":0},{"$f":"Composite!F484","v":0},{"$f":"Composite!R484","v":0},{"$f":"Composite!G484","v":0}]
[339,{"$f":"Composite!B485","v":0},{"$f":"Composite!F485","v":0},{"$f":"Composite!R485","v":0},{"$f":"Composite!G485","v":0}]
[340,{"$f":"Composite!B486","v":0},{"$f":"Composite!F486","v":0},{"$f":"Composite!R486","v":0},{"$f":"Composite!G486","v":0}]
[341,{"$f":"Composite!B487","v":0},{"$f":"Composite!F487","v":0},{"$f":"Composite!R487","v":0},{"$f":"Composite!G487","v":0}]
[342,{"$f":"Composite!B488","v":0},{"$f":"Composite!F488","v":0},{"$f":"Composite!R488","v":0},{"$f":"Composite!G488","v":0}]
[343,{"$f":"Composite!B489","v":0},{"$f":"Composite!F489","v":0},{"$f":"Composite!R489","v":0},{"$f":"Composite!G489","v":0}]
[344,{"$f":"Composite!B490","v":0},{"$f":"Composite!F490","v":0},{"$f":"Composite!R490","v":0},{"$f":"Composite!G490","v":0}]
[345,{"$f":"Composite!B491","v":0},{"$f":"Composite!F491","v":0},{"$f":"Composite!R491","v":0},{"$f":"Composite!G491","v":0}]
[346,{"$f":"Composite!B492","v":0},{"$f":"Composite!F492","v":0},{"$f":"Composite!R492","v":0},{"$f":"Composite!G492","v":0}]
[347,{"$f":"Composite!B493","v":0},{"$f":"Composite!F493","v":0},{"$f":"Composite!R493","v":0},{"$f":"Composite!G493","v":0}]
[348,{"$f":"Composite!B494","v":0},{"$f":"Composite!F494","v":0},{"$f":"Composite!R494","v":0},{"$f":"Composite!G494","v":0}]
[349,{"$f":"Composite!B495","v":0},{"$f":"Composite!F495","v":0},{"$f":"Composite!R495","v":0},{"$f":"Composite!G495","v":0}]
[350,{"$f":"Composite!B496","v":0},{"$f":"Composite!F496","v":0},{"$f":"Composite!R496","v":0},{"$f":"Composite!G496","v":0}]
[351,{"$f":"Composite!B497","v":0},{"$f":"Composite!F497","v":0},{"$f":"Composite!R497","v":0},{"$f":"Composite!G497","v":0}]
[352,{"$f":"Composite!B498","v":0},{"$f":"Composite!F498","v":0},{"$f":"Composite!R498","v":0},{"$f":"Composite!G498","v":0}]
[353,{"$f":"Composite!B499","v":0},{"$f":"Composite!F499","v":0},{"$f":"Composite!R499","v":0},{"$f":"Composite!G499","v":0}]
[354,{"$f":"Composite!B500","v":0},{"$f":"Composite!F500","v":0},{"$f":"Composite!R500","v":0},{"$f":"Composite!G500","v":0}]
[355,{"$f":"Composite!B501","v":0},{"$f":"Composite!F501","v":0},{"$f":"Composite!R501","v":0},{"$f":"Composite!G501","v":0}]
[356,{"$f":"Composite!B502","v":0},{"$f":"Composite!F502","v":0},{"$f":"Composite!R502","v":0},{"$f":"Composite!G502","v":0}]
[357,{"$f":"Composite!B503","v":0},{"$f":"Composite!F503","v":0},{"$f":"Composite!R503","v":0},{"$f":"Composite!G503","v":0}]
[358,{"$f":"Composite!B504","v":0},{"$f":"Composite!F504","v":0},{"$f":"Composite!R504","v":0},{"$f":"Composite!G504","v":0}]
[359,{"$f":"Composite!B505","v":0},{"$f":"Composite!F505","v":0},{"$f":"Composite!R505","v":0},{"$f":"Composite!G505","v":0}]
[360,{"$f":"Composite!B506","v":0},{"$f":"Composite!F506","v":0},{"$f":"Composite!R506","v":0},{"$f":"Composite!G506","v":0}]
[361,{"$f":"Composite!B507","v":0},{"$f":"Composite!F507","v":0},{"$f":"Composite!R507","v":0},{"$f":"Composite!G507","v":0}]
[362,{"$f":"Composite!B508","v":0},{"$f":"Composite!F508","v":0},{"$f":"Composite!R508","v":0},{"$f":"Composite!G508","v":0}]
[363,{"$f":"Composite!B509","v":0},{"$f":"Composite!F509","v":0},{"$f":"Composite!R509","v":0},{"$f":"Composite!G509","v":0}]
[364,{"$f":"Composite!B510","v":0},{"$f":"Composite!F510","v":0},{"$f":"Composite!R510","v":0},{"$f":"Composite!G510","v":0}]
[365,{"$f":"Composite!B511","v":0},{"$f":"Composite!F511","v":0},{"$f":"Composite!R511","v":0},{"$f":"Composite!G511","v":0}]
[366,{"$f":"Composite!B512","v":0},{"$f":"Composite!F512","v":0},{"$f":"Composite!R512","v":0},{"$f":"Composite!G512","v":0}]
[367,{"$f":"Composite!B513","v":0},{"$f":"Composite!F513","v":0},{"$f":"Composite!R513","v":0},{"$f":"Composite!G513","v":0}]
[368,{"$f":"Composite!B514","v":0},{"$f":"Composite!F514","v":0},{"$f":"Composite!R514","v":0},{"$f":"Composite!G514","v":0}]
[369,{"$f":"Composite!B515","v":0},{"$f":"Composite!F515","v":0},{"$f":"Composite!R515","v":0},{"$f":"Composite!G515","v":0}]
[370,{"$f":"Composite!B516","v":0},{"$f":"Composite!F516","v":0},{"$f":"Composite!R516","v":0},{"$f":"Composite!G516","v":0}]
[371,{"$f":"Composite!B517","v":0},{"$f":"Composite!F517","v":0},{"$f":"Composite!R517","v":0},{"$f":"Composite!G517","v":0}]
[372,{"$f":"Composite!B518","v":0},{"$f":"Composite!F518","v":0},{"$f":"Composite!R518","v":0},{"$f":"Composite!G518","v":0}]
[373,{"$f":"Composite!B519","v":0},{"$f":"Composite!F519","v":0},{"$f":"Composite!R519","v":0},{"$f":"Composite!G519","v":0}]
[374,{"$f":"Composite!B520","v":0},{"$f":"Composite!F520","v":0},{"$f":"Composite!R520","v":0},{"$f":"Composite!G520","v":0}]
[375,{"$f":"Composite!B521","v":0},{"$f":"Composite!F521","v":0},{"$f":"Composite!R521","v":0},{"$f":"Composite!G521","v":0}]
[376,{"$f":"Composite!B522","v":0},{"$f":"Composite!F522","v":0},{"$f":"Composite!R522","v":0},{"$f":"Composite!G522","v":0}]
[377,{"$f":"Composite!B523","v":0},{"$f":"Composite!F523","v":0},{"$f":"Composite!R523","v":0},{"$f":"Composite!G523","v":0}]
[378,{"$f":"Composite!B524","v":0},{"$f":"Composite!F524","v":0},{"$f":"Composite!R524","v":0},{"$f":"Composite!G524","v":0}]
[379,{"$f":"Composite!B525","v":0},{"$f":"Composite!F525","v":0},{"$f":"Composite!R525","v":0},{"$f":"Composite!G525","v":0}]
[380,{"$f":"Composite!B526","v":0},{"$f":"Composite!F526","v":0},{"$f":"Composite!R526","v":0},{"$f":"Composite!G526","v":0}]
[381,{"$f":"Composite!B527","v":0},{"$f":"Composite!F527","v":0},{"$f":"Composite!R527","v":0},{"$f":"Composite!G527","v":0}]
[382,{"$f":"Composite!B528","v":0},{"$f":"Composite!F528","v":0},{"$f":"Composite!R528","v":0},{"$f":"Composite!G528","v":0}]
[383,{"$f":"Composite!B529","v":0},{"$f":"Composite!F529","v":0},{"$f":"Composite!R529","v":0},{"$f":"Composite!G529","v":0}]
[384,{"$f":"Composite!B530","v":0},{"$f":"Composite!F530","v":0},{"$f":"Composite!R530","v":0},{"$f":"Composite!G530","v":0}]
[385,{"$f":"Composite!B531","v":0},{"$f":"Composite!F531","v":0},{"$f":"Composite!R531","v":0},{"$f":"Composite!G531","v":0}]
[386,{"$f":"Composite!B532","v":0},{"$f":"Composite!F532","v":0},{"$f":"Composite!R532","v":0},{"$f":"Composite!G532","v":0}]
[387,{"$f":"Composite!B533","v":0},{"$f":"Composite!F533","v":0},{"$f":"Composite!R533","v":0},{"$f":"Composite!G533","v":0}]
[388,{"$f":"Composite!B534","v":0},{"$f":"Composite!F534","v":0},{"$f":"Composite!R534","v":0},{"$f":"Composite!G534","v":0}]
[389,{"$f":"Composite!B535","v":0},{"$f":"Composite!F535","v":0},{"$f":"Composite!R535","v":0},{"$f":"Composite!G535","v":0}]
[390,{"$f":"Composite!B536","v":0},{"$f":"Composite!F536","v":0},{"$f":"Composite!R536","v":0},{"$f":"Composite!G536","v":0}]
[391,{"$f":"Composite!B537","v":0},{"$f":"Composite!F537","v":0},{"$f":"Composite!R537","v":0},{"$f":"Composite!G537","v":0}]
[392,{"$f":"Composite!B386","v":"STK26 (MST4)"},{"$f":"Composite!F386","v":"MST4"},{"$f":"Composite!R386","v":-1.4287338793621984E-2},{"$f":"Composite!G386","v":"STE"}]
[393,{"$f":"Composite!B62","v":"CDK14 (PFTAIRE1, PFTK1)/CycY"},{"$f":"Composite!F62","v":"CDK14"},{"$f":"Composite!R62","v":-2.3579344494208954E-2},{"$f":"Composite!G62","v":"CMGC"}]
[394,{"$f":"Composite!B55","v":"CDC7/DBF4 (CDC7)"},{"$f":"Composite!F55","v":"CDC7"},{"$f":"Composite!R55","v":-9.3728883754380377E-2},{"$f":"Composite!G55","v":"Other"}]
[395,{"$f":"Composite!B239","v":"MAPKAPK2 (MK2)"},{"$f":"Composite!F239","v":"MK2"},{"$f":"Composite!R239","v":-0.14747886913434627},{"$f":"Composite!G239","v":"CAMK"}]
[396,{"$f":"Composite!B134","v":"EPHA7"},{"$f":"Composite!F134","v":"EPHA7"},{"$f":"Composite!R134","v":-0.15845767859498494},{"$f":"Composite!G134","v":"TK"}]
[397,{"$f":"Composite!B137","v":"EPHB2"},{"$f":"Composite!F137","v":"EPHB2"},{"$f":"Composite!R137","v":-0.19856779041327854},{"$f":"Composite!G137","v":"TK"}]
[398,{"$f":"Composite!B158","v":"GAK"},{"$f":"Composite!F158","v":"GAK"},{"$f":"Composite!R158","v":-0.22660321776569958},{"$f":"Composite!G158","v":"Other"}]
[399,{"$f":"Composite!B306","v":"PKN2"},{"$f":"Composite!F306","v":"PKN2"},{"$f":"Composite!R306","v":-0.26486629392815075},{"$f":"Composite!G306","v":"AGC"}]
[400,{"$f":"Composite!B103","v":"CSNK1G1 (CK1G1, CK1γ1)"},{"$f":"Composite!F103","v":"CK1G1"},{"$f":"Composite!R103","v":-0.37854261094784647},{"$f":"Composite!G103","v":"CK1"}]
[401,{"$f":"Composite!B64","v":"CDK17 (PCTAIRE2, PCTK2)/CycY"},{"$f":"Composite!F64","v":"CDK17"},{"$f":"Composite!R64","v":-0.38909468859101537},{"$f":"Composite!G64","v":"CMGC"}]
[402,{"$f":"Composite!B229","v":"MAPK11 (p38b)"},{"$f":"Composite!F229","v":"P38B"},{"$f":"Composite!R229","v":-0.5062987761949671},{"$f":"Composite!G229","v":"CMGC"}]
[403,{"$f":"Composite!B329","v":"PRKCB1 (PKCβ1 [beta1])"},{"$f":"Composite!F329","v":"PKCB1"},{"$f":"Composite!R329","v":-0.52328961819237918},{"$f":"Composite!G329","v":"AGC"}]
[404,{"$f":"Composite!B213","v":"MAP3K19 (YSK4)"},{"$f":"Composite!F213","v":"YSK4"},{"$f":"Composite!R213","v":-0.53441604127579012},{"$f":"Composite!G213","v":"STE"}]
[405,{"$f":"Composite!B130","v":"EPHA3"},{"$f":"Composite!F130","v":"EPHA3"},{"$f":"Composite!R130","v":-0.6358497569167838},{"$f":"Composite!G130","v":"TK"}]
[406,{"$f":"Composite!B350","v":"RIPK1"},{"$f":"Composite!F350","v":"RIPK1"},{"$f":"Composite!R350","v":-0.66888230186530961},{"$f":"Composite!G350","v":"TKL"}]
[407,{"$f":"Composite!B248","v":"MATK (CTK)"},{"$f":"Composite!F248","v":"CTK"},{"$f":"Composite!R248","v":-0.67089423560146599},{"$f":"Composite!G248","v":"TK"}]
[408,{"$f":"Composite!B128","v":"EPHA1"},{"$f":"Composite!F128","v":"EPHA1"},{"$f":"Composite!R128","v":-0.99287514683571487},{"$f":"Composite!G128","v":"TK"}]
[409,{"$f":"Composite!B410","v":"TTBK1"},{"$f":"Composite!F410","v":"TTBK1"},{"$f":"Composite!R410","v":-1.0008474918277273},{"$f":"Composite!G410","v":"CK1"}]
[410,{"$f":"Composite!B401","v":"TLK2"},{"$f":"Composite!F401","v":"TLK2"},{"$f":"Composite!R401","v":-1.0319701565386907},{"$f":"Composite!G401","v":"Other"}]
[411,{"$f":"Composite!B56","v":"CDK1 (CDC2)/CycA1 "},{"$f":"Composite!F56","v":"CDK1/A1"},{"$f":"Composite!R56","v":-1.081598993240604},{"$f":"Composite!G56","v":"CMGC"}]
[412,{"$f":"Composite!B122","v":"EEF2K (eEF2K)"},{"$f":"Composite!F122","v":"EEF2K"},{"$f":"Composite!R122","v":-1.1215440792905724},{"$f":"Composite!G122","v":"Atypical"}]
[413,{"$f":"Composite!B181","v":"IRAK1"},{"$f":"Composite!F181","v":"IRAK1"},{"$f":"Composite!R181","v":-1.1353837309571446},{"$f":"Composite!G181","v":"TKL"}]
[414,{"$f":"Composite!B227","v":"MAPK1 (ERK2)"},{"$f":"Composite!F227","v":"ERK2"},{"$f":"Composite!R227","v":-1.1594905164059099},{"$f":"Composite!G227","v":"CMGC"}]
[415,{"$f":"Composite!B319","v":"PRKAA2-B1-G1 (AMPKα2β1γ1)"},{"$f":"Composite!F319","v":"AMPK211"},{"$f":"Composite!R319","v":-1.2420228392583823},{"$f":"Composite!G319","v":"CAMK"}]
[416,{"$f":"Composite!B180","v":"INSRR (IRR)"},{"$f":"Composite!F180","v":"INSRR"},{"$f":"Composite!R180","v":-1.3674259601632599},{"$f":"Composite!G180","v":"TK"}]
[417,{"$f":"Composite!B323","v":"PRKAA2-B2-G2 (AMPKα2β2γ2)"},{"$f":"Composite!F323","v":"AMPK222"},{"$f":"Composite!R323","v":-1.3782989134649881},{"$f":"Composite!G323","v":"CAMK"}]
[418,{"$f":"Composite!B241","v":"MAPKAPK5 (MK5)"},{"$f":"Composite!F241","v":"MK5"},{"$f":"Composite!R241","v":-1.4485253275168475},{"$f":"Composite!G241","v":"CAMK"}]
[419,{"$f":"Composite!B83","v":"CDK7/CycH/MAT1"},{"$f":"Composite!F83","v":"CDK7"},{"$f":"Composite!R83","v":-1.5769278846937738},{"$f":"Composite!G83","v":"CMGC"}]
[420,{"$f":"Composite!B236","v":"MAPK7 (BMK, ERK5)"},{"$f":"Composite!F236","v":"ERK5"},{"$f":"Composite!R236","v":-1.6007074950254037},{"$f":"Composite!G236","v":"CMGC"}]
[421,{"$f":"Composite!B336","v":"PRKCQ (PKCᶿ [theta])"},{"$f":"Composite!F336","v":"PKCQ"},{"$f":"Composite!R336","v":-1.6091137041205172},{"$f":"Composite!G336","v":"AGC"}]
[422,{"$f":"Composite!B93","v":"CLK1"},{"$f":"Composite!F93","v":"CLK1"},{"$f":"Composite!R93","v":-1.6933724904254177},{"$f":"Composite!G93","v":"CMGC"}]
[423,{"$f":"Composite!B404","v":"TNK2 (ACK)"},{"$f":"Composite!F404","v":"TNK2"},{"$f":"Composite!R404","v":-1.9282880092906254},{"$f":"Composite!G404","v":"TK"}]
[424,{"$f":"Composite!B367","v":"SGK3"},{"$f":"Composite!F367","v":"SGK3"},{"$f":"Composite!R367","v":-1.9653741295778531},{"$f":"Composite!G367","v":"AGC"}]
[425,{"$f":"Composite!B124","v":"EIF2AK1 (HRI)"},{"$f":"Composite!F124","v":"HRI"},{"$f":"Composite!R124","v":-1.983651226158031},{"$f":"Composite!G124","v":"Other"}]
[426,{"$f":"Composite!B47","v":"CAMK2D (CAMK2δ)"},{"$f":"Composite!F47","v":"CAMK2D"},{"$f":"Composite!R47","v":-1.9981966482531277},{"$f":"Composite!G47","v":"CAMK"}]
[427,{"$f":"Composite!B354","v":"ROCK2"},{"$f":"Composite!F354","v":"ROCK2"},{"$f":"Composite!R354","v":-2.0502778817634777},{"$f":"Composite!G354","v":"AGC"}]
[428,{"$f":"Composite!B311","v":"PLK4"},{"$f":"Composite!F311","v":"PLK4"},{"$f":"Composite!R311","v":-2.1155785412718018},{"$f":"Composite!G311","v":"Other"}]
[429,{"$f":"Composite!B316","v":"PRKAA1-B2-G1 (AMPKα1β2γ1)"},{"$f":"Composite!F316","v":"AMPK121"},{"$f":"Composite!R316","v":-2.2202535850727969},{"$f":"Composite!G316","v":"CAMK"}]
[430,{"$f":"Composite!B381","v":"STK16 (MPSK1, PKL12, TSF1)"},{"$f":"Composite!F381","v":"STK16"},{"$f":"Composite!R381","v":-2.2203171881697301},{"$f":"Composite!G381","v":"Other"}]
[431,{"$f":"Composite!B63","v":"CDK16 (PCTAIRE1, PCTK1)/CycY "},{"$f":"Composite!F63","v":"CDK16"},{"$f":"Composite!R63","v":-2.2222837983873518},{"$f":"Composite!G63","v":"CMGC"}]
[432,{"$f":"Composite!B160","v":"GRK2 (ADRBK1, BARK1)"},{"$f":"Composite!F160","v":"GRK2"},{"$f":"Composite!R160","v":-2.2602926133431112},{"$f":"Composite!G160","v":"AGC"}]
[433,{"$f":"Composite!B238","v":"MAPK9 (JNK2)"},{"$f":"Composite!F238","v":"JNK2"},{"$f":"Composite!R238","v":-2.2643927096066534},{"$f":"Composite!G238","v":"CMGC"}]
[434,{"$f":"Composite!B324","v":"PRKAA2-B2-G3 (AMPKα2β2γ3)"},{"$f":"Composite!F324","v":"AMPK223"},{"$f":"Composite!R324","v":-2.3402344121126646},{"$f":"Composite!G324","v":"CAMK"}]
[435,{"$f":"Composite!B219","v":"MAP3K7 (TAK1)"},{"$f":"Composite!F219","v":"MAP3K7"},{"$f":"Composite!R219","v":-2.4143934997098171},{"$f":"Composite!G219","v":"STE"}]
[436,{"$f":"Composite!B65","v":"CDK17 (PCTAIRE2, PCTK2)/p35NCK"},{"$f":"Composite!F65","v":"CDK17/P35"},{"$f":"Composite!R65","v":-2.4153582511231235},{"$f":"Composite!G65","v":"CMGC"}]
[437,{"$f":"Composite!B129","v":"EPHA2"},{"$f":"Composite!F129","v":"EPHA2"},{"$f":"Composite!R129","v":-2.7822588482245578},{"$f":"Composite!G129","v":"TK"}]
[438,{"$f":"Composite!B259","v":"MYLK (smMLCK)"},{"$f":"Composite!F259","v":"MLCK"},{"$f":"Composite!R259","v":-2.9911746268072079},{"$f":"Composite!G259","v":"CAMK"}]
[439,{"$f":"Composite!B309","v":"PLK2"},{"$f":"Composite!F309","v":"PLK2"},{"$f":"Composite!R309","v":-3.0618177120340988},{"$f":"Composite!G309","v":"Other"}]
[440,{"$f":"Composite!B394","v":"TAOK2 (TAO2)"},{"$f":"Composite!F394","v":"TAOK2"},{"$f":"Composite!R394","v":-3.0762349667031117},{"$f":"Composite!G394","v":"STE"}]
[441,{"$f":"Composite!B76","v":"CDK4/CycD1"},{"$f":"Composite!F76","v":"CDK4/D1"},{"$f":"Composite!R76","v":-3.2271991365353614},{"$f":"Composite!G76","v":"CMGC"}]
[442,{"$f":"Composite!B312","v":"PNCK (CAMK1β)"},{"$f":"Composite!F312","v":"CAMK1B"},{"$f":"Composite!R312","v":-3.3192437497952341},{"$f":"Composite!G312","v":"CAMK"}]
[443,{"$f":"Composite!B100","v":"CSNK1A1L (CK1A1L, CK1a2)"},{"$f":"Composite!F100","v":"CK1A1L"},{"$f":"Composite!R100","v":-3.3508771929824519},{"$f":"Composite!G100","v":"CK1"}]
[444,{"$f":"Composite!B142","v":"ERN1 (IRE1)"},{"$f":"Composite!F142","v":"ERN1"},{"$f":"Composite!R142","v":-3.3815808507560376},{"$f":"Composite!G142","v":"Other"}]
[445,{"$f":"Composite!B28","v":"AURKB (AURB)"},{"$f":"Composite!F28","v":"AURB"},{"$f":"Composite!R28","v":-3.5625251306795604},{"$f":"Composite!G28","v":"Other"}]
[446,{"$f":"Composite!B114","v":"DDR2"},{"$f":"Composite!F114","v":"DDR2"},{"$f":"Composite!R114","v":-3.6144578313253106},{"$f":"Composite!G114","v":"TK"}]
[447,{"$f":"Composite!B109","v":"DAPK2 (DRP-1)"},{"$f":"Composite!F109","v":"DAPK2"},{"$f":"Composite!R109","v":-3.640531327142341},{"$f":"Composite!G109","v":"CAMK"}]
[448,{"$f":"Composite!B372","v":"SNRK"},{"$f":"Composite!F372","v":"SNRK"},{"$f":"Composite!R372","v":-3.7167562421910816},{"$f":"Composite!G372","v":"CAMK"}]
[449,{"$f":"Composite!B27","v":"AURKA (AURA)"},{"$f":"Composite!F27","v":"AURA"},{"$f":"Composite!R27","v":-3.9390340459224262},{"$f":"Composite!G27","v":"Other"}]
[450,{"$f":"Composite!B318","v":"PRKAA1-B2-G3 (AMPKα1β2γ3)"},{"$f":"Composite!F318","v":"AMPK123"},{"$f":"Composite!R318","v":-4.2159599298635158},{"$f":"Composite!G318","v":"CAMK"}]
[451,{"$f":"Composite!B335","v":"PRKCI (PKCι [iota])"},{"$f":"Composite!F335","v":"PKCI"},{"$f":"Composite!R335","v":-4.235021161863088},{"$f":"Composite!G335","v":"AGC"}]
[452,{"$f":"Composite!B132","v":"EPHA5"},{"$f":"Composite!F132","v":"EPHA5"},{"$f":"Composite!R132","v":-4.312595403512276},{"$f":"Composite!G132","v":"TK"}]
[453,{"$f":"Composite!B71","v":"CDK2/CycE2"},{"$f":"Composite!F71","v":"CDK2/E2"},{"$f":"Composite!R71","v":-4.329040831080917},{"$f":"Composite!G71","v":"CMGC"}]
[454,{"$f":"Composite!B96","v":"CLK4"},{"$f":"Composite!F96","v":"CLK4"},{"$f":"Composite!R96","v":-4.4474727452923872},{"$f":"Composite!G96","v":"CMGC"}]
[455,{"$f":"Composite!B281","v":"NUAK1 (ARK5)"},{"$f":"Composite!F281","v":"NUAK1"},{"$f":"Composite!R281","v":-4.4599032451710912},{"$f":"Composite!G281","v":"CAMK"}]
[456,{"$f":"Composite!B29","v":"AURKC (AURC)"},{"$f":"Composite!F29","v":"AURC"},{"$f":"Composite!R29","v":-4.4750521248690944},{"$f":"Composite!G29","v":"Other"}]
[457,{"$f":"Composite!B23","v":"AKT1 (PKB)"},{"$f":"Composite!F23","v":"AKT1"},{"$f":"Composite!R23","v":-4.7269719810921202},{"$f":"Composite!G23","v":"AGC"}]
[458,{"$f":"Composite!B111","v":"DCLK1 (DCAMKL1)"},{"$f":"Composite!F111","v":"DCAML1"},{"$f":"Composite!R111","v":-4.7929175847125265},{"$f":"Composite!G111","v":"CAMK"}]
[459,{"$f":"Composite!B373","v":"SRC"},{"$f":"Composite!F373","v":"SRC"},{"$f":"Composite!R373","v":-4.9089951425060008},{"$f":"Composite!G373","v":"TK"}]
[460,{"$f":"Composite!B220","v":"MAP3K8 (COT, Tpl2)"},{"$f":"Composite!F220","v":"MAP3K8"},{"$f":"Composite!R220","v":-5.0660372446588866},{"$f":"Composite!G220","v":"STE"}]
[461,{"$f":"Composite!B165","v":"GRK7 (GPRK7)"},{"$f":"Composite!F165","v":"GRK7"},{"$f":"Composite!R165","v":-5.1222644085889186},{"$f":"Composite!G165","v":"AGC"}]
[462,{"$f":"Composite!B330","v":"PRKCB2 (PKCβ2 [beta2])"},{"$f":"Composite!F330","v":"PKCB2"},{"$f":"Composite!R330","v":-5.2379251852512994},{"$f":"Composite!G330","v":"AGC"}]
[463,{"$f":"Composite!B334","v":"PRKCH (PKCη [eta])"},{"$f":"Composite!F334","v":"PKCH"},{"$f":"Composite!R334","v":-5.2812719410487148},{"$f":"Composite!G334","v":"AGC"}]
[464,{"$f":"Composite!B172","v":"HIPK3"},{"$f":"Composite!F172","v":"HIPK3"},{"$f":"Composite!R172","v":-5.3172102529166239},{"$f":"Composite!G172","v":"CMGC"}]
[465,{"$f":"Composite!B358","v":"RPS6KA3 (RSK2)"},{"$f":"Composite!F358","v":"RSK2"},{"$f":"Composite!R358","v":-5.4161260426320581},{"$f":"Composite!G358","v":"AGC"}]
[466,{"$f":"Composite!B157","v":"FYNb (FYN)"},{"$f":"Composite!F157","v":"FYNB"},{"$f":"Composite!R157","v":-5.4241314461050933},{"$f":"Composite!G157","v":"TK"}]
[467,{"$f":"Composite!B317","v":"PRKAA1-B2-G2 (AMPKα1β2γ2)"},{"$f":"Composite!F317","v":"AMPK122"},{"$f":"Composite!R317","v":-5.7110996057190988},{"$f":"Composite!G317","v":"CAMK"}]
[468,{"$f":"Composite!B331","v":"PRKCD (PKCδ [delta])"},{"$f":"Composite!F331","v":"PKCD"},{"$f":"Composite!R331","v":-5.8924318602804959},{"$f":"Composite!G331","v":"AGC"}]
[469,{"$f":"Composite!B116","v":"DSTYK (RIPK5, SGK496)"},{"$f":"Composite!F116","v":"RIPK5"},{"$f":"Composite!R116","v":-6.2430587164315199},{"$f":"Composite!G116","v":"TKL"}]
[470,{"$f":"Composite!B50","v":"CAMKK1"},{"$f":"Composite!F50","v":"CAMKK1"},{"$f":"Composite!R50","v":-6.2544788880295812},{"$f":"Composite!G50","v":"Other"}]
[471,{"$f":"Composite!B280","v":"NTRK3 (TRKC)"},{"$f":"Composite!F280","v":"NTRK3"},{"$f":"Composite!R280","v":-6.3557469224398062},{"$f":"Composite!G280","v":"TK"}]
[472,{"$f":"Composite!B366","v":"SGK2"},{"$f":"Composite!F366","v":"SGK2"},{"$f":"Composite!R366","v":-6.5640570008310135},{"$f":"Composite!G366","v":"AGC"}]
[473,{"$f":"Composite!B261","v":"MYLK3 (caMLCK)"},{"$f":"Composite!F261","v":"MYLK3"},{"$f":"Composite!R261","v":-6.5739324971020778},{"$f":"Composite!G261","v":"CAMK"}]
[474,{"$f":"Composite!B59","v":"CDK1 (CDC2)/CycE1 "},{"$f":"Composite!F59","v":"CDK1/E1"},{"$f":"Composite!R59","v":-6.6488815924482054},{"$f":"Composite!G59","v":"CMGC"}]
[475,{"$f":"Composite!B295","v":"PDK3 (PDHK3)"},{"$f":"Composite!F295","v":"PDHK3"},{"$f":"Composite!R295","v":-6.6915505880390498},{"$f":"Composite!G295","v":"Atypical"}]
[476,{"$f":"Composite!B25","v":"AKT3 (PKBg)"},{"$f":"Composite!F25","v":"AKT3"},{"$f":"Composite!R25","v":-7.0634300991317218},{"$f":"Composite!G25","v":"AGC"}]
[477,{"$f":"Composite!B67","v":"CDK2/CycA1"},{"$f":"Composite!F67","v":"CDK2/A1"},{"$f":"Composite!R67","v":-7.1376770105729292},{"$f":"Composite!G67","v":"CMGC"}]
[478,{"$f":"Composite!B328","v":"PRKCA (PKCα [alpha])"},{"$f":"Composite!F328","v":"PKCA"},{"$f":"Composite!R328","v":-7.2497961402555262},{"$f":"Composite!G328","v":"AGC"}]
[479,{"$f":"Composite!B112","v":"DCLK2 (DCAMKL2)"},{"$f":"Composite!F112","v":"DCAML2"},{"$f":"Composite!R112","v":-7.2506137179065604},{"$f":"Composite!G112","v":"CAMK"}]
[480,{"$f":"Composite!B53","v":"CDC42BPB (MRCKB)"},{"$f":"Composite!F53","v":"MRCKB"},{"$f":"Composite!R53","v":-7.2979837246669632},{"$f":"Composite!G53","v":"AGC"}]
[481,{"$f":"Composite!B43","v":"CAMK1D (CAMK1δ)"},{"$f":"Composite!F43","v":"CAMK1D"},{"$f":"Composite!R43","v":-7.4179880593182475},{"$f":"Composite!G43","v":"CAMK"}]
[482,{"$f":"Composite!B298","v":"PHKG1"},{"$f":"Composite!F298","v":"PHKG1"},{"$f":"Composite!R298","v":-7.4276772522916161},{"$f":"Composite!G298","v":"CAMK"}]
[483,{"$f":"Composite!B249","v":"MELK"},{"$f":"Composite!F249","v":"MELK"},{"$f":"Composite!R249","v":-7.6922225113641929},{"$f":"Composite!G249","v":"CAMK"}]
[484,{"$f":"Composite!B377","v":"SRPK2"},{"$f":"Composite!F377","v":"SRPK2"},{"$f":"Composite!R377","v":-8.4137039549679997},{"$f":"Composite!G377","v":"CMGC"}]
[485,{"$f":"Composite!B269","v":"NEK3"},{"$f":"Composite!F269","v":"NEK3"},{"$f":"Composite!R269","v":-8.6666102984696352},{"$f":"Composite!G269","v":"Other"}]
[486,{"$f":"Composite!B411","v":"TTBK2"},{"$f":"Composite!F411","v":"TTBK2"},{"$f":"Composite!R411","v":-8.6851126843418172},{"$f":"Composite!G411","v":"CK1"}]
[487,{"$f":"Composite!B313","v":"PRKAA1-B1-G1 (AMPKα1β1γ1)"},{"$f":"Composite!F313","v":"AMPK111"},{"$f":"Composite!R313","v":-8.825435809297332},{"$f":"Composite!G313","v":"CAMK"}]
[488,{"$f":"Composite!B168","v":"HASPIN"},{"$f":"Composite!F168","v":"HASPIN"},{"$f":"Composite!R168","v":-9.0322947949728558},{"$f":"Composite!G168","v":"Other"}]
[489,{"$f":"Composite!B337","v":"PRKCZ (PKCζ [zeta])"},{"$f":"Composite!F337","v":"PKCZ"},{"$f":"Composite!R337","v":-9.6965567002044679},{"$f":"Composite!G337","v":"AGC"}]
[490,{"$f":"Composite!B26","v":"ALK"},{"$f":"Composite!F26","v":"ALK"},{"$f":"Composite!R26","v":-9.9915508103540986},{"$f":"Composite!G26","v":"TK"}]
[491,{"$f":"Composite!B88","v":"CDKL5"},{"$f":"Composite!F88","v":"CDKL5"},{"$f":"Composite!R88","v":-10.712589073634206},{"$f":"Composite!G88","v":"CMGC"}]
[492,{"$f":"Composite!B378","v":"SRPK3 (MSSK1)"},{"$f":"Composite!F378","v":"MSSK1"},{"$f":"Composite!R378","v":-10.905246559633028},{"$f":"Composite!G378","v":"CMGC"}]
[493,{"$f":"Composite!B87","v":"CDK9 (TAK)/CycT2"},{"$f":"Composite!F87","v":"CDK9/T2"},{"$f":"Composite!R87","v":-11.144502087814743},{"$f":"Composite!G87","v":"CMGC"}]
[494,{"$f":"Composite!B320","v":"PRKAA2-B1-G2 (AMPKα2β1γ2)"},{"$f":"Composite!F320","v":"AMPK212"},{"$f":"Composite!R320","v":-11.225863349424429},{"$f":"Composite!G320","v":"CAMK"}]
[495,{"$f":"Composite!B294","v":"PDK2 (PDHK2)"},{"$f":"Composite!F294","v":"PDHK2"},{"$f":"Composite!R294","v":-11.878026994532433},{"$f":"Composite!G294","v":"Atypical"}]
[496,{"$f":"Composite!B399","v":"TESK2"},{"$f":"Composite!F399","v":"TESK2"},{"$f":"Composite!R399","v":-11.932793720873207},{"$f":"Composite!G399","v":"TKL"}]
[497,{"$f":"Composite!B278","v":"NTRK1 (TRKA)"},{"$f":"Composite!F278","v":"NTRK1"},{"$f":"Composite!R278","v":-11.934343646362436},{"$f":"Composite!G278","v":"TK"}]
[498,{"$f":"Composite!B208","v":"MAP3K10 (MLK2)"},{"$f":"Composite!F208","v":"MAP3K10"},{"$f":"Composite!R208","v":-12.198879014146684},{"$f":"Composite!G208","v":"TKL"}]
[499,{"$f":"Composite!B275","v":"NEK9"},{"$f":"Composite!F275","v":"NEK9"},{"$f":"Composite!R275","v":-12.243289398782665},{"$f":"Composite!G275","v":"Other"}]
[500,{"$f":"Composite!B332","v":"PRKCE (PKCe [epsilon])"},{"$f":"Composite!F332","v":"PKCE"},{"$f":"Composite!R332","v":-12.255989427051389},{"$f":"Composite!G332","v":"AGC"}]
[501,{"$f":"Composite!B266","v":"NEK10"},{"$f":"Composite!F266","v":"NEK10"},{"$f":"Composite!R266","v":-12.413551167685696},{"$f":"Composite!G266","v":"Other"}]
[502,{"$f":"Composite!B357","v":"RPS6KA2 (RSK3)"},{"$f":"Composite!F357","v":"RSK3"},{"$f":"Composite!R357","v":-12.543975373790673},{"$f":"Composite!G357","v":"AGC"}]
[503,{"$f":"Composite!B46","v":"CAMK2B (CAMK2β)"},{"$f":"Composite!F46","v":"CAMK2B"},{"$f":"Composite!R46","v":-12.950041864359477},{"$f":"Composite!G46","v":"CAMK"}]
[504,{"$f":"Composite!B20","v":"AAK1"},{"$f":"Composite!F20","v":"AAK1"},{"$f":"Composite!R20","v":-13.699401039952647},{"$f":"Composite!G20","v":"Other"}]
[505,{"$f":"Composite!B77","v":"CDK4/CycD2"},{"$f":"Composite!F77","v":"CDK4/D2"},{"$f":"Composite!R77","v":-15.009493538100031},{"$f":"Composite!G77","v":"CMGC"}]
[506,{"$f":"Composite!B255","v":"MNK2"},{"$f":"Composite!F255","v":"MNK2"},{"$f":"Composite!R255","v":-16.01230205470489},{"$f":"Composite!G255","v":"CAMK"}]
[507,{"$f":"Composite!B92","v":"CIT (CRIK)"},{"$f":"Composite!F92","v":"CRIK"},{"$f":"Composite!R92","v":-17.241583027550078},{"$f":"Composite!G92","v":"AGC"}]
[508,{"$f":"Composite!B393","v":"TAOK1 (TAO1)"},{"$f":"Composite!F393","v":"TAOK1"},{"$f":"Composite!R393","v":-17.350306063328659},{"$f":"Composite!G393","v":"STE"}]
[509,{"$f":"Composite!B314","v":"PRKAA1-B1-G2 (AMPKα1β1γ2)"},{"$f":"Composite!F314","v":"AMPK112"},{"$f":"Composite!R314","v":-17.611466838982579},{"$f":"Composite!G314","v":"CAMK"}]
[510,{"$f":"Composite!B333","v":"PRKCG (PKCγ [gamma])"},{"$f":"Composite!F333","v":"PKCG"},{"$f":"Composite!R333","v":-17.940473134550189},{"$f":"Composite!G333","v":"AGC"}]
[511,{"$f":"Composite!B296","v":"PDK4 (PDHK4)"},{"$f":"Composite!F296","v":"PDHK4"},{"$f":"Composite!R296","v":-18.628737076755129},{"$f":"Composite!G296","v":"Atypical"}]
[512,{"$f":"Composite!B412","v":"TTK"},{"$f":"Composite!F412","v":"TTK"},{"$f":"Composite!R412","v":-19.915237134207828},{"$f":"Composite!G412","v":"Other"}]
[513,{"$f":"Composite!B52","v":"CDC42BPA (MRCKA)"},{"$f":"Composite!F52","v":"MRCKA"},{"$f":"Composite!R52","v":-20.272007578320597},{"$f":"Composite!G52","v":"AGC"}]
[514,{"$f":"Composite!B395","v":"TAOK3 (TAO3)"},{"$f":"Composite!F395","v":"TAOK3"},{"$f":"Composite!R395","v":-20.64846416382251},{"$f":"Composite!G395","v":"STE"}]
[515,{"$f":"Composite!B370","v":"SIK3 (QSK)"},{"$f":"Composite!F370","v":"SIK3"},{"$f":"Composite!R370","v":-20.8891963275059},{"$f":"Composite!G370","v":"CAMK"}]
[516,{"$f":"Composite!B115","v":"DMPK (DMPK1)"},{"$f":"Composite!F115","v":"DMPK1"},{"$f":"Composite!R115","v":-21.927687359906471},{"$f":"Composite!G115","v":"AGC"}]
[517,{"$f":"Composite!B44","v":"CAMK1G (CAMK1γ)"},{"$f":"Composite!F44","v":"CAMK1G"},{"$f":"Composite!R44","v":-23.022045494415522},{"$f":"Composite!G44","v":"CAMK"}]
[518,{"$f":"Composite!B210","v":"MAP3K12 (DLK)"},{"$f":"Composite!F210","v":"MAP3K12"},{"$f":"Composite!R210","v":-23.023231586623609},{"$f":"Composite!G210","v":"TKL"}]

{"sheet":"Compound 5 Kinome Tree","index":13,"n_rows":6,"n_cols":27,"rows_kept":6,"cut":false,"hidden":false,"merged":[[1,1,3,20]]}
[]
[null,{"$f":"Summary!AC14","v":"Kinome Hit View for Gefitinib (0.0025 µM) with 386 Kinases (Coral Names) at  ATP Km "}]
[null,null,null,null,null,null,null,null,null,null,null,null,null,null,null,null,null,null,null,null,null,null,null,null,null,null,"Kinome Hit View for VVVVVVVVVVVVVVVVVVVVVVVVVVV (VVVVV µM) with VVV Kinases (Coral Names)"]
[null,null,null,null,null,null,null,null,null,null,null,null,null,null,null,null,null,null,null,null,null,null,null,null,null,null,{"$f":"REPLACE(AA3,65,3,Summary!E14)","v":"Kinome Hit View for VVVVVVVVVVVVVVVVVVVVVVVVVVV (VVVVV µM) with 386 Kinases (Coral Names)"}]
[null,null,null,null,null,null,null,null,null,null,null,null,null,null,null,null,null,null,null,null,null,null,null,null,null,null,{"$f":"REPLACE(AA4,50,5,Summary!D14)","v":"Kinome Hit View for VVVVVVVVVVVVVVVVVVVVVVVVVVV (0.0025 µM) with 386 Kinases (Coral Names)"}]
[null,null,null,null,null,null,null,null,null,null,null,null,null,null,null,null,null,null,null,null,null,null,null,null,null,null,{"$f":"REPLACE(AA5,21,27,Summary!C14)","v":"Kinome Hit View for Gefitinib (0.0025 µM) with 386 Kinases (Coral Names)"}]

{"sheet":"Compound 6","index":14,"n_rows":405,"n_cols":27,"rows_kept":405,"cut":false,"hidden":false,"merged":[]}
[]
["Panel #","Kinase Target",{"$f":"Summary!AB15","v":"1 µM Osimertinib , % inhibition at 1 mM"},{"$f":"Composite!G19","v":"Group"}]
[1,{"$f":"Composite!B140","v":"ERBB2 (HER2)"},{"$f":"Composite!T140","v":100},{"$f":"Composite!G140","v":"TK"},null,null,null,null,null,null,null,null,null,null,null,null,null,null,null,null,null,null,null,null,null,null,"VVVVV μM VVVVVVVVVVVVVVVVVVVVVVVVVVV, % inhibition"]
[2,{"$f":"Composite!B141","v":"ERBB4 (HER4)"},{"$f":"Composite!T141","v":99.849627426004076},{"$f":"Composite!G141","v":"TK"},null,null,null,null,null,null,null,null,null,null,null,null,null,null,null,null,null,null,null,null,null,null,{"$f":"REPLACE(AA3,10,27,Summary!C15)","v":"VVVVV μM Osimertinib , % inhibition"}]
[3,{"$f":"Composite!B123","v":"EGFR (ERBB1)"},{"$f":"Composite!T123","v":97.377786480869688},{"$f":"Composite!G123","v":"TK"},null,null,null,null,null,null,null,null,null,null,null,null,null,null,null,null,null,null,null,null,null,null,{"$f":"REPLACE(AA4,1,5,Summary!D15)","v":"1 μM Osimertinib , % inhibition"}]
[4,{"$f":"Composite!B40","v":"BTK"},{"$f":"Composite!T40","v":88.926936319951565},{"$f":"Composite!G40","v":"TK"}]
[5,{"$f":"Composite!B347","v":"PTK6 (BRK)"},{"$f":"Composite!T347","v":85.576636049112054},{"$f":"Composite!G347","v":"TK"}]
[6,{"$f":"Composite!B413","v":"TXK"},{"$f":"Composite!T413","v":79.074594308754996},{"$f":"Composite!G413","v":"TK"}]
[7,{"$f":"Composite!B403","v":"TNK1"},{"$f":"Composite!T403","v":67.436566083033242},{"$f":"Composite!G403","v":"TK"}]
[8,{"$f":"Composite!B199","v":"LTK"},{"$f":"Composite!T199","v":53.470572710477704},{"$f":"Composite!G199","v":"TK"}]
[9,{"$f":"Composite!B188","v":"JAK3 [JH1]"},{"$f":"Composite!T188","v":51.860113301320645},{"$f":"Composite!G188","v":"TK"}]
[10,{"$f":"Composite!B355","v":"ROS1 (ROS)"},{"$f":"Composite!T355","v":45.031912948450277},{"$f":"Composite!G355","v":"TK"}]
[11,{"$f":"Composite!B397","v":"TEC"},{"$f":"Composite!T397","v":44.936439985621384},{"$f":"Composite!G397","v":"TK"}]
[12,{"$f":"Composite!B153","v":"FLT3"},{"$f":"Composite!T153","v":39.088987715204084},{"$f":"Composite!G153","v":"TK"}]
[13,{"$f":"Composite!B26","v":"ALK"},{"$f":"Composite!T26","v":36.914345717285855},{"$f":"Composite!G26","v":"TK"}]
[14,{"$f":"Composite!B404","v":"TNK2 (ACK)"},{"$f":"Composite!T404","v":35.484311983047377},{"$f":"Composite!G404","v":"TK"}]
[15,{"$f":"Composite!B292","v":"PDGFRB (PDGFRβ)"},{"$f":"Composite!T292","v":31.427244761738919},{"$f":"Composite!G292","v":"TK"}]
[16,{"$f":"Composite!B198","v":"LRRK2"},{"$f":"Composite!T198","v":29.750926748567736},{"$f":"Composite!G198","v":"TKL"}]
[17,{"$f":"Composite!B180","v":"INSRR (IRR)"},{"$f":"Composite!T180","v":26.460276509889539},{"$f":"Composite!G180","v":"TK"}]
[18,{"$f":"Composite!B264","v":"MYO3B"},{"$f":"Composite!T264","v":25.073226595018397},{"$f":"Composite!G264","v":"STE"}]
[19,{"$f":"Composite!B51","v":"CAMKK2"},{"$f":"Composite!T51","v":24.604008234948097},{"$f":"Composite!G51","v":"Other"}]
[20,{"$f":"Composite!B158","v":"GAK"},{"$f":"Composite!T158","v":22.877316372927467},{"$f":"Composite!G158","v":"Other"}]
[21,{"$f":"Composite!B293","v":"PDK1 (PDHK1)"},{"$f":"Composite!T293","v":21.482346367914744},{"$f":"Composite!G293","v":"Atypical"}]
[22,{"$f":"Composite!B38","v":"BRSK1"},{"$f":"Composite!T38","v":21.376286051610734},{"$f":"Composite!G38","v":"CAMK"}]
[23,{"$f":"Composite!B383","v":"STK17B (DRAK2)"},{"$f":"Composite!T383","v":20.854074957831074},{"$f":"Composite!G383","v":"CAMK"}]
[24,{"$f":"Composite!B363","v":"RPS6KB2 (p70S6KB)"},{"$f":"Composite!T363","v":19.645698844017417},{"$f":"Composite!G363","v":"AGC"}]
[25,{"$f":"Composite!B382","v":"STK17A (DRAK1)"},{"$f":"Composite!T382","v":17.589548364769016},{"$f":"Composite!G382","v":"CAMK"}]
[26,{"$f":"Composite!B115","v":"DMPK (DMPK1)"},{"$f":"Composite!T115","v":17.311271975180972},{"$f":"Composite!G115","v":"AGC"}]
[27,{"$f":"Composite!B410","v":"TTBK1"},{"$f":"Composite!T410","v":17.048368046553165},{"$f":"Composite!G410","v":"CK1"}]
[28,{"$f":"Composite!B271","v":"NEK5"},{"$f":"Composite!T271","v":16.139487567721019},{"$f":"Composite!G271","v":"Other"}]
[29,{"$f":"Composite!B391","v":"STK4 (MST1)"},{"$f":"Composite!T391","v":15.797578429300401},{"$f":"Composite!G391","v":"STE"}]
[30,{"$f":"Composite!B418","v":"ULK2"},{"$f":"Composite!T418","v":14.970380335813402},{"$f":"Composite!G418","v":"Other"}]
[31,{"$f":"Composite!B419","v":"ULK3"},{"$f":"Composite!T419","v":14.926272760648104},{"$f":"Composite!G419","v":"Other"}]
[32,{"$f":"Composite!B43","v":"CAMK1D (CAMK1δ)"},{"$f":"Composite!T43","v":14.507479537115429},{"$f":"Composite!G43","v":"CAMK"}]
[33,{"$f":"Composite!B33","v":"BLK"},{"$f":"Composite!T33","v":14.466379396733117},{"$f":"Composite!G33","v":"TK"}]
[34,{"$f":"Composite!B379","v":"STK10 (LOK)"},{"$f":"Composite!T379","v":14.42009104887093},{"$f":"Composite!G379","v":"STE"}]
[35,{"$f":"Composite!B370","v":"SIK3 (QSK)"},{"$f":"Composite!T370","v":14.170702761651228},{"$f":"Composite!G370","v":"CAMK"}]
[36,{"$f":"Composite!B87","v":"CDK9 (TAK)/CycT2"},{"$f":"Composite!T87","v":14.134872589046921},{"$f":"Composite!G87","v":"CMGC"}]
[37,{"$f":"Composite!B273","v":"NEK7"},{"$f":"Composite!T273","v":14.026257070209141},{"$f":"Composite!G273","v":"Other"}]
[38,{"$f":"Composite!B176","v":"IGF1R"},{"$f":"Composite!T176","v":13.343969116836064},{"$f":"Composite!G176","v":"TK"}]
[39,{"$f":"Composite!B50","v":"CAMKK1"},{"$f":"Composite!T50","v":13.15898236590742},{"$f":"Composite!G50","v":"Other"}]
[40,{"$f":"Composite!B281","v":"NUAK1 (ARK5)"},{"$f":"Composite!T281","v":13.081640815963738},{"$f":"Composite!G281","v":"CAMK"}]
[41,{"$f":"Composite!B353","v":"ROCK1"},{"$f":"Composite!T353","v":12.732577342287769},{"$f":"Composite!G353","v":"AGC"}]
[42,{"$f":"Composite!B97","v":"CSF1R (FMS)"},{"$f":"Composite!T97","v":12.613769185077317},{"$f":"Composite!G97","v":"TK"}]
[43,{"$f":"Composite!B126","v":"EIF2AK3 (PERK/PEK)"},{"$f":"Composite!T126","v":12.259168652814395},{"$f":"Composite!G126","v":"Other"}]
[44,{"$f":"Composite!B145","v":"FER"},{"$f":"Composite!T145","v":12.093912093912081},{"$f":"Composite!G145","v":"TK"}]
[45,{"$f":"Composite!B288","v":"PAK6"},{"$f":"Composite!T288","v":12.025479496967279},{"$f":"Composite!G288","v":"STE"}]
[46,{"$f":"Composite!B179","v":"INSR (IR)"},{"$f":"Composite!T179","v":11.950807969368569},{"$f":"Composite!G179","v":"TK"}]
[47,{"$f":"Composite!B45","v":"CAMK2A (CAMK2α)"},{"$f":"Composite!T45","v":11.604233045855679},{"$f":"Composite!G45","v":"CAMK"}]
[48,{"$f":"Composite!B172","v":"HIPK3"},{"$f":"Composite!T172","v":11.521459698404229},{"$f":"Composite!G172","v":"CMGC"}]
[49,{"$f":"Composite!B388","v":"STK33"},{"$f":"Composite!T388","v":11.350003613500007},{"$f":"Composite!G388","v":"CAMK"}]
[50,{"$f":"Composite!B276","v":"NIM1 (NIM1K)"},{"$f":"Composite!T276","v":11.223801437577038},{"$f":"Composite!G276","v":"CAMK"}]
[51,{"$f":"Composite!B155","v":"FRK"},{"$f":"Composite!T155","v":11.20915812067733},{"$f":"Composite!G155","v":"TK"}]
[52,{"$f":"Composite!B156","v":"FYNa (FYN)"},{"$f":"Composite!T156","v":11.083390669821313},{"$f":"Composite!G156","v":"TK"}]
[53,{"$f":"Composite!B360","v":"RPS6KA5 (MSK1)"},{"$f":"Composite!T360","v":10.996737948532072},{"$f":"Composite!G360","v":"AGC"}]
[54,{"$f":"Composite!B200","v":"LYNA (LYNa)"},{"$f":"Composite!T200","v":10.932512915007734},{"$f":"Composite!G200","v":"TK"}]
[55,{"$f":"Composite!B162","v":"GRK4 (GPRK4)"},{"$f":"Composite!T162","v":10.92781539048346},{"$f":"Composite!G162","v":"AGC"}]
[56,{"$f":"Composite!B88","v":"CDKL5"},{"$f":"Composite!T88","v":10.677372512172212},{"$f":"Composite!G88","v":"CMGC"}]
[57,{"$f":"Composite!B107","v":"CSNK2A2 (CK2A2, CK2α2)"},{"$f":"Composite!T107","v":10.594602403747317},{"$f":"Composite!G107","v":"Other"}]
[58,{"$f":"Composite!B42","v":"CAMK1 (CAMK1a)"},{"$f":"Composite!T42","v":10.584486156906806},{"$f":"Composite!G42","v":"CAMK"}]
[59,{"$f":"Composite!B37","v":"BRAF, b-[V600E]"},{"$f":"Composite!T37","v":10.576311173886722},{"$f":"Composite!G37","v":"TKL"}]
[60,{"$f":"Composite!B159","v":"GRK1 (RHOK)"},{"$f":"Composite!T159","v":10.52784171776986},{"$f":"Composite!G159","v":"AGC"}]
[61,{"$f":"Composite!B420","v":"WEE1"},{"$f":"Composite!T420","v":10.481981981982003},{"$f":"Composite!G420","v":"Other"}]
[62,{"$f":"Composite!B110","v":"DAPK3 (ZIPK)"},{"$f":"Composite!T110","v":10.354154232962117},{"$f":"Composite!G110","v":"CAMK"}]
[63,{"$f":"Composite!B135","v":"EPHA8"},{"$f":"Composite!T135","v":10.352000000000018},{"$f":"Composite!G135","v":"TK"}]
[64,{"$f":"Composite!B334","v":"PRKCH (PKCη [eta])"},{"$f":"Composite!T334","v":10.225490440151361},{"$f":"Composite!G334","v":"AGC"}]
[65,{"$f":"Composite!B209","v":"MAP3K11 (MLK3)"},{"$f":"Composite!T209","v":10.205400064603154},{"$f":"Composite!G209","v":"TKL"}]
[66,{"$f":"Composite!B237","v":"MAPK8 (JNK1)"},{"$f":"Composite!T237","v":9.604972442761067},{"$f":"Composite!G237","v":"CMGC"}]
[67,{"$f":"Composite!B349","v":"RET"},{"$f":"Composite!T349","v":9.5262114934245972},{"$f":"Composite!G349","v":"TK"}]
[68,{"$f":"Composite!B409","v":"TSSK6 (SSTK)"},{"$f":"Composite!T409","v":9.4714437743880779},{"$f":"Composite!G409","v":"CAMK"}]
[69,{"$f":"Composite!B268","v":"NEK2"},{"$f":"Composite!T268","v":9.445110844551067},{"$f":"Composite!G268","v":"Other"}]
[70,{"$f":"Composite!B395","v":"TAOK3 (TAO3)"},{"$f":"Composite!T395","v":9.2370813927700084},{"$f":"Composite!G395","v":"STE"}]
[71,{"$f":"Composite!B146","v":"FES"},{"$f":"Composite!T146","v":9.210393541876897},{"$f":"Composite!G146","v":"TK"}]
[72,{"$f":"Composite!B190","v":"KIT (SCFR, CD117)"},{"$f":"Composite!T190","v":9.2002973332920277},{"$f":"Composite!G190","v":"TK"}]
[73,{"$f":"Composite!B80","v":"CDK6/CycD1"},{"$f":"Composite!T80","v":9.0501284787247869},{"$f":"Composite!G80","v":"CMGC"}]
[74,{"$f":"Composite!B28","v":"AURKB (AURB)"},{"$f":"Composite!T28","v":9.0202580177192857},{"$f":"Composite!G28","v":"Other"}]
[75,{"$f":"Composite!B254","v":"MNK1"},{"$f":"Composite!T254","v":8.9842948464998784},{"$f":"Composite!G254","v":"CAMK"}]
[76,{"$f":"Composite!B57","v":"CDK1 (CDC2)/CycA2 "},{"$f":"Composite!T57","v":8.9577251594767091},{"$f":"Composite!G57","v":"CMGC"}]
[77,{"$f":"Composite!B30","v":"AXL"},{"$f":"Composite!T30","v":8.923913566581632},{"$f":"Composite!G30","v":"TK"}]
[78,{"$f":"Composite!B174","v":"HUNK"},{"$f":"Composite!T174","v":8.8602698851862982},{"$f":"Composite!G174","v":"CAMK"}]
[79,{"$f":"Composite!B83","v":"CDK7/CycH/MAT1"},{"$f":"Composite!T83","v":8.7812046076411292},{"$f":"Composite!G83","v":"CMGC"}]
[80,{"$f":"Composite!B96","v":"CLK4"},{"$f":"Composite!T96","v":8.7785501489572937},{"$f":"Composite!G96","v":"CMGC"}]
[81,{"$f":"Composite!B259","v":"MYLK (smMLCK)"},{"$f":"Composite!T259","v":8.7779307893918457},{"$f":"Composite!G259","v":"CAMK"}]
[82,{"$f":"Composite!B256","v":"MST1R (RON)"},{"$f":"Composite!T256","v":8.5994685066903145},{"$f":"Composite!G256","v":"TK"}]
[83,{"$f":"Composite!B242","v":"MARK1"},{"$f":"Composite!T242","v":8.582022065472998},{"$f":"Composite!G242","v":"CAMK"}]
[84,{"$f":"Composite!B298","v":"PHKG1"},{"$f":"Composite!T298","v":8.5756608277964972},{"$f":"Composite!G298","v":"CAMK"}]
[85,{"$f":"Composite!B225","v":"MAP4K4 (HGK, ZC1)"},{"$f":"Composite!T225","v":8.5217391304347956},{"$f":"Composite!G225","v":"STE"}]
[86,{"$f":"Composite!B359","v":"RPS6KA4 (MSK2)"},{"$f":"Composite!T359","v":8.3228099714699795},{"$f":"Composite!G359","v":"AGC"}]
[87,{"$f":"Composite!B285","v":"PAK3"},{"$f":"Composite!T285","v":8.3064616922884653},{"$f":"Composite!G285","v":"STE"}]
[88,{"$f":"Composite!B44","v":"CAMK1G (CAMK1γ)"},{"$f":"Composite!T44","v":8.2903471786130893},{"$f":"Composite!G44","v":"CAMK"}]
[89,{"$f":"Composite!B260","v":"MYLK2 (skMLCK)"},{"$f":"Composite!T260","v":8.1915220134365541},{"$f":"Composite!G260","v":"CAMK"}]
[90,{"$f":"Composite!B375","v":"SRMS (SRM)"},{"$f":"Composite!T375","v":8.1911623572610921},{"$f":"Composite!G375","v":"TK"}]
[91,{"$f":"Composite!B218","v":"MAP3K6 (ASK2)"},{"$f":"Composite!T218","v":8.1416497271851966},{"$f":"Composite!G218","v":"STE"}]
[92,{"$f":"Composite!B346","v":"PTK2B (PYK2)"},{"$f":"Composite!T346","v":8.1286463035071819},{"$f":"Composite!G346","v":"TK"}]
[93,{"$f":"Composite!B31","v":"BCKDK"},{"$f":"Composite!T31","v":8.0905185248202116},{"$f":"Composite!G31","v":"Atypical"}]
[94,{"$f":"Composite!B304","v":"PKMYT1 (MYT1)"},{"$f":"Composite!T304","v":8.0106200505251621},{"$f":"Composite!G304","v":"Other"}]
[95,{"$f":"Composite!B94","v":"CLK2"},{"$f":"Composite!T94","v":7.9186558942343197},{"$f":"Composite!G94","v":"CMGC"}]
[96,{"$f":"Composite!B402","v":"TNIK (ZC2)"},{"$f":"Composite!T402","v":7.8436506452216435},{"$f":"Composite!G402","v":"STE"}]
[97,{"$f":"Composite!B171","v":"HIPK2"},{"$f":"Composite!T171","v":7.7386343053794491},{"$f":"Composite!G171","v":"CMGC"}]
[98,{"$f":"Composite!B167","v":"GSK3B (GSK3β)"},{"$f":"Composite!T167","v":7.70143671443725},{"$f":"Composite!G167","v":"CMGC"}]
[99,{"$f":"Composite!B245","v":"MARK4"},{"$f":"Composite!T245","v":7.6101358065584606},{"$f":"Composite!G245","v":"CAMK"}]
[100,{"$f":"Composite!B335","v":"PRKCI (PKCι [iota])"},{"$f":"Composite!T335","v":7.5918658580092711},{"$f":"Composite!G335","v":"AGC"}]
[101,{"$f":"Composite!B93","v":"CLK1"},{"$f":"Composite!T93","v":7.3974874051399837},{"$f":"Composite!G93","v":"CMGC"}]
[102,{"$f":"Composite!B252","v":"MINK1 (MAP4K6, MINK, ZC3)"},{"$f":"Composite!T252","v":7.387758184495695},{"$f":"Composite!G252","v":"STE"}]
[103,{"$f":"Composite!B356","v":"RPS6KA1 (RSK1)"},{"$f":"Composite!T356","v":7.2810100732420864},{"$f":"Composite!G356","v":"AGC"}]
[104,{"$f":"Composite!B183","v":"ITK"},{"$f":"Composite!T183","v":7.2436593308990496},{"$f":"Composite!G183","v":"TK"}]
[105,{"$f":"Composite!B376","v":"SRPK1"},{"$f":"Composite!T376","v":7.2411315199102688},{"$f":"Composite!G376","v":"CMGC"}]
[106,{"$f":"Composite!B124","v":"EIF2AK1 (HRI)"},{"$f":"Composite!T124","v":7.1613288243485016},{"$f":"Composite!G124","v":"Other"}]
[107,{"$f":"Composite!B144","v":"FAM20C"},{"$f":"Composite!T144","v":7.1114161138492022},{"$f":"Composite!G144","v":"Other"}]
[108,{"$f":"Composite!B351","v":"RIPK2"},{"$f":"Composite!T351","v":7.0078919365928272},{"$f":"Composite!G351","v":"TKL"}]
[109,{"$f":"Composite!B113","v":"DDR1 [SRC treated]"},{"$f":"Composite!T113","v":6.962523293533053},{"$f":"Composite!G113","v":"TK"}]
[110,{"$f":"Composite!B221","v":"MAP3K9 (MLK1)"},{"$f":"Composite!T221","v":6.9296659236516973},{"$f":"Composite!G221","v":"TKL"}]
[111,{"$f":"Composite!B149","v":"FGFR3"},{"$f":"Composite!T149","v":6.7901234567901128},{"$f":"Composite!G149","v":"TK"}]
[112,{"$f":"Composite!B217","v":"MAP3K5 (ASK1)"},{"$f":"Composite!T217","v":6.7259150189314312},{"$f":"Composite!G217","v":"STE"}]
[113,{"$f":"Composite!B301","v":"PIM2"},{"$f":"Composite!T301","v":6.7034271302111392},{"$f":"Composite!G301","v":"CAMK"}]
[114,{"$f":"Composite!B223","v":"MAP4K2 (GCK)"},{"$f":"Composite!T223","v":6.6655589709506984},{"$f":"Composite!G223","v":"STE"}]
[115,{"$f":"Composite!B70","v":"CDK2/CycE1"},{"$f":"Composite!T70","v":6.655534351145036},{"$f":"Composite!G70","v":"CMGC"}]
[116,{"$f":"Composite!B249","v":"MELK"},{"$f":"Composite!T249","v":6.4928778868759451},{"$f":"Composite!G249","v":"CAMK"}]
[117,{"$f":"Composite!B22","v":"ABL2 (ARG)"},{"$f":"Composite!T22","v":6.4722714266248857},{"$f":"Composite!G22","v":"TK"}]
[118,{"$f":"Composite!B150","v":"FGFR4"},{"$f":"Composite!T150","v":6.3933699962939272},{"$f":"Composite!G150","v":"TK"}]
[119,{"$f":"Composite!B215","v":"MAP3K20 (MLK7, ZAK)"},{"$f":"Composite!T215","v":6.3928776565192464},{"$f":"Composite!G215","v":"TKL"}]
[120,{"$f":"Composite!B168","v":"HASPIN"},{"$f":"Composite!T168","v":6.3677993601116185},{"$f":"Composite!G168","v":"Other"}]
[121,{"$f":"Composite!B364","v":"SBK1 (SBK)"},{"$f":"Composite!T364","v":6.2374857097543952},{"$f":"Composite!G364","v":"Other"}]
[122,{"$f":"Composite!B170","v":"HIPK1"},{"$f":"Composite!T170","v":6.226111446389055},{"$f":"Composite!G170","v":"CMGC"}]
[123,{"$f":"Composite!B203","v":"MAP2K1 (MEK1)"},{"$f":"Composite!T203","v":6.1967921859571646},{"$f":"Composite!G203","v":"STE"}]
[124,{"$f":"Composite!B238","v":"MAPK9 (JNK2)"},{"$f":"Composite!T238","v":6.1846834393143411},{"$f":"Composite!G238","v":"CMGC"}]
[125,{"$f":"Composite!B348","v":"RAF1 [Y340E/Y341E]"},{"$f":"Composite!T348","v":6.1374223602484363},{"$f":"Composite!G348","v":"TKL"}]
[126,{"$f":"Composite!B394","v":"TAOK2 (TAO2)"},{"$f":"Composite!T394","v":6.1355311355311386},{"$f":"Composite!G394","v":"STE"}]
[127,{"$f":"Composite!B82","v":"CDK6/CycD3"},{"$f":"Composite!T82","v":6.1197495664442556},{"$f":"Composite!G82","v":"CMGC"}]
[128,{"$f":"Composite!B393","v":"TAOK1 (TAO1)"},{"$f":"Composite!T393","v":6.109847253818657},{"$f":"Composite!G393","v":"STE"}]
[129,{"$f":"Composite!B407","v":"TSSK2"},{"$f":"Composite!T407","v":6.0309050772626733},{"$f":"Composite!G407","v":"CAMK"}]
[130,{"$f":"Composite!B358","v":"RPS6KA3 (RSK2)"},{"$f":"Composite!T358","v":6.0243852318652245},{"$f":"Composite!G358","v":"AGC"}]
[131,{"$f":"Composite!B178","v":"IKKE (IKKe)"},{"$f":"Composite!T178","v":5.9166695433049199},{"$f":"Composite!G178","v":"Other"}]
[132,{"$f":"Composite!B386","v":"STK26 (MST4)"},{"$f":"Composite!T386","v":5.8965485170518406},{"$f":"Composite!G386","v":"STE"}]
[133,{"$f":"Composite!B72","v":"CDK2/CycO"},{"$f":"Composite!T72","v":5.8403634003893643},{"$f":"Composite!G72","v":"CMGC"}]
[134,{"$f":"Composite!B195","v":"LCK"},{"$f":"Composite!T195","v":5.832067483274642},{"$f":"Composite!G195","v":"TK"}]
[135,{"$f":"Composite!B184","v":"JAK1 [JH1]"},{"$f":"Composite!T184","v":5.6968500825552866},{"$f":"Composite!G184","v":"TK"}]
[136,{"$f":"Composite!B67","v":"CDK2/CycA1"},{"$f":"Composite!T67","v":5.6514889646839208},{"$f":"Composite!G67","v":"CMGC"}]
[137,{"$f":"Composite!B265","v":"NEK1"},{"$f":"Composite!T265","v":5.620440773476389},{"$f":"Composite!G265","v":"Other"}]
[138,{"$f":"Composite!B406","v":"TSSK1B (TSSK1)"},{"$f":"Composite!T406","v":5.4725417510604757},{"$f":"Composite!G406","v":"CAMK"}]
[139,{"$f":"Composite!B291","v":"PDGFRA (PDGFRα)"},{"$f":"Composite!T291","v":5.4441625315281073},{"$f":"Composite!G291","v":"TK"}]
[140,{"$f":"Composite!B422","v":"ZAP70"},{"$f":"Composite!T422","v":5.4203169343039974},{"$f":"Composite!G422","v":"TK"}]
[141,{"$f":"Composite!B385","v":"STK25 (YSK1)"},{"$f":"Composite!T385","v":5.4193133392297312},{"$f":"Composite!G385","v":"STE"}]
[142,{"$f":"Composite!B243","v":"MARK2"},{"$f":"Composite!T243","v":5.288315127441237},{"$f":"Composite!G243","v":"CAMK"}]
[143,{"$f":"Composite!B27","v":"AURKA (AURA)"},{"$f":"Composite!T27","v":5.2805980436338587},{"$f":"Composite!G27","v":"Other"}]
[144,{"$f":"Composite!B152","v":"FLT1"},{"$f":"Composite!T152","v":5.2608225408358322},{"$f":"Composite!G152","v":"TK"}]
[145,{"$f":"Composite!B134","v":"EPHA7"},{"$f":"Composite!T134","v":5.2511432613072344},{"$f":"Composite!G134","v":"TK"}]
[146,{"$f":"Composite!B68","v":"CDK2/CycA2"},{"$f":"Composite!T68","v":5.1648192071252197},{"$f":"Composite!G68","v":"CMGC"}]
[147,{"$f":"Composite!B142","v":"ERN1 (IRE1)"},{"$f":"Composite!T142","v":5.1077316502530294},{"$f":"Composite!G142","v":"Other"}]
[148,{"$f":"Composite!B169","v":"HCK"},{"$f":"Composite!T169","v":5.1042352424840942},{"$f":"Composite!G169","v":"TK"}]
[149,{"$f":"Composite!B232","v":"MAPK14 (p38a)"},{"$f":"Composite!T232","v":5.09204857030943},{"$f":"Composite!G232","v":"CMGC"}]
[150,{"$f":"Composite!B84","v":"CDK7/CycH1"},{"$f":"Composite!T84","v":5.0861305916797335},{"$f":"Composite!G84","v":"CMGC"}]
[151,{"$f":"Composite!B74","v":"CDK3/CycE2"},{"$f":"Composite!T74","v":5.0188545709893901},{"$f":"Composite!G74","v":"CMGC"}]
[152,{"$f":"Composite!B64","v":"CDK17 (PCTAIRE2, PCTK2)/CycY"},{"$f":"Composite!T64","v":5.0146755760944188},{"$f":"Composite!G64","v":"CMGC"}]
[153,{"$f":"Composite!B306","v":"PKN2"},{"$f":"Composite!T306","v":4.9603973687743377},{"$f":"Composite!G306","v":"AGC"}]
[154,{"$f":"Composite!B295","v":"PDK3 (PDHK3)"},{"$f":"Composite!T295","v":4.9464589642395396},{"$f":"Composite!G295","v":"Atypical"}]
[155,{"$f":"Composite!B239","v":"MAPKAPK2 (MK2)"},{"$f":"Composite!T239","v":4.930386105927937},{"$f":"Composite!G239","v":"CAMK"}]
[156,{"$f":"Composite!B131","v":"EPHA4"},{"$f":"Composite!T131","v":4.8285007072135784},{"$f":"Composite!G131","v":"TK"}]
[157,{"$f":"Composite!B250","v":"MERTK (MER)"},{"$f":"Composite!T250","v":4.7848026792179468},{"$f":"Composite!G250","v":"TK"}]
[158,{"$f":"Composite!B258","v":"MUSK"},{"$f":"Composite!T258","v":4.7183867223367741},{"$f":"Composite!G258","v":"TK"}]
[159,{"$f":"Composite!B24","v":"AKT2 (PKBb)"},{"$f":"Composite!T24","v":4.6556625014071784},{"$f":"Composite!G24","v":"AGC"}]
[160,{"$f":"Composite!B193","v":"LATS1"},{"$f":"Composite!T193","v":4.6152095689152475},{"$f":"Composite!G193","v":"AGC"}]
[161,{"$f":"Composite!B396","v":"TBK1"},{"$f":"Composite!T396","v":4.6103585657370445},{"$f":"Composite!G396","v":"Other"}]
[162,{"$f":"Composite!B148","v":"FGFR2"},{"$f":"Composite!T148","v":4.5802114338499393},{"$f":"Composite!G148","v":"TK"}]
[163,{"$f":"Composite!B154","v":"FLT4"},{"$f":"Composite!T154","v":4.5036850452467689},{"$f":"Composite!G154","v":"TK"}]
[164,{"$f":"Composite!B251","v":"MET (c-MET, HGFR)"},{"$f":"Composite!T251","v":4.4671233844198071},{"$f":"Composite!G251","v":"TK"}]
[165,{"$f":"Composite!B197","v":"LIMK2"},{"$f":"Composite!T197","v":4.4401186503522609},{"$f":"Composite!G197","v":"TKL"}]
[166,{"$f":"Composite!B78","v":"CDK5/p25"},{"$f":"Composite!T78","v":4.3765611990008182},{"$f":"Composite!G78","v":"CMGC"}]
[167,{"$f":"Composite!B272","v":"NEK6"},{"$f":"Composite!T272","v":4.3097074046688419},{"$f":"Composite!G272","v":"Other"}]
[168,{"$f":"Composite!B49","v":"CAMK4"},{"$f":"Composite!T49","v":4.2744608264534207},{"$f":"Composite!G49","v":"CAMK"}]
[169,{"$f":"Composite!B267","v":"NEK11"},{"$f":"Composite!T267","v":4.2586917468033363},{"$f":"Composite!G267","v":"Other"}]
[170,{"$f":"Composite!B327","v":"PRKACG (PKACG, PKACg)"},{"$f":"Composite!T327","v":4.2250163875811779},{"$f":"Composite!G327","v":"AGC"}]
[171,{"$f":"Composite!B294","v":"PDK2 (PDHK2)"},{"$f":"Composite!T294","v":4.2121581220241069},{"$f":"Composite!G294","v":"Atypical"}]
[172,{"$f":"Composite!B325","v":"PRKACA (PKACA, PKACα)"},{"$f":"Composite!T325","v":4.1515951380063285},{"$f":"Composite!G325","v":"AGC"}]
[173,{"$f":"Composite!B77","v":"CDK4/CycD2"},{"$f":"Composite!T77","v":4.0856632956573407},{"$f":"Composite!G77","v":"CMGC"}]
[174,{"$f":"Composite!B173","v":"HIPK4"},{"$f":"Composite!T173","v":4.0457829160945948},{"$f":"Composite!G173","v":"CMGC"}]
[175,{"$f":"Composite!B63","v":"CDK16 (PCTAIRE1, PCTK1)/CycY "},{"$f":"Composite!T63","v":4.0363245867961552},{"$f":"Composite!G63","v":"CMGC"}]
[176,{"$f":"Composite!B337","v":"PRKCZ (PKCζ [zeta])"},{"$f":"Composite!T337","v":3.9575314210407413},{"$f":"Composite!G337","v":"AGC"}]
[177,{"$f":"Composite!B234","v":"MAPK3 (ERK1)"},{"$f":"Composite!T234","v":3.9159503342884392},{"$f":"Composite!G234","v":"CAMK"}]
[178,{"$f":"Composite!B284","v":"PAK2"},{"$f":"Composite!T284","v":3.8914326130251169},{"$f":"Composite!G284","v":"STE"}]
[179,{"$f":"Composite!B311","v":"PLK4"},{"$f":"Composite!T311","v":3.8104574861154248},{"$f":"Composite!G311","v":"Other"}]
[180,{"$f":"Composite!B127","v":"EIF2AK4 (GCN2)"},{"$f":"Composite!T127","v":3.7595501651579752},{"$f":"Composite!G127","v":"Other"}]
[181,{"$f":"Composite!B189","v":"KDR (VEGFR2)"},{"$f":"Composite!T189","v":3.722079539263774},{"$f":"Composite!G189","v":"TK"}]
[182,{"$f":"Composite!B208","v":"MAP3K10 (MLK2)"},{"$f":"Composite!T208","v":3.7077291979472449},{"$f":"Composite!G208","v":"TKL"}]
[183,{"$f":"Composite!B380","v":"STK11 (LKB1, AMPKK)"},{"$f":"Composite!T380","v":3.6931537609872152},{"$f":"Composite!G380","v":"CAMK"}]
[184,{"$f":"Composite!B220","v":"MAP3K8 (COT, Tpl2)"},{"$f":"Composite!T220","v":3.5929095678439751},{"$f":"Composite!G220","v":"STE"}]
[185,{"$f":"Composite!B98","v":"CSK"},{"$f":"Composite!T98","v":3.5913076629813077},{"$f":"Composite!G98","v":"TK"}]
[186,{"$f":"Composite!B121","v":"DYRK4"},{"$f":"Composite!T121","v":3.5298850775769921},{"$f":"Composite!G121","v":"CMGC"}]
[187,{"$f":"Composite!B233","v":"MAPK15 (ERK7)"},{"$f":"Composite!T233","v":3.4850805141769996},{"$f":"Composite!G233","v":"CMGC"}]
[188,{"$f":"Composite!B160","v":"GRK2 (ADRBK1, BARK1)"},{"$f":"Composite!T160","v":3.4496238288709833},{"$f":"Composite!G160","v":"AGC"}]
[189,{"$f":"Composite!B92","v":"CIT (CRIK)"},{"$f":"Composite!T92","v":3.446669771774566},{"$f":"Composite!G92","v":"AGC"}]
[190,{"$f":"Composite!B378","v":"SRPK3 (MSSK1)"},{"$f":"Composite!T378","v":3.4463558303783515},{"$f":"Composite!G378","v":"CMGC"}]
[191,{"$f":"Composite!B340","v":"PRKD3 (PKD3)"},{"$f":"Composite!T340","v":3.4433238143972318},{"$f":"Composite!G340","v":"CAMK"}]
[192,{"$f":"Composite!B369","v":"SIK2 (QIK)"},{"$f":"Composite!T369","v":3.436266542837231},{"$f":"Composite!G369","v":"CAMK"}]
[193,{"$f":"Composite!B137","v":"EPHB2"},{"$f":"Composite!T137","v":3.3681219727731389},{"$f":"Composite!G137","v":"TK"}]
[194,{"$f":"Composite!B59","v":"CDK1 (CDC2)/CycE1 "},{"$f":"Composite!T59","v":3.3198011511188099},{"$f":"Composite!G59","v":"CMGC"}]
[195,{"$f":"Composite!B66","v":"CDK18 (PCTAIRE3, PCTK3)/CycY "},{"$f":"Composite!T66","v":3.3182778465797185},{"$f":"Composite!G66","v":"CMGC"}]
[196,{"$f":"Composite!B263","v":"MYO3A"},{"$f":"Composite!T263","v":3.2761645601346316},{"$f":"Composite!G263","v":"STE"}]
[197,{"$f":"Composite!B222","v":"MAP4K1 (HPK1)"},{"$f":"Composite!T222","v":3.2246073784964153},{"$f":"Composite!G222","v":"STE"}]
[198,{"$f":"Composite!B128","v":"EPHA1"},{"$f":"Composite!T128","v":3.2064695389681646},{"$f":"Composite!G128","v":"TK"}]
[199,{"$f":"Composite!B270","v":"NEK4"},{"$f":"Composite!T270","v":3.1746031746031917},{"$f":"Composite!G270","v":"Other"}]
[200,{"$f":"Composite!B147","v":"FGFR1"},{"$f":"Composite!T147","v":3.169861694677877},{"$f":"Composite!G147","v":"TK"}]
[201,{"$f":"Composite!B305","v":"PKN1"},{"$f":"Composite!T305","v":3.0905949148358047},{"$f":"Composite!G305","v":"AGC"}]
[202,{"$f":"Composite!B387","v":"STK3 (CLIK1, MST2)"},{"$f":"Composite!T387","v":3.0710329097425841},{"$f":"Composite!G387","v":"STE"}]
[203,{"$f":"Composite!B246","v":"MAST3"},{"$f":"Composite!T246","v":3.0206879045563966},{"$f":"Composite!G246","v":"AGC"}]
[204,{"$f":"Composite!B182","v":"IRAK4"},{"$f":"Composite!T182","v":2.8811666416099371},{"$f":"Composite!G182","v":"TKL"}]
[205,{"$f":"Composite!B261","v":"MYLK3 (caMLCK)"},{"$f":"Composite!T261","v":2.8398980426104856},{"$f":"Composite!G261","v":"CAMK"}]
[206,{"$f":"Composite!B226","v":"MAP4K5 (KHS1)"},{"$f":"Composite!T226","v":2.8370844517861116},{"$f":"Composite!G226","v":"STE"}]
[207,{"$f":"Composite!B228","v":"MAPK10 (JNK3)"},{"$f":"Composite!T228","v":2.6940944331370531},{"$f":"Composite!G228","v":"CMGC"}]
[208,{"$f":"Composite!B389","v":"STK38 (NDR1)"},{"$f":"Composite!T389","v":2.6902507235557778},{"$f":"Composite!G389","v":"AGC"}]
[209,{"$f":"Composite!B224","v":"MAP4K3 (GLK, KHS2)"},{"$f":"Composite!T224","v":2.657910730962513},{"$f":"Composite!G224","v":"STE"}]
[210,{"$f":"Composite!B366","v":"SGK2"},{"$f":"Composite!T366","v":2.6555929719260973},{"$f":"Composite!G366","v":"AGC"}]
[211,{"$f":"Composite!B56","v":"CDK1 (CDC2)/CycA1 "},{"$f":"Composite!T56","v":2.6504485374447881},{"$f":"Composite!G56","v":"CMGC"}]
[212,{"$f":"Composite!B350","v":"RIPK1"},{"$f":"Composite!T350","v":2.5759133771680922},{"$f":"Composite!G350","v":"TKL"}]
[213,{"$f":"Composite!B373","v":"SRC"},{"$f":"Composite!T373","v":2.556526662184595},{"$f":"Composite!G373","v":"TK"}]
[214,{"$f":"Composite!B75","v":"CDK4 /CycD3"},{"$f":"Composite!T75","v":2.5123152709359573},{"$f":"Composite!G75","v":"CMGC"}]
[215,{"$f":"Composite!B345","v":"PTK2 (FAK)"},{"$f":"Composite!T345","v":2.4885826676807454},{"$f":"Composite!G345","v":"TK"}]
[216,{"$f":"Composite!B307","v":"PKN3"},{"$f":"Composite!T307","v":2.4411933098634364},{"$f":"Composite!G307","v":"AGC"}]
[217,{"$f":"Composite!B399","v":"TESK2"},{"$f":"Composite!T399","v":2.4378822103465438},{"$f":"Composite!G399","v":"TKL"}]
[218,{"$f":"Composite!B191","v":"KSR1"},{"$f":"Composite!T191","v":2.3530636680722665},{"$f":"Composite!G191","v":"TKL"}]
[219,{"$f":"Composite!B119","v":"DYRK2"},{"$f":"Composite!T119","v":2.3214132181665406},{"$f":"Composite!G119","v":"CMGC"}]
[220,{"$f":"Composite!B201","v":"LYNB (LYNb)"},{"$f":"Composite!T201","v":2.3207804298840955},{"$f":"Composite!G201","v":"TK"}]
[221,{"$f":"Composite!B253","v":"MLK4 (MAP3K21)"},{"$f":"Composite!T253","v":2.2962911418829464},{"$f":"Composite!G253","v":"STE"}]
[222,{"$f":"Composite!B187","v":"JAK2 [JH1-JH2]"},{"$f":"Composite!T187","v":2.2559072670530611},{"$f":"Composite!G187","v":"TK"}]
[223,{"$f":"Composite!B114","v":"DDR2"},{"$f":"Composite!T114","v":2.1836551125959858},{"$f":"Composite!G114","v":"TK"}]
[224,{"$f":"Composite!B52","v":"CDC42BPA (MRCKA)"},{"$f":"Composite!T52","v":2.1524356067894388},{"$f":"Composite!G52","v":"AGC"}]
[225,{"$f":"Composite!B362","v":"RPS6KB1 (p70S6K)"},{"$f":"Composite!T362","v":2.0816873346844886},{"$f":"Composite!G362","v":"AGC"}]
[226,{"$f":"Composite!B73","v":"CDK3/CycE1"},{"$f":"Composite!T73","v":2.0527175180779125},{"$f":"Composite!G73","v":"CMGC"}]
[227,{"$f":"Composite!B213","v":"MAP3K19 (YSK4)"},{"$f":"Composite!T213","v":2.0032719134403152},{"$f":"Composite!G213","v":"STE"}]
[228,{"$f":"Composite!B106","v":"CSNK2A1 (CK2A1, CK2α1)"},{"$f":"Composite!T106","v":1.9751721365029766},{"$f":"Composite!G106","v":"Other"}]
[229,{"$f":"Composite!B257","v":"mTOR (FRAP)"},{"$f":"Composite!T257","v":1.9218708001075413},{"$f":"Composite!G257","v":"Atypical"}]
[230,{"$f":"Composite!B342","v":"PRKG1 (PKG1, PGK)"},{"$f":"Composite!T342","v":1.8789291326370829},{"$f":"Composite!G342","v":"AGC"}]
[231,{"$f":"Composite!B85","v":"CDK9 (TAK)/CycK"},{"$f":"Composite!T85","v":1.7186618595639374},{"$f":"Composite!G85","v":"CMGC"}]
[232,{"$f":"Composite!B207","v":"MAP3K1 (MEKK1)"},{"$f":"Composite!T207","v":1.7135633690716077},{"$f":"Composite!G207","v":"STE"}]
[233,{"$f":"Composite!B202","v":"MAK"},{"$f":"Composite!T202","v":1.6764300137953256},{"$f":"Composite!G202","v":"Atypical"}]
[234,{"$f":"Composite!B357","v":"RPS6KA2 (RSK3)"},{"$f":"Composite!T357","v":1.6331241434033075},{"$f":"Composite!G357","v":"AGC"}]
[235,{"$f":"Composite!B117","v":"DYRK1A"},{"$f":"Composite!T117","v":1.6316736652669448},{"$f":"Composite!G117","v":"CMGC"}]
[236,{"$f":"Composite!B164","v":"GRK6 (GPRK6)"},{"$f":"Composite!T164","v":1.5986711501843445},{"$f":"Composite!G164","v":"AGC"}]
[237,{"$f":"Composite!B398","v":"TEK (TIE2)"},{"$f":"Composite!T398","v":1.584427342688997},{"$f":"Composite!G398","v":"TK"}]
[238,{"$f":"Composite!B408","v":"TSSK3"},{"$f":"Composite!T408","v":1.5726299330951861},{"$f":"Composite!G408","v":"CAMK"}]
[239,{"$f":"Composite!B241","v":"MAPKAPK5 (MK5)"},{"$f":"Composite!T241","v":1.5400588337082723},{"$f":"Composite!G241","v":"CAMK"}]
[240,{"$f":"Composite!B278","v":"NTRK1 (TRKA)"},{"$f":"Composite!T278","v":1.5308348205433191},{"$f":"Composite!G278","v":"TK"}]
[241,{"$f":"Composite!B192","v":"KSR2"},{"$f":"Composite!T192","v":1.4907510992013044},{"$f":"Composite!G192","v":"TKL"}]
[242,{"$f":"Composite!B255","v":"MNK2"},{"$f":"Composite!T255","v":1.4556143445032319},{"$f":"Composite!G255","v":"CAMK"}]
[243,{"$f":"Composite!B194","v":"LATS2"},{"$f":"Composite!T194","v":1.438693277083658},{"$f":"Composite!G194","v":"AGC"}]
[244,{"$f":"Composite!B125","v":"EIF2AK2 (PKR)"},{"$f":"Composite!T125","v":1.3770442460118204},{"$f":"Composite!G125","v":"Other"}]
[245,{"$f":"Composite!B368","v":"SIK1 (SIK)"},{"$f":"Composite!T368","v":1.3297993876525283},{"$f":"Composite!G368","v":"CAMK"}]
[246,{"$f":"Composite!B367","v":"SGK3"},{"$f":"Composite!T367","v":1.3050150785048089},{"$f":"Composite!G367","v":"AGC"}]
[247,{"$f":"Composite!B319","v":"PRKAA2-B1-G1 (AMPKα2β1γ1)"},{"$f":"Composite!T319","v":1.1815636132608915},{"$f":"Composite!G319","v":"CAMK"}]
[248,{"$f":"Composite!B166","v":"GSK3A (GSK3α)"},{"$f":"Composite!T166","v":1.1710287487557878},{"$f":"Composite!G166","v":"CMGC"}]
[249,{"$f":"Composite!B99","v":"CSNK1A1 (CK1A1, CK1α)"},{"$f":"Composite!T99","v":1.0792664752851238},{"$f":"Composite!G99","v":"CK1"}]
[250,{"$f":"Composite!B414","v":"TYK2 [JH1]"},{"$f":"Composite!T414","v":1.0561594602341557},{"$f":"Composite!G414","v":"TK"}]
[251,{"$f":"Composite!B412","v":"TTK"},{"$f":"Composite!T412","v":1.026842459437205},{"$f":"Composite!G412","v":"Other"}]
[252,{"$f":"Composite!B185","v":"JAK1 [JH1-JH2]"},{"$f":"Composite!T185","v":1.0107235301368291},{"$f":"Composite!G185","v":"TK"}]
[253,{"$f":"Composite!B58","v":"CDK1 (CDC2)/CycB1 "},{"$f":"Composite!T58","v":0.99029032413892537},{"$f":"Composite!G58","v":"CMGC"}]
[254,{"$f":"Composite!B36","v":"BRAF (BRAF1, RAFB1)"},{"$f":"Composite!T36","v":0.98164239746137127},{"$f":"Composite!G36","v":"TKL"}]
[255,{"$f":"Composite!B102","v":"CSNK1E (CK1E, CK1ε)"},{"$f":"Composite!T102","v":0.88447775302141451},{"$f":"Composite!G102","v":"CK1"}]
[256,{"$f":"Composite!B86","v":"CDK9 (TAK)/CycT1"},{"$f":"Composite!T86","v":0.87233685623219515},{"$f":"Composite!G86","v":"CMGC"}]
[257,{"$f":"Composite!B336","v":"PRKCQ (PKCᶿ [theta])"},{"$f":"Composite!T336","v":0.83823949901056949},{"$f":"Composite!G336","v":"AGC"}]
[258,{"$f":"Composite!B32","v":"BCR RET (fusion)"},{"$f":"Composite!T32","v":0.72515037636840418},{"$f":"Composite!G32","v":"TK"}]
[259,{"$f":"Composite!B244","v":"MARK3"},{"$f":"Composite!T244","v":0.69762806458039961},{"$f":"Composite!G244","v":"CAMK"}]
[260,{"$f":"Composite!B316","v":"PRKAA1-B2-G1 (AMPKα1β2γ1)"},{"$f":"Composite!T316","v":0.64921295722695049},{"$f":"Composite!G316","v":"CAMK"}]
[261,{"$f":"Composite!B48","v":"CAMK2G (CAMK2γ)"},{"$f":"Composite!T48","v":0.56573790583773587},{"$f":"Composite!G48","v":"CAMK"}]
[262,{"$f":"Composite!B331","v":"PRKCD (PKCδ [delta])"},{"$f":"Composite!T331","v":0.54883469253661588},{"$f":"Composite!G331","v":"AGC"}]
[263,{"$f":"Composite!B303","v":"PINK1 (PINK)"},{"$f":"Composite!T303","v":0.49773635858200294},{"$f":"Composite!G303","v":"Other"}]
[264,{"$f":"Composite!B71","v":"CDK2/CycE2"},{"$f":"Composite!T71","v":0.39376060368179822},{"$f":"Composite!G71","v":"CMGC"}]
[265,{"$f":"Composite!B151","v":"FGR"},{"$f":"Composite!T151","v":0.32922795837392016},{"$f":"Composite!G151","v":"TK"}]
[266,{"$f":"Composite!B21","v":"ABL1"},{"$f":"Composite!T21","v":0.28036582230437546},{"$f":"Composite!G21","v":"TK"}]
[267,{"$f":"Composite!B313","v":"PRKAA1-B1-G1 (AMPKα1β1γ1)"},{"$f":"Composite!T313","v":0.26455291137214942},{"$f":"Composite!G313","v":"CAMK"}]
[268,{"$f":"Composite!B231","v":"MAPK13 (p38δ)"},{"$f":"Composite!T231","v":0.26369206837021864},{"$f":"Composite!G231","v":"CMGC"}]
[269,{"$f":"Composite!B120","v":"DYRK3"},{"$f":"Composite!T120","v":0.25369059411920603},{"$f":"Composite!G120","v":"CMGC"}]
[270,{"$f":"Composite!B139","v":"EPHB4"},{"$f":"Composite!T139","v":0.18754262332349469},{"$f":"Composite!G139","v":"TK"}]
[271,{"$f":"Composite!B279","v":"NTRK2 (TRKB)"},{"$f":"Composite!T279","v":0.13108092608675292},{"$f":"Composite!G279","v":"TK"}]
[272,{"$f":"Composite!B212","v":"MAP3K14 (NIK)"},{"$f":"Composite!T212","v":0.1023351009396265},{"$f":"Composite!G212","v":"STE"}]
[273,{"$f":"Composite!B400","v":"TLK1"},{"$f":"Composite!T400","v":1.5625887834616492E-2},{"$f":"Composite!G400","v":"Other"}]
[274,{"$f":"Composite!B60","v":"CDK12 (CRK7)/CycK"},{"$f":"Composite!T60","v":0},{"$f":"Composite!G60","v":"CMGC"}]
[275,{"$f":"Composite!B69","v":"CDK2/CycD1"},{"$f":"Composite!T69","v":0},{"$f":"Composite!G69","v":"CMGC"}]
[276,{"$f":"Composite!B206","v":"MAP2K4 (MEK4)"},{"$f":"Composite!T206","v":0},{"$f":"Composite!G206","v":"STE"}]
[277,{"$f":"Composite!B235","v":"MAPK6 (ERK3)"},{"$f":"Composite!T235","v":0},{"$f":"Composite!G235","v":"CMGC"}]
[278,{"$f":"Composite!B274","v":"NEK8"},{"$f":"Composite!T274","v":0},{"$f":"Composite!G274","v":"Other"}]
[279,{"$f":"Composite!B186","v":"JAK2 [JH1]"},{"$f":"Composite!T186","v":-5.9277874110861717E-2},{"$f":"Composite!G186","v":"TK"}]
[280,{"$f":"Composite!B54","v":"CDC42BPG (DMPK2)"},{"$f":"Composite!T54","v":-8.7826485413174282E-2},{"$f":"Composite!G54","v":"AGC"}]
[281,{"$f":"Composite!B109","v":"DAPK2 (DRP-1)"},{"$f":"Composite!T109","v":-9.9760894799061361E-2},{"$f":"Composite!G109","v":"CAMK"}]
[282,{"$f":"Composite!B46","v":"CAMK2B (CAMK2β)"},{"$f":"Composite!T46","v":-0.16736760159125197},{"$f":"Composite!G46","v":"CAMK"}]
[283,{"$f":"Composite!B95","v":"CLK3"},{"$f":"Composite!T95","v":-0.2833274915293913},{"$f":"Composite!G95","v":"CMGC"}]
[284,{"$f":"Composite!B210","v":"MAP3K12 (DLK)"},{"$f":"Composite!T210","v":-0.29383843406716892},{"$f":"Composite!G210","v":"TKL"}]
[285,{"$f":"Composite!B177","v":"IKKB (IKKβ)"},{"$f":"Composite!T177","v":-0.30859973540925978},{"$f":"Composite!G177","v":"Other"}]
[286,{"$f":"Composite!B282","v":"NUAK2 (SNARK)"},{"$f":"Composite!T282","v":-0.36639370794566162},{"$f":"Composite!G282","v":"CAMK"}]
[287,{"$f":"Composite!B324","v":"PRKAA2-B2-G3 (AMPKα2β2γ3)"},{"$f":"Composite!T324","v":-0.38142802261127429},{"$f":"Composite!G324","v":"CAMK"}]
[288,{"$f":"Composite!B416","v":"TYRO3"},{"$f":"Composite!T416","v":-0.41699802206321124},{"$f":"Composite!G416","v":"TK"}]
[289,{"$f":"Composite!B236","v":"MAPK7 (BMK, ERK5)"},{"$f":"Composite!T236","v":-0.47017831092638573},{"$f":"Composite!G236","v":"CMGC"}]
[290,{"$f":"Composite!B320","v":"PRKAA2-B1-G2 (AMPKα2β1γ2)"},{"$f":"Composite!T320","v":-0.49568203338010619},{"$f":"Composite!G320","v":"CAMK"}]
[291,{"$f":"Composite!B338","v":"PRKD1 (PKD1)"},{"$f":"Composite!T338","v":-0.50846510588365845},{"$f":"Composite!G338","v":"CAMK"}]
[292,{"$f":"Composite!B280","v":"NTRK3 (TRKC)"},{"$f":"Composite!T280","v":-0.5634697035831806},{"$f":"Composite!G280","v":"TK"}]
[293,{"$f":"Composite!B229","v":"MAPK11 (p38b)"},{"$f":"Composite!T229","v":-0.61202459664204412},{"$f":"Composite!G229","v":"CMGC"}]
[294,{"$f":"Composite!B283","v":"PAK1"},{"$f":"Composite!T283","v":-0.64048651096592835},{"$f":"Composite!G283","v":"STE"}]
[295,{"$f":"Composite!B344","v":"PRKX"},{"$f":"Composite!T344","v":-0.82194436367159085},{"$f":"Composite!G344","v":"AGC"}]
[296,{"$f":"Composite!B118","v":"DYRK1B"},{"$f":"Composite!T118","v":-0.9414733572745746},{"$f":"Composite!G118","v":"CMGC"}]
[297,{"$f":"Composite!B275","v":"NEK9"},{"$f":"Composite!T275","v":-0.94174798653430969},{"$f":"Composite!G275","v":"Other"}]
[298,{"$f":"Composite!B401","v":"TLK2"},{"$f":"Composite!T401","v":-1.0576784944691866},{"$f":"Composite!G401","v":"Other"}]
[299,{"$f":"Composite!B326","v":"PRKACB (PKACB, PKACβ)"},{"$f":"Composite!T326","v":-1.0769179475210962},{"$f":"Composite!G326","v":"AGC"}]
[300,{"$f":"Composite!B381","v":"STK16 (MPSK1, PKL12, TSF1)"},{"$f":"Composite!T381","v":-1.0992633684976596},{"$f":"Composite!G381","v":"Other"}]
[301,{"$f":"Composite!B372","v":"SNRK"},{"$f":"Composite!T372","v":-1.1460636754880227},{"$f":"Composite!G372","v":"CAMK"}]
[302,{"$f":"Composite!B62","v":"CDK14 (PFTAIRE1, PFTK1)/CycY"},{"$f":"Composite!T62","v":-1.1547163922914905},{"$f":"Composite!G62","v":"CMGC"}]
[303,{"$f":"Composite!B143","v":"ERN2 (IRE2)"},{"$f":"Composite!T143","v":-1.1722534392559112},{"$f":"Composite!G143","v":"Other"}]
[304,{"$f":"Composite!B227","v":"MAPK1 (ERK2)"},{"$f":"Composite!T227","v":-1.1918707255065328},{"$f":"Composite!G227","v":"CMGC"}]
[305,{"$f":"Composite!B165","v":"GRK7 (GPRK7)"},{"$f":"Composite!T165","v":-1.2011473646468005},{"$f":"Composite!G165","v":"AGC"}]
[306,{"$f":"Composite!B39","v":"BRSK2"},{"$f":"Composite!T39","v":-1.2390526569942324},{"$f":"Composite!G39","v":"CAMK"}]
[307,{"$f":"Composite!B81","v":"CDK6/CycD2"},{"$f":"Composite!T81","v":-1.2488922172333758},{"$f":"Composite!G81","v":"CMGC"}]
[308,{"$f":"Composite!B136","v":"EPHB1"},{"$f":"Composite!T136","v":-1.3256250690429709},{"$f":"Composite!G136","v":"TK"}]
[309,{"$f":"Composite!B89","v":"CHEK1 (CHK1)"},{"$f":"Composite!T89","v":-1.3416975487788534},{"$f":"Composite!G89","v":"CAMK"}]
[310,{"$f":"Composite!B175","v":"ICK"},{"$f":"Composite!T175","v":-1.3588516746411443},{"$f":"Composite!G175","v":"CMGC"}]
[311,{"$f":"Composite!B29","v":"AURKC (AURC)"},{"$f":"Composite!T29","v":-1.3710948204987687},{"$f":"Composite!G29","v":"Other"}]
[312,{"$f":"Composite!B230","v":"MAPK12 (p38γ)"},{"$f":"Composite!T230","v":-1.4331802953219466},{"$f":"Composite!G230","v":"CMGC"}]
[313,{"$f":"Composite!B269","v":"NEK3"},{"$f":"Composite!T269","v":-1.4449274474988982},{"$f":"Composite!G269","v":"Other"}]
[314,{"$f":"Composite!B341","v":"PRKDC (DNA-PK)"},{"$f":"Composite!T341","v":-1.481642832058256},{"$f":"Composite!G341","v":"Atypical"}]
[315,{"$f":"Composite!B371","v":"SLK"},{"$f":"Composite!T371","v":-1.5065008940623557},{"$f":"Composite!G371","v":"STE"}]
[316,{"$f":"Composite!B262","v":"MYLK4 (SgK085)"},{"$f":"Composite!T262","v":-1.5634298079524029},{"$f":"Composite!G262","v":"CAMK"}]
[317,{"$f":"Composite!B61","v":"CDK13 (CHED)/CycK"},{"$f":"Composite!T61","v":-1.5715837219702706},{"$f":"Composite!G61","v":"CMGC"}]
[318,{"$f":"Composite!B47","v":"CAMK2D (CAMK2δ)"},{"$f":"Composite!T47","v":-1.6261638812506476},{"$f":"Composite!G47","v":"CAMK"}]
[319,{"$f":"Composite!B318","v":"PRKAA1-B2-G3 (AMPKα1β2γ3)"},{"$f":"Composite!T318","v":-1.7094017094017033},{"$f":"Composite!G318","v":"CAMK"}]
[320,{"$f":"Composite!B133","v":"EPHA6"},{"$f":"Composite!T133","v":-1.7276525611184184},{"$f":"Composite!G133","v":"TK"}]
[321,{"$f":"Composite!B181","v":"IRAK1"},{"$f":"Composite!T181","v":-1.7900187483260481},{"$f":"Composite!G181","v":"TKL"}]
[322,{"$f":"Composite!B384","v":"STK24 (MST3)"},{"$f":"Composite!T384","v":-1.9068673231744242},{"$f":"Composite!G384","v":"STE"}]
[323,{"$f":"Composite!B79","v":"CDK5/p35NCK"},{"$f":"Composite!T79","v":-1.9352867280073411},{"$f":"Composite!G79","v":"CMGC"}]
[324,{"$f":"Composite!B374","v":"SRC N1"},{"$f":"Composite!T374","v":-2.013217320303113},{"$f":"Composite!G374","v":"TK"}]
[325,{"$f":"Composite!B411","v":"TTBK2"},{"$f":"Composite!T411","v":-2.0334890324052708},{"$f":"Composite!G411","v":"CK1"}]
[326,{"$f":"Composite!B132","v":"EPHA5"},{"$f":"Composite!T132","v":-2.0834522518408534},{"$f":"Composite!G132","v":"TK"}]
[327,{"$f":"Composite!B76","v":"CDK4/CycD1"},{"$f":"Composite!T76","v":-2.1009923099907297},{"$f":"Composite!G76","v":"CMGC"}]
[328,{"$f":"Composite!B277","v":"NLK (LAK1)"},{"$f":"Composite!T277","v":-2.1532940271725494},{"$f":"Composite!G277","v":"CMGC"}]
[329,{"$f":"Composite!B417","v":"ULK1"},{"$f":"Composite!T417","v":-2.1756122980719397},{"$f":"Composite!G417","v":"Other"}]
[330,{"$f":"Composite!B317","v":"PRKAA1-B2-G2 (AMPKα1β2γ2)"},{"$f":"Composite!T317","v":-2.2711032404386913},{"$f":"Composite!G317","v":"CAMK"}]
[331,{"$f":"Composite!B321","v":"PRKAA2-B1-G3 (AMPKα2β1γ3)"},{"$f":"Composite!T321","v":-2.2842404602870374},{"$f":"Composite!G321","v":"CAMK"}]
[332,{"$f":"Composite!B332","v":"PRKCE (PKCe [epsilon])"},{"$f":"Composite!T332","v":-2.2945965951146974},{"$f":"Composite!G332","v":"AGC"}]
[333,{"$f":"Composite!B312","v":"PNCK (CAMK1β)"},{"$f":"Composite!T312","v":-2.3031072549642317},{"$f":"Composite!G312","v":"CAMK"}]
[334,{"$f":"Composite!B216","v":"MAP3K3 (MEKK3)"},{"$f":"Composite!T216","v":-2.3273386731147099},{"$f":"Composite!G216","v":"STE"}]
[335,{"$f":"Composite!B138","v":"EPHB3"},{"$f":"Composite!T138","v":-2.3313364941055852},{"$f":"Composite!G138","v":"TK"}]
[336,{"$f":"Composite!B329","v":"PRKCB1 (PKCβ1 [beta1])"},{"$f":"Composite!T329","v":-2.4280821974342928},{"$f":"Composite!G329","v":"AGC"}]
[337,{"$f":"Composite!B390","v":"STK38L (NDR2)"},{"$f":"Composite!T390","v":-2.4569783067077822},{"$f":"Composite!G390","v":"AGC"}]
[338,{"$f":"Composite!B405","v":"TRPM7 (CHAK1)"},{"$f":"Composite!T405","v":-2.4631157982506124},{"$f":"Composite!G405","v":"Atypical"}]
[339,{"$f":"Composite!B289","v":"PASK"},{"$f":"Composite!T289","v":-2.7212642617139693},{"$f":"Composite!G289","v":"CAMK"}]
[340,{"$f":"Composite!B287","v":"PAK5 (PAK7)"},{"$f":"Composite!T287","v":-2.77699013052586},{"$f":"Composite!G287","v":"STE"}]
[341,{"$f":"Composite!B310","v":"PLK3"},{"$f":"Composite!T310","v":-2.8051153426537638},{"$f":"Composite!G310","v":"Other"}]
[342,{"$f":"Composite!B219","v":"MAP3K7 (TAK1)"},{"$f":"Composite!T219","v":-2.8495350131150303},{"$f":"Composite!G219","v":"STE"}]
[343,{"$f":"Composite!B297","v":"PDPK1 (PDK1)"},{"$f":"Composite!T297","v":-2.8984919734068626},{"$f":"Composite!G297","v":"AGC"}]
[344,{"$f":"Composite!B315","v":"PRKAA1-B1-G3 (AMPKα1β1γ3)"},{"$f":"Composite!T315","v":-3.0496119567315247},{"$f":"Composite!G315","v":"CAMK"}]
[345,{"$f":"Composite!B322","v":"PRKAA2-B2-G1 (AMPKα2β2γ1)"},{"$f":"Composite!T322","v":-3.0718879538809887},{"$f":"Composite!G322","v":"CAMK"}]
[346,{"$f":"Composite!B108","v":"DAPK1"},{"$f":"Composite!T108","v":-3.1225636733229862},{"$f":"Composite!G108","v":"CAMK"}]
[347,{"$f":"Composite!B299","v":"PHKG2"},{"$f":"Composite!T299","v":-3.1821408633202708},{"$f":"Composite!G299","v":"CAMK"}]
[348,{"$f":"Composite!B23","v":"AKT1 (PKB)"},{"$f":"Composite!T23","v":-3.3323614265545416},{"$f":"Composite!G23","v":"AGC"}]
[349,{"$f":"Composite!B100","v":"CSNK1A1L (CK1A1L, CK1a2)"},{"$f":"Composite!T100","v":-3.3913730231062544},{"$f":"Composite!G100","v":"CK1"}]
[350,{"$f":"Composite!B323","v":"PRKAA2-B2-G2 (AMPKα2β2γ2)"},{"$f":"Composite!T323","v":-3.4560967707095784},{"$f":"Composite!G323","v":"CAMK"}]
[351,{"$f":"Composite!B130","v":"EPHA3"},{"$f":"Composite!T130","v":-3.5612271654575665},{"$f":"Composite!G130","v":"TK"}]
[352,{"$f":"Composite!B308","v":"PLK1"},{"$f":"Composite!T308","v":-3.5712533725778712},{"$f":"Composite!G308","v":"Other"}]
[353,{"$f":"Composite!B196","v":"LIMK1"},{"$f":"Composite!T196","v":-3.6295915943072998},{"$f":"Composite!G196","v":"TKL"}]
[354,{"$f":"Composite!B361","v":"RPS6KA6 (RSK4)"},{"$f":"Composite!T361","v":-3.6331329628369389},{"$f":"Composite!G361","v":"AGC"}]
[355,{"$f":"Composite!B339","v":"PRKD2 (PKD2)"},{"$f":"Composite!T339","v":-3.7644215422499769},{"$f":"Composite!G339","v":"CAMK"}]
[356,{"$f":"Composite!B302","v":"PIM3"},{"$f":"Composite!T302","v":-4.2942050520058928},{"$f":"Composite!G302","v":"CAMK"}]
[357,{"$f":"Composite!B240","v":"MAPKAPK3 (MK3)"},{"$f":"Composite!T240","v":-4.4978641427255468},{"$f":"Composite!G240","v":"CAMK"}]
[358,{"$f":"Composite!B205","v":"MAP2K3 (MEK3)"},{"$f":"Composite!T205","v":-4.5302000712105297},{"$f":"Composite!G205","v":"STE"}]
[359,{"$f":"Composite!B286","v":"PAK4"},{"$f":"Composite!T286","v":-4.5637518793346175},{"$f":"Composite!G286","v":"STE"}]
[360,{"$f":"Composite!B101","v":"CSNK1D (CK1D, CK1δ)"},{"$f":"Composite!T101","v":-4.8410335222360885},{"$f":"Composite!G101","v":"CK1"}]
[361,{"$f":"Composite!B343","v":"PRKG2 (PKG2, PGK2, CGK2)"},{"$f":"Composite!T343","v":-4.9940967320953007},{"$f":"Composite!G343","v":"AGC"}]
[362,{"$f":"Composite!B103","v":"CSNK1G1 (CK1G1, CK1γ1)"},{"$f":"Composite!T103","v":-5.0385501721244026},{"$f":"Composite!G103","v":"CK1"}]
[363,{"$f":"Composite!B421","v":"YES1 (YES)"},{"$f":"Composite!T421","v":-5.0479635162761411},{"$f":"Composite!G421","v":"TK"}]
[364,{"$f":"Composite!B392","v":"SYK"},{"$f":"Composite!T392","v":-5.0697125018456433},{"$f":"Composite!G392","v":"TK"}]
[365,{"$f":"Composite!B328","v":"PRKCA (PKCα [alpha])"},{"$f":"Composite!T328","v":-5.2223412206542861},{"$f":"Composite!G328","v":"AGC"}]
[366,{"$f":"Composite!B25","v":"AKT3 (PKBg)"},{"$f":"Composite!T25","v":-5.2424457972674361},{"$f":"Composite!G25","v":"AGC"}]
[367,{"$f":"Composite!B65","v":"CDK17 (PCTAIRE2, PCTK2)/p35NCK"},{"$f":"Composite!T65","v":-5.3026018584213688},{"$f":"Composite!G65","v":"CMGC"}]
[368,{"$f":"Composite!B330","v":"PRKCB2 (PKCβ2 [beta2])"},{"$f":"Composite!T330","v":-5.338216810082514},{"$f":"Composite!G330","v":"AGC"}]
[369,{"$f":"Composite!B211","v":"MAP3K13 (LZK)"},{"$f":"Composite!T211","v":-5.6902683478823093},{"$f":"Composite!G211","v":"TKL"}]
[370,{"$f":"Composite!B55","v":"CDC7/DBF4 (CDC7)"},{"$f":"Composite!T55","v":-5.8690542942699437},{"$f":"Composite!G55","v":"Other"}]
[371,{"$f":"Composite!B53","v":"CDC42BPB (MRCKB)"},{"$f":"Composite!T53","v":-6.5538827737844514},{"$f":"Composite!G53","v":"AGC"}]
[372,{"$f":"Composite!B34","v":"BMP2K (BIKE)"},{"$f":"Composite!T34","v":-6.9280611397242353},{"$f":"Composite!G34","v":"Other"}]
[373,{"$f":"Composite!B157","v":"FYNb (FYN)"},{"$f":"Composite!T157","v":-6.9581178041047593},{"$f":"Composite!G157","v":"TK"}]
[374,{"$f":"Composite!B129","v":"EPHA2"},{"$f":"Composite!T129","v":-7.321735276192598},{"$f":"Composite!G129","v":"TK"}]
[375,{"$f":"Composite!B91","v":"CHUK (IKKA, IKKa)"},{"$f":"Composite!T91","v":-7.3830639715481823},{"$f":"Composite!G91","v":"Other"}]
[376,{"$f":"Composite!B290","v":"PBK (TOPK)"},{"$f":"Composite!T290","v":-8.1730225844448512},{"$f":"Composite!G290","v":"Other"}]
[377,{"$f":"Composite!B163","v":"GRK5 (GPRK5)"},{"$f":"Composite!T163","v":-8.2855343492738598},{"$f":"Composite!G163","v":"AGC"}]
[378,{"$f":"Composite!B204","v":"MAP2K2 (MEK2)"},{"$f":"Composite!T204","v":-8.3035495716034262},{"$f":"Composite!G204","v":"STE"}]
[379,{"$f":"Composite!B105","v":"CSNK1G3 (CK1G3, CK1γ3)"},{"$f":"Composite!T105","v":-8.3354382419802846},{"$f":"Composite!G105","v":"CK1"}]
[380,{"$f":"Composite!B41","v":"BUB1"},{"$f":"Composite!T41","v":-8.4121475700391812},{"$f":"Composite!G41","v":"Other"}]
[381,{"$f":"Composite!B104","v":"CSNK1G2 (CK1G2, CK1γ2)"},{"$f":"Composite!T104","v":-8.4608294930875729},{"$f":"Composite!G104","v":"CK1"}]
[382,{"$f":"Composite!B354","v":"ROCK2"},{"$f":"Composite!T354","v":-8.5362237412991533},{"$f":"Composite!G354","v":"AGC"}]
[383,{"$f":"Composite!B111","v":"DCLK1 (DCAMKL1)"},{"$f":"Composite!T111","v":-8.8012025554302653},{"$f":"Composite!G111","v":"CAMK"}]
[384,{"$f":"Composite!B314","v":"PRKAA1-B1-G2 (AMPKα1β1γ2)"},{"$f":"Composite!T314","v":-8.8684502566804895},{"$f":"Composite!G314","v":"CAMK"}]
[385,{"$f":"Composite!B248","v":"MATK (CTK)"},{"$f":"Composite!T248","v":-8.9985328789252748},{"$f":"Composite!G248","v":"TK"}]
[386,{"$f":"Composite!B214","v":"MAP3K2 (MEKK2)"},{"$f":"Composite!T214","v":-9.0392875851231196},{"$f":"Composite!G214","v":"STE"}]
[387,{"$f":"Composite!B377","v":"SRPK2"},{"$f":"Composite!T377","v":-9.586641832500078},{"$f":"Composite!G377","v":"CMGC"}]
[388,{"$f":"Composite!B161","v":"GRK3 (ADRBK2, BARK2)"},{"$f":"Composite!T161","v":-10.09247151130208},{"$f":"Composite!G161","v":"AGC"}]
[389,{"$f":"Composite!B333","v":"PRKCG (PKCγ [gamma])"},{"$f":"Composite!T333","v":-10.124435311577514},{"$f":"Composite!G333","v":"AGC"}]
[390,{"$f":"Composite!B296","v":"PDK4 (PDHK4)"},{"$f":"Composite!T296","v":-10.174161507585509},{"$f":"Composite!G296","v":"Atypical"}]
[391,{"$f":"Composite!B20","v":"AAK1"},{"$f":"Composite!T20","v":-10.917873087975934},{"$f":"Composite!G20","v":"Other"}]
[392,{"$f":"Composite!B365","v":"SGK1 (SGK)"},{"$f":"Composite!T365","v":-11.196653205891735},{"$f":"Composite!G365","v":"AGC"}]
[393,{"$f":"Composite!B122","v":"EEF2K (eEF2K)"},{"$f":"Composite!T122","v":-11.267605633802816},{"$f":"Composite!G122","v":"Atypical"}]
[394,{"$f":"Composite!B266","v":"NEK10"},{"$f":"Composite!T266","v":-12.125411956197695},{"$f":"Composite!G266","v":"Other"}]
[395,{"$f":"Composite!B112","v":"DCLK2 (DCAMKL2)"},{"$f":"Composite!T112","v":-12.785399021829889},{"$f":"Composite!G112","v":"CAMK"}]
[396,{"$f":"Composite!B35","v":"BMX"},{"$f":"Composite!T35","v":-12.841788148791139},{"$f":"Composite!G35","v":"TK"}]
[397,{"$f":"Composite!B247","v":"MASTL"},{"$f":"Composite!T247","v":-13.196894348337395},{"$f":"Composite!G247","v":"AGC"}]
[398,{"$f":"Composite!B300","v":"PIM1"},{"$f":"Composite!T300","v":-14.153172696986132},{"$f":"Composite!G300","v":"CAMK"}]
[399,{"$f":"Composite!B309","v":"PLK2"},{"$f":"Composite!T309","v":-14.74418528841295},{"$f":"Composite!G309","v":"Other"}]
[400,{"$f":"Composite!B90","v":"CHEK2 (CHK2)"},{"$f":"Composite!T90","v":-15.154471544715449},{"$f":"Composite!G90","v":"CAMK"}]
[401,{"$f":"Composite!B415","v":"TYK2 [JH1-JH2]"},{"$f":"Composite!T415","v":-17.885243467933506},{"$f":"Composite!G415","v":"TK"}]
[402,{"$f":"Composite!B352","v":"RIPK3"},{"$f":"Composite!T352","v":-18.076536553462304},{"$f":"Composite!G352","v":"TKL"}]
[403,{"$f":"Composite!B116","v":"DSTYK (RIPK5, SGK496)"},{"$f":"Composite!T116","v":-19.181577520492468},{"$f":"Composite!G116","v":"TKL"}]

{"sheet":"Compound 6 Kinome Tree","index":15,"n_rows":6,"n_cols":27,"rows_kept":6,"cut":false,"hidden":false,"merged":[[1,1,3,20]]}
[]
[null,{"$f":"Summary!AC15","v":"Kinome Hit View for Osimertinib  (1 µM) with 398 Kinases (Coral Names) at 1 mM"}]
[null,null,null,null,null,null,null,null,null,null,null,null,null,null,null,null,null,null,null,null,null,null,null,null,null,null,"Kinome Hit View for VVVVVVVVVVVVVVVVVVVVVVVVVVV (VVVVV µM) with VVV Kinases (Coral Names)"]
[null,null,null,null,null,null,null,null,null,null,null,null,null,null,null,null,null,null,null,null,null,null,null,null,null,null,{"$f":"REPLACE(AA3,65,3,Summary!E15)","v":"Kinome Hit View for VVVVVVVVVVVVVVVVVVVVVVVVVVV (VVVVV µM) with 398 Kinases (Coral Names)"}]
[null,null,null,null,null,null,null,null,null,null,null,null,null,null,null,null,null,null,null,null,null,null,null,null,null,null,{"$f":"REPLACE(AA4,50,5,Summary!D15)","v":"Kinome Hit View for VVVVVVVVVVVVVVVVVVVVVVVVVVV (1 µM) with 398 Kinases (Coral Names)"}]
[null,null,null,null,null,null,null,null,null,null,null,null,null,null,null,null,null,null,null,null,null,null,null,null,null,null,{"$f":"REPLACE(AA5,21,27,Summary!C15)","v":"Kinome Hit View for Osimertinib  (1 µM) with 398 Kinases (Coral Names)"}]

{"sheet":"Compound 7","index":16,"n_rows":405,"n_cols":27,"rows_kept":405,"cut":false,"hidden":false,"merged":[]}
[]
["Panel #","Kinase Target",{"$f":"Summary!AB16","v":"0.09 µM Osimertinib , % inhibition at 1 mM"},{"$f":"Composite!G19","v":"Group"}]
[1,{"$f":"Composite!B140","v":"ERBB2 (HER2)"},{"$f":"Composite!V140","v":59.743357088397836},{"$f":"Composite!G140","v":"TK"},null,null,null,null,null,null,null,null,null,null,null,null,null,null,null,null,null,null,null,null,null,null,"VVVVV μM VVVVVVVVVVVVVVVVVVVVVVVVVVV, % inhibition"]
[2,{"$f":"Composite!B141","v":"ERBB4 (HER4)"},{"$f":"Composite!V141","v":52.449709632390949},{"$f":"Composite!G141","v":"TK"},null,null,null,null,null,null,null,null,null,null,null,null,null,null,null,null,null,null,null,null,null,null,{"$f":"REPLACE(AA3,10,27,Summary!C16)","v":"VVVVV μM Osimertinib , % inhibition"}]
[3,{"$f":"Composite!B123","v":"EGFR (ERBB1)"},{"$f":"Composite!V123","v":48.983443771358537},{"$f":"Composite!G123","v":"TK"},null,null,null,null,null,null,null,null,null,null,null,null,null,null,null,null,null,null,null,null,null,null,{"$f":"REPLACE(AA4,1,5,Summary!D16)","v":"0.09 μM Osimertinib , % inhibition"}]
[4,{"$f":"Composite!B170","v":"HIPK1"},{"$f":"Composite!V170","v":29.611748139207393},{"$f":"Composite!G170","v":"CMGC"}]
[5,{"$f":"Composite!B347","v":"PTK6 (BRK)"},{"$f":"Composite!V347","v":27.328002583814936},{"$f":"Composite!G347","v":"TK"}]
[6,{"$f":"Composite!B165","v":"GRK7 (GPRK7)"},{"$f":"Composite!V165","v":23.538902832556488},{"$f":"Composite!G165","v":"AGC"}]
[7,{"$f":"Composite!B293","v":"PDK1 (PDHK1)"},{"$f":"Composite!V293","v":23.205088715858523},{"$f":"Composite!G293","v":"Atypical"}]
[8,{"$f":"Composite!B115","v":"DMPK (DMPK1)"},{"$f":"Composite!V115","v":21.785060854347307},{"$f":"Composite!G115","v":"AGC"}]
[9,{"$f":"Composite!B51","v":"CAMKK2"},{"$f":"Composite!V51","v":18.501323473803623},{"$f":"Composite!G51","v":"Other"}]
[10,{"$f":"Composite!B38","v":"BRSK1"},{"$f":"Composite!V38","v":17.81750716815651},{"$f":"Composite!G38","v":"CAMK"}]
[11,{"$f":"Composite!B50","v":"CAMKK1"},{"$f":"Composite!V50","v":16.479151359294647},{"$f":"Composite!G50","v":"Other"}]
[12,{"$f":"Composite!B87","v":"CDK9 (TAK)/CycT2"},{"$f":"Composite!V87","v":16.373363367591196},{"$f":"Composite!G87","v":"CMGC"}]
[13,{"$f":"Composite!B273","v":"NEK7"},{"$f":"Composite!V273","v":16.247210834933313},{"$f":"Composite!G273","v":"Other"}]
[14,{"$f":"Composite!B409","v":"TSSK6 (SSTK)"},{"$f":"Composite!V409","v":16.116826297741525},{"$f":"Composite!G409","v":"CAMK"}]
[15,{"$f":"Composite!B46","v":"CAMK2B (CAMK2β)"},{"$f":"Composite!V46","v":16.092697720521215},{"$f":"Composite!G46","v":"CAMK"}]
[16,{"$f":"Composite!B391","v":"STK4 (MST1)"},{"$f":"Composite!V391","v":14.858540414867605},{"$f":"Composite!G391","v":"STE"}]
[17,{"$f":"Composite!B370","v":"SIK3 (QSK)"},{"$f":"Composite!V370","v":14.741636462777038},{"$f":"Composite!G370","v":"CAMK"}]
[18,{"$f":"Composite!B48","v":"CAMK2G (CAMK2γ)"},{"$f":"Composite!V48","v":14.581343076079492},{"$f":"Composite!G48","v":"CAMK"}]
[19,{"$f":"Composite!B403","v":"TNK1"},{"$f":"Composite!V403","v":14.433544434786214},{"$f":"Composite!G403","v":"TK"}]
[20,{"$f":"Composite!B57","v":"CDK1 (CDC2)/CycA2 "},{"$f":"Composite!V57","v":13.833927992215379},{"$f":"Composite!G57","v":"CMGC"}]
[21,{"$f":"Composite!B180","v":"INSRR (IRR)"},{"$f":"Composite!V180","v":13.789111596216173},{"$f":"Composite!G180","v":"TK"}]
[22,{"$f":"Composite!B80","v":"CDK6/CycD1"},{"$f":"Composite!V80","v":13.740690736466178},{"$f":"Composite!G80","v":"CMGC"}]
[23,{"$f":"Composite!B288","v":"PAK6"},{"$f":"Composite!V288","v":13.402496428655056},{"$f":"Composite!G288","v":"STE"}]
[24,{"$f":"Composite!B162","v":"GRK4 (GPRK4)"},{"$f":"Composite!V162","v":13.240202155049104},{"$f":"Composite!G162","v":"AGC"}]
[25,{"$f":"Composite!B353","v":"ROCK1"},{"$f":"Composite!V353","v":12.666519872288845},{"$f":"Composite!G353","v":"AGC"}]
[26,{"$f":"Composite!B144","v":"FAM20C"},{"$f":"Composite!V144","v":12.586215262614289},{"$f":"Composite!G144","v":"Other"}]
[27,{"$f":"Composite!B47","v":"CAMK2D (CAMK2δ)"},{"$f":"Composite!V47","v":12.501827280099363},{"$f":"Composite!G47","v":"CAMK"}]
[28,{"$f":"Composite!B96","v":"CLK4"},{"$f":"Composite!V96","v":11.857000993048658},{"$f":"Composite!G96","v":"CMGC"}]
[29,{"$f":"Composite!B358","v":"RPS6KA3 (RSK2)"},{"$f":"Composite!V358","v":11.747379957531365},{"$f":"Composite!G358","v":"AGC"}]
[30,{"$f":"Composite!B276","v":"NIM1 (NIM1K)"},{"$f":"Composite!V276","v":11.730907906673792},{"$f":"Composite!G276","v":"CAMK"}]
[31,{"$f":"Composite!B262","v":"MYLK4 (SgK085)"},{"$f":"Composite!V262","v":11.712199080335395},{"$f":"Composite!G262","v":"CAMK"}]
[32,{"$f":"Composite!B271","v":"NEK5"},{"$f":"Composite!V271","v":11.63263857673472},{"$f":"Composite!G271","v":"Other"}]
[33,{"$f":"Composite!B256","v":"MST1R (RON)"},{"$f":"Composite!V256","v":10.790712853746101},{"$f":"Composite!G256","v":"TK"}]
[34,{"$f":"Composite!B413","v":"TXK"},{"$f":"Composite!V413","v":10.494761542783493},{"$f":"Composite!G413","v":"TK"}]
[35,{"$f":"Composite!B199","v":"LTK"},{"$f":"Composite!V199","v":10.472043132375674},{"$f":"Composite!G199","v":"TK"}]
[36,{"$f":"Composite!B254","v":"MNK1"},{"$f":"Composite!V254","v":10.289637755504685},{"$f":"Composite!G254","v":"CAMK"}]
[37,{"$f":"Composite!B367","v":"SGK3"},{"$f":"Composite!V367","v":9.9968877107502863},{"$f":"Composite!G367","v":"AGC"}]
[38,{"$f":"Composite!B387","v":"STK3 (CLIK1, MST2)"},{"$f":"Composite!V387","v":9.9055066797002382},{"$f":"Composite!G387","v":"STE"}]
[39,{"$f":"Composite!B382","v":"STK17A (DRAK1)"},{"$f":"Composite!V382","v":9.8676241564284624},{"$f":"Composite!G382","v":"CAMK"}]
[40,{"$f":"Composite!B24","v":"AKT2 (PKBb)"},{"$f":"Composite!V24","v":9.5793932230102428},{"$f":"Composite!G24","v":"AGC"}]
[41,{"$f":"Composite!B306","v":"PKN2"},{"$f":"Composite!V306","v":9.5247684252920237},{"$f":"Composite!G306","v":"AGC"}]
[42,{"$f":"Composite!B78","v":"CDK5/p25"},{"$f":"Composite!V78","v":9.3099500416319643},{"$f":"Composite!G78","v":"CMGC"}]
[43,{"$f":"Composite!B169","v":"HCK"},{"$f":"Composite!V169","v":9.1990344524906646},{"$f":"Composite!G169","v":"TK"}]
[44,{"$f":"Composite!B376","v":"SRPK1"},{"$f":"Composite!V376","v":9.0814287717330302},{"$f":"Composite!G376","v":"CMGC"}]
[45,{"$f":"Composite!B285","v":"PAK3"},{"$f":"Composite!V285","v":8.9288838895138127},{"$f":"Composite!G285","v":"STE"}]
[46,{"$f":"Composite!B174","v":"HUNK"},{"$f":"Composite!V174","v":8.8839509486239336},{"$f":"Composite!G174","v":"CAMK"}]
[47,{"$f":"Composite!B73","v":"CDK3/CycE1"},{"$f":"Composite!V73","v":8.8465127128527854},{"$f":"Composite!G73","v":"CMGC"}]
[48,{"$f":"Composite!B360","v":"RPS6KA5 (MSK1)"},{"$f":"Composite!V360","v":8.749546937296131},{"$f":"Composite!G360","v":"AGC"}]
[49,{"$f":"Composite!B218","v":"MAP3K6 (ASK2)"},{"$f":"Composite!V218","v":8.6210816304696891},{"$f":"Composite!G218","v":"STE"}]
[50,{"$f":"Composite!B418","v":"ULK2"},{"$f":"Composite!V418","v":8.618318851782746},{"$f":"Composite!G418","v":"Other"}]
[51,{"$f":"Composite!B124","v":"EIF2AK1 (HRI)"},{"$f":"Composite!V124","v":8.4642928187786026},{"$f":"Composite!G124","v":"Other"}]
[52,{"$f":"Composite!B68","v":"CDK2/CycA2"},{"$f":"Composite!V68","v":8.3982767800958413},{"$f":"Composite!G68","v":"CMGC"}]
[53,{"$f":"Composite!B289","v":"PASK"},{"$f":"Composite!V289","v":8.377949267067919},{"$f":"Composite!G289","v":"CAMK"}]
[54,{"$f":"Composite!B258","v":"MUSK"},{"$f":"Composite!V258","v":8.3444500268533233},{"$f":"Composite!G258","v":"TK"}]
[55,{"$f":"Composite!B279","v":"NTRK2 (TRKB)"},{"$f":"Composite!V279","v":8.3379757827989209},{"$f":"Composite!G279","v":"TK"}]
[56,{"$f":"Composite!B43","v":"CAMK1D (CAMK1δ)"},{"$f":"Composite!V43","v":8.2792360523097273},{"$f":"Composite!G43","v":"CAMK"}]
[57,{"$f":"Composite!B31","v":"BCKDK"},{"$f":"Composite!V31","v":8.2734271980942822},{"$f":"Composite!G31","v":"Atypical"}]
[58,{"$f":"Composite!B82","v":"CDK6/CycD3"},{"$f":"Composite!V82","v":8.2507862790629218},{"$f":"Composite!G82","v":"CMGC"}]
[59,{"$f":"Composite!B386","v":"STK26 (MST4)"},{"$f":"Composite!V386","v":8.2344130129375657},{"$f":"Composite!G386","v":"STE"}]
[60,{"$f":"Composite!B179","v":"INSR (IR)"},{"$f":"Composite!V179","v":8.2257122460899552},{"$f":"Composite!G179","v":"TK"}]
[61,{"$f":"Composite!B28","v":"AURKB (AURB)"},{"$f":"Composite!V28","v":8.1938759649759021},{"$f":"Composite!G28","v":"Other"}]
[62,{"$f":"Composite!B156","v":"FYNa (FYN)"},{"$f":"Composite!V156","v":8.0655779558130263},{"$f":"Composite!G156","v":"TK"}]
[63,{"$f":"Composite!B178","v":"IKKE (IKKe)"},{"$f":"Composite!V178","v":7.8946460008975237},{"$f":"Composite!G178","v":"Other"}]
[64,{"$f":"Composite!B70","v":"CDK2/CycE1"},{"$f":"Composite!V70","v":7.8191263782866685},{"$f":"Composite!G70","v":"CMGC"}]
[65,{"$f":"Composite!B341","v":"PRKDC (DNA-PK)"},{"$f":"Composite!V341","v":7.7064986908376483},{"$f":"Composite!G341","v":"Atypical"}]
[66,{"$f":"Composite!B243","v":"MARK2"},{"$f":"Composite!V243","v":7.5749751737834998},{"$f":"Composite!G243","v":"CAMK"}]
[67,{"$f":"Composite!B388","v":"STK33"},{"$f":"Composite!V388","v":7.4474235744742003},{"$f":"Composite!G388","v":"CAMK"}]
[68,{"$f":"Composite!B137","v":"EPHB2"},{"$f":"Composite!V137","v":7.4096446189469418},{"$f":"Composite!G137","v":"TK"}]
[69,{"$f":"Composite!B348","v":"RAF1 [Y340E/Y341E]"},{"$f":"Composite!V348","v":7.3685669920142232},{"$f":"Composite!G348","v":"TKL"}]
[70,{"$f":"Composite!B225","v":"MAP4K4 (HGK, ZC1)"},{"$f":"Composite!V225","v":7.3433895297249308},{"$f":"Composite!G225","v":"STE"}]
[71,{"$f":"Composite!B363","v":"RPS6KB2 (p70S6KB)"},{"$f":"Composite!V363","v":7.314217084521843},{"$f":"Composite!G363","v":"AGC"}]
[72,{"$f":"Composite!B216","v":"MAP3K3 (MEKK3)"},{"$f":"Composite!V216","v":7.1558107903884007},{"$f":"Composite!G216","v":"STE"}]
[73,{"$f":"Composite!B201","v":"LYNB (LYNb)"},{"$f":"Composite!V201","v":7.0729831473560694},{"$f":"Composite!G201","v":"TK"}]
[74,{"$f":"Composite!B237","v":"MAPK8 (JNK1)"},{"$f":"Composite!V237","v":7.0580522980552161},{"$f":"Composite!G237","v":"CMGC"}]
[75,{"$f":"Composite!B168","v":"HASPIN"},{"$f":"Composite!V168","v":6.9750868095043188},{"$f":"Composite!G168","v":"Other"}]
[76,{"$f":"Composite!B260","v":"MYLK2 (skMLCK)"},{"$f":"Composite!V260","v":6.9092521229069348},{"$f":"Composite!G260","v":"CAMK"}]
[77,{"$f":"Composite!B407","v":"TSSK2"},{"$f":"Composite!V407","v":6.8874172185430353},{"$f":"Composite!G407","v":"CAMK"}]
[78,{"$f":"Composite!B362","v":"RPS6KB1 (p70S6K)"},{"$f":"Composite!V362","v":6.8805606128267698},{"$f":"Composite!G362","v":"AGC"}]
[79,{"$f":"Composite!B40","v":"BTK"},{"$f":"Composite!V40","v":6.8643519841210008},{"$f":"Composite!G40","v":"TK"}]
[80,{"$f":"Composite!B272","v":"NEK6"},{"$f":"Composite!V272","v":6.7788106052603894},{"$f":"Composite!G272","v":"Other"}]
[81,{"$f":"Composite!B385","v":"STK25 (YSK1)"},{"$f":"Composite!V385","v":6.7178580043419061},{"$f":"Composite!G385","v":"STE"}]
[82,{"$f":"Composite!B397","v":"TEC"},{"$f":"Composite!V397","v":6.7040292800888892},{"$f":"Composite!G397","v":"TK"}]
[83,{"$f":"Composite!B146","v":"FES"},{"$f":"Composite!V146","v":6.6675075681130238},{"$f":"Composite!G146","v":"TK"}]
[84,{"$f":"Composite!B79","v":"CDK5/p35NCK"},{"$f":"Composite!V79","v":6.6309034733303776},{"$f":"Composite!G79","v":"CMGC"}]
[85,{"$f":"Composite!B152","v":"FLT1"},{"$f":"Composite!V152","v":6.6280262902465097},{"$f":"Composite!G152","v":"TK"}]
[86,{"$f":"Composite!B150","v":"FGFR4"},{"$f":"Composite!V150","v":6.6003978683796873},{"$f":"Composite!G150","v":"TK"}]
[87,{"$f":"Composite!B208","v":"MAP3K10 (MLK2)"},{"$f":"Composite!V208","v":6.5750845976290151},{"$f":"Composite!G208","v":"TKL"}]
[88,{"$f":"Composite!B149","v":"FGFR3"},{"$f":"Composite!V149","v":6.4518254909714017},{"$f":"Composite!G149","v":"TK"}]
[89,{"$f":"Composite!B228","v":"MAPK10 (JNK3)"},{"$f":"Composite!V228","v":6.4478038624675662},{"$f":"Composite!G228","v":"CMGC"}]
[90,{"$f":"Composite!B26","v":"ALK"},{"$f":"Composite!V26","v":6.4040702035101731},{"$f":"Composite!G26","v":"TK"}]
[91,{"$f":"Composite!B83","v":"CDK7/CycH/MAT1"},{"$f":"Composite!V83","v":6.391244130662443},{"$f":"Composite!G83","v":"CMGC"}]
[92,{"$f":"Composite!B281","v":"NUAK1 (ARK5)"},{"$f":"Composite!V281","v":6.3908270743522451},{"$f":"Composite!G281","v":"CAMK"}]
[93,{"$f":"Composite!B97","v":"CSF1R (FMS)"},{"$f":"Composite!V97","v":6.3729904769204211},{"$f":"Composite!G97","v":"TK"}]
[94,{"$f":"Composite!B404","v":"TNK2 (ACK)"},{"$f":"Composite!V404","v":6.3435641533939133},{"$f":"Composite!G404","v":"TK"}]
[95,{"$f":"Composite!B107","v":"CSNK2A2 (CK2A2, CK2α2)"},{"$f":"Composite!V107","v":6.2851102134256251},{"$f":"Composite!G107","v":"Other"}]
[96,{"$f":"Composite!B223","v":"MAP4K2 (GCK)"},{"$f":"Composite!V223","v":6.1947882916562946},{"$f":"Composite!G223","v":"STE"}]
[97,{"$f":"Composite!B188","v":"JAK3 [JH1]"},{"$f":"Composite!V188","v":6.1436664380045301},{"$f":"Composite!G188","v":"TK"}]
[98,{"$f":"Composite!B301","v":"PIM2"},{"$f":"Composite!V301","v":6.1050393155630189},{"$f":"Composite!G301","v":"CAMK"}]
[99,{"$f":"Composite!B33","v":"BLK"},{"$f":"Composite!V33","v":6.0096202024250829},{"$f":"Composite!G33","v":"TK"}]
[100,{"$f":"Composite!B142","v":"ERN1 (IRE1)"},{"$f":"Composite!V142","v":5.9728494477392928},{"$f":"Composite!G142","v":"Other"}]
[101,{"$f":"Composite!B383","v":"STK17B (DRAK2)"},{"$f":"Composite!V383","v":5.9653597729049039},{"$f":"Composite!G383","v":"CAMK"}]
[102,{"$f":"Composite!B27","v":"AURKA (AURA)"},{"$f":"Composite!V27","v":5.8425894016912849},{"$f":"Composite!G27","v":"Other"}]
[103,{"$f":"Composite!B58","v":"CDK1 (CDC2)/CycB1 "},{"$f":"Composite!V58","v":5.7774986715617729},{"$f":"Composite!G58","v":"CMGC"}]
[104,{"$f":"Composite!B94","v":"CLK2"},{"$f":"Composite!V94","v":5.7702901211898734},{"$f":"Composite!G94","v":"CMGC"}]
[105,{"$f":"Composite!B49","v":"CAMK4"},{"$f":"Composite!V49","v":5.7401910693721163},{"$f":"Composite!G49","v":"CAMK"}]
[106,{"$f":"Composite!B298","v":"PHKG1"},{"$f":"Composite!V298","v":5.620272097103566},{"$f":"Composite!G298","v":"CAMK"}]
[107,{"$f":"Composite!B121","v":"DYRK4"},{"$f":"Composite!V121","v":5.4120239990204482},{"$f":"Composite!G121","v":"CMGC"}]
[108,{"$f":"Composite!B294","v":"PDK2 (PDHK2)"},{"$f":"Composite!V294","v":5.3947514118037674},{"$f":"Composite!G294","v":"Atypical"}]
[109,{"$f":"Composite!B89","v":"CHEK1 (CHK1)"},{"$f":"Composite!V89","v":5.308746707148245},{"$f":"Composite!G89","v":"CAMK"}]
[110,{"$f":"Composite!B95","v":"CLK3"},{"$f":"Composite!V95","v":5.2985161817969413},{"$f":"Composite!G95","v":"CMGC"}]
[111,{"$f":"Composite!B41","v":"BUB1"},{"$f":"Composite!V41","v":5.2754650660550055},{"$f":"Composite!G41","v":"Other"}]
[112,{"$f":"Composite!B217","v":"MAP3K5 (ASK1)"},{"$f":"Composite!V217","v":5.2219183845183039},{"$f":"Composite!G217","v":"STE"}]
[113,{"$f":"Composite!B167","v":"GSK3B (GSK3β)"},{"$f":"Composite!V167","v":5.2182043766745068},{"$f":"Composite!G167","v":"CMGC"}]
[114,{"$f":"Composite!B110","v":"DAPK3 (ZIPK)"},{"$f":"Composite!V110","v":5.1669185153204467},{"$f":"Composite!G110","v":"CAMK"}]
[115,{"$f":"Composite!B422","v":"ZAP70"},{"$f":"Composite!V422","v":5.1559112301916059},{"$f":"Composite!G422","v":"TK"}]
[116,{"$f":"Composite!B203","v":"MAP2K1 (MEK1)"},{"$f":"Composite!V203","v":5.1506498358730681},{"$f":"Composite!G203","v":"STE"}]
[117,{"$f":"Composite!B355","v":"ROS1 (ROS)"},{"$f":"Composite!V355","v":5.1205293169650901},{"$f":"Composite!G355","v":"TK"}]
[118,{"$f":"Composite!B292","v":"PDGFRB (PDGFRβ)"},{"$f":"Composite!V292","v":5.0623947994660199},{"$f":"Composite!G292","v":"TK"}]
[119,{"$f":"Composite!B45","v":"CAMK2A (CAMK2α)"},{"$f":"Composite!V45","v":5.0371989349084885},{"$f":"Composite!G45","v":"CAMK"}]
[120,{"$f":"Composite!B234","v":"MAPK3 (ERK1)"},{"$f":"Composite!V234","v":5.0067863067410769},{"$f":"Composite!G234","v":"CAMK"}]
[121,{"$f":"Composite!B172","v":"HIPK3"},{"$f":"Composite!V172","v":4.9910649904379625},{"$f":"Composite!G172","v":"CMGC"}]
[122,{"$f":"Composite!B147","v":"FGFR1"},{"$f":"Composite!V147","v":4.9632352941176521},{"$f":"Composite!G147","v":"TK"}]
[123,{"$f":"Composite!B226","v":"MAP4K5 (KHS1)"},{"$f":"Composite!V226","v":4.9514763576295877},{"$f":"Composite!G226","v":"STE"}]
[124,{"$f":"Composite!B166","v":"GSK3A (GSK3α)"},{"$f":"Composite!V166","v":4.9022190994788986},{"$f":"Composite!G166","v":"CMGC"}]
[125,{"$f":"Composite!B374","v":"SRC N1"},{"$f":"Composite!V374","v":4.8824985328264319},{"$f":"Composite!G374","v":"TK"}]
[126,{"$f":"Composite!B86","v":"CDK9 (TAK)/CycT1"},{"$f":"Composite!V86","v":4.8733433987585926},{"$f":"Composite!G86","v":"CMGC"}]
[127,{"$f":"Composite!B222","v":"MAP4K1 (HPK1)"},{"$f":"Composite!V222","v":4.8694359260291691},{"$f":"Composite!G222","v":"STE"}]
[128,{"$f":"Composite!B189","v":"KDR (VEGFR2)"},{"$f":"Composite!V189","v":4.827223908475375},{"$f":"Composite!G189","v":"TK"}]
[129,{"$f":"Composite!B249","v":"MELK"},{"$f":"Composite!V249","v":4.7918683446272894},{"$f":"Composite!G249","v":"CAMK"}]
[130,{"$f":"Composite!B364","v":"SBK1 (SBK)"},{"$f":"Composite!V364","v":4.7883061185380171},{"$f":"Composite!G364","v":"Other"}]
[131,{"$f":"Composite!B233","v":"MAPK15 (ERK7)"},{"$f":"Composite!V233","v":4.7009141955543043},{"$f":"Composite!G233","v":"CMGC"}]
[132,{"$f":"Composite!B380","v":"STK11 (LKB1, AMPKK)"},{"$f":"Composite!V380","v":4.6870045690107531},{"$f":"Composite!G380","v":"CAMK"}]
[133,{"$f":"Composite!B253","v":"MLK4 (MAP3K21)"},{"$f":"Composite!V253","v":4.662166863822975},{"$f":"Composite!G253","v":"STE"}]
[134,{"$f":"Composite!B220","v":"MAP3K8 (COT, Tpl2)"},{"$f":"Composite!V220","v":4.6368670676452695},{"$f":"Composite!G220","v":"STE"}]
[135,{"$f":"Composite!B215","v":"MAP3K20 (MLK7, ZAK)"},{"$f":"Composite!V215","v":4.6209075244112512},{"$f":"Composite!G215","v":"TKL"}]
[136,{"$f":"Composite!B278","v":"NTRK1 (TRKA)"},{"$f":"Composite!V278","v":4.6149778570956528},{"$f":"Composite!G278","v":"TK"}]
[137,{"$f":"Composite!B145","v":"FER"},{"$f":"Composite!V145","v":4.4799344799344709},{"$f":"Composite!G145","v":"TK"}]
[138,{"$f":"Composite!B408","v":"TSSK3"},{"$f":"Composite!V408","v":4.473853569623742},{"$f":"Composite!G408","v":"CAMK"}]
[139,{"$f":"Composite!B67","v":"CDK2/CycA1"},{"$f":"Composite!V67","v":4.421773909851467},{"$f":"Composite!G67","v":"CMGC"}]
[140,{"$f":"Composite!B267","v":"NEK11"},{"$f":"Composite!V267","v":4.3537990066575105},{"$f":"Composite!G267","v":"Other"}]
[141,{"$f":"Composite!B340","v":"PRKD3 (PKD3)"},{"$f":"Composite!V340","v":4.2637130453442467},{"$f":"Composite!G340","v":"CAMK"}]
[142,{"$f":"Composite!B310","v":"PLK3"},{"$f":"Composite!V310","v":4.232417415559695},{"$f":"Composite!G310","v":"Other"}]
[143,{"$f":"Composite!B64","v":"CDK17 (PCTAIRE2, PCTK2)/CycY"},{"$f":"Composite!V64","v":4.2090801224005503},{"$f":"Composite!G64","v":"CMGC"}]
[144,{"$f":"Composite!B113","v":"DDR1 [SRC treated]"},{"$f":"Composite!V113","v":4.1783421906273901},{"$f":"Composite!G113","v":"TK"}]
[145,{"$f":"Composite!B42","v":"CAMK1 (CAMK1a)"},{"$f":"Composite!V42","v":4.1474017720632759},{"$f":"Composite!G42","v":"CAMK"}]
[146,{"$f":"Composite!B153","v":"FLT3"},{"$f":"Composite!V153","v":4.1455682268504148},{"$f":"Composite!G153","v":"TK"}]
[147,{"$f":"Composite!B164","v":"GRK6 (GPRK6)"},{"$f":"Composite!V164","v":4.0582587205769016},{"$f":"Composite!G164","v":"AGC"}]
[148,{"$f":"Composite!B213","v":"MAP3K19 (YSK4)"},{"$f":"Composite!V213","v":3.8092719790403606},{"$f":"Composite!G213","v":"STE"}]
[149,{"$f":"Composite!B311","v":"PLK4"},{"$f":"Composite!V311","v":3.7510346964350987},{"$f":"Composite!G311","v":"Other"}]
[150,{"$f":"Composite!B406","v":"TSSK1B (TSSK1)"},{"$f":"Composite!V406","v":3.649635036496349},{"$f":"Composite!G406","v":"CAMK"}]
[151,{"$f":"Composite!B392","v":"SYK"},{"$f":"Composite!V392","v":3.5889809951696918},{"$f":"Composite!G392","v":"TK"}]
[152,{"$f":"Composite!B210","v":"MAP3K12 (DLK)"},{"$f":"Composite!V210","v":3.5712671217395382},{"$f":"Composite!G210","v":"TKL"}]
[153,{"$f":"Composite!B183","v":"ITK"},{"$f":"Composite!V183","v":3.4737984802131479},{"$f":"Composite!G183","v":"TK"}]
[154,{"$f":"Composite!B366","v":"SGK2"},{"$f":"Composite!V366","v":3.4634376145028369},{"$f":"Composite!G366","v":"AGC"}]
[155,{"$f":"Composite!B30","v":"AXL"},{"$f":"Composite!V30","v":3.4332739785360218},{"$f":"Composite!G30","v":"TK"}]
[156,{"$f":"Composite!B384","v":"STK24 (MST3)"},{"$f":"Composite!V384","v":3.4094267576162451},{"$f":"Composite!G384","v":"STE"}]
[157,{"$f":"Composite!B35","v":"BMX"},{"$f":"Composite!V35","v":3.3968189129158333},{"$f":"Composite!G35","v":"TK"}]
[158,{"$f":"Composite!B252","v":"MINK1 (MAP4K6, MINK, ZC3)"},{"$f":"Composite!V252","v":3.3804704905033276},{"$f":"Composite!G252","v":"STE"}]
[159,{"$f":"Composite!B200","v":"LYNA (LYNa)"},{"$f":"Composite!V200","v":3.3472080550162957},{"$f":"Composite!G200","v":"TK"}]
[160,{"$f":"Composite!B187","v":"JAK2 [JH1-JH2]"},{"$f":"Composite!V187","v":3.3392777530093696},{"$f":"Composite!G187","v":"TK"}]
[161,{"$f":"Composite!B232","v":"MAPK14 (p38a)"},{"$f":"Composite!V232","v":3.3000391696043607},{"$f":"Composite!G232","v":"CMGC"}]
[162,{"$f":"Composite!B193","v":"LATS1"},{"$f":"Composite!V193","v":3.2484248552858048},{"$f":"Composite!G193","v":"AGC"}]
[163,{"$f":"Composite!B417","v":"ULK1"},{"$f":"Composite!V417","v":3.2178217821781772},{"$f":"Composite!G417","v":"Other"}]
[164,{"$f":"Composite!B277","v":"NLK (LAK1)"},{"$f":"Composite!V277","v":3.2171238144065342},{"$f":"Composite!G277","v":"CMGC"}]
[165,{"$f":"Composite!B322","v":"PRKAA2-B2-G1 (AMPKα2β2γ1)"},{"$f":"Composite!V322","v":3.1978962927481689},{"$f":"Composite!G322","v":"CAMK"}]
[166,{"$f":"Composite!B239","v":"MAPKAPK2 (MK2)"},{"$f":"Composite!V239","v":3.1936270991818674},{"$f":"Composite!G239","v":"CAMK"}]
[167,{"$f":"Composite!B268","v":"NEK2"},{"$f":"Composite!V268","v":3.080249381728791},{"$f":"Composite!G268","v":"Other"}]
[168,{"$f":"Composite!B356","v":"RPS6KA1 (RSK1)"},{"$f":"Composite!V356","v":3.0769532860761615},{"$f":"Composite!G356","v":"AGC"}]
[169,{"$f":"Composite!B327","v":"PRKACG (PKACG, PKACg)"},{"$f":"Composite!V327","v":3.0570287825516829},{"$f":"Composite!G327","v":"AGC"}]
[170,{"$f":"Composite!B155","v":"FRK"},{"$f":"Composite!V155","v":3.0544104119110358},{"$f":"Composite!G155","v":"TK"}]
[171,{"$f":"Composite!B182","v":"IRAK4"},{"$f":"Composite!V182","v":2.9692231696054705},{"$f":"Composite!G182","v":"TKL"}]
[172,{"$f":"Composite!B135","v":"EPHA8"},{"$f":"Composite!V135","v":2.9146666666666761},{"$f":"Composite!G135","v":"TK"}]
[173,{"$f":"Composite!B151","v":"FGR"},{"$f":"Composite!V151","v":2.9136605526296933},{"$f":"Composite!G151","v":"TK"}]
[174,{"$f":"Composite!B230","v":"MAPK12 (p38γ)"},{"$f":"Composite!V230","v":2.8601563469413236},{"$f":"Composite!G230","v":"CMGC"}]
[175,{"$f":"Composite!B128","v":"EPHA1"},{"$f":"Composite!V128","v":2.7596734357848618},{"$f":"Composite!G128","v":"TK"}]
[176,{"$f":"Composite!B255","v":"MNK2"},{"$f":"Composite!V255","v":2.7513227513227747},{"$f":"Composite!G255","v":"CAMK"}]
[177,{"$f":"Composite!B22","v":"ABL2 (ARG)"},{"$f":"Composite!V22","v":2.6979152473088845},{"$f":"Composite!G22","v":"TK"}]
[178,{"$f":"Composite!B238","v":"MAPK9 (JNK2)"},{"$f":"Composite!V238","v":2.683162842134351},{"$f":"Composite!G238","v":"CMGC"}]
[179,{"$f":"Composite!B263","v":"MYO3A"},{"$f":"Composite!V263","v":2.6381180851444697},{"$f":"Composite!G263","v":"STE"}]
[180,{"$f":"Composite!B224","v":"MAP4K3 (GLK, KHS2)"},{"$f":"Composite!V224","v":2.5719325812715823},{"$f":"Composite!G224","v":"STE"}]
[181,{"$f":"Composite!B373","v":"SRC"},{"$f":"Composite!V373","v":2.5706804430132877},{"$f":"Composite!G373","v":"TK"}]
[182,{"$f":"Composite!B126","v":"EIF2AK3 (PERK/PEK)"},{"$f":"Composite!V126","v":2.5629180097225088},{"$f":"Composite!G126","v":"Other"}]
[183,{"$f":"Composite!B402","v":"TNIK (ZC2)"},{"$f":"Composite!V402","v":2.5603141948756445},{"$f":"Composite!G402","v":"STE"}]
[184,{"$f":"Composite!B357","v":"RPS6KA2 (RSK3)"},{"$f":"Composite!V357","v":2.5477890788429676},{"$f":"Composite!G357","v":"AGC"}]
[185,{"$f":"Composite!B56","v":"CDK1 (CDC2)/CycA1 "},{"$f":"Composite!V56","v":2.5058086753142987},{"$f":"Composite!G56","v":"CMGC"}]
[186,{"$f":"Composite!B209","v":"MAP3K11 (MLK3)"},{"$f":"Composite!V209","v":2.5024226187083087},{"$f":"Composite!G209","v":"TKL"}]
[187,{"$f":"Composite!B307","v":"PKN3"},{"$f":"Composite!V307","v":2.4874834025654451},{"$f":"Composite!G307","v":"AGC"}]
[188,{"$f":"Composite!B84","v":"CDK7/CycH1"},{"$f":"Composite!V84","v":2.4783822427997819},{"$f":"Composite!G84","v":"CMGC"}]
[189,{"$f":"Composite!B63","v":"CDK16 (PCTAIRE1, PCTK1)/CycY "},{"$f":"Composite!V63","v":2.3975161079466005},{"$f":"Composite!G63","v":"CMGC"}]
[190,{"$f":"Composite!B148","v":"FGFR2"},{"$f":"Composite!V148","v":2.3940264805501528},{"$f":"Composite!G148","v":"TK"}]
[191,{"$f":"Composite!B304","v":"PKMYT1 (MYT1)"},{"$f":"Composite!V304","v":2.2976070847694814},{"$f":"Composite!G304","v":"Other"}]
[192,{"$f":"Composite!B112","v":"DCLK2 (DCAMKL2)"},{"$f":"Composite!V112","v":2.2593343671716468},{"$f":"Composite!G112","v":"CAMK"}]
[193,{"$f":"Composite!B90","v":"CHEK2 (CHK2)"},{"$f":"Composite!V90","v":2.2317073170731732},{"$f":"Composite!G90","v":"CAMK"}]
[194,{"$f":"Composite!B176","v":"IGF1R"},{"$f":"Composite!V176","v":2.2039706925076814},{"$f":"Composite!G176","v":"TK"}]
[195,{"$f":"Composite!B114","v":"DDR2"},{"$f":"Composite!V114","v":2.1836551125959858},{"$f":"Composite!G114","v":"TK"}]
[196,{"$f":"Composite!B23","v":"AKT1 (PKB)"},{"$f":"Composite!V23","v":2.1622368178748985},{"$f":"Composite!G23","v":"AGC"}]
[197,{"$f":"Composite!B202","v":"MAK"},{"$f":"Composite!V202","v":2.1582661894955919},{"$f":"Composite!G202","v":"Atypical"}]
[198,{"$f":"Composite!B359","v":"RPS6KA4 (MSK2)"},{"$f":"Composite!V359","v":2.1514428698377088},{"$f":"Composite!G359","v":"AGC"}]
[199,{"$f":"Composite!B265","v":"NEK1"},{"$f":"Composite!V265","v":2.1204986684163742},{"$f":"Composite!G265","v":"Other"}]
[200,{"$f":"Composite!B261","v":"MYLK3 (caMLCK)"},{"$f":"Composite!V261","v":2.0944548646179015},{"$f":"Composite!G261","v":"CAMK"}]
[201,{"$f":"Composite!B246","v":"MAST3"},{"$f":"Composite!V246","v":2.0275415661885603},{"$f":"Composite!G246","v":"AGC"}]
[202,{"$f":"Composite!B229","v":"MAPK11 (p38b)"},{"$f":"Composite!V229","v":2.0095610771633119},{"$f":"Composite!G229","v":"CMGC"}]
[203,{"$f":"Composite!B257","v":"mTOR (FRAP)"},{"$f":"Composite!V257","v":1.9935489651465161},{"$f":"Composite!G257","v":"Atypical"}]
[204,{"$f":"Composite!B118","v":"DYRK1B"},{"$f":"Composite!V118","v":1.8530823733192108},{"$f":"Composite!G118","v":"CMGC"}]
[205,{"$f":"Composite!B283","v":"PAK1"},{"$f":"Composite!V283","v":1.8478682797437926},{"$f":"Composite!G283","v":"STE"}]
[206,{"$f":"Composite!B338","v":"PRKD1 (PKD1)"},{"$f":"Composite!V338","v":1.7935966921830726},{"$f":"Composite!G338","v":"CAMK"}]
[207,{"$f":"Composite!B414","v":"TYK2 [JH1]"},{"$f":"Composite!V414","v":1.7661455692015835},{"$f":"Composite!G414","v":"TK"}]
[208,{"$f":"Composite!B395","v":"TAOK3 (TAO3)"},{"$f":"Composite!V395","v":1.6966067864271679},{"$f":"Composite!G395","v":"STE"}]
[209,{"$f":"Composite!B129","v":"EPHA2"},{"$f":"Composite!V129","v":1.6935379614752435},{"$f":"Composite!G129","v":"TK"}]
[210,{"$f":"Composite!B132","v":"EPHA5"},{"$f":"Composite!V132","v":1.6770363605228482},{"$f":"Composite!G132","v":"TK"}]
[211,{"$f":"Composite!B72","v":"CDK2/CycO"},{"$f":"Composite!V72","v":1.6033301150662282},{"$f":"Composite!G72","v":"CMGC"}]
[212,{"$f":"Composite!B344","v":"PRKX"},{"$f":"Composite!V344","v":1.5837937384898595},{"$f":"Composite!G344","v":"AGC"}]
[213,{"$f":"Composite!B264","v":"MYO3B"},{"$f":"Composite!V264","v":1.5790516880657179},{"$f":"Composite!G264","v":"STE"}]
[214,{"$f":"Composite!B131","v":"EPHA4"},{"$f":"Composite!V131","v":1.5629420084865586},{"$f":"Composite!G131","v":"TK"}]
[215,{"$f":"Composite!B393","v":"TAOK1 (TAO1)"},{"$f":"Composite!V393","v":1.3584660383490359},{"$f":"Composite!G393","v":"STE"}]
[216,{"$f":"Composite!B300","v":"PIM1"},{"$f":"Composite!V300","v":1.3384210118540381},{"$f":"Composite!G300","v":"CAMK"}]
[217,{"$f":"Composite!B138","v":"EPHB3"},{"$f":"Composite!V138","v":1.1300294720656154},{"$f":"Composite!G138","v":"TK"}]
[218,{"$f":"Composite!B190","v":"KIT (SCFR, CD117)"},{"$f":"Composite!V190","v":1.0669929073620921},{"$f":"Composite!G190","v":"TK"}]
[219,{"$f":"Composite!B416","v":"TYRO3"},{"$f":"Composite!V416","v":1.0572786036173625},{"$f":"Composite!G416","v":"TK"}]
[220,{"$f":"Composite!B159","v":"GRK1 (RHOK)"},{"$f":"Composite!V159","v":1.0293850632273944},{"$f":"Composite!G159","v":"AGC"}]
[221,{"$f":"Composite!B334","v":"PRKCH (PKCη [eta])"},{"$f":"Composite!V334","v":0.96967735510853004},{"$f":"Composite!G334","v":"AGC"}]
[222,{"$f":"Composite!B342","v":"PRKG1 (PKG1, PGK)"},{"$f":"Composite!V342","v":0.94679733169910207},{"$f":"Composite!G342","v":"AGC"}]
[223,{"$f":"Composite!B312","v":"PNCK (CAMK1β)"},{"$f":"Composite!V312","v":0.92759143653229614},{"$f":"Composite!G312","v":"CAMK"}]
[224,{"$f":"Composite!B295","v":"PDK3 (PDHK3)"},{"$f":"Composite!V295","v":0.91638879742522761},{"$f":"Composite!G295","v":"Atypical"}]
[225,{"$f":"Composite!B134","v":"EPHA7"},{"$f":"Composite!V134","v":0.86072046044802164},{"$f":"Composite!G134","v":"TK"}]
[226,{"$f":"Composite!B99","v":"CSNK1A1 (CK1A1, CK1α)"},{"$f":"Composite!V99","v":0.83454907681931445},{"$f":"Composite!G99","v":"CK1"}]
[227,{"$f":"Composite!B318","v":"PRKAA1-B2-G3 (AMPKα1β2γ3)"},{"$f":"Composite!V318","v":0.8263458500425287},{"$f":"Composite!G318","v":"CAMK"}]
[228,{"$f":"Composite!B245","v":"MARK4"},{"$f":"Composite!V245","v":0.80531632991058189},{"$f":"Composite!G245","v":"CAMK"}]
[229,{"$f":"Composite!B335","v":"PRKCI (PKCι [iota])"},{"$f":"Composite!V335","v":0.78368414793673935},{"$f":"Composite!G335","v":"AGC"}]
[230,{"$f":"Composite!B251","v":"MET (c-MET, HGFR)"},{"$f":"Composite!V251","v":0.70626456670669313},{"$f":"Composite!G251","v":"TK"}]
[231,{"$f":"Composite!B221","v":"MAP3K9 (MLK1)"},{"$f":"Composite!V221","v":0.69570032664620385},{"$f":"Composite!G221","v":"TKL"}]
[232,{"$f":"Composite!B195","v":"LCK"},{"$f":"Composite!V195","v":0.6302317313596717},{"$f":"Composite!G195","v":"TK"}]
[233,{"$f":"Composite!B74","v":"CDK3/CycE2"},{"$f":"Composite!V74","v":0.56784880956331563},{"$f":"Composite!G74","v":"CMGC"}]
[234,{"$f":"Composite!B275","v":"NEK9"},{"$f":"Composite!V275","v":0.5198789789917555},{"$f":"Composite!G275","v":"Other"}]
[235,{"$f":"Composite!B284","v":"PAK2"},{"$f":"Composite!V284","v":0.49090773726432246},{"$f":"Composite!G284","v":"STE"}]
[236,{"$f":"Composite!B242","v":"MARK1"},{"$f":"Composite!V242","v":0.47929101103274263},{"$f":"Composite!G242","v":"CAMK"}]
[237,{"$f":"Composite!B211","v":"MAP3K13 (LZK)"},{"$f":"Composite!V211","v":0.45532923806447911},{"$f":"Composite!G211","v":"TKL"}]
[238,{"$f":"Composite!B371","v":"SLK"},{"$f":"Composite!V371","v":0.42569957173596151},{"$f":"Composite!G371","v":"STE"}]
[239,{"$f":"Composite!B127","v":"EIF2AK4 (GCN2)"},{"$f":"Composite!V127","v":0.37696361481630447},{"$f":"Composite!G127","v":"Other"}]
[240,{"$f":"Composite!B160","v":"GRK2 (ADRBK1, BARK1)"},{"$f":"Composite!V160","v":0.3588685387642272},{"$f":"Composite!G160","v":"AGC"}]
[241,{"$f":"Composite!B194","v":"LATS2"},{"$f":"Composite!V194","v":0.35696900859970526},{"$f":"Composite!G194","v":"AGC"}]
[242,{"$f":"Composite!B98","v":"CSK"},{"$f":"Composite!V98","v":0.32634388105222456},{"$f":"Composite!G98","v":"TK"}]
[243,{"$f":"Composite!B120","v":"DYRK3"},{"$f":"Composite!V120","v":0.30040187811574981},{"$f":"Composite!G120","v":"CMGC"}]
[244,{"$f":"Composite!B286","v":"PAK4"},{"$f":"Composite!V286","v":0.23279499490759292},{"$f":"Composite!G286","v":"STE"}]
[245,{"$f":"Composite!B343","v":"PRKG2 (PKG2, PGK2, CGK2)"},{"$f":"Composite!V343","v":0.2281238617487702},{"$f":"Composite!G343","v":"AGC"}]
[246,{"$f":"Composite!B154","v":"FLT4"},{"$f":"Composite!V154","v":0.22156917622912431},{"$f":"Composite!G154","v":"TK"}]
[247,{"$f":"Composite!B269","v":"NEK3"},{"$f":"Composite!V269","v":0.18979979183252738},{"$f":"Composite!G269","v":"Other"}]
[248,{"$f":"Composite!B394","v":"TAOK2 (TAO2)"},{"$f":"Composite!V394","v":0.11250654107796265},{"$f":"Composite!G394","v":"STE"}]
[249,{"$f":"Composite!B130","v":"EPHA3"},{"$f":"Composite!V130","v":4.6499431867857766E-2},{"$f":"Composite!G130","v":"TK"}]
[250,{"$f":"Composite!B181","v":"IRAK1"},{"$f":"Composite!V181","v":2.2319435764657669E-2},{"$f":"Composite!G181","v":"TKL"}]
[251,{"$f":"Composite!B60","v":"CDK12 (CRK7)/CycK"},{"$f":"Composite!V60","v":0},{"$f":"Composite!G60","v":"CMGC"}]
[252,{"$f":"Composite!B69","v":"CDK2/CycD1"},{"$f":"Composite!V69","v":0},{"$f":"Composite!G69","v":"CMGC"}]
[253,{"$f":"Composite!B206","v":"MAP2K4 (MEK4)"},{"$f":"Composite!V206","v":0},{"$f":"Composite!G206","v":"STE"}]
[254,{"$f":"Composite!B235","v":"MAPK6 (ERK3)"},{"$f":"Composite!V235","v":0},{"$f":"Composite!G235","v":"CMGC"}]
[255,{"$f":"Composite!B274","v":"NEK8"},{"$f":"Composite!V274","v":0},{"$f":"Composite!G274","v":"Other"}]
[256,{"$f":"Composite!B375","v":"SRMS (SRM)"},{"$f":"Composite!V375","v":-1.7339620104678488E-2},{"$f":"Composite!G375","v":"TK"}]
[257,{"$f":"Composite!B361","v":"RPS6KA6 (RSK4)"},{"$f":"Composite!V361","v":-9.4514385089382813E-2},{"$f":"Composite!G361","v":"AGC"}]
[258,{"$f":"Composite!B329","v":"PRKCB1 (PKCβ1 [beta1])"},{"$f":"Composite!V329","v":-9.7129891161685578E-2},{"$f":"Composite!G329","v":"AGC"}]
[259,{"$f":"Composite!B332","v":"PRKCE (PKCe [epsilon])"},{"$f":"Composite!V332","v":-0.19245003700957852},{"$f":"Composite!G332","v":"AGC"}]
[260,{"$f":"Composite!B207","v":"MAP3K1 (MEKK1)"},{"$f":"Composite!V207","v":-0.19429748583733897},{"$f":"Composite!G207","v":"STE"}]
[261,{"$f":"Composite!B75","v":"CDK4 /CycD3"},{"$f":"Composite!V75","v":-0.21197193610984755},{"$f":"Composite!G75","v":"CMGC"}]
[262,{"$f":"Composite!B66","v":"CDK18 (PCTAIRE3, PCTK3)/CycY "},{"$f":"Composite!V66","v":-0.29868143075690057},{"$f":"Composite!G66","v":"CMGC"}]
[263,{"$f":"Composite!B398","v":"TEK (TIE2)"},{"$f":"Composite!V398","v":-0.37525910747896774},{"$f":"Composite!G398","v":"TK"}]
[264,{"$f":"Composite!B52","v":"CDC42BPA (MRCKA)"},{"$f":"Composite!V52","v":-0.43165828725354061},{"$f":"Composite!G52","v":"AGC"}]
[265,{"$f":"Composite!B55","v":"CDC7/DBF4 (CDC7)"},{"$f":"Composite!V55","v":-0.60843941255770062},{"$f":"Composite!G55","v":"Other"}]
[266,{"$f":"Composite!B420","v":"WEE1"},{"$f":"Composite!V420","v":-0.61261261261262234},{"$f":"Composite!G420","v":"Other"}]
[267,{"$f":"Composite!B305","v":"PKN1"},{"$f":"Composite!V305","v":-0.73068378178231796},{"$f":"Composite!G305","v":"AGC"}]
[268,{"$f":"Composite!B39","v":"BRSK2"},{"$f":"Composite!V39","v":-0.83298579863470934},{"$f":"Composite!G39","v":"CAMK"}]
[269,{"$f":"Composite!B378","v":"SRPK3 (MSSK1)"},{"$f":"Composite!V378","v":-0.83521378542332059},{"$f":"Composite!G378","v":"CMGC"}]
[270,{"$f":"Composite!B303","v":"PINK1 (PINK)"},{"$f":"Composite!V303","v":-0.84191575547374953},{"$f":"Composite!G303","v":"Other"}]
[271,{"$f":"Composite!B184","v":"JAK1 [JH1]"},{"$f":"Composite!V184","v":-0.88471947215866464},{"$f":"Composite!G184","v":"TK"}]
[272,{"$f":"Composite!B379","v":"STK10 (LOK)"},{"$f":"Composite!V379","v":-0.88938466640541947},{"$f":"Composite!G379","v":"STE"}]
[273,{"$f":"Composite!B313","v":"PRKAA1-B1-G1 (AMPKα1β1γ1)"},{"$f":"Composite!V313","v":-0.96132124801148677},{"$f":"Composite!G313","v":"CAMK"}]
[274,{"$f":"Composite!B100","v":"CSNK1A1L (CK1A1L, CK1a2)"},{"$f":"Composite!V100","v":-1.0029972470426429},{"$f":"Composite!G100","v":"CK1"}]
[275,{"$f":"Composite!B320","v":"PRKAA2-B1-G2 (AMPKα2β1γ2)"},{"$f":"Composite!V320","v":-1.0187435116419579},{"$f":"Composite!G320","v":"CAMK"}]
[276,{"$f":"Composite!B236","v":"MAPK7 (BMK, ERK5)"},{"$f":"Composite!V236","v":-1.0201190138849512},{"$f":"Composite!G236","v":"CMGC"}]
[277,{"$f":"Composite!B401","v":"TLK2"},{"$f":"Composite!V401","v":-1.0271512713690782},{"$f":"Composite!G401","v":"Other"}]
[278,{"$f":"Composite!B198","v":"LRRK2"},{"$f":"Composite!V198","v":-1.0937164915290793},{"$f":"Composite!G198","v":"TKL"}]
[279,{"$f":"Composite!B92","v":"CIT (CRIK)"},{"$f":"Composite!V92","v":-1.0959204361763142},{"$f":"Composite!G92","v":"AGC"}]
[280,{"$f":"Composite!B103","v":"CSNK1G1 (CK1G1, CK1γ1)"},{"$f":"Composite!V103","v":-1.1045833451876348},{"$f":"Composite!G103","v":"CK1"}]
[281,{"$f":"Composite!B136","v":"EPHB1"},{"$f":"Composite!V136","v":-1.1286224546157229},{"$f":"Composite!G136","v":"TK"}]
[282,{"$f":"Composite!B349","v":"RET"},{"$f":"Composite!V349","v":-1.1385335975499942},{"$f":"Composite!G349","v":"TK"}]
[283,{"$f":"Composite!B331","v":"PRKCD (PKCδ [delta])"},{"$f":"Composite!V331","v":-1.1479148146716653},{"$f":"Composite!G331","v":"AGC"}]
[284,{"$f":"Composite!B354","v":"ROCK2"},{"$f":"Composite!V354","v":-1.1572556731279491},{"$f":"Composite!G354","v":"AGC"}]
[285,{"$f":"Composite!B389","v":"STK38 (NDR1)"},{"$f":"Composite!V389","v":-1.1880500484296022},{"$f":"Composite!G389","v":"AGC"}]
[286,{"$f":"Composite!B191","v":"KSR1"},{"$f":"Composite!V191","v":-1.2285907647456895},{"$f":"Composite!G191","v":"TKL"}]
[287,{"$f":"Composite!B250","v":"MERTK (MER)"},{"$f":"Composite!V250","v":-1.2850742215785687},{"$f":"Composite!G250","v":"TK"}]
[288,{"$f":"Composite!B282","v":"NUAK2 (SNARK)"},{"$f":"Composite!V282","v":-1.2995957272433003},{"$f":"Composite!G282","v":"CAMK"}]
[289,{"$f":"Composite!B61","v":"CDK13 (CHED)/CycK"},{"$f":"Composite!V61","v":-1.3030870901566942},{"$f":"Composite!G61","v":"CMGC"}]
[290,{"$f":"Composite!B102","v":"CSNK1E (CK1E, CK1ε)"},{"$f":"Composite!V102","v":-1.4111133616906386},{"$f":"Composite!G102","v":"CK1"}]
[291,{"$f":"Composite!B101","v":"CSNK1D (CK1D, CK1δ)"},{"$f":"Composite!V101","v":-1.4167707232734585},{"$f":"Composite!G101","v":"CK1"}]
[292,{"$f":"Composite!B337","v":"PRKCZ (PKCζ [zeta])"},{"$f":"Composite!V337","v":-1.4568411674219135},{"$f":"Composite!G337","v":"AGC"}]
[293,{"$f":"Composite!B291","v":"PDGFRA (PDGFRα)"},{"$f":"Composite!V291","v":-1.5500220790204366},{"$f":"Composite!G291","v":"TK"}]
[294,{"$f":"Composite!B244","v":"MARK3"},{"$f":"Composite!V244","v":-1.6344428941598892},{"$f":"Composite!G244","v":"CAMK"}]
[295,{"$f":"Composite!B59","v":"CDK1 (CDC2)/CycE1 "},{"$f":"Composite!V59","v":-1.6344614862787807},{"$f":"Composite!G59","v":"CMGC"}]
[296,{"$f":"Composite!B29","v":"AURKC (AURC)"},{"$f":"Composite!V29","v":-1.6691216771718445},{"$f":"Composite!G29","v":"Other"}]
[297,{"$f":"Composite!B88","v":"CDKL5"},{"$f":"Composite!V88","v":-1.7041086529426792},{"$f":"Composite!G88","v":"CMGC"}]
[298,{"$f":"Composite!B339","v":"PRKD2 (PKD2)"},{"$f":"Composite!V339","v":-1.8594099138127689},{"$f":"Composite!G339","v":"CAMK"}]
[299,{"$f":"Composite!B91","v":"CHUK (IKKA, IKKa)"},{"$f":"Composite!V91","v":-1.8907846756403899},{"$f":"Composite!G91","v":"Other"}]
[300,{"$f":"Composite!B321","v":"PRKAA2-B1-G3 (AMPKα2β1γ3)"},{"$f":"Composite!V321","v":-2.1374247734938336},{"$f":"Composite!G321","v":"CAMK"}]
[301,{"$f":"Composite!B270","v":"NEK4"},{"$f":"Composite!V270","v":-2.137595369639584},{"$f":"Composite!G270","v":"Other"}]
[302,{"$f":"Composite!B37","v":"BRAF, b-[V600E]"},{"$f":"Composite!V37","v":-2.1823148679901294},{"$f":"Composite!G37","v":"TKL"}]
[303,{"$f":"Composite!B368","v":"SIK1 (SIK)"},{"$f":"Composite!V368","v":-2.1889137686788871},{"$f":"Composite!G368","v":"CAMK"}]
[304,{"$f":"Composite!B212","v":"MAP3K14 (NIK)"},{"$f":"Composite!V212","v":-2.2451700933420113},{"$f":"Composite!G212","v":"STE"}]
[305,{"$f":"Composite!B411","v":"TTBK2"},{"$f":"Composite!V411","v":-2.2698896585817323},{"$f":"Composite!G411","v":"CK1"}]
[306,{"$f":"Composite!B192","v":"KSR2"},{"$f":"Composite!V192","v":-2.3050706350651637},{"$f":"Composite!G192","v":"TKL"}]
[307,{"$f":"Composite!B133","v":"EPHA6"},{"$f":"Composite!V133","v":-2.3623299454958016},{"$f":"Composite!G133","v":"TK"}]
[308,{"$f":"Composite!B231","v":"MAPK13 (p38δ)"},{"$f":"Composite!V231","v":-2.4130669853736322},{"$f":"Composite!G231","v":"CMGC"}]
[309,{"$f":"Composite!B400","v":"TLK1"},{"$f":"Composite!V400","v":-2.4764664658976017},{"$f":"Composite!G400","v":"Other"}]
[310,{"$f":"Composite!B117","v":"DYRK1A"},{"$f":"Composite!V117","v":-2.4775044991001636},{"$f":"Composite!G117","v":"CMGC"}]
[311,{"$f":"Composite!B396","v":"TBK1"},{"$f":"Composite!V396","v":-2.494023904382459},{"$f":"Composite!G396","v":"Other"}]
[312,{"$f":"Composite!B85","v":"CDK9 (TAK)/CycK"},{"$f":"Composite!V85","v":-2.507787015917387},{"$f":"Composite!G85","v":"CMGC"}]
[313,{"$f":"Composite!B143","v":"ERN2 (IRE2)"},{"$f":"Composite!V143","v":-2.7320286766130408},{"$f":"Composite!G143","v":"Other"}]
[314,{"$f":"Composite!B32","v":"BCR RET (fusion)"},{"$f":"Composite!V32","v":-2.7441264871396385},{"$f":"Composite!G32","v":"TK"}]
[315,{"$f":"Composite!B351","v":"RIPK2"},{"$f":"Composite!V351","v":-2.7476999229037489},{"$f":"Composite!G351","v":"TKL"}]
[316,{"$f":"Composite!B241","v":"MAPKAPK5 (MK5)"},{"$f":"Composite!V241","v":-2.7669568960787387},{"$f":"Composite!G241","v":"CAMK"}]
[317,{"$f":"Composite!B319","v":"PRKAA2-B1-G1 (AMPKα2β1γ1)"},{"$f":"Composite!V319","v":-2.7838468006231665},{"$f":"Composite!G319","v":"CAMK"}]
[318,{"$f":"Composite!B139","v":"EPHB4"},{"$f":"Composite!V139","v":-2.8832310373569783},{"$f":"Composite!G139","v":"TK"}]
[319,{"$f":"Composite!B185","v":"JAK1 [JH1-JH2]"},{"$f":"Composite!V185","v":-2.890422778257161},{"$f":"Composite!G185","v":"TK"}]
[320,{"$f":"Composite!B36","v":"BRAF (BRAF1, RAFB1)"},{"$f":"Composite!V36","v":-2.9212016963729752},{"$f":"Composite!G36","v":"TKL"}]
[321,{"$f":"Composite!B323","v":"PRKAA2-B2-G2 (AMPKα2β2γ2)"},{"$f":"Composite!V323","v":-3.0611142826285231},{"$f":"Composite!G323","v":"CAMK"}]
[322,{"$f":"Composite!B157","v":"FYNb (FYN)"},{"$f":"Composite!V157","v":-3.0827632237610203},{"$f":"Composite!G157","v":"TK"}]
[323,{"$f":"Composite!B21","v":"ABL1"},{"$f":"Composite!V21","v":-3.1409542232397598},{"$f":"Composite!G21","v":"TK"}]
[324,{"$f":"Composite!B62","v":"CDK14 (PFTAIRE1, PFTK1)/CycY"},{"$f":"Composite!V62","v":-3.1481625965514581},{"$f":"Composite!G62","v":"CMGC"}]
[325,{"$f":"Composite!B324","v":"PRKAA2-B2-G3 (AMPKα2β2γ3)"},{"$f":"Composite!V324","v":-3.2188134570001665},{"$f":"Composite!G324","v":"CAMK"}]
[326,{"$f":"Composite!B328","v":"PRKCA (PKCα [alpha])"},{"$f":"Composite!V328","v":-3.2883592288339685},{"$f":"Composite!G328","v":"AGC"}]
[327,{"$f":"Composite!B173","v":"HIPK4"},{"$f":"Composite!V173","v":-3.3028370523398394},{"$f":"Composite!G173","v":"CMGC"}]
[328,{"$f":"Composite!B108","v":"DAPK1"},{"$f":"Composite!V108","v":-3.3432978596197813},{"$f":"Composite!G108","v":"CAMK"}]
[329,{"$f":"Composite!B76","v":"CDK4/CycD1"},{"$f":"Composite!V76","v":-3.3480633442891161},{"$f":"Composite!G76","v":"CMGC"}]
[330,{"$f":"Composite!B259","v":"MYLK (smMLCK)"},{"$f":"Composite!V259","v":-3.3894540446892591},{"$f":"Composite!G259","v":"CAMK"}]
[331,{"$f":"Composite!B25","v":"AKT3 (PKBg)"},{"$f":"Composite!V25","v":-3.4761803586109892},{"$f":"Composite!G25","v":"AGC"}]
[332,{"$f":"Composite!B350","v":"RIPK1"},{"$f":"Composite!V350","v":-3.6204217608075595},{"$f":"Composite!G350","v":"TKL"}]
[333,{"$f":"Composite!B54","v":"CDC42BPG (DMPK2)"},{"$f":"Composite!V54","v":-3.6963494730410957},{"$f":"Composite!G54","v":"AGC"}]
[334,{"$f":"Composite!B109","v":"DAPK2 (DRP-1)"},{"$f":"Composite!V109","v":-3.7176312002867178},{"$f":"Composite!G109","v":"CAMK"}]
[335,{"$f":"Composite!B71","v":"CDK2/CycE2"},{"$f":"Composite!V71","v":-3.863468188251062},{"$f":"Composite!G71","v":"CMGC"}]
[336,{"$f":"Composite!B390","v":"STK38L (NDR2)"},{"$f":"Composite!V390","v":-3.9593601973374319},{"$f":"Composite!G390","v":"AGC"}]
[337,{"$f":"Composite!B372","v":"SNRK"},{"$f":"Composite!V372","v":-4.0183560406115504},{"$f":"Composite!G372","v":"CAMK"}]
[338,{"$f":"Composite!B399","v":"TESK2"},{"$f":"Composite!V399","v":-4.0190623106164907},{"$f":"Composite!G399","v":"TKL"}]
[339,{"$f":"Composite!B240","v":"MAPKAPK3 (MK3)"},{"$f":"Composite!V240","v":-4.100008375910889},{"$f":"Composite!G240","v":"CAMK"}]
[340,{"$f":"Composite!B369","v":"SIK2 (QIK)"},{"$f":"Composite!V369","v":-4.1467378685860439},{"$f":"Composite!G369","v":"CAMK"}]
[341,{"$f":"Composite!B122","v":"EEF2K (eEF2K)"},{"$f":"Composite!V122","v":-4.1818814119283587},{"$f":"Composite!G122","v":"Atypical"}]
[342,{"$f":"Composite!B93","v":"CLK1"},{"$f":"Composite!V93","v":-4.2408009693259316},{"$f":"Composite!G93","v":"CMGC"}]
[343,{"$f":"Composite!B119","v":"DYRK2"},{"$f":"Composite!V119","v":-4.2612152036031574},{"$f":"Composite!G119","v":"CMGC"}]
[344,{"$f":"Composite!B316","v":"PRKAA1-B2-G1 (AMPKα1β2γ1)"},{"$f":"Composite!V316","v":-4.3879293500377941},{"$f":"Composite!G316","v":"CAMK"}]
[345,{"$f":"Composite!B315","v":"PRKAA1-B1-G3 (AMPKα1β1γ3)"},{"$f":"Composite!V315","v":-4.7957275692640451},{"$f":"Composite!G315","v":"CAMK"}]
[346,{"$f":"Composite!B227","v":"MAPK1 (ERK2)"},{"$f":"Composite!V227","v":-4.8703009345698831},{"$f":"Composite!G227","v":"CMGC"}]
[347,{"$f":"Composite!B287","v":"PAK5 (PAK7)"},{"$f":"Composite!V287","v":-4.8990642750647311},{"$f":"Composite!G287","v":"STE"}]
[348,{"$f":"Composite!B171","v":"HIPK2"},{"$f":"Composite!V171","v":-5.0036225321499614},{"$f":"Composite!G171","v":"CMGC"}]
[349,{"$f":"Composite!B326","v":"PRKACB (PKACB, PKACβ)"},{"$f":"Composite!V326","v":-5.0211716067082364},{"$f":"Composite!G326","v":"AGC"}]
[350,{"$f":"Composite!B381","v":"STK16 (MPSK1, PKL12, TSF1)"},{"$f":"Composite!V381","v":-5.113222990178258},{"$f":"Composite!G381","v":"Other"}]
[351,{"$f":"Composite!B302","v":"PIM3"},{"$f":"Composite!V302","v":-5.376649106218153},{"$f":"Composite!G302","v":"CAMK"}]
[352,{"$f":"Composite!B81","v":"CDK6/CycD2"},{"$f":"Composite!V81","v":-5.4622274690883899},{"$f":"Composite!G81","v":"CMGC"}]
[353,{"$f":"Composite!B336","v":"PRKCQ (PKCᶿ [theta])"},{"$f":"Composite!V336","v":-5.4716752301905558},{"$f":"Composite!G336","v":"AGC"}]
[354,{"$f":"Composite!B196","v":"LIMK1"},{"$f":"Composite!V196","v":-5.4742763425120415},{"$f":"Composite!G196","v":"TKL"}]
[355,{"$f":"Composite!B104","v":"CSNK1G2 (CK1G2, CK1γ2)"},{"$f":"Composite!V104","v":-5.5875576036866335},{"$f":"Composite!G104","v":"CK1"}]
[356,{"$f":"Composite!B317","v":"PRKAA1-B2-G2 (AMPKα1β2γ2)"},{"$f":"Composite!V317","v":-5.7493708640134287},{"$f":"Composite!G317","v":"CAMK"}]
[357,{"$f":"Composite!B175","v":"ICK"},{"$f":"Composite!V175","v":-5.7799043062200894},{"$f":"Composite!G175","v":"CMGC"}]
[358,{"$f":"Composite!B280","v":"NTRK3 (TRKC)"},{"$f":"Composite!V280","v":-5.7870719415896161},{"$f":"Composite!G280","v":"TK"}]
[359,{"$f":"Composite!B219","v":"MAP3K7 (TAK1)"},{"$f":"Composite!V219","v":-5.8222716795167315},{"$f":"Composite!G219","v":"STE"}]
[360,{"$f":"Composite!B308","v":"PLK1"},{"$f":"Composite!V308","v":-6.0387539857738517},{"$f":"Composite!G308","v":"Other"}]
[361,{"$f":"Composite!B330","v":"PRKCB2 (PKCβ2 [beta2])"},{"$f":"Composite!V330","v":-6.0820705194580427},{"$f":"Composite!G330","v":"AGC"}]
[362,{"$f":"Composite!B77","v":"CDK4/CycD2"},{"$f":"Composite!V77","v":-6.1487209994051284},{"$f":"Composite!G77","v":"CMGC"}]
[363,{"$f":"Composite!B105","v":"CSNK1G3 (CK1G3, CK1γ3)"},{"$f":"Composite!V105","v":-6.2193034155650793},{"$f":"Composite!G105","v":"CK1"}]
[364,{"$f":"Composite!B163","v":"GRK5 (GPRK5)"},{"$f":"Composite!V163","v":-6.3464229012757585},{"$f":"Composite!G163","v":"AGC"}]
[365,{"$f":"Composite!B186","v":"JAK2 [JH1]"},{"$f":"Composite!V186","v":-6.4998091967446356},{"$f":"Composite!G186","v":"TK"}]
[366,{"$f":"Composite!B125","v":"EIF2AK2 (PKR)"},{"$f":"Composite!V125","v":-6.5014548008427653},{"$f":"Composite!G125","v":"Other"}]
[367,{"$f":"Composite!B314","v":"PRKAA1-B1-G2 (AMPKα1β1γ2)"},{"$f":"Composite!V314","v":-6.625789402249822},{"$f":"Composite!G314","v":"CAMK"}]
[368,{"$f":"Composite!B365","v":"SGK1 (SGK)"},{"$f":"Composite!V365","v":-6.7023038261526011},{"$f":"Composite!G365","v":"AGC"}]
[369,{"$f":"Composite!B346","v":"PTK2B (PYK2)"},{"$f":"Composite!V346","v":-6.8001455152993202},{"$f":"Composite!G346","v":"TK"}]
[370,{"$f":"Composite!B412","v":"TTK"},{"$f":"Composite!V412","v":-6.8022497486894906},{"$f":"Composite!G412","v":"Other"}]
[371,{"$f":"Composite!B296","v":"PDK4 (PDHK4)"},{"$f":"Composite!V296","v":-7.357643377100473},{"$f":"Composite!G296","v":"Atypical"}]
[372,{"$f":"Composite!B214","v":"MAP3K2 (MEKK2)"},{"$f":"Composite!V214","v":-7.6877946568884425},{"$f":"Composite!G214","v":"STE"}]
[373,{"$f":"Composite!B419","v":"ULK3"},{"$f":"Composite!V419","v":-7.8182107103130534},{"$f":"Composite!G419","v":"Other"}]
[374,{"$f":"Composite!B410","v":"TTBK1"},{"$f":"Composite!V410","v":-7.959554057557682},{"$f":"Composite!G410","v":"CK1"}]
[375,{"$f":"Composite!B34","v":"BMP2K (BIKE)"},{"$f":"Composite!V34","v":-8.1242731350722721},{"$f":"Composite!G34","v":"Other"}]
[376,{"$f":"Composite!B299","v":"PHKG2"},{"$f":"Composite!V299","v":-8.1259347581862187},{"$f":"Composite!G299","v":"CAMK"}]
[377,{"$f":"Composite!B65","v":"CDK17 (PCTAIRE2, PCTK2)/p35NCK"},{"$f":"Composite!V65","v":-8.1445606386224085},{"$f":"Composite!G65","v":"CMGC"}]
[378,{"$f":"Composite!B345","v":"PTK2 (FAK)"},{"$f":"Composite!V345","v":-8.1619729700895363},{"$f":"Composite!G345","v":"TK"}]
[379,{"$f":"Composite!B309","v":"PLK2"},{"$f":"Composite!V309","v":-8.4233859794957198},{"$f":"Composite!G309","v":"Other"}]
[380,{"$f":"Composite!B205","v":"MAP2K3 (MEK3)"},{"$f":"Composite!V205","v":-8.577077793686513},{"$f":"Composite!G205","v":"STE"}]
[381,{"$f":"Composite!B377","v":"SRPK2"},{"$f":"Composite!V377","v":-8.8376956507531901},{"$f":"Composite!G377","v":"CMGC"}]
[382,{"$f":"Composite!B20","v":"AAK1"},{"$f":"Composite!V20","v":-8.9011721777864778},{"$f":"Composite!G20","v":"Other"}]
[383,{"$f":"Composite!B297","v":"PDPK1 (PDK1)"},{"$f":"Composite!V297","v":-9.094103021458281},{"$f":"Composite!G297","v":"AGC"}]
[384,{"$f":"Composite!B44","v":"CAMK1G (CAMK1γ)"},{"$f":"Composite!V44","v":-9.2222122544181957},{"$f":"Composite!G44","v":"CAMK"}]
[385,{"$f":"Composite!B106","v":"CSNK2A1 (CK2A1, CK2α1)"},{"$f":"Composite!V106","v":-9.4536864853998281},{"$f":"Composite!G106","v":"Other"}]
[386,{"$f":"Composite!B204","v":"MAP2K2 (MEK2)"},{"$f":"Composite!V204","v":-9.808567931456551},{"$f":"Composite!G204","v":"STE"}]
[387,{"$f":"Composite!B325","v":"PRKACA (PKACA, PKACα)"},{"$f":"Composite!V325","v":-9.9977189037703198},{"$f":"Composite!G325","v":"AGC"}]
[388,{"$f":"Composite!B197","v":"LIMK2"},{"$f":"Composite!V197","v":-10.011123470522804},{"$f":"Composite!G197","v":"TKL"}]
[389,{"$f":"Composite!B248","v":"MATK (CTK)"},{"$f":"Composite!V248","v":-10.793900886552066},{"$f":"Composite!G248","v":"TK"}]
[390,{"$f":"Composite!B111","v":"DCLK1 (DCAMKL1)"},{"$f":"Composite!V111","v":-11.679819616685421},{"$f":"Composite!G111","v":"CAMK"}]
[391,{"$f":"Composite!B405","v":"TRPM7 (CHAK1)"},{"$f":"Composite!V405","v":-11.707983663637734},{"$f":"Composite!G405","v":"Atypical"}]
[392,{"$f":"Composite!B158","v":"GAK"},{"$f":"Composite!V158","v":-12.387873126639832},{"$f":"Composite!G158","v":"Other"}]
[393,{"$f":"Composite!B177","v":"IKKB (IKKβ)"},{"$f":"Composite!V177","v":-12.653662542164128},{"$f":"Composite!G177","v":"Other"}]
[394,{"$f":"Composite!B333","v":"PRKCG (PKCγ [gamma])"},{"$f":"Composite!V333","v":-13.190469201037217},{"$f":"Composite!G333","v":"AGC"}]
[395,{"$f":"Composite!B421","v":"YES1 (YES)"},{"$f":"Composite!V421","v":-13.891073019866866},{"$f":"Composite!G421","v":"TK"}]
[396,{"$f":"Composite!B53","v":"CDC42BPB (MRCKB)"},{"$f":"Composite!V53","v":-13.941541544233814},{"$f":"Composite!G53","v":"AGC"}]
[397,{"$f":"Composite!B290","v":"PBK (TOPK)"},{"$f":"Composite!V290","v":-14.049199637777335},{"$f":"Composite!G290","v":"Other"}]
[398,{"$f":"Composite!B247","v":"MASTL"},{"$f":"Composite!V247","v":-14.995537042546871},{"$f":"Composite!G247","v":"AGC"}]
[399,{"$f":"Composite!B116","v":"DSTYK (RIPK5, SGK496)"},{"$f":"Composite!V116","v":-15.305552897649363},{"$f":"Composite!G116","v":"TKL"}]
[400,{"$f":"Composite!B415","v":"TYK2 [JH1-JH2]"},{"$f":"Composite!V415","v":-16.654295328582776},{"$f":"Composite!G415","v":"TK"}]
[401,{"$f":"Composite!B161","v":"GRK3 (ADRBK2, BARK2)"},{"$f":"Composite!V161","v":-17.390248458808145},{"$f":"Composite!G161","v":"AGC"}]
[402,{"$f":"Composite!B352","v":"RIPK3"},{"$f":"Composite!V352","v":-17.487916540381903},{"$f":"Composite!G352","v":"TKL"}]
[403,{"$f":"Composite!B266","v":"NEK10"},{"$f":"Composite!V266","v":-19.832719595819626},{"$f":"Composite!G266","v":"Other"}]

{"sheet":"Compound 7 Kinome Tree","index":17,"n_rows":6,"n_cols":27,"rows_kept":6,"cut":false,"hidden":false,"merged":[[1,1,3,20]]}
[]
[null,{"$f":"Summary!AC16","v":"Kinome Hit View for Osimertinib  (0.09 µM) with 398 Kinases (Coral Names) at 1 mM"}]
[null,null,null,null,null,null,null,null,null,null,null,null,null,null,null,null,null,null,null,null,null,null,null,null,null,null,"Kinome Hit View for VVVVVVVVVVVVVVVVVVVVVVVVVVV (VVVVV µM) with VVV Kinases (Coral Names)"]
[null,null,null,null,null,null,null,null,null,null,null,null,null,null,null,null,null,null,null,null,null,null,null,null,null,null,{"$f":"REPLACE(AA3,65,3,Summary!E16)","v":"Kinome Hit View for VVVVVVVVVVVVVVVVVVVVVVVVVVV (VVVVV µM) with 398 Kinases (Coral Names)"}]
[null,null,null,null,null,null,null,null,null,null,null,null,null,null,null,null,null,null,null,null,null,null,null,null,null,null,{"$f":"REPLACE(AA4,50,5,Summary!D16)","v":"Kinome Hit View for VVVVVVVVVVVVVVVVVVVVVVVVVVV (0.09 µM) with 398 Kinases (Coral Names)"}]
[null,null,null,null,null,null,null,null,null,null,null,null,null,null,null,null,null,null,null,null,null,null,null,null,null,null,{"$f":"REPLACE(AA5,21,27,Summary!C16)","v":"Kinome Hit View for Osimertinib  (0.09 µM) with 398 Kinases (Coral Names)"}]

{"sheet":"Compound 8","index":18,"n_rows":520,"n_cols":27,"rows_kept":520,"cut":false,"hidden":false,"merged":[]}
[]
["Panel #","Kinase Target",{"$f":"Summary!AB17","v":"0.09 µM Osimertinib , % inhibition at  ATP Km "},{"$f":"Composite!G19","v":"Group"}]
[1,"EGFR (ERBB1)",100,{"$f":"Composite!G136","v":"TK"},null,null,null,null,null,null,null,null,null,null,null,null,null,null,null,null,null,null,null,null,null,null,"VVVVV μM VVVVVVVVVVVVVVVVVVVVVVVVVVV, % inhibition"]
[2,"ERBB4 (HER4)",100,{"$f":"Composite!G187","v":"TK"},null,null,null,null,null,null,null,null,null,null,null,null,null,null,null,null,null,null,null,null,null,null,{"$f":"REPLACE(AA3,10,27,Summary!C18)","v":"VVVVV μM Osimertinib , % inhibition"}]
[3,"JAK3 [JH1]",92.423099116694033,{"$f":"Composite!G210","v":"TKL"},null,null,null,null,null,null,null,null,null,null,null,null,null,null,null,null,null,null,null,null,null,null,{"$f":"REPLACE(AA4,1,5,Summary!D18)","v":"0.015 μM Osimertinib , % inhibition"}]
[4,"MARK3",86.652351205969111,{"$f":"Composite!G246","v":"AGC"}]
[5,"ERBB2 (HER2)",76.247681702068093,{"$f":"Composite!G186","v":"TK"}]
[6,"CDK1 (CDC2)/CycE1 ",74.441687344913149,{"$f":"Composite!G69","v":"CMGC"}]
[7,"BTK",57.231326344516312,{"$f":"Composite!G52","v":"AGC"}]
[8,"TEC",51.421377656045308,{"$f":"Composite!G394","v":"STE"}]
[9,"ROS1 (ROS)",46.44856325413609,{"$f":"Composite!G368","v":"CAMK"}]
[10,"CDK2/CycE2",45.116109549099235,{"$f":"Composite!G81","v":"CMGC"}]
[11,"TXK",34.318588691630609,{"$f":"Composite!G410","v":"CK1"}]
[12,"GRK4 (GPRK4)",33.736479393911722,{"$f":"Composite!G178","v":"Other"}]
[13,"CDK4/CycD1",32.716234697621658,{"$f":"Composite!G85","v":"CMGC"}]
[14,"ALK",32.539466983534211,{"$f":"Composite!G26","v":"TK"}]
[15,"TNK1",32.058920110709764,{"$f":"Composite!G400","v":"Other"}]
[16,"LTK",31.199307032049774,{"$f":"Composite!G227","v":"CMGC"}]
[17,"MYO3B",28.983983792668482,{"$f":"Composite!G281","v":"CAMK"}]
[18,"CDK6/CycD2",28.586649925282742,{"$f":"Composite!G91","v":"Other"}]
[19,"TNIK (ZC2)",25.339944790921209,{"$f":"Composite!G399","v":"TKL"}]
[20,"PTK6 (BRK)",22.756160667185824,{"$f":"Composite!G359","v":"AGC"}]
[21,"TSSK6 (SSTK)",20.696324951644087,{"$f":"Composite!G406","v":"CAMK"}]
[22,"CAMK1G (CAMK1γ)",19.963855046271817,{"$f":"Composite!G57","v":"CMGC"}]
[23,"GSK3A (GSK3α)",19.697577180823643,{"$f":"Composite!G182","v":"TKL"}]
[24,"PDGFRB (PDGFRβ)",18.789808917197448,{"$f":"Composite!G317","v":"CAMK"}]
[25,"CAMK4",18.602988430780485,{"$f":"Composite!G62","v":"CMGC"}]
[26,"MAP2K3 (MEK3)",17.699304768613516,{"$f":"Composite!G252","v":"STE"}]
[27,"RIPK3",17.621359223300971,{"$f":"Composite!G364","v":"Other"}]
[28,"MAPK15 (ERK7)",17.127500042123728,{"$f":"Composite!G153","v":"TK"}]
[29,"LYNA (LYNa)",16.484298371146949,{"$f":"Composite!G228","v":"CMGC"}]
[30,"NEK5",15.96102547521194,{"$f":"Composite!G291","v":"TK"}]
[31,"CSNK1A1L (CK1A1L, CK1a2)",15.947747267395329,{"$f":"Composite!G103","v":"CK1"}]
[32,"CDK1 (CDC2)/CycA1 ",14.755231571670961,{"$f":"Composite!G66","v":"CMGC"}]
[33,"TNK2 (ACK)",14.478501935348888,{"$f":"Composite!G401","v":"Other"}]
[34,"CDK7/CycH1",14.351875808538168,{"$f":"Composite!G94","v":"CMGC"}]
[35,"RPS6KA4 (MSK2)",14.330871805769547,{"$f":"Composite!G268","v":"Other"}]
[36,"PRKG1 (PKG1, PGK)",14.158707579760232,{"$f":"Composite!G324","v":"CAMK"}]
[37,"PINK1 (PINK)",13.739833239551899,{"$f":"Composite!G331","v":"AGC"}]
[38,"PRKAA1-B2-G2 (AMPKα1β2γ2)",13.724925616661878,{"$f":"Composite!G31","v":"Atypical"}]
[39,"EIF2AK3 (PERK/PEK)",13.356138100406767,{"$f":"Composite!G323","v":"CAMK"}]
[40,"GRK3 (ADRBK2, BARK2)",13.300083125519535,{"$f":"Composite!G177","v":"Other"}]
[41,"CDK4/CycD2",13.159332874549648,{"$f":"Composite!G86","v":"CMGC"}]
[42,"CDC42BPA (MRCKA)",13.097111436684941,{"$f":"Composite!G265","v":"Other"}]
[43,"BUB1",13.093623679749626,{"$f":"Composite!G53","v":"AGC"}]
[44,"CAMK2B (CAMK2β)",12.98491638957158,{"$f":"Composite!G59","v":"CMGC"}]
[45,"CHEK1 (CHK1)",12.898928467998815,{"$f":"Composite!G100","v":"CK1"}]
[46,"LRRK2",12.523719165085382,{"$f":"Composite!G226","v":"STE"}]
[47,"CDK1 (CDC2)/CycA2 ",12.424393073162662,{"$f":"Composite!G67","v":"CMGC"}]
[48,"CDK2/CycO",12.150062337073564,{"$f":"Composite!G82","v":"CMGC"}]
[49,"RIPK2",12.137931034482762,{"$f":"Composite!G363","v":"AGC"}]
[50,"STK17A (DRAK1)",11.974026926886523,{"$f":"Composite!G128","v":"TK"}]
[51,"GAK",11.820692744102701,{"$f":"Composite!G171","v":"CMGC"}]
[52,"PTK2B (PYK2)",11.734988512623673,{"$f":"Composite!G358","v":"AGC"}]
[53,"PRKD2 (PKD2)",11.707245954220738,{"$f":"Composite!G346","v":"TK"}]
[54,"DYRK1A",11.687209916002047,{"$f":"Composite!G130","v":"TK"}]
[55,"AURKA (AURA)",11.437824500077113,{"$f":"Composite!G39","v":"CAMK"}]
[56,"TSSK1B (TSSK1)",11.429251033211415,{"$f":"Composite!G403","v":"TK"}]
[57,"HCK",11.421068278664166,{"$f":"Composite!G185","v":"TK"}]
[58,"TLK2",11.349985966881832,{"$f":"Composite!G398","v":"TK"}]
[59,"PHKG1",11.343486566172501,{"$f":"Composite!G326","v":"AGC"}]
[60,"CAMK1D (CAMK1δ)",11.278244448785586,{"$f":"Composite!G56","v":"CMGC"}]
[61,"PDK1 (PDHK1)",11.149872259216295,{"$f":"Composite!G318","v":"CAMK"}]
[62,"PRKCQ (PKCᶿ [theta])",10.74453213497361,{"$f":"Composite!G343","v":"AGC"}]
[63,"CDK9 (TAK)/CycK",10.630136986301352,{"$f":"Composite!G95","v":"CMGC"}]
[64,"CDK3/CycE2",10.610758022012092,{"$f":"Composite!G84","v":"CMGC"}]
[65,"PAK2",10.598541243702513,{"$f":"Composite!G310","v":"Other"}]
[66,"FER",10.425245703618259,{"$f":"Composite!G157","v":"TK"}]
[67,"HIPK2",10.408728220159588,{"$f":"Composite!G190","v":"TK"}]
[68,"MYLK (smMLCK)",10.132435248894069,{"$f":"Composite!G261","v":"CAMK"}]
[69,"BLK",10.014801375095487,{"$f":"Composite!G46","v":"CAMK"}]
[70,"CSNK2A2 (CK2A2, CK2α2)",9.9138354683353498,{"$f":"Composite!G110","v":"CAMK"}]
[71,"CDK1 (CDC2)/CycB1 ",9.8673516236707428,{"$f":"Composite!G68","v":"CMGC"}]
[72,"ABL1",9.8504434986675165,{"$f":"Composite!G21","v":"TK"}]
[73,"MAST3",9.8482951985179881,{"$f":"Composite!G248","v":"TK"}]
[74,"RAF1 [Y340E/Y341E]",9.8294098792692211,{"$f":"Composite!G360","v":"AGC"}]
[75,"MAPK7 (BMK, ERK5)",9.8045154826533576,{"$f":"Composite!G152","v":"TK"}]
[76,"CDK9 (TAK)/CycT1",9.7323014185174515,{"$f":"Composite!G96","v":"CMGC"}]
[77,"CDK3/CycE1",9.6512570965125519,{"$f":"Composite!G83","v":"CMGC"}]
[78,"CDC42BPG (DMPK2)",9.3716694118786847,{"$f":"Composite!G126","v":"Other"}]
[79,"ITK",9.1655600422775905,{"$f":"Composite!G205","v":"STE"}]
[80,"TTBK1",9.1632647067461761,{"$f":"Composite!G407","v":"CAMK"}]
[81,"CDC7/DBF4 (CDC7)",8.772122850586257,{"$f":"Composite!G65","v":"CMGC"}]
[82,"ERN2 (IRE2)",8.737080421301286,{"$f":"Composite!G155","v":"TK"}]
[83,"AKT3 (PKBg)",8.5608162534682037,{"$f":"Composite!G25","v":"AGC"}]
[84,"NLK (LAK1)",8.4847132336531956,{"$f":"Composite!G297","v":"AGC"}]
[85,"INSRR (IRR)",8.4827536544970172,{"$f":"Composite!G202","v":"Atypical"}]
[86,"CHUK (IKKA, IKKa)",8.4673153432373169,{"$f":"Composite!G198","v":"TKL"}]
[87,"LATS1",8.4562472194654532,{"$f":"Composite!G219","v":"STE"}]
[88,"MAP3K14 (NIK)",8.408208106093312,{"$f":"Composite!G236","v":"CMGC"}]
[89,"DYRK2",8.3904109589041127,{"$f":"Composite!G132","v":"TK"}]
[90,"EPHB4",8.3644799587575704,{"$f":"Composite!G148","v":"TK"}]
[91,"PLK3",8.3612306711302438,{"$f":"Composite!G354","v":"AGC"}]
[92,"PDK2 (PDHK2)",8.3475075232238822,{"$f":"Composite!G319","v":"CAMK"}]
[93,"FLT3",8.2778235162038953,{"$f":"Composite!G165","v":"AGC"}]
[94,"PLK2",8.0705741443115357,{"$f":"Composite!G353","v":"AGC"}]
[95,"NEK9",7.98799608861313,{"$f":"Composite!G295","v":"Atypical"}]
[96,"IGF1R",7.9706002921494985,{"$f":"Composite!G197","v":"TKL"}]
[97,"AXL",7.8761750793365621,{"$f":"Composite!G42","v":"CAMK"}]
[98,"BMX",7.7823695337616101,{"$f":"Composite!G47","v":"CAMK"}]
[99,"IRAK4",7.7049086649269611,{"$f":"Composite!G204","v":"STE"}]
[100,"NEK1",7.6491651926312727,{"$f":"Composite!G285","v":"STE"}]
[101,"PAK6",7.6400041001810877,{"$f":"Composite!G314","v":"CAMK"}]
[102,"EIF2AK2 (PKR)",7.4862385321100788,{"$f":"Composite!G351","v":"TKL"}]
[103,"NEK3",7.4782005632754505,{"$f":"Composite!G289","v":"CAMK"}]
[104,"MAP3K11 (MLK3)",7.4737162882828017,{"$f":"Composite!G233","v":"CMGC"}]
[105,"CSNK2A1 (CK2A1, CK2α1)",7.4707098552722186,{"$f":"Composite!G109","v":"CAMK"}]
[106,"MAP4K3 (GLK, KHS2)",7.4467405878221768,{"$f":"Composite!G174","v":"CAMK"}]
[107,"GRK6 (GPRK6)",7.3889305269294141,{"$f":"Composite!G180","v":"TK"}]
[108,"CDK2/CycA2",7.3650439391825842,{"$f":"Composite!G78","v":"CMGC"}]
[109,"CAMK1 (CAMK1a)",7.3304568756859254,{"$f":"Composite!G54","v":"AGC"}]
[110,"CAMK2G (CAMK2γ)",7.2905735711909045,{"$f":"Composite!G61","v":"CMGC"}]
[111,"RPS6KA5 (MSK1)",7.2404437491241396,{"$f":"Composite!G267","v":"Other"}]
[112,"STK11 (LKB1, AMPKK)",7.2222690137286065,{"$f":"Composite!G224","v":"STE"}]
[113,"HIPK3",7.1964875293369204,{"$f":"Composite!G191","v":"TKL"}]
[114,"GRK5 (GPRK5)",7.1774774444810845,{"$f":"Composite!G179","v":"TK"}]
[115,"CDK2/CycA1",7.1114738297341091,{"$f":"Composite!G77","v":"CMGC"}]
[116,"CDK6/CycD1",6.9216030656235006,{"$f":"Composite!G90","v":"CAMK"}]
[117,"MLK4 (MAP3K21)",6.8663234048099895,{"$f":"Composite!G262","v":"CAMK"}]
[118,"MAP3K19 (YSK4)",6.8261086198305776,{"$f":"Composite!G420","v":"Other"}]
[119,"PRKAA2-B2-G1 (AMPKα2β2γ1)",6.7240031274433107,{"$f":"Composite!G36","v":"TKL"}]
[120,"SRMS (SRM)",6.6925202610129162,{"$f":"Composite!G384","v":"STE"}]
[121,"BRAF, b-[V600E]",6.1959880584507516,{"$f":"Composite!G49","v":"CAMK"}]
[122,"EPHA6",6.1860191351114224,{"$f":"Composite!G142","v":"Other"}]
[123,"EPHA2",6.1798974002260678,{"$f":"Composite!G138","v":"TK"}]
[124,"PRKAA2-B2-G3 (AMPKα2β2γ3)",6.0138938876401511,{"$f":"Composite!G38","v":"CAMK"}]
[125,"NEK4",5.9794940751323793,{"$f":"Composite!G290","v":"Other"}]
[126,"FGFR3",5.9740181451005157,{"$f":"Composite!G161","v":"AGC"}]
[127,"MNK1",5.9084595817286925,{"$f":"Composite!G263","v":"STE"}]
[128,"STK38L (NDR2)",5.873436907919654,{"$f":"Composite!G284","v":"STE"}]
[129,"PDGFRA (PDGFRα)",5.8515189256511491,{"$f":"Composite!G316","v":"CAMK"}]
[130,"KDR (VEGFR2)",5.8394160583941641,{"$f":"Composite!G214","v":"STE"}]
[131,"PRKAA2-B1-G3 (AMPKα2β1γ3)",5.8354988819725406,{"$f":"Composite!G35","v":"TK"}]
[132,"PRKCD (PKCδ [delta])",5.8252542392993973,{"$f":"Composite!G338","v":"CAMK"}]
[133,"TSSK2",5.8168523676880284,{"$f":"Composite!G404","v":"TK"}]
[134,"JAK2 [JH1]",5.8125229672945835,{"$f":"Composite!G208","v":"TKL"}]
[135,"SIK1 (SIK)",5.6981454744249334,{"$f":"Composite!G377","v":"CMGC"}]
[136,"AURKC (AURC)",5.6291457489062253,{"$f":"Composite!G41","v":"Other"}]
[137,"PRKCB1 (PKCβ1 [beta1])",5.5792487289599819,{"$f":"Composite!G336","v":"AGC"}]
[138,"MAP4K1 (HPK1)",5.5667737494263463,{"$f":"Composite!G193","v":"AGC"}]
[139,"INSR (IR)",5.5606988791931684,{"$f":"Composite!G201","v":"TK"}]
[140,"IKKB (IKKβ)",5.5435059191314622,{"$f":"Composite!G199","v":"TK"}]
[141,"CDK17 (PCTAIRE2, PCTK2)/p35NCK",5.4547334677628072,{"$f":"Composite!G75","v":"CMGC"}]
[142,"CSF1R (FMS)",5.4402076262726951,{"$f":"Composite!G167","v":"CMGC"}]
[143,"CDK4 /CycD3",5.4186495782876989,{"$f":"Composite!G87","v":"CMGC"}]
[144,"NTRK1 (TRKA)",5.2939111921906346,{"$f":"Composite!G298","v":"CAMK"}]
[145,"HIPK1",5.2877955081721382,{"$f":"Composite!G189","v":"TK"}]
[146,"CDK17 (PCTAIRE2, PCTK2)/CycY",5.2450384771162106,{"$f":"Composite!G74","v":"CMGC"}]
[147,"STK3 (CLIK1, MST2)",5.2231163130943656,{"$f":"Composite!G272","v":"Other"}]
[148,"CAMK2A (CAMK2α)",5.1090417674286357,{"$f":"Composite!G58","v":"CMGC"}]
[149,"FLT1",5.0686249571439532,{"$f":"Composite!G164","v":"AGC"}]
[150,"MARK1",5.0542843548596323,{"$f":"Composite!G244","v":"CAMK"}]
[151,"MAK",4.9378338246049367,{"$f":"Composite!G230","v":"CMGC"}]
[152,"MAP4K4 (HGK, ZC1)",4.8694582657796133,{"$f":"Composite!G188","v":"TK"}]
[153,"FGFR2",4.6796600681899747,{"$f":"Composite!G160","v":"AGC"}]
[154,"MAP3K13 (LZK)",4.6697725404220023,{"$f":"Composite!G235","v":"CMGC"}]
[155,"FGR",4.5175695791420765,{"$f":"Composite!G163","v":"AGC"}]
[156,"PDK3 (PDHK3)",4.4698006189976525,{"$f":"Composite!G320","v":"CAMK"}]
[157,"STK25 (YSK1)",4.344861178762784,{"$f":"Composite!G419","v":"Other"}]
[158,"PNCK (CAMK1β)",4.2546861053257885,{"$f":"Composite!G55","v":"Other"}]
[159,"FLT4",4.2142880139081456,{"$f":"Composite!G166","v":"CMGC"}]
[160,"MAPK1 (ERK2)",4.200046667185191,{"$f":"Composite!G150","v":"TK"}]
[161,"SLK",4.1220089730807672,{"$f":"Composite!G380","v":"CAMK"}]
[162,"SGK3",4.0580265292323503,{"$f":"Composite!G376","v":"CMGC"}]
[163,"CSNK1A1 (CK1A1, CK1α)",4.0212299578293766,{"$f":"Composite!G102","v":"CK1"}]
[164,"MAPK14 (p38a)",3.9946215474256377,{"$f":"Composite!G303","v":"Other"}]
[165,"PLK1",3.9784820239680698,{"$f":"Composite!G352","v":"TKL"}]
[166,"FGFR4",3.9135819457822976,{"$f":"Composite!G162","v":"AGC"}]
[167,"BRSK1",3.7637418792936614,{"$f":"Composite!G50","v":"Other"}]
[168,"BRAF (BRAF1, RAFB1)",3.7591162591162686,{"$f":"Composite!G48","v":"CAMK"}]
[169,"MARK2",3.749393372157499,{"$f":"Composite!G245","v":"CAMK"}]
[170,"EPHB1",3.6761003836362534,{"$f":"Composite!G145","v":"TK"}]
[171,"STK38 (NDR1)",3.6505545666164494,{"$f":"Composite!G283","v":"STE"}]
[172,"MAPK9 (JNK2)",3.5451751690227411,{"$f":"Composite!G212","v":"STE"}]
[173,"TTK",3.5409525491486562,{"$f":"Composite!G409","v":"CAMK"}]
[174,"PBK (TOPK)",3.4894124664479449,{"$f":"Composite!G402","v":"STE"}]
[175,"EPHB2",3.4815157674428008,{"$f":"Composite!G146","v":"TK"}]
[176,"SIK3 (QSK)",3.3566575398032512,{"$f":"Composite!G379","v":"STE"}]
[177,"TAOK3 (TAO3)",3.3366783743101109,{"$f":"Composite!G392","v":"TK"}]
[178,"MAP3K5 (ASK1)",3.2545838514220407,{"$f":"Composite!G239","v":"CAMK"}]
[179,"JAK1 [JH1-JH2]",3.2352847096240538,{"$f":"Composite!G207","v":"STE"}]
[180,"PRKAA1-B1-G3 (AMPKα1β1γ3)",3.2068426766941087,{"$f":"Composite!G29","v":"Other"}]
[181,"TAOK1 (TAO1)",3.1565363272680571,{"$f":"Composite!G390","v":"AGC"}]
[182,"AKT1 (PKB)",3.1343542042896075,{"$f":"Composite!G23","v":"AGC"}]
[183,"EEF2K (eEF2K)",3.0936030970596278,{"$f":"Composite!G135","v":"TK"}]
[184,"MAP4K5 (KHS1)",3.0315654542541211,{"$f":"Composite!G215","v":"TKL"}]
[185,"DYRK4",3.0099101175385954,{"$f":"Composite!G134","v":"TK"}]
[186,"MAP3K3 (MEKK3)",2.9691839703742886,{"$f":"Composite!G238","v":"CMGC"}]
[187,"MAPKAPK2 (MK2)",2.9365447513583689,{"$f":"Composite!G258","v":"TK"}]
[188,"PRKCE (PKCe [epsilon])",2.8599219838954042,{"$f":"Composite!G339","v":"CAMK"}]
[189,"PRKG2 (PKG2, PGK2, CGK2)",2.7936729382816594,{"$f":"Composite!G325","v":"AGC"}]
[190,"CDK2/CycE1",2.7895839568991221,{"$f":"Composite!G80","v":"CMGC"}]
[191,"FRK",2.5845484906780456,{"$f":"Composite!G168","v":"Other"}]
[192,"DDR2",2.4094577969814281,{"$f":"Composite!G124","v":"Other"}]
[193,"FYNa (FYN)",2.3122864169141764,{"$f":"Composite!G169","v":"TK"}]
[194,"CAMK2D (CAMK2δ)",2.2786335083039262,{"$f":"Composite!G60","v":"CMGC"}]
[195,"FGFR1",2.2673743051848305,{"$f":"Composite!G159","v":"AGC"}]
[196,"JAK2 [JH1-JH2]",2.2565213466919545,{"$f":"Composite!G209","v":"TKL"}]
[197,"CDK9 (TAK)/CycT2",2.2529441884280601,{"$f":"Composite!G97","v":"TK"}]
[198,"EPHB3",2.1873741924352714,{"$f":"Composite!G147","v":"TK"}]
[199,"SGK1 (SGK)",2.1831558042968027,{"$f":"Composite!G374","v":"TK"}]
[200,"CIT (CRIK)",2.1652504798572494,{"$f":"Composite!G115","v":"AGC"}]
[201,"PRKAA2-B2-G2 (AMPKα2β2γ2)",2.1028413296006931,{"$f":"Composite!G37","v":"TKL"}]
[202,"PIM2",2.0999127175643366,{"$f":"Composite!G329","v":"AGC"}]
[203,"CDK18 (PCTAIRE3, PCTK3)/CycY ",2.0920783102186107,{"$f":"Composite!G76","v":"CMGC"}]
[204,"SBK1 (SBK)",2.0122489876502243,{"$f":"Composite!G373","v":"TK"}]
[205,"MASTL",1.9847517092479308,{"$f":"Composite!G249","v":"CAMK"}]
[206,"NEK2",1.9355787488592142,{"$f":"Composite!G288","v":"STE"}]
[207,"KIT (SCFR, CD117)",1.7770352369380475,{"$f":"Composite!G216","v":"STE"}]
[208,"MINK1 (MAP4K6, MINK, ZC3)",1.7335718419529371,{"$f":"Composite!G257","v":"Atypical"}]
[209,"PHKG2",1.730677711340121,{"$f":"Composite!G327","v":"AGC"}]
[210,"EIF2AK1 (HRI)",1.5922875381787094,{"$f":"Composite!G194","v":"AGC"}]
[211,"CLK1",1.5679766453760209,{"$f":"Composite!G111","v":"CAMK"}]
[212,"GRK1 (RHOK)",1.559559602863871,{"$f":"Composite!G175","v":"CMGC"}]
[213,"RPS6KB1 (p70S6K)",1.5489221876917583,{"$f":"Composite!G307","v":"AGC"}]
[214,"PIM1",1.5461941474634813,{"$f":"Composite!G328","v":"AGC"}]
[215,"PRKAA1-B2-G1 (AMPKα1β2γ1)",1.5416023241814401,{"$f":"Composite!G30","v":"TK"}]
[216,"TRPM7 (CHAK1)",1.5288230653621895,{"$f":"Composite!G99","v":"CK1"}]
[217,"TYRO3",1.4344452344885212,{"$f":"Composite!G413","v":"TK"}]
[218,"MAP3K12 (DLK)",1.4097744360902169,{"$f":"Composite!G234","v":"CAMK"}]
[219,"RIPK1",1.401720477383293,{"$f":"Composite!G362","v":"AGC"}]
[220,"IKKE (IKKe)",1.3922732479433506,{"$f":"Composite!G200","v":"TK"}]
[221,"MAP3K20 (MLK7, ZAK)",1.3672999424294829,{"$f":"Composite!G421","v":"TK"}]
[222,"PRKAA2-B1-G1 (AMPKα2β1γ1)",1.3599635825651575,{"$f":"Composite!G33","v":"TK"}]
[223,"FES",1.3217305639931283,{"$f":"Composite!G158","v":"Other"}]
[224,"STK24 (MST3)",1.234170156873418,{"$f":"Composite!G273","v":"Other"}]
[225,"CLK4",1.1834319526627155,{"$f":"Composite!G114","v":"TK"}]
[226,"CAMKK2",1.1747409289446011,{"$f":"Composite!G64","v":"CMGC"}]
[227,"MAPK12 (p38γ)",1.0455104551045622,{"$f":"Composite!G306","v":"AGC"}]
[228,"MET (c-MET, HGFR)",1.0303406237512149,{"$f":"Composite!G256","v":"TK"}]
[229,"PRKAA1-B1-G2 (AMPKα1β1γ2)",1.0117379609935,{"$f":"Composite!G28","v":"Other"}]
[230,"EPHA1",1.010379741461648,{"$f":"Composite!G137","v":"TK"}]
[231,"AKT2 (PKBb)",0.9710774763974257,{"$f":"Composite!G24","v":"AGC"}]
[232,"TTBK2",0.7353903326267357,{"$f":"Composite!G408","v":"CAMK"}]
[233,"TEK (TIE2)",0.68749738395213456,{"$f":"Composite!G395","v":"STE"}]
[234,"PRKCH (PKCη [eta])",0.61063467637586655,{"$f":"Composite!G341","v":"Atypical"}]
[235,"CSNK1G1 (CK1G1, CK1γ1)",0.59417706476531862,{"$f":"Composite!G106","v":"Other"}]
[236,"PAK4",0.57746014116587219,{"$f":"Composite!G312","v":"CAMK"}]
[237,"RPS6KB2 (p70S6KB)",0.55825081411576605,{"$f":"Composite!G308","v":"Other"}]
[238,"DAPK2 (DRP-1)",0.53463876516232745,{"$f":"Composite!G119","v":"CMGC"}]
[239,"HUNK",0.48519577754193222,{"$f":"Composite!G195","v":"TK"}]
[240,"CSNK1D (CK1D, CK1δ)",0.40618955512572086,{"$f":"Composite!G104","v":"CK1"}]
[241,"BMP2K (BIKE)",0.25472135028043397,{"$f":"Composite!G45","v":"CAMK"}]
[242,"MAPK3 (ERK1)",0.2404294181235116,{"$f":"Composite!G149","v":"TK"}]
[243,"PAK5 (PAK7)",0.23887515816608129,{"$f":"Composite!G313","v":"CAMK"}]
[244,"CDK14 (PFTAIRE1, PFTK1)/CycY",0.14711144686096134,{"$f":"Composite!G72","v":"CMGC"}]
[245,"CAMKK1",0.1345604300268235,{"$f":"Composite!G63","v":"CMGC"}]
[246,"SRPK2",8.5386769081921443E-2,{"$f":"Composite!G386","v":"STE"}]
[247,"MAPK8 (JNK1)",4.8846590192866302E-2,{"$f":"Composite!G211","v":"TKL"}]
[248,"PKN1",3.4023249220311413E-2,{"$f":"Composite!G348","v":"TKL"}]
[249,{"$f":"Composite!B423","v":0},{"$f":"Composite!X423","v":0},{"$f":"Composite!G423","v":0}]
[250,{"$f":"Composite!B424","v":0},{"$f":"Composite!X424","v":0},{"$f":"Composite!G424","v":0}]
[251,{"$f":"Composite!B425","v":0},{"$f":"Composite!X425","v":0},{"$f":"Composite!G425","v":0}]
[252,{"$f":"Composite!B426","v":0},{"$f":"Composite!X426","v":0},{"$f":"Composite!G426","v":0}]
[253,{"$f":"Composite!B427","v":0},{"$f":"Composite!X427","v":0},{"$f":"Composite!G427","v":0}]
[254,{"$f":"Composite!B428","v":0},{"$f":"Composite!X428","v":0},{"$f":"Composite!G428","v":0}]
[255,{"$f":"Composite!B429","v":0},{"$f":"Composite!X429","v":0},{"$f":"Composite!G429","v":0}]
[256,{"$f":"Composite!B430","v":0},{"$f":"Composite!X430","v":0},{"$f":"Composite!G430","v":0}]
[257,{"$f":"Composite!B431","v":0},{"$f":"Composite!X431","v":0},{"$f":"Composite!G431","v":0}]
[258,{"$f":"Composite!B432","v":0},{"$f":"Composite!X432","v":0},{"$f":"Composite!G432","v":0}]
[259,{"$f":"Composite!B433","v":0},{"$f":"Composite!X433","v":0},{"$f":"Composite!G433","v":0}]
[260,{"$f":"Composite!B434","v":0},{"$f":"Composite!X434","v":0},{"$f":"Composite!G434","v":0}]
[261,{"$f":"Composite!B435","v":0},{"$f":"Composite!X435","v":0},{"$f":"Composite!G435","v":0}]
[262,{"$f":"Composite!B436","v":0},{"$f":"Composite!X436","v":0},{"$f":"Composite!G436","v":0}]
[263,{"$f":"Composite!B437","v":0},{"$f":"Composite!X437","v":0},{"$f":"Composite!G437","v":0}]
[264,{"$f":"Composite!B438","v":0},{"$f":"Composite!X438","v":0},{"$f":"Composite!G438","v":0}]
[265,{"$f":"Composite!B439","v":0},{"$f":"Composite!X439","v":0},{"$f":"Composite!G439","v":0}]
[266,{"$f":"Composite!B440","v":0},{"$f":"Composite!X440","v":0},{"$f":"Composite!G440","v":0}]
[267,{"$f":"Composite!B441","v":0},{"$f":"Composite!X441","v":0},{"$f":"Composite!G441","v":0}]
[268,{"$f":"Composite!B442","v":0},{"$f":"Composite!X442","v":0},{"$f":"Composite!G442","v":0}]
[269,{"$f":"Composite!B443","v":0},{"$f":"Composite!X443","v":0},{"$f":"Composite!G443","v":0}]
[270,{"$f":"Composite!B444","v":0},{"$f":"Composite!X444","v":0},{"$f":"Composite!G444","v":0}]
[271,{"$f":"Composite!B445","v":0},{"$f":"Composite!X445","v":0},{"$f":"Composite!G445","v":0}]
[272,{"$f":"Composite!B446","v":0},{"$f":"Composite!X446","v":0},{"$f":"Composite!G446","v":0}]
[273,{"$f":"Composite!B447","v":0},{"$f":"Composite!X447","v":0},{"$f":"Composite!G447","v":0}]
[274,{"$f":"Composite!B448","v":0},{"$f":"Composite!X448","v":0},{"$f":"Composite!G448","v":0}]
[275,{"$f":"Composite!B449","v":0},{"$f":"Composite!X449","v":0},{"$f":"Composite!G449","v":0}]
[276,{"$f":"Composite!B450","v":0},{"$f":"Composite!X450","v":0},{"$f":"Composite!G450","v":0}]
[277,{"$f":"Composite!B451","v":0},{"$f":"Composite!X451","v":0},{"$f":"Composite!G451","v":0}]
[278,{"$f":"Composite!B452","v":0},{"$f":"Composite!X452","v":0},{"$f":"Composite!G452","v":0}]
[279,{"$f":"Composite!B453","v":0},{"$f":"Composite!X453","v":0},{"$f":"Composite!G453","v":0}]
[280,{"$f":"Composite!B454","v":0},{"$f":"Composite!X454","v":0},{"$f":"Composite!G454","v":0}]
[281,{"$f":"Composite!B455","v":0},{"$f":"Composite!X455","v":0},{"$f":"Composite!G455","v":0}]
[282,{"$f":"Composite!B456","v":0},{"$f":"Composite!X456","v":0},{"$f":"Composite!G456","v":0}]
[283,{"$f":"Composite!B457","v":0},{"$f":"Composite!X457","v":0},{"$f":"Composite!G457","v":0}]
[284,{"$f":"Composite!B458","v":0},{"$f":"Composite!X458","v":0},{"$f":"Composite!G458","v":0}]
[285,{"$f":"Composite!B459","v":0},{"$f":"Composite!X459","v":0},{"$f":"Composite!G459","v":0}]
[286,{"$f":"Composite!B460","v":0},{"$f":"Composite!X460","v":0},{"$f":"Composite!G460","v":0}]
[287,{"$f":"Composite!B461","v":0},{"$f":"Composite!X461","v":0},{"$f":"Composite!G461","v":0}]
[288,{"$f":"Composite!B462","v":0},{"$f":"Composite!X462","v":0},{"$f":"Composite!G462","v":0}]
[289,{"$f":"Composite!B463","v":0},{"$f":"Composite!X463","v":0},{"$f":"Composite!G463","v":0}]
[290,{"$f":"Composite!B464","v":0},{"$f":"Composite!X464","v":0},{"$f":"Composite!G464","v":0}]
[291,{"$f":"Composite!B465","v":0},{"$f":"Composite!X465","v":0},{"$f":"Composite!G465","v":0}]
[292,{"$f":"Composite!B466","v":0},{"$f":"Composite!X466","v":0},{"$f":"Composite!G466","v":0}]
[293,{"$f":"Composite!B467","v":0},{"$f":"Composite!X467","v":0},{"$f":"Composite!G467","v":0}]
[294,{"$f":"Composite!B468","v":0},{"$f":"Composite!X468","v":0},{"$f":"Composite!G468","v":0}]
[295,{"$f":"Composite!B469","v":0},{"$f":"Composite!X469","v":0},{"$f":"Composite!G469","v":0}]
[296,{"$f":"Composite!B470","v":0},{"$f":"Composite!X470","v":0},{"$f":"Composite!G470","v":0}]
[297,{"$f":"Composite!B471","v":0},{"$f":"Composite!X471","v":0},{"$f":"Composite!G471","v":0}]
[298,{"$f":"Composite!B472","v":0},{"$f":"Composite!X472","v":0},{"$f":"Composite!G472","v":0}]
[299,{"$f":"Composite!B473","v":0},{"$f":"Composite!X473","v":0},{"$f":"Composite!G473","v":0}]
[300,{"$f":"Composite!B474","v":0},{"$f":"Composite!X474","v":0},{"$f":"Composite!G474","v":0}]
[301,{"$f":"Composite!B475","v":0},{"$f":"Composite!X475","v":0},{"$f":"Composite!G475","v":0}]
[302,{"$f":"Composite!B476","v":0},{"$f":"Composite!X476","v":0},{"$f":"Composite!G476","v":0}]
[303,{"$f":"Composite!B477","v":0},{"$f":"Composite!X477","v":0},{"$f":"Composite!G477","v":0}]
[304,{"$f":"Composite!B478","v":0},{"$f":"Composite!X478","v":0},{"$f":"Composite!G478","v":0}]
[305,{"$f":"Composite!B479","v":0},{"$f":"Composite!X479","v":0},{"$f":"Composite!G479","v":0}]
[306,{"$f":"Composite!B480","v":0},{"$f":"Composite!X480","v":0},{"$f":"Composite!G480","v":0}]
[307,{"$f":"Composite!B481","v":0},{"$f":"Composite!X481","v":0},{"$f":"Composite!G481","v":0}]
[308,{"$f":"Composite!B482","v":0},{"$f":"Composite!X482","v":0},{"$f":"Composite!G482","v":0}]
[309,{"$f":"Composite!B483","v":0},{"$f":"Composite!X483","v":0},{"$f":"Composite!G483","v":0}]
[310,{"$f":"Composite!B484","v":0},{"$f":"Composite!X484","v":0},{"$f":"Composite!G484","v":0}]
[311,{"$f":"Composite!B485","v":0},{"$f":"Composite!X485","v":0},{"$f":"Composite!G485","v":0}]
[312,{"$f":"Composite!B486","v":0},{"$f":"Composite!X486","v":0},{"$f":"Composite!G486","v":0}]
[313,{"$f":"Composite!B487","v":0},{"$f":"Composite!X487","v":0},{"$f":"Composite!G487","v":0}]
[314,{"$f":"Composite!B488","v":0},{"$f":"Composite!X488","v":0},{"$f":"Composite!G488","v":0}]
[315,{"$f":"Composite!B489","v":0},{"$f":"Composite!X489","v":0},{"$f":"Composite!G489","v":0}]
[316,{"$f":"Composite!B490","v":0},{"$f":"Composite!X490","v":0},{"$f":"Composite!G490","v":0}]
[317,{"$f":"Composite!B491","v":0},{"$f":"Composite!X491","v":0},{"$f":"Composite!G491","v":0}]
[318,{"$f":"Composite!B492","v":0},{"$f":"Composite!X492","v":0},{"$f":"Composite!G492","v":0}]
[319,{"$f":"Composite!B493","v":0},{"$f":"Composite!X493","v":0},{"$f":"Composite!G493","v":0}]
[320,{"$f":"Composite!B494","v":0},{"$f":"Composite!X494","v":0},{"$f":"Composite!G494","v":0}]
[321,{"$f":"Composite!B495","v":0},{"$f":"Composite!X495","v":0},{"$f":"Composite!G495","v":0}]
[322,{"$f":"Composite!B496","v":0},{"$f":"Composite!X496","v":0},{"$f":"Composite!G496","v":0}]
[323,{"$f":"Composite!B497","v":0},{"$f":"Composite!X497","v":0},{"$f":"Composite!G497","v":0}]
[324,{"$f":"Composite!B498","v":0},{"$f":"Composite!X498","v":0},{"$f":"Composite!G498","v":0}]
[325,{"$f":"Composite!B499","v":0},{"$f":"Composite!X499","v":0},{"$f":"Composite!G499","v":0}]
[326,{"$f":"Composite!B500","v":0},{"$f":"Composite!X500","v":0},{"$f":"Composite!G500","v":0}]
[327,{"$f":"Composite!B501","v":0},{"$f":"Composite!X501","v":0},{"$f":"Composite!G501","v":0}]
[328,{"$f":"Composite!B502","v":0},{"$f":"Composite!X502","v":0},{"$f":"Composite!G502","v":0}]
[329,{"$f":"Composite!B503","v":0},{"$f":"Composite!X503","v":0},{"$f":"Composite!G503","v":0}]
[330,{"$f":"Composite!B504","v":0},{"$f":"Composite!X504","v":0},{"$f":"Composite!G504","v":0}]
[331,{"$f":"Composite!B505","v":0},{"$f":"Composite!X505","v":0},{"$f":"Composite!G505","v":0}]
[332,{"$f":"Composite!B506","v":0},{"$f":"Composite!X506","v":0},{"$f":"Composite!G506","v":0}]
[333,{"$f":"Composite!B507","v":0},{"$f":"Composite!X507","v":0},{"$f":"Composite!G507","v":0}]
[334,{"$f":"Composite!B508","v":0},{"$f":"Composite!X508","v":0},{"$f":"Composite!G508","v":0}]
[335,{"$f":"Composite!B509","v":0},{"$f":"Composite!X509","v":0},{"$f":"Composite!G509","v":0}]
[336,{"$f":"Composite!B510","v":0},{"$f":"Composite!X510","v":0},{"$f":"Composite!G510","v":0}]
[337,{"$f":"Composite!B511","v":0},{"$f":"Composite!X511","v":0},{"$f":"Composite!G511","v":0}]
[338,{"$f":"Composite!B512","v":0},{"$f":"Composite!X512","v":0},{"$f":"Composite!G512","v":0}]
[339,{"$f":"Composite!B513","v":0},{"$f":"Composite!X513","v":0},{"$f":"Composite!G513","v":0}]
[340,{"$f":"Composite!B514","v":0},{"$f":"Composite!X514","v":0},{"$f":"Composite!G514","v":0}]
[341,{"$f":"Composite!B515","v":0},{"$f":"Composite!X515","v":0},{"$f":"Composite!G515","v":0}]
[342,{"$f":"Composite!B516","v":0},{"$f":"Composite!X516","v":0},{"$f":"Composite!G516","v":0}]
[343,{"$f":"Composite!B517","v":0},{"$f":"Composite!X517","v":0},{"$f":"Composite!G517","v":0}]
[344,{"$f":"Composite!B518","v":0},{"$f":"Composite!X518","v":0},{"$f":"Composite!G518","v":0}]
[345,{"$f":"Composite!B519","v":0},{"$f":"Composite!X519","v":0},{"$f":"Composite!G519","v":0}]
[346,{"$f":"Composite!B520","v":0},{"$f":"Composite!X520","v":0},{"$f":"Composite!G520","v":0}]
[347,{"$f":"Composite!B521","v":0},{"$f":"Composite!X521","v":0},{"$f":"Composite!G521","v":0}]
[348,{"$f":"Composite!B522","v":0},{"$f":"Composite!X522","v":0},{"$f":"Composite!G522","v":0}]
[349,{"$f":"Composite!B523","v":0},{"$f":"Composite!X523","v":0},{"$f":"Composite!G523","v":0}]
[350,{"$f":"Composite!B524","v":0},{"$f":"Composite!X524","v":0},{"$f":"Composite!G524","v":0}]
[351,{"$f":"Composite!B525","v":0},{"$f":"Composite!X525","v":0},{"$f":"Composite!G525","v":0}]
[352,{"$f":"Composite!B526","v":0},{"$f":"Composite!X526","v":0},{"$f":"Composite!G526","v":0}]
[353,{"$f":"Composite!B527","v":0},{"$f":"Composite!X527","v":0},{"$f":"Composite!G527","v":0}]
[354,{"$f":"Composite!B528","v":0},{"$f":"Composite!X528","v":0},{"$f":"Composite!G528","v":0}]
[355,{"$f":"Composite!B529","v":0},{"$f":"Composite!X529","v":0},{"$f":"Composite!G529","v":0}]
[356,{"$f":"Composite!B530","v":0},{"$f":"Composite!X530","v":0},{"$f":"Composite!G530","v":0}]
[357,{"$f":"Composite!B531","v":0},{"$f":"Composite!X531","v":0},{"$f":"Composite!G531","v":0}]
[358,{"$f":"Composite!B532","v":0},{"$f":"Composite!X532","v":0},{"$f":"Composite!G532","v":0}]
[359,{"$f":"Composite!B533","v":0},{"$f":"Composite!X533","v":0},{"$f":"Composite!G533","v":0}]
[360,{"$f":"Composite!B534","v":0},{"$f":"Composite!X534","v":0},{"$f":"Composite!G534","v":0}]
[361,{"$f":"Composite!B535","v":0},{"$f":"Composite!X535","v":0},{"$f":"Composite!G535","v":0}]
[362,{"$f":"Composite!B536","v":0},{"$f":"Composite!X536","v":0},{"$f":"Composite!G536","v":0}]
[363,{"$f":"Composite!B537","v":0},{"$f":"Composite!X537","v":0},{"$f":"Composite!G537","v":0}]
[364,"SGK2",-4.282792809192415E-3,{"$f":"Composite!G375","v":"TK"}]
[365,"PRKX",-7.5475878878535241E-2,{"$f":"Composite!G356","v":"AGC"}]
[366,"BRSK2",-8.009736510875598E-2,{"$f":"Composite!G51","v":"Other"}]
[367,"PKMYT1 (MYT1)",-0.11215791834901268,{"$f":"Composite!G282","v":"CAMK"}]
[368,"SRPK1",-0.12451085023123198,{"$f":"Composite!G385","v":"STE"}]
[369,"CDK6/CycD3",-0.12852562744515694,{"$f":"Composite!G92","v":"AGC"}]
[370,"TAOK2 (TAO2)",-0.1409277745155606,{"$f":"Composite!G391","v":"STE"}]
[371,"STK10 (LOK)",-0.15439557955717476,{"$f":"Composite!G225","v":"STE"}]
[372,"CDK16 (PCTAIRE1, PCTK1)/CycY ",-0.21344391761064685,{"$f":"Composite!G73","v":"CMGC"}]
[373,"PRKCZ (PKCζ [zeta])",-0.21532926297427935,{"$f":"Composite!G344","v":"AGC"}]
[374,"CLK3",-0.22298548796057105,{"$f":"Composite!G113","v":"TK"}]
[375,"GSK3B (GSK3β)",-0.27060528291343644,{"$f":"Composite!G183","v":"TK"}]
[376,"PLK4",-0.40121342597126386,{"$f":"Composite!G355","v":"TK"}]
[377,"EPHA8",-0.41113510037209267,{"$f":"Composite!G144","v":"Other"}]
[378,"GRK2 (ADRBK1, BARK1)",-0.56378907353659713,{"$f":"Composite!G176","v":"TK"}]
[379,"CDC42BPB (MRCKB)",-0.62996341572231529,{"$f":"Composite!G266","v":"Other"}]
[380,"ULK2",-0.63745861801790227,{"$f":"Composite!G415","v":"TK"}]
[381,"MST1R (RON)",-0.66675313037939077,{"$f":"Composite!G271","v":"Other"}]
[382,"CSK",-0.7332193893546588,{"$f":"Composite!G116","v":"TKL"}]
[383,"mTOR (FRAP)",-0.7997982490903297,{"$f":"Composite!G275","v":"Other"}]
[384,"NEK6",-0.82736296447205859,{"$f":"Composite!G292","v":"TK"}]
[385,"MNK2",-0.90936521313898311,{"$f":"Composite!G264","v":"STE"}]
[386,"MAP3K1 (MEKK1)",-0.94067106140286683,{"$f":"Composite!G231","v":"CMGC"}]
[387,"NEK7",-0.9777272056809494,{"$f":"Composite!G293","v":"Atypical"}]
[388,"SIK2 (QIK)",-1.1088351768401026,{"$f":"Composite!G378","v":"CMGC"}]
[389,"ICK",-1.1447581334110453,{"$f":"Composite!G196","v":"TKL"}]
[390,"CDK13 (CHED)/CycK",-1.19444451966325,{"$f":"Composite!G71","v":"CMGC"}]
[391,"DCLK2 (DCAMKL2)",-1.2441831190663635,{"$f":"Composite!G122","v":"Atypical"}]
[392,"BCKDK",-1.2971189713021829,{"$f":"Composite!G43","v":"CAMK"}]
[393,"IRAK1",-1.3502644847959857,{"$f":"Composite!G203","v":"STE"}]
[394,"PRKCA (PKCα [alpha])",-1.3605098847856283,{"$f":"Composite!G335","v":"AGC"}]
[395,"TSSK3",-1.3791729940999033,{"$f":"Composite!G405","v":"Atypical"}]
[396,"DYRK3",-1.4700699793586125,{"$f":"Composite!G133","v":"TK"}]
[397,"FAM20C",-1.5185915379618962,{"$f":"Composite!G156","v":"TK"}]
[398,"CSNK1G3 (CK1G3, CK1γ3)",-1.5577730618142311,{"$f":"Composite!G108","v":"CAMK"}]
[399,"LIMK2",-1.608431590416302,{"$f":"Composite!G223","v":"STE"}]
[400,"PTK2 (FAK)",-1.6862842866312064,{"$f":"Composite!G357","v":"AGC"}]
[401,"CDK5/p25",-1.8057335041639959,{"$f":"Composite!G88","v":"CMGC"}]
[402,"NTRK2 (TRKB)",-1.8191551219692172,{"$f":"Composite!G299","v":"CAMK"}]
[403,"PDPK1 (PDK1)",-1.8284228769497446,{"$f":"Composite!G322","v":"CAMK"}]
[404,"MAP2K2 (MEK2)",-1.8489602988904892,{"$f":"Composite!G251","v":"TK"}]
[405,"EPHA5",-1.875931541347569,{"$f":"Composite!G141","v":"TK"}]
[406,"PAK1",-1.9300339034415117,{"$f":"Composite!G309","v":"Other"}]
[407,"CDK7/CycH/MAT1",-1.96158582385074,{"$f":"Composite!G93","v":"CMGC"}]
[408,"NEK11",-1.9644617567145275,{"$f":"Composite!G287","v":"STE"}]
[409,"STK26 (MST4)",-1.9722067100827871,{"$f":"Composite!G274","v":"Other"}]
[410,"MAPK13 (p38δ)",-1.9801741975843186,{"$f":"Composite!G305","v":"AGC"}]
[411,"SYK",-2.1018876905540225,{"$f":"Composite!G389","v":"AGC"}]
[412,"CDK5/p35NCK",-2.1227690643591188,{"$f":"Composite!G89","v":"CAMK"}]
[413,"DCLK1 (DCAMKL1)",-2.2496918039370826,{"$f":"Composite!G121","v":"CMGC"}]
[414,"SRC",-2.3176217484842425,{"$f":"Composite!G382","v":"CAMK"}]
[415,"HASPIN",-2.4138193493032247,{"$f":"Composite!G184","v":"TK"}]
[416,"LIMK1",-2.4352088815196709,{"$f":"Composite!G222","v":"STE"}]
[417,"PDK4 (PDHK4)",-2.5646426878719097,{"$f":"Composite!G321","v":"CAMK"}]
[418,"EPHA3",-2.5732987577899422,{"$f":"Composite!G139","v":"TK"}]
[419,"CHEK2 (CHK2)",-2.5896917635169814,{"$f":"Composite!G101","v":"CK1"}]
[420,"PIM3",-2.5978974738305141,{"$f":"Composite!G330","v":"AGC"}]
[421,"PRKACG (PKACG, PKACg)",-2.6016693304919158,{"$f":"Composite!G334","v":"AGC"}]
[422,"MAPKAPK5 (MK5)",-2.6691360714675199,{"$f":"Composite!G260","v":"CAMK"}]
[423,"TLK1",-2.6949950092684958,{"$f":"Composite!G397","v":"TK"}]
[424,"AURKB (AURB)",-2.750648323150628,{"$f":"Composite!G40","v":"TK"}]
[425,"NEK10",-2.7944690508803376,{"$f":"Composite!G286","v":"STE"}]
[426,"PRKD1 (PKD1)",-2.8626455397006083,{"$f":"Composite!G345","v":"TK"}]
[427,"DAPK1",-2.8676926066730601,{"$f":"Composite!G118","v":"CMGC"}]
[428,"ERN1 (IRE1)",-2.8873997846117021,{"$f":"Composite!G154","v":"TK"}]
[429,"ULK1",-2.9138094582950202,{"$f":"Composite!G414","v":"TK"}]
[430,"SRC N1",-3.0580309294135475,{"$f":"Composite!G383","v":"CAMK"}]
[431,"KSR2",-3.1573412785348154,{"$f":"Composite!G218","v":"STE"}]
[432,"DSTYK (RIPK5, SGK496)",-3.2964766069807894,{"$f":"Composite!G365","v":"AGC"}]
[433,"MAP3K9 (MLK1)",-3.3720868503477419,{"$f":"Composite!G243","v":"CAMK"}]
[434,"NUAK1 (ARK5)",-3.385858933293207,{"$f":"Composite!G301","v":"CAMK"}]
[435,"PKN3",-3.4189245965810642,{"$f":"Composite!G350","v":"TKL"}]
[436,"MYLK4 (SgK085)",-3.4309184473721075,{"$f":"Composite!G279","v":"TK"}]
[437,"CSNK1G2 (CK1G2, CK1γ2)",-3.447125461441928,{"$f":"Composite!G107","v":"Other"}]
[438,"TESK2",-3.4622467771639407,{"$f":"Composite!G396","v":"Other"}]
[439,"MYO3A",-3.4861245340328679,{"$f":"Composite!G280","v":"TK"}]
[440,"MELK",-3.5106348598100396,{"$f":"Composite!G254","v":"CAMK"}]
[441,"MAP2K1 (MEK1)",-3.640975322192233,{"$f":"Composite!G250","v":"TK"}]
[442,"MAP3K7 (TAK1)",-3.7065756823821516,{"$f":"Composite!G241","v":"CAMK"}]
[443,"STK4 (MST1)",-3.7171897102740274,{"$f":"Composite!G270","v":"Other"}]
[444,"MAP3K8 (COT, Tpl2)",-4.015565688638489,{"$f":"Composite!G242","v":"CAMK"}]
[445,"SNRK",-4.0670863293247521,{"$f":"Composite!G381","v":"Other"}]
[446,"EPHA7",-4.1751758565918209,{"$f":"Composite!G143","v":"Other"}]
[447,"STK33",-4.1864915296063145,{"$f":"Composite!G388","v":"CAMK"}]
[448,"PAK3",-4.2665258452132377,{"$f":"Composite!G311","v":"Other"}]
[449,"PRKCI (PKCι [iota])",-4.3369059756794996,{"$f":"Composite!G342","v":"AGC"}]
[450,"MARK4",-4.3538415115659461,{"$f":"Composite!G247","v":"AGC"}]
[451,"NUAK2 (SNARK)",-4.5130139968075298,{"$f":"Composite!G302","v":"CAMK"}]
[452,"MUSK",-4.735001780684442,{"$f":"Composite!G276","v":"CAMK"}]
[453,"RPS6KA1 (RSK1)",-4.8204987196893114,{"$f":"Composite!G369","v":"CAMK"}]
[454,"MAP3K2 (MEKK2)",-4.9006279536479695,{"$f":"Composite!G237","v":"CMGC"}]
[455,"MAP3K10 (MLK2)",-4.9052672280460712,{"$f":"Composite!G232","v":"CMGC"}]
[456,"DAPK3 (ZIPK)",-5.0096425345626017,{"$f":"Composite!G120","v":"CMGC"}]
[457,"SRPK3 (MSSK1)",-5.0266435868716712,{"$f":"Composite!G269","v":"Other"}]
[458,"PRKCG (PKCγ [gamma])",-5.0903057234947369,{"$f":"Composite!G340","v":"CAMK"}]
[459,"PRKACB (PKACB, PKACβ)",-5.2851499550776566,{"$f":"Composite!G333","v":"AGC"}]
[460,"MYLK2 (skMLCK)",-5.3808665464984244,{"$f":"Composite!G277","v":"CMGC"}]
[461,"AAK1",-5.6639985717261254,{"$f":"Composite!G20","v":"Other"}]
[462,"KSR1",-5.7144109524992501,{"$f":"Composite!G217","v":"STE"}]
[463,"PRKACA (PKACA, PKACα)",-5.766340520810985,{"$f":"Composite!G332","v":"AGC"}]
[464,"STK16 (MPSK1, PKL12, TSF1)",-5.8943653594512,{"$f":"Composite!G387","v":"STE"}]
[465,"PRKCB2 (PKCβ2 [beta2])",-5.8987927087301557,{"$f":"Composite!G337","v":"AGC"}]
[466,"ROCK1",-6.3551736484067334,{"$f":"Composite!G366","v":"AGC"}]
[467,"MYLK3 (caMLCK)",-6.3709908815495737,{"$f":"Composite!G278","v":"TK"}]
[468,"PRKDC (DNA-PK)",-6.4556011142758791,{"$f":"Composite!G127","v":"Other"}]
[469,"JAK1 [JH1]",-6.6661038887950923,{"$f":"Composite!G206","v":"STE"}]
[470,"FYNb (FYN)",-6.6913005060647208,{"$f":"Composite!G170","v":"CMGC"}]
[471,"CSNK1E (CK1E, CK1ε)",-6.8421662994317956,{"$f":"Composite!G105","v":"CK1"}]
[472,"RET",-6.8782240911424566,{"$f":"Composite!G361","v":"AGC"}]
[473,"MERTK (MER)",-6.920783974547092,{"$f":"Composite!G255","v":"CAMK"}]
[474,"PRKAA1-B1-G1 (AMPKα1β1γ1)",-6.9387722953201774,{"$f":"Composite!G27","v":"Other"}]
[475,"DYRK1B",-7.2307390194409464,{"$f":"Composite!G131","v":"TK"}]
[476,"ABL2 (ARG)",-7.2938648659018384,{"$f":"Composite!G22","v":"TK"}]
[477,"MAPK10 (JNK3)",-7.6413178382037898,{"$f":"Composite!G213","v":"STE"}]
[478,"LCK",-7.7985350999917529,{"$f":"Composite!G221","v":"TKL"}]
[479,"YES1 (YES)",-8.0343264957639207,{"$f":"Composite!G418","v":"Other"}]
[480,"RPS6KA2 (RSK3)",-8.3488279244852635,{"$f":"Composite!G371","v":"STE"}]
[481,"HIPK4",-8.5192595031276142,{"$f":"Composite!G192","v":"TKL"}]
[482,"LATS2",-8.6800662119294145,{"$f":"Composite!G220","v":"STE"}]
[483,"EIF2AK4 (GCN2)",-8.741839684969321,{"$f":"Composite!G173","v":"CMGC"}]
[484,"EPHA4",-9.7559396646597918,{"$f":"Composite!G140","v":"TK"}]
[485,"ULK3",-9.7757142857142867,{"$f":"Composite!G416","v":"TK"}]
[486,"PRKAA2-B1-G2 (AMPKα2β1γ2)",-10.511725220120312,{"$f":"Composite!G34","v":"Other"}]
[487,"PASK",-10.576083794006408,{"$f":"Composite!G315","v":"CAMK"}]
[488,"PRKD3 (PKD3)",-10.786670535085193,{"$f":"Composite!G347","v":"TK"}]
[489,"PRKAA1-B2-G3 (AMPKα1β2γ3)",-10.889841716202909,{"$f":"Composite!G32","v":"TK"}]
[490,"DDR1 [SRC treated]",-10.960928166478197,{"$f":"Composite!G123","v":"TK"}]
[491,"MAPK11 (p38b)",-11.409095068167261,{"$f":"Composite!G304","v":"Other"}]
[492,"NTRK3 (TRKC)",-11.588582066397763,{"$f":"Composite!G300","v":"CAMK"}]
[493,"RPS6KA3 (RSK2)",-11.696249591405149,{"$f":"Composite!G370","v":"CAMK"}]
[494,"CLK2",-12.036848089088394,{"$f":"Composite!G112","v":"CAMK"}]
[495,"BCR RET (fusion)",-12.242349796849481,{"$f":"Composite!G44","v":"CAMK"}]
[496,"NIM1 (NIM1K)",-12.286675940512794,{"$f":"Composite!G296","v":"Atypical"}]
[497,"RPS6KA6 (RSK4)",-13.377597250429602,{"$f":"Composite!G372","v":"CAMK"}]
[498,"ROCK2",-13.491246138002097,{"$f":"Composite!G367","v":"AGC"}]
[499,"LYNB (LYNb)",-14.173148116700062,{"$f":"Composite!G229","v":"CMGC"}]
[500,"CDKL5",-14.88231898929007,{"$f":"Composite!G98","v":"TK"}]
[501,"MATK (CTK)",-16.036355233767267,{"$f":"Composite!G117","v":"CMGC"}]
[502,"MAPKAPK3 (MK3)",-16.161441789808038,{"$f":"Composite!G259","v":"CAMK"}]
[503,"TBK1",-16.252278161419198,{"$f":"Composite!G393","v":"STE"}]
[504,"STK17B (DRAK2)",-16.424584058063388,{"$f":"Composite!G129","v":"TK"}]
[505,"GRK7 (GPRK7)",-16.948721136031352,{"$f":"Composite!G181","v":"TKL"}]
[506,"DMPK (DMPK1)",-19.538869764773366,{"$f":"Composite!G125","v":"Other"}]
[507,"TYK2 [JH1]",-20.319399222062657,{"$f":"Composite!G411","v":"CK1"}]
[508,"PKN2",-20.347710729808526,{"$f":"Composite!G349","v":"TK"}]
[509,"ZAP70",-21.446169772256766,{"$f":"Composite!G422","v":"TK"}]
[510,"MAP3K6 (ASK2)",-22.430399788890341,{"$f":"Composite!G240","v":"CAMK"}]
[511,"MAP4K2 (GCK)",-25.130813953488385,{"$f":"Composite!G172","v":"CMGC"}]
[512,"CDK12 (CRK7)/CycK",null,{"$f":"Composite!G70","v":"CMGC"}]
[513,"CDK2/CycD1",null,{"$f":"Composite!G79","v":"CMGC"}]
[514,"MAPK6 (ERK3)",null,{"$f":"Composite!G151","v":"TK"}]
[515,"MAP2K4 (MEK4)",null,{"$f":"Composite!G253","v":"STE"}]
[516,"NEK8",null,{"$f":"Composite!G294","v":"Atypical"}]
[517,"TYK2 [JH1-JH2]",null,{"$f":"Composite!G412","v":"Other"}]
[518,"WEE1",null,{"$f":"Composite!G417","v":"Other"}]

{"sheet":"Compound 8 Kinome Tree","index":19,"n_rows":6,"n_cols":27,"rows_kept":6,"cut":false,"hidden":false,"merged":[[1,1,3,20]]}
[]
[null,{"$f":"Summary!AC17","v":"Kinome Hit View for Osimertinib  (0.09 µM) with 396 Kinases (Coral Names) at  ATP Km "}]
[null,null,null,null,null,null,null,null,null,null,null,null,null,null,null,null,null,null,null,null,null,null,null,null,null,null,"Kinome Hit View for VVVVVVVVVVVVVVVVVVVVVVVVVVV (VVVVV µM) with VVV Kinases (Coral Names)"]
[null,null,null,null,null,null,null,null,null,null,null,null,null,null,null,null,null,null,null,null,null,null,null,null,null,null,{"$f":"REPLACE(AA3,65,3,Summary!E17)","v":"Kinome Hit View for VVVVVVVVVVVVVVVVVVVVVVVVVVV (VVVVV µM) with 396 Kinases (Coral Names)"}]
[null,null,null,null,null,null,null,null,null,null,null,null,null,null,null,null,null,null,null,null,null,null,null,null,null,null,{"$f":"REPLACE(AA4,50,5,Summary!D18)","v":"Kinome Hit View for VVVVVVVVVVVVVVVVVVVVVVVVVVV (0.015 µM) with 396 Kinases (Coral Names)"}]
[null,null,null,null,null,null,null,null,null,null,null,null,null,null,null,null,null,null,null,null,null,null,null,null,null,null,{"$f":"REPLACE(AA5,21,27,Summary!C18)","v":"Kinome Hit View for Osimertinib  (0.015 µM) with 396 Kinases (Coral Names)"}]

{"sheet":"Compound 9","index":20,"n_rows":405,"n_cols":27,"rows_kept":405,"cut":false,"hidden":false,"merged":[]}
[]
["Panel #","Kinase Target",{"$f":"Summary!AB18","v":"0.015 µM Osimertinib , % inhibition at  ATP Km "},{"$f":"Composite!G19","v":"Group"}]
[1,{"$f":"Composite!B123","v":"EGFR (ERBB1)"},{"$f":"Composite!Z123","v":92.558791068851349},{"$f":"Composite!G123","v":"TK"},null,null,null,null,null,null,null,null,null,null,null,null,null,null,null,null,null,null,null,null,null,null,"VVVVV μM VVVVVVVVVVVVVVVVVVVVVVVVVVV, % inhibition"]
[2,{"$f":"Composite!B141","v":"ERBB4 (HER4)"},{"$f":"Composite!Z141","v":84.324946760174527},{"$f":"Composite!G141","v":"TK"},null,null,null,null,null,null,null,null,null,null,null,null,null,null,null,null,null,null,null,null,null,null,{"$f":"REPLACE(AA3,10,27,Summary!C17)","v":"VVVVV μM Osimertinib , % inhibition"}]
[3,{"$f":"Composite!B59","v":"CDK1 (CDC2)/CycE1 "},{"$f":"Composite!Z59","v":76.142049383720462},{"$f":"Composite!G59","v":"CMGC"},null,null,null,null,null,null,null,null,null,null,null,null,null,null,null,null,null,null,null,null,null,null,{"$f":"REPLACE(AA4,1,5,Summary!D17)","v":"0.09 μM Osimertinib , % inhibition"}]
[4,{"$f":"Composite!B71","v":"CDK2/CycE2"},{"$f":"Composite!Z71","v":49.323128189107571},{"$f":"Composite!G71","v":"CMGC"}]
[5,{"$f":"Composite!B76","v":"CDK4/CycD1"},{"$f":"Composite!Z76","v":47.976917175356078},{"$f":"Composite!G76","v":"CMGC"}]
[6,{"$f":"Composite!B188","v":"JAK3 [JH1]"},{"$f":"Composite!Z188","v":30.161125660260112},{"$f":"Composite!G188","v":"TK"}]
[7,{"$f":"Composite!B164","v":"GRK6 (GPRK6)"},{"$f":"Composite!Z164","v":29.490922907167985},{"$f":"Composite!G164","v":"AGC"}]
[8,{"$f":"Composite!B162","v":"GRK4 (GPRK4)"},{"$f":"Composite!Z162","v":26.279037926155809},{"$f":"Composite!G162","v":"AGC"}]
[9,{"$f":"Composite!B140","v":"ERBB2 (HER2)"},{"$f":"Composite!Z140","v":25.318612870490256},{"$f":"Composite!G140","v":"TK"}]
[10,{"$f":"Composite!B74","v":"CDK3/CycE2"},{"$f":"Composite!Z74","v":25.104634940319329},{"$f":"Composite!G74","v":"CMGC"}]
[11,{"$f":"Composite!B310","v":"PLK3"},{"$f":"Composite!Z310","v":24.703756841489977},{"$f":"Composite!G310","v":"Other"}]
[12,{"$f":"Composite!B248","v":"MATK (CTK)"},{"$f":"Composite!Z248","v":24.455056612493237},{"$f":"Composite!G248","v":"TK"}]
[13,{"$f":"Composite!B355","v":"ROS1 (ROS)"},{"$f":"Composite!Z355","v":23.923649984105282},{"$f":"Composite!G355","v":"TK"}]
[14,{"$f":"Composite!B81","v":"CDK6/CycD2"},{"$f":"Composite!Z81","v":22.709628358961211},{"$f":"Composite!G81","v":"CMGC"}]
[15,{"$f":"Composite!B115","v":"DMPK (DMPK1)"},{"$f":"Composite!Z115","v":21.90189328743547},{"$f":"Composite!G115","v":"AGC"}]
[16,{"$f":"Composite!B77","v":"CDK4/CycD2"},{"$f":"Composite!Z77","v":20.855766506092365},{"$f":"Composite!G77","v":"CMGC"}]
[17,{"$f":"Composite!B330","v":"PRKCB2 (PKCβ2 [beta2])"},{"$f":"Composite!Z330","v":20.387419429054191},{"$f":"Composite!G330","v":"AGC"}]
[18,{"$f":"Composite!B233","v":"MAPK15 (ERK7)"},{"$f":"Composite!Z233","v":19.993597196245943},{"$f":"Composite!G233","v":"CMGC"}]
[19,{"$f":"Composite!B40","v":"BTK"},{"$f":"Composite!Z40","v":19.79610847973548},{"$f":"Composite!G40","v":"TK"}]
[20,{"$f":"Composite!B271","v":"NEK5"},{"$f":"Composite!Z271","v":19.758989696747406},{"$f":"Composite!G271","v":"Other"}]
[21,{"$f":"Composite!B338","v":"PRKD1 (PKD1)"},{"$f":"Composite!Z338","v":17.552306749540392},{"$f":"Composite!G338","v":"CAMK"}]
[22,{"$f":"Composite!B366","v":"SGK2"},{"$f":"Composite!Z366","v":17.328179705986273},{"$f":"Composite!G366","v":"AGC"}]
[23,{"$f":"Composite!B56","v":"CDK1 (CDC2)/CycA1 "},{"$f":"Composite!Z56","v":16.351410796204362},{"$f":"Composite!G56","v":"CMGC"}]
[24,{"$f":"Composite!B397","v":"TEC"},{"$f":"Composite!Z397","v":15.977384982675787},{"$f":"Composite!G397","v":"TK"}]
[25,{"$f":"Composite!B57","v":"CDK1 (CDC2)/CycA2 "},{"$f":"Composite!Z57","v":15.183528047062723},{"$f":"Composite!G57","v":"CMGC"}]
[26,{"$f":"Composite!B86","v":"CDK9 (TAK)/CycT1"},{"$f":"Composite!Z86","v":15.178356098309607},{"$f":"Composite!G86","v":"CMGC"}]
[27,{"$f":"Composite!B230","v":"MAPK12 (p38γ)"},{"$f":"Composite!Z230","v":15.157536190746541},{"$f":"Composite!G230","v":"CMGC"}]
[28,{"$f":"Composite!B342","v":"PRKG1 (PKG1, PGK)"},{"$f":"Composite!Z342","v":14.773420036577946},{"$f":"Composite!G342","v":"AGC"}]
[29,{"$f":"Composite!B31","v":"BCKDK"},{"$f":"Composite!Z31","v":14.528857148212722},{"$f":"Composite!G31","v":"Atypical"}]
[30,{"$f":"Composite!B205","v":"MAP2K3 (MEK3)"},{"$f":"Composite!Z205","v":14.440599062815835},{"$f":"Composite!G205","v":"STE"}]
[31,{"$f":"Composite!B317","v":"PRKAA1-B2-G2 (AMPKα1β2γ2)"},{"$f":"Composite!Z317","v":13.968071152061952},{"$f":"Composite!G317","v":"CAMK"}]
[32,{"$f":"Composite!B403","v":"TNK1"},{"$f":"Composite!Z403","v":13.625275601632495},{"$f":"Composite!G403","v":"TK"}]
[33,{"$f":"Composite!B126","v":"EIF2AK3 (PERK/PEK)"},{"$f":"Composite!Z126","v":13.367101930730513},{"$f":"Composite!G126","v":"Other"}]
[34,{"$f":"Composite!B168","v":"HASPIN"},{"$f":"Composite!Z168","v":13.314235894881065},{"$f":"Composite!G168","v":"Other"}]
[35,{"$f":"Composite!B177","v":"IKKB (IKKβ)"},{"$f":"Composite!Z177","v":12.614959589962325},{"$f":"Composite!G177","v":"Other"}]
[36,{"$f":"Composite!B165","v":"GRK7 (GPRK7)"},{"$f":"Composite!Z165","v":12.00906836195314},{"$f":"Composite!G165","v":"AGC"}]
[37,{"$f":"Composite!B416","v":"TYRO3"},{"$f":"Composite!Z416","v":11.642501623025325},{"$f":"Composite!G416","v":"TK"}]
[38,{"$f":"Composite!B159","v":"GRK1 (RHOK)"},{"$f":"Composite!Z159","v":11.613419566957234},{"$f":"Composite!G159","v":"AGC"}]
[39,{"$f":"Composite!B100","v":"CSNK1A1L (CK1A1L, CK1a2)"},{"$f":"Composite!Z100","v":11.586243668355067},{"$f":"Composite!G100","v":"CK1"}]
[40,{"$f":"Composite!B58","v":"CDK1 (CDC2)/CycB1 "},{"$f":"Composite!Z58","v":11.295586246261891},{"$f":"Composite!G58","v":"CMGC"}]
[41,{"$f":"Composite!B401","v":"TLK2"},{"$f":"Composite!Z401","v":11.161942183553194},{"$f":"Composite!G401","v":"Other"}]
[42,{"$f":"Composite!B199","v":"LTK"},{"$f":"Composite!Z199","v":10.926360040463507},{"$f":"Composite!G199","v":"TK"}]
[43,{"$f":"Composite!B169","v":"HCK"},{"$f":"Composite!Z169","v":10.900802695471214},{"$f":"Composite!G169","v":"TK"}]
[44,{"$f":"Composite!B48","v":"CAMK2G (CAMK2γ)"},{"$f":"Composite!Z48","v":10.853318317934026},{"$f":"Composite!G48","v":"CAMK"}]
[45,{"$f":"Composite!B93","v":"CLK1"},{"$f":"Composite!Z93","v":10.828010673211921},{"$f":"Composite!G93","v":"CMGC"}]
[46,{"$f":"Composite!B21","v":"ABL1"},{"$f":"Composite!Z21","v":10.665844636251535},{"$f":"Composite!G21","v":"TK"}]
[47,{"$f":"Composite!B78","v":"CDK5/p25"},{"$f":"Composite!Z78","v":10.63020499679692},{"$f":"Composite!G78","v":"CMGC"}]
[48,{"$f":"Composite!B158","v":"GAK"},{"$f":"Composite!Z158","v":10.603911615407569},{"$f":"Composite!G158","v":"Other"}]
[49,{"$f":"Composite!B303","v":"PINK1 (PINK)"},{"$f":"Composite!Z303","v":10.396951250703353},{"$f":"Composite!G303","v":"Other"}]
[50,{"$f":"Composite!B84","v":"CDK7/CycH1"},{"$f":"Composite!Z84","v":10.282018111254857},{"$f":"Composite!G84","v":"CMGC"}]
[51,{"$f":"Composite!B346","v":"PTK2B (PYK2)"},{"$f":"Composite!Z346","v":10.255547384908127},{"$f":"Composite!G346","v":"TK"}]
[52,{"$f":"Composite!B213","v":"MAP3K19 (YSK4)"},{"$f":"Composite!Z213","v":10.208021923268547},{"$f":"Composite!G213","v":"STE"}]
[53,{"$f":"Composite!B117","v":"DYRK1A"},{"$f":"Composite!Z117","v":10.207750699161039},{"$f":"Composite!G117","v":"CMGC"}]
[54,{"$f":"Composite!B125","v":"EIF2AK2 (PKR)"},{"$f":"Composite!Z125","v":10.16231474947071},{"$f":"Composite!G125","v":"Other"}]
[55,{"$f":"Composite!B89","v":"CHEK1 (CHK1)"},{"$f":"Composite!Z89","v":9.9739357080798925},{"$f":"Composite!G89","v":"CAMK"}]
[56,{"$f":"Composite!B179","v":"INSR (IR)"},{"$f":"Composite!Z179","v":9.8114917170602922},{"$f":"Composite!G179","v":"TK"}]
[57,{"$f":"Composite!B375","v":"SRMS (SRM)"},{"$f":"Composite!Z375","v":9.764763253837387},{"$f":"Composite!G375","v":"TK"}]
[58,{"$f":"Composite!B267","v":"NEK11"},{"$f":"Composite!Z267","v":9.7429608790786233},{"$f":"Composite!G267","v":"Other"}]
[59,{"$f":"Composite!B166","v":"GSK3A (GSK3α)"},{"$f":"Composite!Z166","v":9.6540466235179565},{"$f":"Composite!G166","v":"CMGC"}]
[60,{"$f":"Composite!B161","v":"GRK3 (ADRBK2, BARK2)"},{"$f":"Composite!Z161","v":9.6278910566720413},{"$f":"Composite!G161","v":"AGC"}]
[61,{"$f":"Composite!B150","v":"FGFR4"},{"$f":"Composite!Z150","v":9.5280033026008084},{"$f":"Composite!G150","v":"TK"}]
[62,{"$f":"Composite!B72","v":"CDK2/CycO"},{"$f":"Composite!Z72","v":9.3278930069137544},{"$f":"Composite!G72","v":"CMGC"}]
[63,{"$f":"Composite!B44","v":"CAMK1G (CAMK1γ)"},{"$f":"Composite!Z44","v":9.3119995014489518},{"$f":"Composite!G44","v":"CAMK"}]
[64,{"$f":"Composite!B232","v":"MAPK14 (p38a)"},{"$f":"Composite!Z232","v":9.2862345229424506},{"$f":"Composite!G232","v":"CMGC"}]
[65,{"$f":"Composite!B325","v":"PRKACA (PKACA, PKACα)"},{"$f":"Composite!Z325","v":9.2292120357022469},{"$f":"Composite!G325","v":"AGC"}]
[66,{"$f":"Composite!B155","v":"FRK"},{"$f":"Composite!Z155","v":9.1374587895387975},{"$f":"Composite!G155","v":"TK"}]
[67,{"$f":"Composite!B52","v":"CDC42BPA (MRCKA)"},{"$f":"Composite!Z52","v":9.1287282724691181},{"$f":"Composite!G52","v":"AGC"}]
[68,{"$f":"Composite!B265","v":"NEK1"},{"$f":"Composite!Z265","v":9.1030674317270126},{"$f":"Composite!G265","v":"Other"}]
[69,{"$f":"Composite!B102","v":"CSNK1E (CK1E, CK1ε)"},{"$f":"Composite!Z102","v":9.0494414163670598},{"$f":"Composite!G102","v":"CK1"}]
[70,{"$f":"Composite!B41","v":"BUB1"},{"$f":"Composite!Z41","v":8.9568392228452183},{"$f":"Composite!G41","v":"Other"}]
[71,{"$f":"Composite!B67","v":"CDK2/CycA1"},{"$f":"Composite!Z67","v":8.7672765264376267},{"$f":"Composite!G67","v":"CMGC"}]
[72,{"$f":"Composite!B321","v":"PRKAA2-B1-G3 (AMPKα2β1γ3)"},{"$f":"Composite!Z321","v":8.7459962530972462},{"$f":"Composite!G321","v":"CAMK"}]
[73,{"$f":"Composite!B91","v":"CHUK (IKKA, IKKa)"},{"$f":"Composite!Z91","v":8.5686400143046768},{"$f":"Composite!G91","v":"Other"}]
[74,{"$f":"Composite!B269","v":"NEK3"},{"$f":"Composite!Z269","v":8.5590804908785003},{"$f":"Composite!G269","v":"Other"}]
[75,{"$f":"Composite!B198","v":"LRRK2"},{"$f":"Composite!Z198","v":8.3540115798180352},{"$f":"Composite!G198","v":"TKL"}]
[76,{"$f":"Composite!B413","v":"TXK"},{"$f":"Composite!Z413","v":8.307847232582418},{"$f":"Composite!G413","v":"TK"}]
[77,{"$f":"Composite!B402","v":"TNIK (ZC2)"},{"$f":"Composite!Z402","v":8.1995705960536043},{"$f":"Composite!G402","v":"STE"}]
[78,{"$f":"Composite!B26","v":"ALK"},{"$f":"Composite!Z26","v":8.1921575284331993},{"$f":"Composite!G26","v":"TK"}]
[79,{"$f":"Composite!B143","v":"ERN2 (IRE2)"},{"$f":"Composite!Z143","v":8.1819076680775567},{"$f":"Composite!G143","v":"Other"}]
[80,{"$f":"Composite!B45","v":"CAMK2A (CAMK2α)"},{"$f":"Composite!Z45","v":8.0733583551270982},{"$f":"Composite!G45","v":"CAMK"}]
[81,{"$f":"Composite!B341","v":"PRKDC (DNA-PK)"},{"$f":"Composite!Z341","v":7.8437509781213919},{"$f":"Composite!G341","v":"Atypical"}]
[82,{"$f":"Composite!B359","v":"RPS6KA4 (MSK2)"},{"$f":"Composite!Z359","v":7.611698454019006},{"$f":"Composite!G359","v":"AGC"}]
[83,{"$f":"Composite!B390","v":"STK38L (NDR2)"},{"$f":"Composite!Z390","v":7.6081007115489854},{"$f":"Composite!G390","v":"AGC"}]
[84,{"$f":"Composite!B189","v":"KDR (VEGFR2)"},{"$f":"Composite!Z189","v":7.5810294618206484},{"$f":"Composite!G189","v":"TK"}]
[85,{"$f":"Composite!B294","v":"PDK2 (PDHK2)"},{"$f":"Composite!Z294","v":7.5138782452664401},{"$f":"Composite!G294","v":"Atypical"}]
[86,{"$f":"Composite!B212","v":"MAP3K14 (NIK)"},{"$f":"Composite!Z212","v":7.5057872640954173},{"$f":"Composite!G212","v":"STE"}]
[87,{"$f":"Composite!B238","v":"MAPK9 (JNK2)"},{"$f":"Composite!Z238","v":7.3239090350337932},{"$f":"Composite!G238","v":"CMGC"}]
[88,{"$f":"Composite!B257","v":"mTOR (FRAP)"},{"$f":"Composite!Z257","v":7.3206758655474147},{"$f":"Composite!G257","v":"Atypical"}]
[89,{"$f":"Composite!B47","v":"CAMK2D (CAMK2δ)"},{"$f":"Composite!Z47","v":7.164615781774387},{"$f":"Composite!G47","v":"CAMK"}]
[90,{"$f":"Composite!B124","v":"EIF2AK1 (HRI)"},{"$f":"Composite!Z124","v":6.9785620195996074},{"$f":"Composite!G124","v":"Other"}]
[91,{"$f":"Composite!B315","v":"PRKAA1-B1-G3 (AMPKα1β1γ3)"},{"$f":"Composite!Z315","v":6.9676667637634608},{"$f":"Composite!G315","v":"CAMK"}]
[92,{"$f":"Composite!B407","v":"TSSK2"},{"$f":"Composite!Z407","v":6.9415041782729787},{"$f":"Composite!G407","v":"CAMK"}]
[93,{"$f":"Composite!B240","v":"MAPKAPK3 (MK3)"},{"$f":"Composite!Z240","v":6.8429774892970414},{"$f":"Composite!G240","v":"CAMK"}]
[94,{"$f":"Composite!B305","v":"PKN1"},{"$f":"Composite!Z305","v":6.7252622625460674},{"$f":"Composite!G305","v":"AGC"}]
[95,{"$f":"Composite!B247","v":"MASTL"},{"$f":"Composite!Z247","v":6.5710462396545495},{"$f":"Composite!G247","v":"AGC"}]
[96,{"$f":"Composite!B107","v":"CSNK2A2 (CK2A2, CK2α2)"},{"$f":"Composite!Z107","v":6.5360547783638339},{"$f":"Composite!G107","v":"Other"}]
[97,{"$f":"Composite!B406","v":"TSSK1B (TSSK1)"},{"$f":"Composite!Z406","v":6.5114619570065031},{"$f":"Composite!G406","v":"CAMK"}]
[98,{"$f":"Composite!B270","v":"NEK4"},{"$f":"Composite!Z270","v":6.2624310166120409},{"$f":"Composite!G270","v":"Other"}]
[99,{"$f":"Composite!B191","v":"KSR1"},{"$f":"Composite!Z191","v":6.2521003492058895},{"$f":"Composite!G191","v":"TKL"}]
[100,{"$f":"Composite!B97","v":"CSF1R (FMS)"},{"$f":"Composite!Z97","v":6.1605776269381778},{"$f":"Composite!G97","v":"TK"}]
[101,{"$f":"Composite!B63","v":"CDK16 (PCTAIRE1, PCTK1)/CycY "},{"$f":"Composite!Z63","v":6.1075452424875323},{"$f":"Composite!G63","v":"CMGC"}]
[102,{"$f":"Composite!B122","v":"EEF2K (eEF2K)"},{"$f":"Composite!Z122","v":5.9671398285556307},{"$f":"Composite!G122","v":"Atypical"}]
[103,{"$f":"Composite!B46","v":"CAMK2B (CAMK2β)"},{"$f":"Composite!Z46","v":5.9611584983856147},{"$f":"Composite!G46","v":"CAMK"}]
[104,{"$f":"Composite!B380","v":"STK11 (LKB1, AMPKK)"},{"$f":"Composite!Z380","v":5.8009770066537385},{"$f":"Composite!G380","v":"CAMK"}]
[105,{"$f":"Composite!B348","v":"RAF1 [Y340E/Y341E]"},{"$f":"Composite!Z348","v":5.7160155276185378},{"$f":"Composite!G348","v":"TKL"}]
[106,{"$f":"Composite!B187","v":"JAK2 [JH1-JH2]"},{"$f":"Composite!Z187","v":5.6819207509703062},{"$f":"Composite!G187","v":"TK"}]
[107,{"$f":"Composite!B264","v":"MYO3B"},{"$f":"Composite!Z264","v":5.6725660334085291},{"$f":"Composite!G264","v":"STE"}]
[108,{"$f":"Composite!B195","v":"LCK"},{"$f":"Composite!Z195","v":5.3921487943379276},{"$f":"Composite!G195","v":"TK"}]
[109,{"$f":"Composite!B66","v":"CDK18 (PCTAIRE3, PCTK3)/CycY "},{"$f":"Composite!Z66","v":5.3678766916283109},{"$f":"Composite!G66","v":"CMGC"}]
[110,{"$f":"Composite!B138","v":"EPHB3"},{"$f":"Composite!Z138","v":5.2853555201963047},{"$f":"Composite!G138","v":"TK"}]
[111,{"$f":"Composite!B95","v":"CLK3"},{"$f":"Composite!Z95","v":5.2113866460464919},{"$f":"Composite!G95","v":"CMGC"}]
[112,{"$f":"Composite!B152","v":"FLT1"},{"$f":"Composite!Z152","v":5.0984859376900431},{"$f":"Composite!G152","v":"TK"}]
[113,{"$f":"Composite!B323","v":"PRKAA2-B2-G2 (AMPKα2β2γ2)"},{"$f":"Composite!Z323","v":5.0455320655147062},{"$f":"Composite!G323","v":"CAMK"}]
[114,{"$f":"Composite!B396","v":"TBK1"},{"$f":"Composite!Z396","v":5.0420519337201455},{"$f":"Composite!G396","v":"Other"}]
[115,{"$f":"Composite!B308","v":"PLK1"},{"$f":"Composite!Z308","v":4.9949400798935102},{"$f":"Composite!G308","v":"Other"}]
[116,{"$f":"Composite!B319","v":"PRKAA2-B1-G1 (AMPKα2β1γ1)"},{"$f":"Composite!Z319","v":4.9419597132126967},{"$f":"Composite!G319","v":"CAMK"}]
[117,{"$f":"Composite!B43","v":"CAMK1D (CAMK1δ)"},{"$f":"Composite!Z43","v":4.9277202578628589},{"$f":"Composite!G43","v":"CAMK"}]
[118,{"$f":"Composite!B144","v":"FAM20C"},{"$f":"Composite!Z144","v":4.7638480948631354},{"$f":"Composite!G144","v":"Other"}]
[119,{"$f":"Composite!B167","v":"GSK3B (GSK3β)"},{"$f":"Composite!Z167","v":4.7172611253688217},{"$f":"Composite!G167","v":"CMGC"}]
[120,{"$f":"Composite!B210","v":"MAP3K12 (DLK)"},{"$f":"Composite!Z210","v":4.7096908939014099},{"$f":"Composite!G210","v":"TKL"}]
[121,{"$f":"Composite!B277","v":"NLK (LAK1)"},{"$f":"Composite!Z277","v":4.677527337647831},{"$f":"Composite!G277","v":"CMGC"}]
[122,{"$f":"Composite!B49","v":"CAMK4"},{"$f":"Composite!Z49","v":4.6661654566218971},{"$f":"Composite!G49","v":"CAMK"}]
[123,{"$f":"Composite!B299","v":"PHKG2"},{"$f":"Composite!Z299","v":4.6365011379217407},{"$f":"Composite!G299","v":"CAMK"}]
[124,{"$f":"Composite!B119","v":"DYRK2"},{"$f":"Composite!Z119","v":4.5450097847358109},{"$f":"Composite!G119","v":"CMGC"}]
[125,{"$f":"Composite!B35","v":"BMX"},{"$f":"Composite!Z35","v":4.5182503532962102},{"$f":"Composite!G35","v":"TK"}]
[126,{"$f":"Composite!B284","v":"PAK2"},{"$f":"Composite!Z284","v":4.5116174148432009},{"$f":"Composite!G284","v":"STE"}]
[127,{"$f":"Composite!B385","v":"STK25 (YSK1)"},{"$f":"Composite!Z385","v":4.4958597174865957},{"$f":"Composite!G385","v":"STE"}]
[128,{"$f":"Composite!B259","v":"MYLK (smMLCK)"},{"$f":"Composite!Z259","v":4.4878917329763084},{"$f":"Composite!G259","v":"CAMK"}]
[129,{"$f":"Composite!B242","v":"MARK1"},{"$f":"Composite!Z242","v":4.4303386824689568},{"$f":"Composite!G242","v":"CAMK"}]
[130,{"$f":"Composite!B64","v":"CDK17 (PCTAIRE2, PCTK2)/CycY"},{"$f":"Composite!Z64","v":4.3674902119616519},{"$f":"Composite!G64","v":"CMGC"}]
[131,{"$f":"Composite!B37","v":"BRAF, b-[V600E]"},{"$f":"Composite!Z37","v":4.2458841809389156},{"$f":"Composite!G37","v":"TKL"}]
[132,{"$f":"Composite!B146","v":"FES"},{"$f":"Composite!Z146","v":4.2306324056590796},{"$f":"Composite!G146","v":"TK"}]
[133,{"$f":"Composite!B85","v":"CDK9 (TAK)/CycK"},{"$f":"Composite!Z85","v":4.2191780821917746},{"$f":"Composite!G85","v":"CMGC"}]
[134,{"$f":"Composite!B290","v":"PBK (TOPK)"},{"$f":"Composite!Z290","v":4.2018756006229836},{"$f":"Composite!G290","v":"Other"}]
[135,{"$f":"Composite!B254","v":"MNK1"},{"$f":"Composite!Z254","v":4.1791585675221796},{"$f":"Composite!G254","v":"CAMK"}]
[136,{"$f":"Composite!B128","v":"EPHA1"},{"$f":"Composite!Z128","v":4.1518965846617562},{"$f":"Composite!G128","v":"TK"}]
[137,{"$f":"Composite!B184","v":"JAK1 [JH1]"},{"$f":"Composite!Z184","v":4.1476729135010402},{"$f":"Composite!G184","v":"TK"}]
[138,{"$f":"Composite!B156","v":"FYNa (FYN)"},{"$f":"Composite!Z156","v":4.1295391395995011},{"$f":"Composite!G156","v":"TK"}]
[139,{"$f":"Composite!B216","v":"MAP3K3 (MEKK3)"},{"$f":"Composite!Z216","v":4.1065996561301432},{"$f":"Composite!G216","v":"STE"}]
[140,{"$f":"Composite!B324","v":"PRKAA2-B2-G3 (AMPKα2β2γ3)"},{"$f":"Composite!Z324","v":4.0690212482768544},{"$f":"Composite!G324","v":"CAMK"}]
[141,{"$f":"Composite!B320","v":"PRKAA2-B1-G2 (AMPKα2β1γ2)"},{"$f":"Composite!Z320","v":4.0362653648330564},{"$f":"Composite!G320","v":"CAMK"}]
[142,{"$f":"Composite!B139","v":"EPHB4"},{"$f":"Composite!Z139","v":4.0018043562314745},{"$f":"Composite!G139","v":"TK"}]
[143,{"$f":"Composite!B295","v":"PDK3 (PDHK3)"},{"$f":"Composite!Z295","v":3.9730085145384919},{"$f":"Composite!G295","v":"Atypical"}]
[144,{"$f":"Composite!B395","v":"TAOK3 (TAO3)"},{"$f":"Composite!Z395","v":3.9638735574510804},{"$f":"Composite!G395","v":"STE"}]
[145,{"$f":"Composite!B236","v":"MAPK7 (BMK, ERK5)"},{"$f":"Composite!Z236","v":3.8817307020200786},{"$f":"Composite!G236","v":"CMGC"}]
[146,{"$f":"Composite!B298","v":"PHKG1"},{"$f":"Composite!Z298","v":3.8339354677961808},{"$f":"Composite!G298","v":"CAMK"}]
[147,{"$f":"Composite!B185","v":"JAK1 [JH1-JH2]"},{"$f":"Composite!Z185","v":3.7214913383020161},{"$f":"Composite!G185","v":"TK"}]
[148,{"$f":"Composite!B314","v":"PRKAA1-B1-G2 (AMPKα1β1γ2)"},{"$f":"Composite!Z314","v":3.7172085485668021},{"$f":"Composite!G314","v":"CAMK"}]
[149,{"$f":"Composite!B409","v":"TSSK6 (SSTK)"},{"$f":"Composite!Z409","v":3.7137330754352007},{"$f":"Composite!G409","v":"CAMK"}]
[150,{"$f":"Composite!B412","v":"TTK"},{"$f":"Composite!Z412","v":3.694278764720508},{"$f":"Composite!G412","v":"Other"}]
[151,{"$f":"Composite!B405","v":"TRPM7 (CHAK1)"},{"$f":"Composite!Z405","v":3.633474027282702},{"$f":"Composite!G405","v":"Atypical"}]
[152,{"$f":"Composite!B394","v":"TAOK2 (TAO2)"},{"$f":"Composite!Z394","v":3.5349383440986344},{"$f":"Composite!G394","v":"STE"}]
[153,{"$f":"Composite!B251","v":"MET (c-MET, HGFR)"},{"$f":"Composite!Z251","v":3.4989830791528078},{"$f":"Composite!G251","v":"TK"}]
[154,{"$f":"Composite!B384","v":"STK24 (MST3)"},{"$f":"Composite!Z384","v":3.4051200713736876},{"$f":"Composite!G384","v":"STE"}]
[155,{"$f":"Composite!B200","v":"LYNA (LYNa)"},{"$f":"Composite!Z200","v":3.2810213696515547},{"$f":"Composite!G200","v":"TK"}]
[156,{"$f":"Composite!B183","v":"ITK"},{"$f":"Composite!Z183","v":3.1952085422369123},{"$f":"Composite!G183","v":"TK"}]
[157,{"$f":"Composite!B145","v":"FER"},{"$f":"Composite!Z145","v":3.1364959095151619},{"$f":"Composite!G145","v":"TK"}]
[158,{"$f":"Composite!B234","v":"MAPK3 (ERK1)"},{"$f":"Composite!Z234","v":3.1050807022775473},{"$f":"Composite!G234","v":"CAMK"}]
[159,{"$f":"Composite!B28","v":"AURKB (AURB)"},{"$f":"Composite!Z28","v":3.1040393828842667},{"$f":"Composite!G28","v":"Other"}]
[160,{"$f":"Composite!B181","v":"IRAK1"},{"$f":"Composite!Z181","v":3.0841092585145304},{"$f":"Composite!G181","v":"TKL"}]
[161,{"$f":"Composite!B38","v":"BRSK1"},{"$f":"Composite!Z38","v":3.083868788937167},{"$f":"Composite!G38","v":"CAMK"}]
[162,{"$f":"Composite!B414","v":"TYK2 [JH1]"},{"$f":"Composite!Z414","v":3.0807396471643216},{"$f":"Composite!G414","v":"TK"}]
[163,{"$f":"Composite!B148","v":"FGFR2"},{"$f":"Composite!Z148","v":3.0542974912218455},{"$f":"Composite!G148","v":"TK"}]
[164,{"$f":"Composite!B163","v":"GRK5 (GPRK5)"},{"$f":"Composite!Z163","v":2.9964147204010914},{"$f":"Composite!G163","v":"AGC"}]
[165,{"$f":"Composite!B360","v":"RPS6KA5 (MSK1)"},{"$f":"Composite!Z360","v":2.896682908674876},{"$f":"Composite!G360","v":"AGC"}]
[166,{"$f":"Composite!B309","v":"PLK2"},{"$f":"Composite!Z309","v":2.8948297836401906},{"$f":"Composite!G309","v":"Other"}]
[167,{"$f":"Composite!B408","v":"TSSK3"},{"$f":"Composite!Z408","v":2.8927780128955476},{"$f":"Composite!G408","v":"CAMK"}]
[168,{"$f":"Composite!B61","v":"CDK13 (CHED)/CycK"},{"$f":"Composite!Z61","v":2.8698079844459556},{"$f":"Composite!G61","v":"CMGC"}]
[169,{"$f":"Composite!B173","v":"HIPK4"},{"$f":"Composite!Z173","v":2.8524155629279022},{"$f":"Composite!G173","v":"CMGC"}]
[170,{"$f":"Composite!B54","v":"CDC42BPG (DMPK2)"},{"$f":"Composite!Z54","v":2.850983431838003},{"$f":"Composite!G54","v":"AGC"}]
[171,{"$f":"Composite!B151","v":"FGR"},{"$f":"Composite!Z151","v":2.8508277324191766},{"$f":"Composite!G151","v":"TK"}]
[172,{"$f":"Composite!B278","v":"NTRK1 (TRKA)"},{"$f":"Composite!Z278","v":2.8424978498065911},{"$f":"Composite!G278","v":"TK"}]
[173,{"$f":"Composite!B312","v":"PNCK (CAMK1β)"},{"$f":"Composite!Z312","v":2.8414162451650924},{"$f":"Composite!G312","v":"CAMK"}]
[174,{"$f":"Composite!B288","v":"PAK6"},{"$f":"Composite!Z288","v":2.8274165442306867},{"$f":"Composite!G288","v":"STE"}]
[175,{"$f":"Composite!B147","v":"FGFR1"},{"$f":"Composite!Z147","v":2.7949627861696058},{"$f":"Composite!G147","v":"TK"}]
[176,{"$f":"Composite!B275","v":"NEK9"},{"$f":"Composite!Z275","v":2.7716896516842553},{"$f":"Composite!G275","v":"Other"}]
[177,{"$f":"Composite!B283","v":"PAK1"},{"$f":"Composite!Z283","v":2.7368979298065881},{"$f":"Composite!G283","v":"STE"}]
[178,{"$f":"Composite!B80","v":"CDK6/CycD1"},{"$f":"Composite!Z80","v":2.7223375379211348},{"$f":"Composite!G80","v":"CMGC"}]
[179,{"$f":"Composite!B133","v":"EPHA6"},{"$f":"Composite!Z133","v":2.6082841875656442},{"$f":"Composite!G133","v":"TK"}]
[180,{"$f":"Composite!B418","v":"ULK2"},{"$f":"Composite!Z418","v":2.5951785588504634},{"$f":"Composite!G418","v":"Other"}]
[181,{"$f":"Composite!B262","v":"MYLK4 (SgK085)"},{"$f":"Composite!Z262","v":2.5334919915089529},{"$f":"Composite!G262","v":"CAMK"}]
[182,{"$f":"Composite!B350","v":"RIPK1"},{"$f":"Composite!Z350","v":2.4488166656060599},{"$f":"Composite!G350","v":"TKL"}]
[183,{"$f":"Composite!B114","v":"DDR2"},{"$f":"Composite!Z114","v":2.436462927956299},{"$f":"Composite!G114","v":"TK"}]
[184,{"$f":"Composite!B193","v":"LATS1"},{"$f":"Composite!Z193","v":2.4092262414017398},{"$f":"Composite!G193","v":"AGC"}]
[185,{"$f":"Composite!B244","v":"MARK3"},{"$f":"Composite!Z244","v":2.3963213604025668},{"$f":"Composite!G244","v":"CAMK"}]
[186,{"$f":"Composite!B253","v":"MLK4 (MAP3K21)"},{"$f":"Composite!Z253","v":2.3821938343218534},{"$f":"Composite!G253","v":"STE"}]
[187,{"$f":"Composite!B276","v":"NIM1 (NIM1K)"},{"$f":"Composite!Z276","v":2.3661472435174602},{"$f":"Composite!G276","v":"CAMK"}]
[188,{"$f":"Composite!B301","v":"PIM2"},{"$f":"Composite!Z301","v":2.2642090671048294},{"$f":"Composite!G301","v":"CAMK"}]
[189,{"$f":"Composite!B202","v":"MAK"},{"$f":"Composite!Z202","v":2.2073978856851397},{"$f":"Composite!G202","v":"Atypical"}]
[190,{"$f":"Composite!B411","v":"TTBK2"},{"$f":"Composite!Z411","v":2.1852346183036531},{"$f":"Composite!G411","v":"CK1"}]
[191,{"$f":"Composite!B227","v":"MAPK1 (ERK2)"},{"$f":"Composite!Z227","v":2.1811353459482916},{"$f":"Composite!G227","v":"CMGC"}]
[192,{"$f":"Composite!B387","v":"STK3 (CLIK1, MST2)"},{"$f":"Composite!Z387","v":2.1702023896610854},{"$f":"Composite!G387","v":"STE"}]
[193,{"$f":"Composite!B347","v":"PTK6 (BRK)"},{"$f":"Composite!Z347","v":2.1502675274435603},{"$f":"Composite!G347","v":"TK"}]
[194,{"$f":"Composite!B392","v":"SYK"},{"$f":"Composite!Z392","v":2.100635075720561},{"$f":"Composite!G392","v":"TK"}]
[195,{"$f":"Composite!B104","v":"CSNK1G2 (CK1G2, CK1γ2)"},{"$f":"Composite!Z104","v":2.0655193171021864},{"$f":"Composite!G104","v":"CK1"}]
[196,{"$f":"Composite!B300","v":"PIM1"},{"$f":"Composite!Z300","v":2.0615921966179656},{"$f":"Composite!G300","v":"CAMK"}]
[197,{"$f":"Composite!B182","v":"IRAK4"},{"$f":"Composite!Z182","v":2.019086077830039},{"$f":"Composite!G182","v":"TKL"}]
[198,{"$f":"Composite!B62","v":"CDK14 (PFTAIRE1, PFTK1)/CycY"},{"$f":"Composite!Z62","v":1.9482326746451548},{"$f":"Composite!G62","v":"CMGC"}]
[199,{"$f":"Composite!B370","v":"SIK3 (QSK)"},{"$f":"Composite!Z370","v":1.9369232329378292},{"$f":"Composite!G370","v":"CAMK"}]
[200,{"$f":"Composite!B180","v":"INSRR (IRR)"},{"$f":"Composite!Z180","v":1.9346631141835218},{"$f":"Composite!G180","v":"TK"}]
[201,{"$f":"Composite!B327","v":"PRKACG (PKACG, PKACg)"},{"$f":"Composite!Z327","v":1.8935357840525455},{"$f":"Composite!G327","v":"AGC"}]
[202,{"$f":"Composite!B241","v":"MAPKAPK5 (MK5)"},{"$f":"Composite!Z241","v":1.8598353384277857},{"$f":"Composite!G241","v":"CAMK"}]
[203,{"$f":"Composite!B343","v":"PRKG2 (PKG2, PGK2, CGK2)"},{"$f":"Composite!Z343","v":1.8251434397170101},{"$f":"Composite!G343","v":"AGC"}]
[204,{"$f":"Composite!B111","v":"DCLK1 (DCAMKL1)"},{"$f":"Composite!Z111","v":1.7582515660822651},{"$f":"Composite!G111","v":"CAMK"}]
[205,{"$f":"Composite!B51","v":"CAMKK2"},{"$f":"Composite!Z51","v":1.6800365411516225},{"$f":"Composite!G51","v":"Other"}]
[206,{"$f":"Composite!B105","v":"CSNK1G3 (CK1G3, CK1γ3)"},{"$f":"Composite!Z105","v":1.6503363886756688},{"$f":"Composite!G105","v":"CK1"}]
[207,{"$f":"Composite!B222","v":"MAP4K1 (HPK1)"},{"$f":"Composite!Z222","v":1.6337769619091205},{"$f":"Composite!G222","v":"STE"}]
[208,{"$f":"Composite!B22","v":"ABL2 (ARG)"},{"$f":"Composite!Z22","v":1.6191535893795788},{"$f":"Composite!G22","v":"TK"}]
[209,{"$f":"Composite!B286","v":"PAK4"},{"$f":"Composite!Z286","v":1.5657821667431335},{"$f":"Composite!G286","v":"STE"}]
[210,{"$f":"Composite!B421","v":"YES1 (YES)"},{"$f":"Composite!Z421","v":1.53243284660347},{"$f":"Composite!G421","v":"TK"}]
[211,{"$f":"Composite!B121","v":"DYRK4"},{"$f":"Composite!Z121","v":1.4565568103249547},{"$f":"Composite!G121","v":"CMGC"}]
[212,{"$f":"Composite!B137","v":"EPHB2"},{"$f":"Composite!Z137","v":1.439898573182262},{"$f":"Composite!G137","v":"TK"}]
[213,{"$f":"Composite!B351","v":"RIPK2"},{"$f":"Composite!Z351","v":1.4398654331370864},{"$f":"Composite!G351","v":"TKL"}]
[214,{"$f":"Composite!B410","v":"TTBK1"},{"$f":"Composite!Z410","v":1.4376339980616279},{"$f":"Composite!G410","v":"CK1"}]
[215,{"$f":"Composite!B217","v":"MAP3K5 (ASK1)"},{"$f":"Composite!Z217","v":1.4190696113841454},{"$f":"Composite!G217","v":"STE"}]
[216,{"$f":"Composite!B96","v":"CLK4"},{"$f":"Composite!Z96","v":1.4135437212360245},{"$f":"Composite!G96","v":"CMGC"}]
[217,{"$f":"Composite!B24","v":"AKT2 (PKBb)"},{"$f":"Composite!Z24","v":1.3567111244317971},{"$f":"Composite!G24","v":"AGC"}]
[218,{"$f":"Composite!B20","v":"AAK1"},{"$f":"Composite!Z20","v":1.3271044722825422},{"$f":"Composite!G20","v":"Other"}]
[219,{"$f":"Composite!B153","v":"FLT3"},{"$f":"Composite!Z153","v":1.3121965470036798},{"$f":"Composite!G153","v":"TK"}]
[220,{"$f":"Composite!B142","v":"ERN1 (IRE1)"},{"$f":"Composite!Z142","v":1.3054924015795137},{"$f":"Composite!G142","v":"Other"}]
[221,{"$f":"Composite!B87","v":"CDK9 (TAK)/CycT2"},{"$f":"Composite!Z87","v":1.2800819252432092},{"$f":"Composite!G87","v":"CMGC"}]
[222,{"$f":"Composite!B279","v":"NTRK2 (TRKB)"},{"$f":"Composite!Z279","v":1.2626099476681389},{"$f":"Composite!G279","v":"TK"}]
[223,{"$f":"Composite!B331","v":"PRKCD (PKCδ [delta])"},{"$f":"Composite!Z331","v":1.2127540909684171},{"$f":"Composite!G331","v":"AGC"}]
[224,{"$f":"Composite!B328","v":"PRKCA (PKCα [alpha])"},{"$f":"Composite!Z328","v":1.2071791470196871},{"$f":"Composite!G328","v":"AGC"}]
[225,{"$f":"Composite!B364","v":"SBK1 (SBK)"},{"$f":"Composite!Z364","v":1.2071122389086213},{"$f":"Composite!G364","v":"Other"}]
[226,{"$f":"Composite!B371","v":"SLK"},{"$f":"Composite!Z371","v":1.1122881355932321},{"$f":"Composite!G371","v":"STE"}]
[227,{"$f":"Composite!B372","v":"SNRK"},{"$f":"Composite!Z372","v":1.0588572400762928},{"$f":"Composite!G372","v":"CAMK"}]
[228,{"$f":"Composite!B215","v":"MAP3K20 (MLK7, ZAK)"},{"$f":"Composite!Z215","v":1.0290731145653638},{"$f":"Composite!G215","v":"TKL"}]
[229,{"$f":"Composite!B160","v":"GRK2 (ADRBK1, BARK1)"},{"$f":"Composite!Z160","v":0.95934040531169273},{"$f":"Composite!G160","v":"AGC"}]
[230,{"$f":"Composite!B335","v":"PRKCI (PKCι [iota])"},{"$f":"Composite!Z335","v":0.92258722303733975},{"$f":"Composite!G335","v":"AGC"}]
[231,{"$f":"Composite!B374","v":"SRC N1"},{"$f":"Composite!Z374","v":0.90297555249325967},{"$f":"Composite!G374","v":"TK"}]
[232,{"$f":"Composite!B377","v":"SRPK2"},{"$f":"Composite!Z377","v":0.87915390140575767},{"$f":"Composite!G377","v":"CMGC"}]
[233,{"$f":"Composite!B178","v":"IKKE (IKKe)"},{"$f":"Composite!Z178","v":0.87472664792251464},{"$f":"Composite!G178","v":"Other"}]
[234,{"$f":"Composite!B53","v":"CDC42BPB (MRCKB)"},{"$f":"Composite!Z53","v":0.86017667529220887},{"$f":"Composite!G53","v":"AGC"}]
[235,{"$f":"Composite!B39","v":"BRSK2"},{"$f":"Composite!Z39","v":0.8228183870263166},{"$f":"Composite!G39","v":"CAMK"}]
[236,{"$f":"Composite!B186","v":"JAK2 [JH1]"},{"$f":"Composite!Z186","v":0.73655115116075365},{"$f":"Composite!G186","v":"TK"}]
[237,{"$f":"Composite!B33","v":"BLK"},{"$f":"Composite!Z33","v":0.7352941176470722},{"$f":"Composite!G33","v":"TK"}]
[238,{"$f":"Composite!B149","v":"FGFR3"},{"$f":"Composite!Z149","v":0.73243512071614703},{"$f":"Composite!G149","v":"TK"}]
[239,{"$f":"Composite!B55","v":"CDC7/DBF4 (CDC7)"},{"$f":"Composite!Z55","v":0.63500047153497974},{"$f":"Composite!G55","v":"Other"}]
[240,{"$f":"Composite!B99","v":"CSNK1A1 (CK1A1, CK1α)"},{"$f":"Composite!Z99","v":0.56004955140403467},{"$f":"Composite!G99","v":"CK1"}]
[241,{"$f":"Composite!B170","v":"HIPK1"},{"$f":"Composite!Z170","v":0.50473469472360932},{"$f":"Composite!G170","v":"CMGC"}]
[242,{"$f":"Composite!B136","v":"EPHB1"},{"$f":"Composite!Z136","v":0.49709613598169256},{"$f":"Composite!G136","v":"TK"}]
[243,{"$f":"Composite!B101","v":"CSNK1D (CK1D, CK1δ)"},{"$f":"Composite!Z101","v":0.43796628903011481},{"$f":"Composite!G101","v":"CK1"}]
[244,{"$f":"Composite!B224","v":"MAP4K3 (GLK, KHS2)"},{"$f":"Composite!Z224","v":0.41713665481940154},{"$f":"Composite!G224","v":"STE"}]
[245,{"$f":"Composite!B171","v":"HIPK2"},{"$f":"Composite!Z171","v":0.4070998208760841},{"$f":"Composite!G171","v":"CMGC"}]
[246,{"$f":"Composite!B398","v":"TEK (TIE2)"},{"$f":"Composite!Z398","v":0.39868569754301575},{"$f":"Composite!G398","v":"TK"}]
[247,{"$f":"Composite!B23","v":"AKT1 (PKB)"},{"$f":"Composite!Z23","v":0.3859189075526217},{"$f":"Composite!G23","v":"AGC"}]
[248,{"$f":"Composite!B129","v":"EPHA2"},{"$f":"Composite!Z129","v":0.37605425615164734},{"$f":"Composite!G129","v":"TK"}]
[249,{"$f":"Composite!B373","v":"SRC"},{"$f":"Composite!Z373","v":0.34552448008344072},{"$f":"Composite!G373","v":"TK"}]
[250,{"$f":"Composite!B113","v":"DDR1 [SRC treated]"},{"$f":"Composite!Z113","v":0.28024229255467503},{"$f":"Composite!G113","v":"TK"}]
[251,{"$f":"Composite!B339","v":"PRKD2 (PKD2)"},{"$f":"Composite!Z339","v":0.24906448947857029},{"$f":"Composite!G339","v":"CAMK"}]
[252,{"$f":"Composite!B337","v":"PRKCZ (PKCζ [zeta])"},{"$f":"Composite!Z337","v":0.24712894316034806},{"$f":"Composite!G337","v":"AGC"}]
[253,{"$f":"Composite!B273","v":"NEK7"},{"$f":"Composite!Z273","v":0.21703858229554385},{"$f":"Composite!G273","v":"Other"}]
[254,{"$f":"Composite!B207","v":"MAP3K1 (MEKK1)"},{"$f":"Composite!Z207","v":0.18517146878008361},{"$f":"Composite!G207","v":"STE"}]
[255,{"$f":"Composite!B237","v":"MAPK8 (JNK1)"},{"$f":"Composite!Z237","v":0.17490230681960384},{"$f":"Composite!G237","v":"CMGC"}]
[256,{"$f":"Composite!B176","v":"IGF1R"},{"$f":"Composite!Z176","v":0.14722948746818076},{"$f":"Composite!G176","v":"TK"}]
[257,{"$f":"Composite!B311","v":"PLK4"},{"$f":"Composite!Z311","v":0.12721401311281966},{"$f":"Composite!G311","v":"Other"}]
[258,{"$f":"Composite!B349","v":"RET"},{"$f":"Composite!Z349","v":0.10757157176733756},{"$f":"Composite!G349","v":"TK"}]
[259,{"$f":"Composite!B108","v":"DAPK1"},{"$f":"Composite!Z108","v":3.643827962736168E-2},{"$f":"Composite!G108","v":"CAMK"}]
[260,{"$f":"Composite!B60","v":"CDK12 (CRK7)/CycK"},{"$f":"Composite!Z60","v":0},{"$f":"Composite!G60","v":"CMGC"}]
[261,{"$f":"Composite!B69","v":"CDK2/CycD1"},{"$f":"Composite!Z69","v":0},{"$f":"Composite!G69","v":"CMGC"}]
[262,{"$f":"Composite!B206","v":"MAP2K4 (MEK4)"},{"$f":"Composite!Z206","v":0},{"$f":"Composite!G206","v":"STE"}]
[263,{"$f":"Composite!B235","v":"MAPK6 (ERK3)"},{"$f":"Composite!Z235","v":0},{"$f":"Composite!G235","v":"CMGC"}]
[264,{"$f":"Composite!B274","v":"NEK8"},{"$f":"Composite!Z274","v":0},{"$f":"Composite!G274","v":"Other"}]
[265,{"$f":"Composite!B415","v":"TYK2 [JH1-JH2]"},{"$f":"Composite!Z415","v":0},{"$f":"Composite!G415","v":"TK"}]
[266,{"$f":"Composite!B420","v":"WEE1"},{"$f":"Composite!Z420","v":0},{"$f":"Composite!G420","v":"Other"}]
[267,{"$f":"Composite!B231","v":"MAPK13 (p38δ)"},{"$f":"Composite!Z231","v":-1.8285934266842219E-2},{"$f":"Composite!G231","v":"CMGC"}]
[268,{"$f":"Composite!B336","v":"PRKCQ (PKCᶿ [theta])"},{"$f":"Composite!Z336","v":-0.11025281388909036},{"$f":"Composite!G336","v":"AGC"}]
[269,{"$f":"Composite!B98","v":"CSK"},{"$f":"Composite!Z98","v":-0.12540579900687021},{"$f":"Composite!G98","v":"TK"}]
[270,{"$f":"Composite!B29","v":"AURKC (AURC)"},{"$f":"Composite!Z29","v":-0.12903485957377825},{"$f":"Composite!G29","v":"Other"}]
[271,{"$f":"Composite!B27","v":"AURKA (AURA)"},{"$f":"Composite!Z27","v":-0.17889271577648458},{"$f":"Composite!G27","v":"Other"}]
[272,{"$f":"Composite!B154","v":"FLT4"},{"$f":"Composite!Z154","v":-0.28653295128935952},{"$f":"Composite!G154","v":"TK"}]
[273,{"$f":"Composite!B316","v":"PRKAA1-B2-G1 (AMPKα1β2γ1)"},{"$f":"Composite!Z316","v":-0.33501714345538858},{"$f":"Composite!G316","v":"CAMK"}]
[274,{"$f":"Composite!B211","v":"MAP3K13 (LZK)"},{"$f":"Composite!Z211","v":-0.37818580432994509},{"$f":"Composite!G211","v":"TKL"}]
[275,{"$f":"Composite!B356","v":"RPS6KA1 (RSK1)"},{"$f":"Composite!Z356","v":-0.40729347471173583},{"$f":"Composite!G356","v":"AGC"}]
[276,{"$f":"Composite!B135","v":"EPHA8"},{"$f":"Composite!Z135","v":-0.42261932105286348},{"$f":"Composite!G135","v":"TK"}]
[277,{"$f":"Composite!B83","v":"CDK7/CycH/MAT1"},{"$f":"Composite!Z83","v":-0.45935547164418722},{"$f":"Composite!G83","v":"CMGC"}]
[278,{"$f":"Composite!B110","v":"DAPK3 (ZIPK)"},{"$f":"Composite!Z110","v":-0.55088572986257134},{"$f":"Composite!G110","v":"CAMK"}]
[279,{"$f":"Composite!B256","v":"MST1R (RON)"},{"$f":"Composite!Z256","v":-0.69033414294808892},{"$f":"Composite!G256","v":"TK"}]
[280,{"$f":"Composite!B36","v":"BRAF (BRAF1, RAFB1)"},{"$f":"Composite!Z36","v":-0.69329533615248806},{"$f":"Composite!G36","v":"TKL"}]
[281,{"$f":"Composite!B367","v":"SGK3"},{"$f":"Composite!Z367","v":-0.69616745163247629},{"$f":"Composite!G367","v":"AGC"}]
[282,{"$f":"Composite!B226","v":"MAP4K5 (KHS1)"},{"$f":"Composite!Z226","v":-0.74347059766061818},{"$f":"Composite!G226","v":"STE"}]
[283,{"$f":"Composite!B404","v":"TNK2 (ACK)"},{"$f":"Composite!Z404","v":-0.76484058072092864},{"$f":"Composite!G404","v":"TK"}]
[284,{"$f":"Composite!B190","v":"KIT (SCFR, CD117)"},{"$f":"Composite!Z190","v":-0.79316862427431545},{"$f":"Composite!G190","v":"TK"}]
[285,{"$f":"Composite!B112","v":"DCLK2 (DCAMKL2)"},{"$f":"Composite!Z112","v":-0.7975116337618573},{"$f":"Composite!G112","v":"CAMK"}]
[286,{"$f":"Composite!B201","v":"LYNB (LYNb)"},{"$f":"Composite!Z201","v":-0.876269401895172},{"$f":"Composite!G201","v":"TK"}]
[287,{"$f":"Composite!B175","v":"ICK"},{"$f":"Composite!Z175","v":-0.87841844477725317},{"$f":"Composite!G175","v":"CMGC"}]
[288,{"$f":"Composite!B204","v":"MAP2K2 (MEK2)"},{"$f":"Composite!Z204","v":-0.97082798701789841},{"$f":"Composite!G204","v":"STE"}]
[289,{"$f":"Composite!B30","v":"AXL"},{"$f":"Composite!Z30","v":-0.97598946170887757},{"$f":"Composite!G30","v":"TK"}]
[290,{"$f":"Composite!B192","v":"KSR2"},{"$f":"Composite!Z192","v":-0.98234237392104262},{"$f":"Composite!G192","v":"TKL"}]
[291,{"$f":"Composite!B296","v":"PDK4 (PDHK4)"},{"$f":"Composite!Z296","v":-1.0011059034177947},{"$f":"Composite!G296","v":"Atypical"}]
[292,{"$f":"Composite!B389","v":"STK38 (NDR1)"},{"$f":"Composite!Z389","v":-1.0214980145145915},{"$f":"Composite!G389","v":"AGC"}]
[293,{"$f":"Composite!B334","v":"PRKCH (PKCη [eta])"},{"$f":"Composite!Z334","v":-1.0271805903074096},{"$f":"Composite!G334","v":"AGC"}]
[294,{"$f":"Composite!B322","v":"PRKAA2-B2-G1 (AMPKα2β2γ1)"},{"$f":"Composite!Z322","v":-1.02826545359774},{"$f":"Composite!G322","v":"CAMK"}]
[295,{"$f":"Composite!B293","v":"PDK1 (PDHK1)"},{"$f":"Composite!Z293","v":-1.0629674850969195},{"$f":"Composite!G293","v":"Atypical"}]
[296,{"$f":"Composite!B329","v":"PRKCB1 (PKCβ1 [beta1])"},{"$f":"Composite!Z329","v":-1.3924675452884827},{"$f":"Composite!G329","v":"AGC"}]
[297,{"$f":"Composite!B92","v":"CIT (CRIK)"},{"$f":"Composite!Z92","v":-1.4277856974486127},{"$f":"Composite!G92","v":"AGC"}]
[298,{"$f":"Composite!B393","v":"TAOK1 (TAO1)"},{"$f":"Composite!Z393","v":-1.4479287650019188},{"$f":"Composite!G393","v":"STE"}]
[299,{"$f":"Composite!B246","v":"MAST3"},{"$f":"Composite!Z246","v":-1.4519601461973792},{"$f":"Composite!G246","v":"AGC"}]
[300,{"$f":"Composite!B391","v":"STK4 (MST1)"},{"$f":"Composite!Z391","v":-1.4695866296432172},{"$f":"Composite!G391","v":"STE"}]
[301,{"$f":"Composite!B249","v":"MELK"},{"$f":"Composite!Z249","v":-1.4903115896195231},{"$f":"Composite!G249","v":"CAMK"}]
[302,{"$f":"Composite!B194","v":"LATS2"},{"$f":"Composite!Z194","v":-1.5487031788900651},{"$f":"Composite!G194","v":"AGC"}]
[303,{"$f":"Composite!B130","v":"EPHA3"},{"$f":"Composite!Z130","v":-1.5893596553599139},{"$f":"Composite!G130","v":"TK"}]
[304,{"$f":"Composite!B174","v":"HUNK"},{"$f":"Composite!Z174","v":-1.6061653325525498},{"$f":"Composite!G174","v":"CAMK"}]
[305,{"$f":"Composite!B50","v":"CAMKK1"},{"$f":"Composite!Z50","v":-1.6678411195427714},{"$f":"Composite!G50","v":"Other"}]
[306,{"$f":"Composite!B131","v":"EPHA4"},{"$f":"Composite!Z131","v":-1.6831747264841255},{"$f":"Composite!G131","v":"TK"}]
[307,{"$f":"Composite!B239","v":"MAPKAPK2 (MK2)"},{"$f":"Composite!Z239","v":-1.6920808724247252},{"$f":"Composite!G239","v":"CAMK"}]
[308,{"$f":"Composite!B68","v":"CDK2/CycA2"},{"$f":"Composite!Z68","v":-1.7011374732116735},{"$f":"Composite!G68","v":"CMGC"}]
[309,{"$f":"Composite!B214","v":"MAP3K2 (MEKK2)"},{"$f":"Composite!Z214","v":-1.8320709522884897},{"$f":"Composite!G214","v":"STE"}]
[310,{"$f":"Composite!B417","v":"ULK1"},{"$f":"Composite!Z417","v":-1.9044032990347688},{"$f":"Composite!G417","v":"Other"}]
[311,{"$f":"Composite!B261","v":"MYLK3 (caMLCK)"},{"$f":"Composite!Z261","v":-1.9749810886245029},{"$f":"Composite!G261","v":"CAMK"}]
[312,{"$f":"Composite!B42","v":"CAMK1 (CAMK1a)"},{"$f":"Composite!Z42","v":-2.1468196100245081},{"$f":"Composite!G42","v":"CAMK"}]
[313,{"$f":"Composite!B250","v":"MERTK (MER)"},{"$f":"Composite!Z250","v":-2.210141010394338},{"$f":"Composite!G250","v":"TK"}]
[314,{"$f":"Composite!B134","v":"EPHA7"},{"$f":"Composite!Z134","v":-2.2832992965736594},{"$f":"Composite!G134","v":"TK"}]
[315,{"$f":"Composite!B361","v":"RPS6KA6 (RSK4)"},{"$f":"Composite!Z361","v":-2.3683799406342843},{"$f":"Composite!G361","v":"AGC"}]
[316,{"$f":"Composite!B307","v":"PKN3"},{"$f":"Composite!Z307","v":-2.3855012976144963},{"$f":"Composite!G307","v":"AGC"}]
[317,{"$f":"Composite!B25","v":"AKT3 (PKBg)"},{"$f":"Composite!Z25","v":-2.4545780005369977},{"$f":"Composite!G25","v":"AGC"}]
[318,{"$f":"Composite!B369","v":"SIK2 (QIK)"},{"$f":"Composite!Z369","v":-2.4935135873275982},{"$f":"Composite!G369","v":"CAMK"}]
[319,{"$f":"Composite!B381","v":"STK16 (MPSK1, PKL12, TSF1)"},{"$f":"Composite!Z381","v":-2.5020817637495583},{"$f":"Composite!G381","v":"Other"}]
[320,{"$f":"Composite!B344","v":"PRKX"},{"$f":"Composite!Z344","v":-2.5627176855910392},{"$f":"Composite!G344","v":"AGC"}]
[321,{"$f":"Composite!B209","v":"MAP3K11 (MLK3)"},{"$f":"Composite!Z209","v":-2.6436081060490579},{"$f":"Composite!G209","v":"TKL"}]
[322,{"$f":"Composite!B383","v":"STK17B (DRAK2)"},{"$f":"Composite!Z383","v":-2.8621904909343954},{"$f":"Composite!G383","v":"CAMK"}]
[323,{"$f":"Composite!B266","v":"NEK10"},{"$f":"Composite!Z266","v":-3.1683980043791706},{"$f":"Composite!G266","v":"Other"}]
[324,{"$f":"Composite!B287","v":"PAK5 (PAK7)"},{"$f":"Composite!Z287","v":-3.2171280583706903},{"$f":"Composite!G287","v":"STE"}]
[325,{"$f":"Composite!B132","v":"EPHA5"},{"$f":"Composite!Z132","v":-3.2790255435061795},{"$f":"Composite!G132","v":"TK"}]
[326,{"$f":"Composite!B106","v":"CSNK2A1 (CK2A1, CK2α1)"},{"$f":"Composite!Z106","v":-3.3631977946244263},{"$f":"Composite!G106","v":"Other"}]
[327,{"$f":"Composite!B368","v":"SIK1 (SIK)"},{"$f":"Composite!Z368","v":-3.6676992949158347},{"$f":"Composite!G368","v":"CAMK"}]
[328,{"$f":"Composite!B157","v":"FYNb (FYN)"},{"$f":"Composite!Z157","v":-3.7031086834283684},{"$f":"Composite!G157","v":"TK"}]
[329,{"$f":"Composite!B116","v":"DSTYK (RIPK5, SGK496)"},{"$f":"Composite!Z116","v":-3.7503094314712513},{"$f":"Composite!G116","v":"TKL"}]
[330,{"$f":"Composite!B258","v":"MUSK"},{"$f":"Composite!Z258","v":-3.7599421547360947},{"$f":"Composite!G258","v":"TK"}]
[331,{"$f":"Composite!B109","v":"DAPK2 (DRP-1)"},{"$f":"Composite!Z109","v":-3.9129338599882715},{"$f":"Composite!G109","v":"CAMK"}]
[332,{"$f":"Composite!B382","v":"STK17A (DRAK1)"},{"$f":"Composite!Z382","v":-3.960159947173409},{"$f":"Composite!G382","v":"CAMK"}]
[333,{"$f":"Composite!B103","v":"CSNK1G1 (CK1G1, CK1γ1)"},{"$f":"Composite!Z103","v":-3.9654667837284308},{"$f":"Composite!G103","v":"CK1"}]
[334,{"$f":"Composite!B318","v":"PRKAA1-B2-G3 (AMPKα1β2γ3)"},{"$f":"Composite!Z318","v":-4.0092993470967713},{"$f":"Composite!G318","v":"CAMK"}]
[335,{"$f":"Composite!B263","v":"MYO3A"},{"$f":"Composite!Z263","v":-4.0556399282065598},{"$f":"Composite!G263","v":"STE"}]
[336,{"$f":"Composite!B365","v":"SGK1 (SGK)"},{"$f":"Composite!Z365","v":-4.0560119155082077},{"$f":"Composite!G365","v":"AGC"}]
[337,{"$f":"Composite!B376","v":"SRPK1"},{"$f":"Composite!Z376","v":-4.0599430807541808},{"$f":"Composite!G376","v":"CMGC"}]
[338,{"$f":"Composite!B245","v":"MARK4"},{"$f":"Composite!Z245","v":-4.0800210581732159},{"$f":"Composite!G245","v":"CAMK"}]
[339,{"$f":"Composite!B120","v":"DYRK3"},{"$f":"Composite!Z120","v":-4.1282787091577262},{"$f":"Composite!G120","v":"CMGC"}]
[340,{"$f":"Composite!B362","v":"RPS6KB1 (p70S6K)"},{"$f":"Composite!Z362","v":-4.1449751578614098},{"$f":"Composite!G362","v":"AGC"}]
[341,{"$f":"Composite!B82","v":"CDK6/CycD3"},{"$f":"Composite!Z82","v":-4.1518956353073406},{"$f":"Composite!G82","v":"CMGC"}]
[342,{"$f":"Composite!B291","v":"PDGFRA (PDGFRα)"},{"$f":"Composite!Z291","v":-4.212920344398114},{"$f":"Composite!G291","v":"TK"}]
[343,{"$f":"Composite!B379","v":"STK10 (LOK)"},{"$f":"Composite!Z379","v":-4.225014170315049},{"$f":"Composite!G379","v":"STE"}]
[344,{"$f":"Composite!B221","v":"MAP3K9 (MLK1)"},{"$f":"Composite!Z221","v":-4.3823326432021901},{"$f":"Composite!G221","v":"TKL"}]
[345,{"$f":"Composite!B353","v":"ROCK1"},{"$f":"Composite!Z353","v":-4.4118232088157185},{"$f":"Composite!G353","v":"AGC"}]
[346,{"$f":"Composite!B65","v":"CDK17 (PCTAIRE2, PCTK2)/p35NCK"},{"$f":"Composite!Z65","v":-4.4982162246005828},{"$f":"Composite!G65","v":"CMGC"}]
[347,{"$f":"Composite!B282","v":"NUAK2 (SNARK)"},{"$f":"Composite!Z282","v":-4.5539094758782568},{"$f":"Composite!G282","v":"CAMK"}]
[348,{"$f":"Composite!B220","v":"MAP3K8 (COT, Tpl2)"},{"$f":"Composite!Z220","v":-4.5622746914316963},{"$f":"Composite!G220","v":"STE"}]
[349,{"$f":"Composite!B90","v":"CHEK2 (CHK2)"},{"$f":"Composite!Z90","v":-4.5714375947448502},{"$f":"Composite!G90","v":"CAMK"}]
[350,{"$f":"Composite!B73","v":"CDK3/CycE1"},{"$f":"Composite!Z73","v":-4.7445255474452637},{"$f":"Composite!G73","v":"CMGC"}]
[351,{"$f":"Composite!B197","v":"LIMK2"},{"$f":"Composite!Z197","v":-4.831407746218062},{"$f":"Composite!G197","v":"TKL"}]
[352,{"$f":"Composite!B332","v":"PRKCE (PKCe [epsilon])"},{"$f":"Composite!Z332","v":-4.9256440339740806},{"$f":"Composite!G332","v":"AGC"}]
[353,{"$f":"Composite!B225","v":"MAP4K4 (HGK, ZC1)"},{"$f":"Composite!Z225","v":-4.9589087046458502},{"$f":"Composite!G225","v":"STE"}]
[354,{"$f":"Composite!B386","v":"STK26 (MST4)"},{"$f":"Composite!Z386","v":-4.9998192110369644},{"$f":"Composite!G386","v":"STE"}]
[355,{"$f":"Composite!B196","v":"LIMK1"},{"$f":"Composite!Z196","v":-5.0477597952636586},{"$f":"Composite!G196","v":"TKL"}]
[356,{"$f":"Composite!B280","v":"NTRK3 (TRKC)"},{"$f":"Composite!Z280","v":-5.0979736986562614},{"$f":"Composite!G280","v":"TK"}]
[357,{"$f":"Composite!B229","v":"MAPK11 (p38b)"},{"$f":"Composite!Z229","v":-5.1194070820752273},{"$f":"Composite!G229","v":"CMGC"}]
[358,{"$f":"Composite!B219","v":"MAP3K7 (TAK1)"},{"$f":"Composite!Z219","v":-5.3039702233250807},{"$f":"Composite!G219","v":"STE"}]
[359,{"$f":"Composite!B378","v":"SRPK3 (MSSK1)"},{"$f":"Composite!Z378","v":-5.4604079693174583},{"$f":"Composite!G378","v":"CMGC"}]
[360,{"$f":"Composite!B172","v":"HIPK3"},{"$f":"Composite!Z172","v":-5.4661084370897441},{"$f":"Composite!G172","v":"CMGC"}]
[361,{"$f":"Composite!B75","v":"CDK4 /CycD3"},{"$f":"Composite!Z75","v":-5.4704801394713343},{"$f":"Composite!G75","v":"CMGC"}]
[362,{"$f":"Composite!B313","v":"PRKAA1-B1-G1 (AMPKα1β1γ1)"},{"$f":"Composite!Z313","v":-5.7584839379176884},{"$f":"Composite!G313","v":"CAMK"}]
[363,{"$f":"Composite!B419","v":"ULK3"},{"$f":"Composite!Z419","v":-5.7707142857142912},{"$f":"Composite!G419","v":"Other"}]
[364,{"$f":"Composite!B289","v":"PASK"},{"$f":"Composite!Z289","v":-6.0614877315488513},{"$f":"Composite!G289","v":"CAMK"}]
[365,{"$f":"Composite!B297","v":"PDPK1 (PDK1)"},{"$f":"Composite!Z297","v":-6.100519930675901},{"$f":"Composite!G297","v":"AGC"}]
[366,{"$f":"Composite!B255","v":"MNK2"},{"$f":"Composite!Z255","v":-6.1829551248036267},{"$f":"Composite!G255","v":"CAMK"}]
[367,{"$f":"Composite!B228","v":"MAPK10 (JNK3)"},{"$f":"Composite!Z228","v":-6.4848245515062644},{"$f":"Composite!G228","v":"CMGC"}]
[368,{"$f":"Composite!B272","v":"NEK6"},{"$f":"Composite!Z272","v":-6.5464670130046585},{"$f":"Composite!G272","v":"Other"}]
[369,{"$f":"Composite!B34","v":"BMP2K (BIKE)"},{"$f":"Composite!Z34","v":-6.6073174496989822},{"$f":"Composite!G34","v":"Other"}]
[370,{"$f":"Composite!B363","v":"RPS6KB2 (p70S6KB)"},{"$f":"Composite!Z363","v":-6.6236902151037782},{"$f":"Composite!G363","v":"AGC"}]
[371,{"$f":"Composite!B281","v":"NUAK1 (ARK5)"},{"$f":"Composite!Z281","v":-6.6556312745877761},{"$f":"Composite!G281","v":"CAMK"}]
[372,{"$f":"Composite!B260","v":"MYLK2 (skMLCK)"},{"$f":"Composite!Z260","v":-6.6559850457306879},{"$f":"Composite!G260","v":"CAMK"}]
[373,{"$f":"Composite!B268","v":"NEK2"},{"$f":"Composite!Z268","v":-6.7453297404378105},{"$f":"Composite!G268","v":"Other"}]
[374,{"$f":"Composite!B79","v":"CDK5/p35NCK"},{"$f":"Composite!Z79","v":-7.2850189291509082},{"$f":"Composite!G79","v":"CMGC"}]
[375,{"$f":"Composite!B400","v":"TLK1"},{"$f":"Composite!Z400","v":-7.4433195494082298},{"$f":"Composite!G400","v":"Other"}]
[376,{"$f":"Composite!B302","v":"PIM3"},{"$f":"Composite!Z302","v":-7.5247125277385578},{"$f":"Composite!G302","v":"CAMK"}]
[377,{"$f":"Composite!B357","v":"RPS6KA2 (RSK3)"},{"$f":"Composite!Z357","v":-7.6609821479495963},{"$f":"Composite!G357","v":"AGC"}]
[378,{"$f":"Composite!B252","v":"MINK1 (MAP4K6, MINK, ZC3)"},{"$f":"Composite!Z252","v":-8.0983321934024559},{"$f":"Composite!G252","v":"STE"}]
[379,{"$f":"Composite!B118","v":"DYRK1B"},{"$f":"Composite!Z118","v":-8.1564443280748833},{"$f":"Composite!G118","v":"CMGC"}]
[380,{"$f":"Composite!B203","v":"MAP2K1 (MEK1)"},{"$f":"Composite!Z203","v":-8.3306508223997184},{"$f":"Composite!G203","v":"STE"}]
[381,{"$f":"Composite!B32","v":"BCR RET (fusion)"},{"$f":"Composite!Z32","v":-8.9757434229175317},{"$f":"Composite!G32","v":"TK"}]
[382,{"$f":"Composite!B208","v":"MAP3K10 (MLK2)"},{"$f":"Composite!Z208","v":-9.2402045024918635},{"$f":"Composite!G208","v":"TKL"}]
[383,{"$f":"Composite!B306","v":"PKN2"},{"$f":"Composite!Z306","v":-9.5829914992406913},{"$f":"Composite!G306","v":"AGC"}]
[384,{"$f":"Composite!B358","v":"RPS6KA3 (RSK2)"},{"$f":"Composite!Z358","v":-9.9638073558891023},{"$f":"Composite!G358","v":"AGC"}]
[385,{"$f":"Composite!B285","v":"PAK3"},{"$f":"Composite!Z285","v":-10.172604916155862},{"$f":"Composite!G285","v":"STE"}]
[386,{"$f":"Composite!B70","v":"CDK2/CycE1"},{"$f":"Composite!Z70","v":-10.248428614187347},{"$f":"Composite!G70","v":"CMGC"}]
[387,{"$f":"Composite!B354","v":"ROCK2"},{"$f":"Composite!Z354","v":-10.753222770695018},{"$f":"Composite!G354","v":"AGC"}]
[388,{"$f":"Composite!B352","v":"RIPK3"},{"$f":"Composite!Z352","v":-10.922330097087382},{"$f":"Composite!G352","v":"TKL"}]
[389,{"$f":"Composite!B326","v":"PRKACB (PKACB, PKACβ)"},{"$f":"Composite!Z326","v":-11.066584903238692},{"$f":"Composite!G326","v":"AGC"}]
[390,{"$f":"Composite!B127","v":"EIF2AK4 (GCN2)"},{"$f":"Composite!Z127","v":-11.292960215602406},{"$f":"Composite!G127","v":"Other"}]
[391,{"$f":"Composite!B399","v":"TESK2"},{"$f":"Composite!Z399","v":-11.786372007366523},{"$f":"Composite!G399","v":"TKL"}]
[392,{"$f":"Composite!B292","v":"PDGFRB (PDGFRβ)"},{"$f":"Composite!Z292","v":-12.495727823520298},{"$f":"Composite!G292","v":"TK"}]
[393,{"$f":"Composite!B388","v":"STK33"},{"$f":"Composite!Z388","v":-14.470887215831596},{"$f":"Composite!G388","v":"CAMK"}]
[394,{"$f":"Composite!B94","v":"CLK2"},{"$f":"Composite!Z94","v":-14.759642013818024},{"$f":"Composite!G94","v":"CMGC"}]
[395,{"$f":"Composite!B340","v":"PRKD3 (PKD3)"},{"$f":"Composite!Z340","v":-14.782194222240662},{"$f":"Composite!G340","v":"CAMK"}]
[396,{"$f":"Composite!B304","v":"PKMYT1 (MYT1)"},{"$f":"Composite!Z304","v":-15.609391356363091},{"$f":"Composite!G304","v":"Other"}]
[397,{"$f":"Composite!B422","v":"ZAP70"},{"$f":"Composite!Z422","v":-15.99171842650108},{"$f":"Composite!G422","v":"TK"}]
[398,{"$f":"Composite!B88","v":"CDKL5"},{"$f":"Composite!Z88","v":-16.332969922401091},{"$f":"Composite!G88","v":"CMGC"}]
[399,{"$f":"Composite!B218","v":"MAP3K6 (ASK2)"},{"$f":"Composite!Z218","v":-19.532919910278395},{"$f":"Composite!G218","v":"STE"}]
[400,{"$f":"Composite!B345","v":"PTK2 (FAK)"},{"$f":"Composite!Z345","v":-20.490555428838164},{"$f":"Composite!G345","v":"TK"}]
[401,{"$f":"Composite!B243","v":"MARK2"},{"$f":"Composite!Z243","v":-25.939839850249598},{"$f":"Composite!G243","v":"CAMK"}]
[402,{"$f":"Composite!B333","v":"PRKCG (PKCγ [gamma])"},{"$f":"Composite!Z333","v":-27.227127953769582},{"$f":"Composite!G333","v":"AGC"}]
[403,{"$f":"Composite!B223","v":"MAP4K2 (GCK)"},{"$f":"Composite!Z223","v":-29.172629695885519},{"$f":"Composite!G223","v":"STE"}]

{"sheet":"Compound 9 Kinome Tree","index":21,"n_rows":6,"n_cols":27,"rows_kept":6,"cut":false,"hidden":false,"merged":[[1,1,3,20]]}
[]
[null,{"$f":"Summary!AC18","v":"Kinome Hit View for Osimertinib  (0.015 µM) with 396 Kinases (Coral Names) at  ATP Km "}]
[null,null,null,null,null,null,null,null,null,null,null,null,null,null,null,null,null,null,null,null,null,null,null,null,null,null,"Kinome Hit View for VVVVVVVVVVVVVVVVVVVVVVVVVVV (VVVVV µM) with VVV Kinases (Coral Names)"]
[null,null,null,null,null,null,null,null,null,null,null,null,null,null,null,null,null,null,null,null,null,null,null,null,null,null,{"$f":"REPLACE(AA3,65,3,Summary!E18)","v":"Kinome Hit View for VVVVVVVVVVVVVVVVVVVVVVVVVVV (VVVVV µM) with 396 Kinases (Coral Names)"}]
[null,null,null,null,null,null,null,null,null,null,null,null,null,null,null,null,null,null,null,null,null,null,null,null,null,null,{"$f":"REPLACE(AA4,50,5,Summary!D17)","v":"Kinome Hit View for VVVVVVVVVVVVVVVVVVVVVVVVVVV (0.09 µM) with 396 Kinases (Coral Names)"}]
[null,null,null,null,null,null,null,null,null,null,null,null,null,null,null,null,null,null,null,null,null,null,null,null,null,null,{"$f":"REPLACE(AA5,21,27,Summary!C17)","v":"Kinome Hit View for Osimertinib  (0.09 µM) with 396 Kinases (Coral Names)"}]

{"sheet":"Compound 10","index":22,"n_rows":405,"n_cols":28,"rows_kept":405,"cut":false,"hidden":false,"merged":[]}
[]
["Panel #","Kinase Target","Kinase Target",{"$f":"Summary!AB19","v":"0.02 µM Afatinib , % inhibition at 1 mM"},{"$f":"Composite!G19","v":"Group"}]
[1,{"$f":"Composite!B123","v":"EGFR (ERBB1)"},{"$f":"Composite!F526","v":0},{"$f":"Composite!AB123","v":100},{"$f":"Composite!G123","v":"TK"},null,null,null,null,null,null,null,null,null,null,null,null,null,null,null,null,null,null,null,null,null,null,"VVVVV μM VVVVVVVVVVVVVVVVVVVVVVVVVVV, % inhibition"]
[2,{"$f":"Composite!B140","v":"ERBB2 (HER2)"},{"$f":"Composite!F543","v":0},{"$f":"Composite!AB140","v":49.597991216297125},{"$f":"Composite!G140","v":"TK"},null,null,null,null,null,null,null,null,null,null,null,null,null,null,null,null,null,null,null,null,null,null,{"$f":"REPLACE(AB3,10,27,Summary!C19)","v":"VVVVV μM Afatinib , % inhibition"}]
[3,{"$f":"Composite!B141","v":"ERBB4 (HER4)"},{"$f":"Composite!F544","v":0},{"$f":"Composite!AB141","v":47.829263031950617},{"$f":"Composite!G141","v":"TK"},null,null,null,null,null,null,null,null,null,null,null,null,null,null,null,null,null,null,null,null,null,null,{"$f":"REPLACE(AB4,1,5,Summary!D19)","v":"0.02 μM Afatinib , % inhibition"}]
[4,{"$f":"Composite!B293","v":"PDK1 (PDHK1)"},{"$f":"Composite!F696","v":0},{"$f":"Composite!AB293","v":31.319527517316956},{"$f":"Composite!G293","v":"Atypical"}]
[5,{"$f":"Composite!B47","v":"CAMK2D (CAMK2δ)"},{"$f":"Composite!F450","v":0},{"$f":"Composite!AB47","v":25.316792665643902},{"$f":"Composite!G47","v":"CAMK"}]
[6,{"$f":"Composite!B165","v":"GRK7 (GPRK7)"},{"$f":"Composite!F568","v":0},{"$f":"Composite!AB165","v":24.78486912871999},{"$f":"Composite!G165","v":"AGC"}]
[7,{"$f":"Composite!B38","v":"BRSK1"},{"$f":"Composite!F441","v":0},{"$f":"Composite!AB38","v":23.774666891550012},{"$f":"Composite!G38","v":"CAMK"}]
[8,{"$f":"Composite!B273","v":"NEK7"},{"$f":"Composite!F676","v":0},{"$f":"Composite!AB273","v":21.633542628820507},{"$f":"Composite!G273","v":"Other"}]
[9,{"$f":"Composite!B42","v":"CAMK1 (CAMK1a)"},{"$f":"Composite!F445","v":0},{"$f":"Composite!AB42","v":20.38517508795843},{"$f":"Composite!G42","v":"CAMK"}]
[10,{"$f":"Composite!B391","v":"STK4 (MST1)"},{"$f":"Composite!F794","v":0},{"$f":"Composite!AB391","v":18.364081041094238},{"$f":"Composite!G391","v":"STE"}]
[11,{"$f":"Composite!B360","v":"RPS6KA5 (MSK1)"},{"$f":"Composite!F763","v":0},{"$f":"Composite!AB360","v":17.854295034432752},{"$f":"Composite!G360","v":"AGC"}]
[12,{"$f":"Composite!B388","v":"STK33"},{"$f":"Composite!F791","v":0},{"$f":"Composite!AB388","v":16.195707161957046},{"$f":"Composite!G388","v":"CAMK"}]
[13,{"$f":"Composite!B370","v":"SIK3 (QSK)"},{"$f":"Composite!F773","v":0},{"$f":"Composite!AB370","v":15.652564390416018},{"$f":"Composite!G370","v":"CAMK"}]
[14,{"$f":"Composite!B190","v":"KIT (SCFR, CD117)"},{"$f":"Composite!F593","v":0},{"$f":"Composite!AB190","v":15.260011769442826},{"$f":"Composite!G190","v":"TK"}]
[15,{"$f":"Composite!B419","v":"ULK3"},{"$f":"Composite!F822","v":0},{"$f":"Composite!AB419","v":15.098878337726092},{"$f":"Composite!G419","v":"Other"}]
[16,{"$f":"Composite!B144","v":"FAM20C"},{"$f":"Composite!F547","v":0},{"$f":"Composite!AB144","v":14.369788092415831},{"$f":"Composite!G144","v":"Other"}]
[17,{"$f":"Composite!B31","v":"BCKDK"},{"$f":"Composite!F434","v":0},{"$f":"Composite!AB31","v":14.330681866519129},{"$f":"Composite!G31","v":"Atypical"}]
[18,{"$f":"Composite!B51","v":"CAMKK2"},{"$f":"Composite!F454","v":0},{"$f":"Composite!AB51","v":14.295617831183563},{"$f":"Composite!G51","v":"Other"}]
[19,{"$f":"Composite!B83","v":"CDK7/CycH/MAT1"},{"$f":"Composite!F486","v":0},{"$f":"Composite!AB83","v":14.028983548964632},{"$f":"Composite!G83","v":"CMGC"}]
[20,{"$f":"Composite!B276","v":"NIM1 (NIM1K)"},{"$f":"Composite!F679","v":0},{"$f":"Composite!AB276","v":13.847728488683131},{"$f":"Composite!G276","v":"CAMK"}]
[21,{"$f":"Composite!B212","v":"MAP3K14 (NIK)"},{"$f":"Composite!F615","v":0},{"$f":"Composite!AB212","v":13.343876949793781},{"$f":"Composite!G212","v":"STE"}]
[22,{"$f":"Composite!B418","v":"ULK2"},{"$f":"Composite!F821","v":0},{"$f":"Composite!AB418","v":12.979879440162321},{"$f":"Composite!G418","v":"Other"}]
[23,{"$f":"Composite!B402","v":"TNIK (ZC2)"},{"$f":"Composite!F805","v":0},{"$f":"Composite!AB402","v":11.978679633439327},{"$f":"Composite!G402","v":"STE"}]
[24,{"$f":"Composite!B271","v":"NEK5"},{"$f":"Composite!F674","v":0},{"$f":"Composite!AB271","v":11.717807376564394},{"$f":"Composite!G271","v":"Other"}]
[25,{"$f":"Composite!B339","v":"PRKD2 (PKD2)"},{"$f":"Composite!F742","v":0},{"$f":"Composite!AB339","v":11.281864198093857},{"$f":"Composite!G339","v":"CAMK"}]
[26,{"$f":"Composite!B420","v":"WEE1"},{"$f":"Composite!F823","v":0},{"$f":"Composite!AB420","v":11.247747747747781},{"$f":"Composite!G420","v":"Other"}]
[27,{"$f":"Composite!B260","v":"MYLK2 (skMLCK)"},{"$f":"Composite!F663","v":0},{"$f":"Composite!AB260","v":10.998192545101119},{"$f":"Composite!G260","v":"CAMK"}]
[28,{"$f":"Composite!B115","v":"DMPK (DMPK1)"},{"$f":"Composite!F518","v":0},{"$f":"Composite!AB115","v":10.759684989261004},{"$f":"Composite!G115","v":"AGC"}]
[29,{"$f":"Composite!B91","v":"CHUK (IKKA, IKKa)"},{"$f":"Composite!F494","v":0},{"$f":"Composite!AB91","v":10.736955836672237},{"$f":"Composite!G91","v":"Other"}]
[30,{"$f":"Composite!B358","v":"RPS6KA3 (RSK2)"},{"$f":"Composite!F761","v":0},{"$f":"Composite!AB358","v":10.339749297897143},{"$f":"Composite!G358","v":"AGC"}]
[31,{"$f":"Composite!B180","v":"INSRR (IRR)"},{"$f":"Composite!F583","v":0},{"$f":"Composite!AB180","v":10.24674207845473},{"$f":"Composite!G180","v":"TK"}]
[32,{"$f":"Composite!B261","v":"MYLK3 (caMLCK)"},{"$f":"Composite!F664","v":0},{"$f":"Composite!AB261","v":10.202952916846996},{"$f":"Composite!G261","v":"CAMK"}]
[33,{"$f":"Composite!B422","v":"ZAP70"},{"$f":"Composite!F825","v":0},{"$f":"Composite!AB422","v":10.079145440764307},{"$f":"Composite!G422","v":"TK"}]
[34,{"$f":"Composite!B80","v":"CDK6/CycD1"},{"$f":"Composite!F483","v":0},{"$f":"Composite!AB80","v":9.9995644788989893},{"$f":"Composite!G80","v":"CMGC"}]
[35,{"$f":"Composite!B383","v":"STK17B (DRAK2)"},{"$f":"Composite!F786","v":0},{"$f":"Composite!AB383","v":9.795532151232166},{"$f":"Composite!G383","v":"CAMK"}]
[36,{"$f":"Composite!B88","v":"CDKL5"},{"$f":"Composite!F491","v":0},{"$f":"Composite!AB88","v":9.7206799350815913},{"$f":"Composite!G88","v":"CMGC"}]
[37,{"$f":"Composite!B57","v":"CDK1 (CDC2)/CycA2 "},{"$f":"Composite!F460","v":0},{"$f":"Composite!AB57","v":9.6388798789058256},{"$f":"Composite!G57","v":"CMGC"}]
[38,{"$f":"Composite!B395","v":"TAOK3 (TAO3)"},{"$f":"Composite!F798","v":0},{"$f":"Composite!AB395","v":9.5364825903747743},{"$f":"Composite!G395","v":"STE"}]
[39,{"$f":"Composite!B78","v":"CDK5/p25"},{"$f":"Composite!F481","v":0},{"$f":"Composite!AB78","v":9.4140299750208101},{"$f":"Composite!G78","v":"CMGC"}]
[40,{"$f":"Composite!B178","v":"IKKE (IKKe)"},{"$f":"Composite!F581","v":0},{"$f":"Composite!AB178","v":9.3306638130415251},{"$f":"Composite!G178","v":"Other"}]
[41,{"$f":"Composite!B33","v":"BLK"},{"$f":"Composite!F436","v":0},{"$f":"Composite!AB33","v":9.0930955005511436},{"$f":"Composite!G33","v":"TK"}]
[42,{"$f":"Composite!B288","v":"PAK6"},{"$f":"Composite!F691","v":0},{"$f":"Composite!AB288","v":9.0302334839933422},{"$f":"Composite!G288","v":"STE"}]
[43,{"$f":"Composite!B97","v":"CSF1R (FMS)"},{"$f":"Composite!F500","v":0},{"$f":"Composite!AB97","v":8.84669183161202},{"$f":"Composite!G97","v":"TK"}]
[44,{"$f":"Composite!B253","v":"MLK4 (MAP3K21)"},{"$f":"Composite!F656","v":0},{"$f":"Composite!AB253","v":8.8024493772179966},{"$f":"Composite!G253","v":"STE"}]
[45,{"$f":"Composite!B43","v":"CAMK1D (CAMK1δ)"},{"$f":"Composite!F446","v":0},{"$f":"Composite!AB43","v":8.5520745131244666},{"$f":"Composite!G43","v":"CAMK"}]
[46,{"$f":"Composite!B252","v":"MINK1 (MAP4K6, MINK, ZC3)"},{"$f":"Composite!F655","v":0},{"$f":"Composite!AB252","v":8.360080051353691},{"$f":"Composite!G252","v":"STE"}]
[47,{"$f":"Composite!B414","v":"TYK2 [JH1]"},{"$f":"Composite!F817","v":0},{"$f":"Composite!AB414","v":8.3390293916609721},{"$f":"Composite!G414","v":"TK"}]
[48,{"$f":"Composite!B152","v":"FLT1"},{"$f":"Composite!F555","v":0},{"$f":"Composite!AB152","v":8.3169250395185514},{"$f":"Composite!G152","v":"TK"}]
[49,{"$f":"Composite!B409","v":"TSSK6 (SSTK)"},{"$f":"Composite!F812","v":0},{"$f":"Composite!AB409","v":8.3008158921603439},{"$f":"Composite!G409","v":"CAMK"}]
[50,{"$f":"Composite!B68","v":"CDK2/CycA2"},{"$f":"Composite!F471","v":0},{"$f":"Composite!AB68","v":8.286945157074399},{"$f":"Composite!G68","v":"CMGC"}]
[51,{"$f":"Composite!B94","v":"CLK2"},{"$f":"Composite!F497","v":0},{"$f":"Composite!AB94","v":8.2262210796915411},{"$f":"Composite!G94","v":"CMGC"}]
[52,{"$f":"Composite!B265","v":"NEK1"},{"$f":"Composite!F668","v":0},{"$f":"Composite!AB265","v":8.137712763904446},{"$f":"Composite!G265","v":"Other"}]
[53,{"$f":"Composite!B35","v":"BMX"},{"$f":"Composite!F438","v":0},{"$f":"Composite!AB35","v":8.0497332073833832},{"$f":"Composite!G35","v":"TK"}]
[54,{"$f":"Composite!B256","v":"MST1R (RON)"},{"$f":"Composite!F659","v":0},{"$f":"Composite!AB256","v":8.0003729777612307},{"$f":"Composite!G256","v":"TK"}]
[55,{"$f":"Composite!B364","v":"SBK1 (SBK)"},{"$f":"Composite!F767","v":0},{"$f":"Composite!AB364","v":7.9685052898689435},{"$f":"Composite!G364","v":"Other"}]
[56,{"$f":"Composite!B349","v":"RET"},{"$f":"Composite!F752","v":0},{"$f":"Composite!AB349","v":7.90848495766528},{"$f":"Composite!G349","v":"TK"}]
[57,{"$f":"Composite!B338","v":"PRKD1 (PKD1)"},{"$f":"Composite!F741","v":0},{"$f":"Composite!AB338","v":7.6772643459797933},{"$f":"Composite!G338","v":"CAMK"}]
[58,{"$f":"Composite!B172","v":"HIPK3"},{"$f":"Composite!F575","v":0},{"$f":"Composite!AB172","v":7.5916230366492101},{"$f":"Composite!G172","v":"CMGC"}]
[59,{"$f":"Composite!B134","v":"EPHA7"},{"$f":"Composite!F537","v":0},{"$f":"Composite!AB134","v":7.4149196536161242},{"$f":"Composite!G134","v":"TK"}]
[60,{"$f":"Composite!B124","v":"EIF2AK1 (HRI)"},{"$f":"Composite!F527","v":0},{"$f":"Composite!AB124","v":7.2687487567137339},{"$f":"Composite!G124","v":"Other"}]
[61,{"$f":"Composite!B258","v":"MUSK"},{"$f":"Composite!F661","v":0},{"$f":"Composite!AB258","v":7.1317198246738656},{"$f":"Composite!G258","v":"TK"}]
[62,{"$f":"Composite!B356","v":"RPS6KA1 (RSK1)"},{"$f":"Composite!F759","v":0},{"$f":"Composite!AB356","v":7.0866141732283552},{"$f":"Composite!G356","v":"AGC"}]
[63,{"$f":"Composite!B127","v":"EIF2AK4 (GCN2)"},{"$f":"Composite!F530","v":0},{"$f":"Composite!AB127","v":7.0822511914067547},{"$f":"Composite!G127","v":"Other"}]
[64,{"$f":"Composite!B159","v":"GRK1 (RHOK)"},{"$f":"Composite!F562","v":0},{"$f":"Composite!AB159","v":7.0759607105832032},{"$f":"Composite!G159","v":"AGC"}]
[65,{"$f":"Composite!B90","v":"CHEK2 (CHK2)"},{"$f":"Composite!F493","v":0},{"$f":"Composite!AB90","v":7.0040650406504028},{"$f":"Composite!G90","v":"CAMK"}]
[66,{"$f":"Composite!B237","v":"MAPK8 (JNK1)"},{"$f":"Composite!F640","v":0},{"$f":"Composite!AB237","v":6.9852137810474204},{"$f":"Composite!G237","v":"CMGC"}]
[67,{"$f":"Composite!B187","v":"JAK2 [JH1-JH2]"},{"$f":"Composite!F590","v":0},{"$f":"Composite!AB187","v":6.9282211324119487},{"$f":"Composite!G187","v":"TK"}]
[68,{"$f":"Composite!B305","v":"PKN1"},{"$f":"Composite!F708","v":0},{"$f":"Composite!AB305","v":6.8847198222660637},{"$f":"Composite!G305","v":"AGC"}]
[69,{"$f":"Composite!B215","v":"MAP3K20 (MLK7, ZAK)"},{"$f":"Composite!F618","v":0},{"$f":"Composite!AB215","v":6.8724870763928863},{"$f":"Composite!G215","v":"TKL"}]
[70,{"$f":"Composite!B156","v":"FYNa (FYN)"},{"$f":"Composite!F559","v":0},{"$f":"Composite!AB156","v":6.8565742137541861},{"$f":"Composite!G156","v":"TK"}]
[71,{"$f":"Composite!B272","v":"NEK6"},{"$f":"Composite!F675","v":0},{"$f":"Composite!AB272","v":6.8342663990704438},{"$f":"Composite!G272","v":"Other"}]
[72,{"$f":"Composite!B203","v":"MAP2K1 (MEK1)"},{"$f":"Composite!F606","v":0},{"$f":"Composite!AB203","v":6.7892503536068034},{"$f":"Composite!G203","v":"STE"}]
[73,{"$f":"Composite!B245","v":"MARK4"},{"$f":"Composite!F648","v":0},{"$f":"Composite!AB245","v":6.7758363696588333},{"$f":"Composite!G245","v":"CAMK"}]
[74,{"$f":"Composite!B58","v":"CDK1 (CDC2)/CycB1 "},{"$f":"Composite!F461","v":0},{"$f":"Composite!AB58","v":6.7436355731607165},{"$f":"Composite!G58","v":"CMGC"}]
[75,{"$f":"Composite!B209","v":"MAP3K11 (MLK3)"},{"$f":"Composite!F612","v":0},{"$f":"Composite!AB209","v":6.7415303349864075},{"$f":"Composite!G209","v":"TKL"}]
[76,{"$f":"Composite!B192","v":"KSR2"},{"$f":"Composite!F595","v":0},{"$f":"Composite!AB192","v":6.5743944636678293},{"$f":"Composite!G192","v":"TKL"}]
[77,{"$f":"Composite!B417","v":"ULK1"},{"$f":"Composite!F820","v":0},{"$f":"Composite!AB417","v":6.5333507034913794},{"$f":"Composite!G417","v":"Other"}]
[78,{"$f":"Composite!B244","v":"MARK3"},{"$f":"Composite!F647","v":0},{"$f":"Composite!AB244","v":6.4779748853896706},{"$f":"Composite!G244","v":"CAMK"}]
[79,{"$f":"Composite!B385","v":"STK25 (YSK1)"},{"$f":"Composite!F788","v":0},{"$f":"Composite!AB385","v":6.4444801801077745},{"$f":"Composite!G385","v":"STE"}]
[80,{"$f":"Composite!B174","v":"HUNK"},{"$f":"Composite!F577","v":0},{"$f":"Composite!AB174","v":6.2624572260791638},{"$f":"Composite!G174","v":"CAMK"}]
[81,{"$f":"Composite!B166","v":"GSK3A (GSK3α)"},{"$f":"Composite!F569","v":0},{"$f":"Composite!AB166","v":6.2606124480356016},{"$f":"Composite!G166","v":"CMGC"}]
[82,{"$f":"Composite!B267","v":"NEK11"},{"$f":"Composite!F670","v":0},{"$f":"Composite!AB267","v":6.2477250578275658},{"$f":"Composite!G267","v":"Other"}]
[83,{"$f":"Composite!B26","v":"ALK"},{"$f":"Composite!F429","v":0},{"$f":"Composite!AB26","v":6.2028101405070259},{"$f":"Composite!G26","v":"TK"}]
[84,{"$f":"Composite!B394","v":"TAOK2 (TAO2)"},{"$f":"Composite!F797","v":0},{"$f":"Composite!AB394","v":6.1198325484039628},{"$f":"Composite!G394","v":"STE"}]
[85,{"$f":"Composite!B107","v":"CSNK2A2 (CK2A2, CK2α2)"},{"$f":"Composite!F510","v":0},{"$f":"Composite!AB107","v":6.0546538570531396},{"$f":"Composite!G107","v":"Other"}]
[86,{"$f":"Composite!B167","v":"GSK3B (GSK3β)"},{"$f":"Composite!F570","v":0},{"$f":"Composite!AB167","v":6.0327621239637921},{"$f":"Composite!G167","v":"CMGC"}]
[87,{"$f":"Composite!B387","v":"STK3 (CLIK1, MST2)"},{"$f":"Composite!F790","v":0},{"$f":"Composite!AB387","v":6.0280221570543944},{"$f":"Composite!G387","v":"STE"}]
[88,{"$f":"Composite!B126","v":"EIF2AK3 (PERK/PEK)"},{"$f":"Composite!F529","v":0},{"$f":"Composite!AB126","v":5.9552933023949066},{"$f":"Composite!G126","v":"Other"}]
[89,{"$f":"Composite!B232","v":"MAPK14 (p38a)"},{"$f":"Composite!F635","v":0},{"$f":"Composite!AB232","v":5.8852330591460742},{"$f":"Composite!G232","v":"CMGC"}]
[90,{"$f":"Composite!B306","v":"PKN2"},{"$f":"Composite!F709","v":0},{"$f":"Composite!AB306","v":5.8755090168703106},{"$f":"Composite!G306","v":"AGC"}]
[91,{"$f":"Composite!B36","v":"BRAF (BRAF1, RAFB1)"},{"$f":"Composite!F439","v":0},{"$f":"Composite!AB36","v":5.4301728995521898},{"$f":"Composite!G36","v":"TKL"}]
[92,{"$f":"Composite!B135","v":"EPHA8"},{"$f":"Composite!F538","v":0},{"$f":"Composite!AB135","v":5.3957333333333253},{"$f":"Composite!G135","v":"TK"}]
[93,{"$f":"Composite!B249","v":"MELK"},{"$f":"Composite!F652","v":0},{"$f":"Composite!AB249","v":5.3173834877610346},{"$f":"Composite!G249","v":"CAMK"}]
[94,{"$f":"Composite!B73","v":"CDK3/CycE1"},{"$f":"Composite!F476","v":0},{"$f":"Composite!AB73","v":5.257172848145558},{"$f":"Composite!G73","v":"CMGC"}]
[95,{"$f":"Composite!B200","v":"LYNA (LYNa)"},{"$f":"Composite!F603","v":0},{"$f":"Composite!AB200","v":5.2531999605146353},{"$f":"Composite!G200","v":"TK"}]
[96,{"$f":"Composite!B223","v":"MAP4K2 (GCK)"},{"$f":"Composite!F626","v":0},{"$f":"Composite!AB223","v":5.242169975907629},{"$f":"Composite!G223","v":"STE"}]
[97,{"$f":"Composite!B335","v":"PRKCI (PKCι [iota])"},{"$f":"Composite!F738","v":0},{"$f":"Composite!AB335","v":5.2134617671542429},{"$f":"Composite!G335","v":"AGC"}]
[98,{"$f":"Composite!B70","v":"CDK2/CycE1"},{"$f":"Composite!F473","v":0},{"$f":"Composite!AB70","v":5.1897794741306171},{"$f":"Composite!G70","v":"CMGC"}]
[99,{"$f":"Composite!B84","v":"CDK7/CycH1"},{"$f":"Composite!F487","v":0},{"$f":"Composite!AB84","v":5.1564875967408881},{"$f":"Composite!G84","v":"CMGC"}]
[100,{"$f":"Composite!B363","v":"RPS6KB2 (p70S6KB)"},{"$f":"Composite!F766","v":0},{"$f":"Composite!AB363","v":5.1193514487314218},{"$f":"Composite!G363","v":"AGC"}]
[101,{"$f":"Composite!B171","v":"HIPK2"},{"$f":"Composite!F574","v":0},{"$f":"Composite!AB171","v":5.1100344140554199},{"$f":"Composite!G171","v":"CMGC"}]
[102,{"$f":"Composite!B366","v":"SGK2"},{"$f":"Composite!F769","v":0},{"$f":"Composite!AB366","v":5.0267827543489432},{"$f":"Composite!G366","v":"AGC"}]
[103,{"$f":"Composite!B201","v":"LYNB (LYNb)"},{"$f":"Composite!F604","v":0},{"$f":"Composite!AB201","v":4.9923765061460159},{"$f":"Composite!G201","v":"TK"}]
[104,{"$f":"Composite!B93","v":"CLK1"},{"$f":"Composite!F496","v":0},{"$f":"Composite!AB93","v":4.967795421210397},{"$f":"Composite!G93","v":"CMGC"}]
[105,{"$f":"Composite!B30","v":"AXL"},{"$f":"Composite!F433","v":0},{"$f":"Composite!AB30","v":4.8727080225227297},{"$f":"Composite!G30","v":"TK"}]
[106,{"$f":"Composite!B150","v":"FGFR4"},{"$f":"Composite!F553","v":0},{"$f":"Composite!AB150","v":4.8683498685841613},{"$f":"Composite!G150","v":"TK"}]
[107,{"$f":"Composite!B224","v":"MAP4K3 (GLK, KHS2)"},{"$f":"Composite!F627","v":0},{"$f":"Composite!AB224","v":4.8488711661898236},{"$f":"Composite!G224","v":"STE"}]
[108,{"$f":"Composite!B382","v":"STK17A (DRAK1)"},{"$f":"Composite!F785","v":0},{"$f":"Composite!AB382","v":4.8018688354386825},{"$f":"Composite!G382","v":"CAMK"}]
[109,{"$f":"Composite!B421","v":"YES1 (YES)"},{"$f":"Composite!F824","v":0},{"$f":"Composite!AB421","v":4.777131275008287},{"$f":"Composite!G421","v":"TK"}]
[110,{"$f":"Composite!B229","v":"MAPK11 (p38b)"},{"$f":"Composite!F632","v":0},{"$f":"Composite!AB229","v":4.767045125971066},{"$f":"Composite!G229","v":"CMGC"}]
[111,{"$f":"Composite!B376","v":"SRPK1"},{"$f":"Composite!F779","v":0},{"$f":"Composite!AB376","v":4.7475287436904097},{"$f":"Composite!G376","v":"CMGC"}]
[112,{"$f":"Composite!B251","v":"MET (c-MET, HGFR)"},{"$f":"Composite!F654","v":0},{"$f":"Composite!AB251","v":4.7302069355180407},{"$f":"Composite!G251","v":"TK"}]
[113,{"$f":"Composite!B208","v":"MAP3K10 (MLK2)"},{"$f":"Composite!F611","v":0},{"$f":"Composite!AB208","v":4.690406292719004},{"$f":"Composite!G208","v":"TKL"}]
[114,{"$f":"Composite!B353","v":"ROCK1"},{"$f":"Composite!F756","v":0},{"$f":"Composite!AB353","v":4.6735660024220778},{"$f":"Composite!G353","v":"AGC"}]
[115,{"$f":"Composite!B340","v":"PRKD3 (PKD3)"},{"$f":"Composite!F743","v":0},{"$f":"Composite!AB340","v":4.6301645730509478},{"$f":"Composite!G340","v":"CAMK"}]
[116,{"$f":"Composite!B170","v":"HIPK1"},{"$f":"Composite!F573","v":0},{"$f":"Composite!AB170","v":4.6067189700261224},{"$f":"Composite!G170","v":"CMGC"}]
[117,{"$f":"Composite!B369","v":"SIK2 (QIK)"},{"$f":"Composite!F772","v":0},{"$f":"Composite!AB369","v":4.5971674019038602},{"$f":"Composite!G369","v":"CAMK"}]
[118,{"$f":"Composite!B67","v":"CDK2/CycA1"},{"$f":"Composite!F470","v":0},{"$f":"Composite!AB67","v":4.5670760618528021},{"$f":"Composite!G67","v":"CMGC"}]
[119,{"$f":"Composite!B72","v":"CDK2/CycO"},{"$f":"Composite!F475","v":0},{"$f":"Composite!AB72","v":4.5456703755875907},{"$f":"Composite!G72","v":"CMGC"}]
[120,{"$f":"Composite!B239","v":"MAPKAPK2 (MK2)"},{"$f":"Composite!F642","v":0},{"$f":"Composite!AB239","v":4.5452370699966593},{"$f":"Composite!G239","v":"CAMK"}]
[121,{"$f":"Composite!B50","v":"CAMKK1"},{"$f":"Composite!F453","v":0},{"$f":"Composite!AB50","v":4.4314842027920491},{"$f":"Composite!G50","v":"Other"}]
[122,{"$f":"Composite!B342","v":"PRKG1 (PKG1, PGK)"},{"$f":"Composite!F745","v":0},{"$f":"Composite!AB342","v":4.2928001039690997},{"$f":"Composite!G342","v":"AGC"}]
[123,{"$f":"Composite!B89","v":"CHEK1 (CHK1)"},{"$f":"Composite!F492","v":0},{"$f":"Composite!AB89","v":4.2818234584989057},{"$f":"Composite!G89","v":"CAMK"}]
[124,{"$f":"Composite!B137","v":"EPHB2"},{"$f":"Composite!F540","v":0},{"$f":"Composite!AB137","v":4.2204995693367522},{"$f":"Composite!G137","v":"TK"}]
[125,{"$f":"Composite!B96","v":"CLK4"},{"$f":"Composite!F499","v":0},{"$f":"Composite!AB96","v":4.2204568023832962},{"$f":"Composite!G96","v":"CMGC"}]
[126,{"$f":"Composite!B98","v":"CSK"},{"$f":"Composite!F501","v":0},{"$f":"Composite!AB98","v":4.187571483034688},{"$f":"Composite!G98","v":"TK"}]
[127,{"$f":"Composite!B183","v":"ITK"},{"$f":"Composite!F586","v":0},{"$f":"Composite!AB183","v":4.1300700680943407},{"$f":"Composite!G183","v":"TK"}]
[128,{"$f":"Composite!B32","v":"BCR RET (fusion)"},{"$f":"Composite!F435","v":0},{"$f":"Composite!AB32","v":4.1162277285283864},{"$f":"Composite!G32","v":"TK"}]
[129,{"$f":"Composite!B45","v":"CAMK2A (CAMK2α)"},{"$f":"Composite!F448","v":0},{"$f":"Composite!AB45","v":4.0816875947547118},{"$f":"Composite!G45","v":"CAMK"}]
[130,{"$f":"Composite!B241","v":"MAPKAPK5 (MK5)"},{"$f":"Composite!F644","v":0},{"$f":"Composite!AB241","v":4.0546300946657112},{"$f":"Composite!G241","v":"CAMK"}]
[131,{"$f":"Composite!B198","v":"LRRK2"},{"$f":"Composite!F601","v":0},{"$f":"Composite!AB198","v":3.9827211176127975},{"$f":"Composite!G198","v":"TKL"}]
[132,{"$f":"Composite!B294","v":"PDK2 (PDHK2)"},{"$f":"Composite!F697","v":0},{"$f":"Composite!AB294","v":3.9751965452330751},{"$f":"Composite!G294","v":"Atypical"}]
[133,{"$f":"Composite!B75","v":"CDK4 /CycD3"},{"$f":"Composite!F478","v":0},{"$f":"Composite!AB75","v":3.8946111359904592},{"$f":"Composite!G75","v":"CMGC"}]
[134,{"$f":"Composite!B321","v":"PRKAA2-B1-G3 (AMPKα2β1γ3)"},{"$f":"Composite!F724","v":0},{"$f":"Composite!AB321","v":3.7894319158785663},{"$f":"Composite!G321","v":"CAMK"}]
[135,{"$f":"Composite!B226","v":"MAP4K5 (KHS1)"},{"$f":"Composite!F629","v":0},{"$f":"Composite!AB226","v":3.7456122238282319},{"$f":"Composite!G226","v":"STE"}]
[136,{"$f":"Composite!B218","v":"MAP3K6 (ASK2)"},{"$f":"Composite!F621","v":0},{"$f":"Composite!AB218","v":3.6649459719696011},{"$f":"Composite!G218","v":"STE"}]
[137,{"$f":"Composite!B365","v":"SGK1 (SGK)"},{"$f":"Composite!F768","v":0},{"$f":"Composite!AB365","v":3.651840446239234},{"$f":"Composite!G365","v":"AGC"}]
[138,{"$f":"Composite!B233","v":"MAPK15 (ERK7)"},{"$f":"Composite!F636","v":0},{"$f":"Composite!AB233","v":3.6150169381409825},{"$f":"Composite!G233","v":"CMGC"}]
[139,{"$f":"Composite!B357","v":"RPS6KA2 (RSK3)"},{"$f":"Composite!F760","v":0},{"$f":"Composite!AB357","v":3.5879679723003619},{"$f":"Composite!G357","v":"AGC"}]
[140,{"$f":"Composite!B327","v":"PRKACG (PKACG, PKACg)"},{"$f":"Composite!F730","v":0},{"$f":"Composite!AB327","v":3.5635540194267321},{"$f":"Composite!G327","v":"AGC"}]
[141,{"$f":"Composite!B367","v":"SGK3"},{"$f":"Composite!F770","v":0},{"$f":"Composite!AB367","v":3.4267377842647022},{"$f":"Composite!G367","v":"AGC"}]
[142,{"$f":"Composite!B168","v":"HASPIN"},{"$f":"Composite!F571","v":0},{"$f":"Composite!AB168","v":3.385191587438797},{"$f":"Composite!G168","v":"Other"}]
[143,{"$f":"Composite!B82","v":"CDK6/CycD3"},{"$f":"Composite!F485","v":0},{"$f":"Composite!AB82","v":3.3743864083948125},{"$f":"Composite!G82","v":"CMGC"}]
[144,{"$f":"Composite!B250","v":"MERTK (MER)"},{"$f":"Composite!F653","v":0},{"$f":"Composite!AB250","v":3.3517378711079004},{"$f":"Composite!G250","v":"TK"}]
[145,{"$f":"Composite!B219","v":"MAP3K7 (TAK1)"},{"$f":"Composite!F622","v":0},{"$f":"Composite!AB219","v":3.175423257292735},{"$f":"Composite!G219","v":"STE"}]
[146,{"$f":"Composite!B289","v":"PASK"},{"$f":"Composite!F692","v":0},{"$f":"Composite!AB289","v":3.0868072222427401},{"$f":"Composite!G289","v":"CAMK"}]
[147,{"$f":"Composite!B162","v":"GRK4 (GPRK4)"},{"$f":"Composite!F565","v":0},{"$f":"Composite!AB162","v":3.0776199103652004},{"$f":"Composite!G162","v":"AGC"}]
[148,{"$f":"Composite!B145","v":"FER"},{"$f":"Composite!F548","v":0},{"$f":"Composite!AB145","v":3.0767130767130766},{"$f":"Composite!G145","v":"TK"}]
[149,{"$f":"Composite!B279","v":"NTRK2 (TRKB)"},{"$f":"Composite!F682","v":0},{"$f":"Composite!AB279","v":3.0361619504841713},{"$f":"Composite!G279","v":"TK"}]
[150,{"$f":"Composite!B109","v":"DAPK2 (DRP-1)"},{"$f":"Composite!F512","v":0},{"$f":"Composite!AB109","v":3.0267936901902601},{"$f":"Composite!G109","v":"CAMK"}]
[151,{"$f":"Composite!B155","v":"FRK"},{"$f":"Composite!F558","v":0},{"$f":"Composite!AB155","v":3.0118224251303332},{"$f":"Composite!G155","v":"TK"}]
[152,{"$f":"Composite!B292","v":"PDGFRB (PDGFRβ)"},{"$f":"Composite!F695","v":0},{"$f":"Composite!AB292","v":3.0112020430669304},{"$f":"Composite!G292","v":"TK"}]
[153,{"$f":"Composite!B63","v":"CDK16 (PCTAIRE1, PCTK1)/CycY "},{"$f":"Composite!F466","v":0},{"$f":"Composite!AB63","v":2.9624614809972911},{"$f":"Composite!G63","v":"CMGC"}]
[154,{"$f":"Composite!B243","v":"MARK2"},{"$f":"Composite!F646","v":0},{"$f":"Composite!AB243","v":2.8056934789804586},{"$f":"Composite!G243","v":"CAMK"}]
[155,{"$f":"Composite!B77","v":"CDK4/CycD2"},{"$f":"Composite!F480","v":0},{"$f":"Composite!AB77","v":2.8054729327781018},{"$f":"Composite!G77","v":"CMGC"}]
[156,{"$f":"Composite!B262","v":"MYLK4 (SgK085)"},{"$f":"Composite!F665","v":0},{"$f":"Composite!AB262","v":2.7914525290776027},{"$f":"Composite!G262","v":"CAMK"}]
[157,{"$f":"Composite!B133","v":"EPHA6"},{"$f":"Composite!F536","v":0},{"$f":"Composite!AB133","v":2.7541239572641132},{"$f":"Composite!G133","v":"TK"}]
[158,{"$f":"Composite!B210","v":"MAP3K12 (DLK)"},{"$f":"Composite!F613","v":0},{"$f":"Composite!AB210","v":2.7394783237647431},{"$f":"Composite!G210","v":"TKL"}]
[159,{"$f":"Composite!B21","v":"ABL1"},{"$f":"Composite!F424","v":0},{"$f":"Composite!AB21","v":2.6732697510988004},{"$f":"Composite!G21","v":"TK"}]
[160,{"$f":"Composite!B193","v":"LATS1"},{"$f":"Composite!F596","v":0},{"$f":"Composite!AB193","v":2.6581900413875559},{"$f":"Composite!G193","v":"AGC"}]
[161,{"$f":"Composite!B142","v":"ERN1 (IRE1)"},{"$f":"Composite!F545","v":0},{"$f":"Composite!AB142","v":2.6007943848958348},{"$f":"Composite!G142","v":"Other"}]
[162,{"$f":"Composite!B222","v":"MAP4K1 (HPK1)"},{"$f":"Composite!F625","v":0},{"$f":"Composite!AB222","v":2.5926958461109564},{"$f":"Composite!G222","v":"STE"}]
[163,{"$f":"Composite!B182","v":"IRAK4"},{"$f":"Composite!F585","v":0},{"$f":"Composite!AB182","v":2.554713171967947},{"$f":"Composite!G182","v":"TKL"}]
[164,{"$f":"Composite!B311","v":"PLK4"},{"$f":"Composite!F714","v":0},{"$f":"Composite!AB311","v":2.4663925973539591},{"$f":"Composite!G311","v":"Other"}]
[165,{"$f":"Composite!B313","v":"PRKAA1-B1-G1 (AMPKα1β1γ1)"},{"$f":"Composite!F716","v":0},{"$f":"Composite!AB313","v":2.4188898361446434},{"$f":"Composite!G313","v":"CAMK"}]
[166,{"$f":"Composite!B373","v":"SRC"},{"$f":"Composite!F776","v":0},{"$f":"Composite!AB373","v":2.245143483953143},{"$f":"Composite!G373","v":"TK"}]
[167,{"$f":"Composite!B24","v":"AKT2 (PKBb)"},{"$f":"Composite!F427","v":0},{"$f":"Composite!AB24","v":2.238123381740408},{"$f":"Composite!G24","v":"AGC"}]
[168,{"$f":"Composite!B398","v":"TEK (TIE2)"},{"$f":"Composite!F801","v":0},{"$f":"Composite!AB398","v":2.2265373710418999},{"$f":"Composite!G398","v":"TK"}]
[169,{"$f":"Composite!B319","v":"PRKAA2-B1-G1 (AMPKα2β1γ1)"},{"$f":"Composite!F722","v":0},{"$f":"Composite!AB319","v":2.1964853717911552},{"$f":"Composite!G319","v":"CAMK"}]
[170,{"$f":"Composite!B374","v":"SRC N1"},{"$f":"Composite!F777","v":0},{"$f":"Composite!AB374","v":2.1746064147380935},{"$f":"Composite!G374","v":"TK"}]
[171,{"$f":"Composite!B76","v":"CDK4/CycD1"},{"$f":"Composite!F479","v":0},{"$f":"Composite!AB76","v":2.1733318655742124},{"$f":"Composite!G76","v":"CMGC"}]
[172,{"$f":"Composite!B122","v":"EEF2K (eEF2K)"},{"$f":"Composite!F525","v":0},{"$f":"Composite!AB122","v":2.1213701964875895},{"$f":"Composite!G122","v":"Atypical"}]
[173,{"$f":"Composite!B377","v":"SRPK2"},{"$f":"Composite!F780","v":0},{"$f":"Composite!AB377","v":2.0978335457308361},{"$f":"Composite!G377","v":"CMGC"}]
[174,{"$f":"Composite!B298","v":"PHKG1"},{"$f":"Composite!F701","v":0},{"$f":"Composite!AB298","v":2.0464808582851646},{"$f":"Composite!G298","v":"CAMK"}]
[175,{"$f":"Composite!B242","v":"MARK1"},{"$f":"Composite!F645","v":0},{"$f":"Composite!AB242","v":2.0437692168566173},{"$f":"Composite!G242","v":"CAMK"}]
[176,{"$f":"Composite!B324","v":"PRKAA2-B2-G3 (AMPKα2β2γ3)"},{"$f":"Composite!F727","v":0},{"$f":"Composite!AB324","v":2.0114153998133872},{"$f":"Composite!G324","v":"CAMK"}]
[177,{"$f":"Composite!B74","v":"CDK3/CycE2"},{"$f":"Composite!F477","v":0},{"$f":"Composite!AB74","v":1.9744772141680187},{"$f":"Composite!G74","v":"CMGC"}]
[178,{"$f":"Composite!B228","v":"MAPK10 (JNK3)"},{"$f":"Composite!F631","v":0},{"$f":"Composite!AB228","v":1.9498780355173153},{"$f":"Composite!G228","v":"CMGC"}]
[179,{"$f":"Composite!B380","v":"STK11 (LKB1, AMPKK)"},{"$f":"Composite!F783","v":0},{"$f":"Composite!AB380","v":1.9227270600832753},{"$f":"Composite!G380","v":"CAMK"}]
[180,{"$f":"Composite!B79","v":"CDK5/p35NCK"},{"$f":"Composite!F482","v":0},{"$f":"Composite!AB79","v":1.8979390893966581},{"$f":"Composite!G79","v":"CMGC"}]
[181,{"$f":"Composite!B225","v":"MAP4K4 (HGK, ZC1)"},{"$f":"Composite!F628","v":0},{"$f":"Composite!AB225","v":1.8952972493345186},{"$f":"Composite!G225","v":"STE"}]
[182,{"$f":"Composite!B199","v":"LTK"},{"$f":"Composite!F602","v":0},{"$f":"Composite!AB199","v":1.864419560381549},{"$f":"Composite!G199","v":"TK"}]
[183,{"$f":"Composite!B189","v":"KDR (VEGFR2)"},{"$f":"Composite!F592","v":0},{"$f":"Composite!AB189","v":1.7861312164370986},{"$f":"Composite!G189","v":"TK"}]
[184,{"$f":"Composite!B49","v":"CAMK4"},{"$f":"Composite!F452","v":0},{"$f":"Composite!AB49","v":1.7247065565882025},{"$f":"Composite!G49","v":"CAMK"}]
[185,{"$f":"Composite!B416","v":"TYRO3"},{"$f":"Composite!F819","v":0},{"$f":"Composite!AB416","v":1.6414836565322588},{"$f":"Composite!G416","v":"TK"}]
[186,{"$f":"Composite!B268","v":"NEK2"},{"$f":"Composite!F671","v":0},{"$f":"Composite!AB268","v":1.6363824840434091},{"$f":"Composite!G268","v":"Other"}]
[187,{"$f":"Composite!B113","v":"DDR1 [SRC treated]"},{"$f":"Composite!F516","v":0},{"$f":"Composite!AB113","v":1.58050935192216},{"$f":"Composite!G113","v":"TK"}]
[188,{"$f":"Composite!B295","v":"PDK3 (PDHK3)"},{"$f":"Composite!F698","v":0},{"$f":"Composite!AB295","v":1.5178848856137535},{"$f":"Composite!G295","v":"Atypical"}]
[189,{"$f":"Composite!B22","v":"ABL2 (ARG)"},{"$f":"Composite!F425","v":0},{"$f":"Composite!AB22","v":1.4740675593652668},{"$f":"Composite!G22","v":"TK"}]
[190,{"$f":"Composite!B188","v":"JAK3 [JH1]"},{"$f":"Composite!F591","v":0},{"$f":"Composite!AB188","v":1.4360283662167603},{"$f":"Composite!G188","v":"TK"}]
[191,{"$f":"Composite!B277","v":"NLK (LAK1)"},{"$f":"Composite!F680","v":0},{"$f":"Composite!AB277","v":1.4227121250961261},{"$f":"Composite!G277","v":"CMGC"}]
[192,{"$f":"Composite!B46","v":"CAMK2B (CAMK2β)"},{"$f":"Composite!F449","v":0},{"$f":"Composite!AB46","v":1.4151647160142886},{"$f":"Composite!G46","v":"CAMK"}]
[193,{"$f":"Composite!B139","v":"EPHB4"},{"$f":"Composite!F542","v":0},{"$f":"Composite!AB139","v":1.3980450102295947},{"$f":"Composite!G139","v":"TK"}]
[194,{"$f":"Composite!B128","v":"EPHA1"},{"$f":"Composite!F531","v":0},{"$f":"Composite!AB128","v":1.3909851811196461},{"$f":"Composite!G128","v":"TK"}]
[195,{"$f":"Composite!B344","v":"PRKX"},{"$f":"Composite!F747","v":0},{"$f":"Composite!AB344","v":1.3880003877096101},{"$f":"Composite!G344","v":"AGC"}]
[196,{"$f":"Composite!B362","v":"RPS6KB1 (p70S6K)"},{"$f":"Composite!F765","v":0},{"$f":"Composite!AB362","v":1.3706159183813753},{"$f":"Composite!G362","v":"AGC"}]
[197,{"$f":"Composite!B28","v":"AURKB (AURB)"},{"$f":"Composite!F431","v":0},{"$f":"Composite!AB28","v":1.227915652038746},{"$f":"Composite!G28","v":"Other"}]
[198,{"$f":"Composite!B348","v":"RAF1 [Y340E/Y341E]"},{"$f":"Composite!F751","v":0},{"$f":"Composite!AB348","v":1.1917701863354182},{"$f":"Composite!G348","v":"TKL"}]
[199,{"$f":"Composite!B238","v":"MAPK9 (JNK2)"},{"$f":"Composite!F641","v":0},{"$f":"Composite!AB238","v":1.1888305225324842},{"$f":"Composite!G238","v":"CMGC"}]
[200,{"$f":"Composite!B71","v":"CDK2/CycE2"},{"$f":"Composite!F474","v":0},{"$f":"Composite!AB71","v":1.1428764359811794},{"$f":"Composite!G71","v":"CMGC"}]
[201,{"$f":"Composite!B355","v":"ROS1 (ROS)"},{"$f":"Composite!F758","v":0},{"$f":"Composite!AB355","v":1.1136577214027312},{"$f":"Composite!G355","v":"TK"}]
[202,{"$f":"Composite!B136","v":"EPHB1"},{"$f":"Composite!F539","v":0},{"$f":"Composite!AB136","v":1.0494531796590252},{"$f":"Composite!G136","v":"TK"}]
[203,{"$f":"Composite!B334","v":"PRKCH (PKCη [eta])"},{"$f":"Composite!F737","v":0},{"$f":"Composite!AB334","v":0.99177205735908558},{"$f":"Composite!G334","v":"AGC"}]
[204,{"$f":"Composite!B359","v":"RPS6KA4 (MSK2)"},{"$f":"Composite!F762","v":0},{"$f":"Composite!AB359","v":0.96814929142696826},{"$f":"Composite!G359","v":"AGC"}]
[205,{"$f":"Composite!B347","v":"PTK6 (BRK)"},{"$f":"Composite!F750","v":0},{"$f":"Composite!AB347","v":0.95840938786093943},{"$f":"Composite!G347","v":"TK"}]
[206,{"$f":"Composite!B220","v":"MAP3K8 (COT, Tpl2)"},{"$f":"Composite!F623","v":0},{"$f":"Composite!AB220","v":0.84523462547362271},{"$f":"Composite!G220","v":"STE"}]
[207,{"$f":"Composite!B55","v":"CDC7/DBF4 (CDC7)"},{"$f":"Composite!F458","v":0},{"$f":"Composite!AB55","v":0.83869197456485267},{"$f":"Composite!G55","v":"Other"}]
[208,{"$f":"Composite!B154","v":"FLT4"},{"$f":"Composite!F557","v":0},{"$f":"Composite!AB154","v":0.81164287713406225},{"$f":"Composite!G154","v":"TK"}]
[209,{"$f":"Composite!B393","v":"TAOK1 (TAO1)"},{"$f":"Composite!F796","v":0},{"$f":"Composite!AB393","v":0.76698082547936508},{"$f":"Composite!G393","v":"STE"}]
[210,{"$f":"Composite!B379","v":"STK10 (LOK)"},{"$f":"Composite!F782","v":0},{"$f":"Composite!AB379","v":0.70246314329638437},{"$f":"Composite!G379","v":"STE"}]
[211,{"$f":"Composite!B39","v":"BRSK2"},{"$f":"Composite!F442","v":0},{"$f":"Composite!AB39","v":0.63214732544611252},{"$f":"Composite!G39","v":"CAMK"}]
[212,{"$f":"Composite!B227","v":"MAPK1 (ERK2)"},{"$f":"Composite!F630","v":0},{"$f":"Composite!AB227","v":0.4486140026906611},{"$f":"Composite!G227","v":"CMGC"}]
[213,{"$f":"Composite!B118","v":"DYRK1B"},{"$f":"Composite!F521","v":0},{"$f":"Composite!AB118","v":0.35314583504431596},{"$f":"Composite!G118","v":"CMGC"}]
[214,{"$f":"Composite!B278","v":"NTRK1 (TRKA)"},{"$f":"Composite!F681","v":0},{"$f":"Composite!AB278","v":0.32123735871505232},{"$f":"Composite!G278","v":"TK"}]
[215,{"$f":"Composite!B176","v":"IGF1R"},{"$f":"Composite!F579","v":0},{"$f":"Composite!AB176","v":0.30331678878123114},{"$f":"Composite!G176","v":"TK"}]
[216,{"$f":"Composite!B147","v":"FGFR1"},{"$f":"Composite!F550","v":0},{"$f":"Composite!AB147","v":0.21555497198880857},{"$f":"Composite!G147","v":"TK"}]
[217,{"$f":"Composite!B52","v":"CDC42BPA (MRCKA)"},{"$f":"Composite!F455","v":0},{"$f":"Composite!AB52","v":0.14388609575121336},{"$f":"Composite!G52","v":"AGC"}]
[218,{"$f":"Composite!B86","v":"CDK9 (TAK)/CycT1"},{"$f":"Composite!F489","v":0},{"$f":"Composite!AB86","v":5.0327126321093374E-2},{"$f":"Composite!G86","v":"CMGC"}]
[219,{"$f":"Composite!B285","v":"PAK3"},{"$f":"Composite!F688","v":0},{"$f":"Composite!AB285","v":4.2494688163984051E-2},{"$f":"Composite!G285","v":"STE"}]
[220,{"$f":"Composite!B307","v":"PKN3"},{"$f":"Composite!F710","v":0},{"$f":"Composite!AB307","v":1.4617924011162131E-2},{"$f":"Composite!G307","v":"AGC"}]
[221,{"$f":"Composite!B60","v":"CDK12 (CRK7)/CycK"},{"$f":"Composite!F463","v":0},{"$f":"Composite!AB60","v":0},{"$f":"Composite!G60","v":"CMGC"}]
[222,{"$f":"Composite!B69","v":"CDK2/CycD1"},{"$f":"Composite!F472","v":0},{"$f":"Composite!AB69","v":0},{"$f":"Composite!G69","v":"CMGC"}]
[223,{"$f":"Composite!B206","v":"MAP2K4 (MEK4)"},{"$f":"Composite!F609","v":0},{"$f":"Composite!AB206","v":0},{"$f":"Composite!G206","v":"STE"}]
[224,{"$f":"Composite!B235","v":"MAPK6 (ERK3)"},{"$f":"Composite!F638","v":0},{"$f":"Composite!AB235","v":0},{"$f":"Composite!G235","v":"CMGC"}]
[225,{"$f":"Composite!B274","v":"NEK8"},{"$f":"Composite!F677","v":0},{"$f":"Composite!AB274","v":0},{"$f":"Composite!G274","v":"Other"}]
[226,{"$f":"Composite!B169","v":"HCK"},{"$f":"Composite!F572","v":0},{"$f":"Composite!AB169","v":-3.0721966205845774E-2},{"$f":"Composite!G169","v":"TK"}]
[227,{"$f":"Composite!B87","v":"CDK9 (TAK)/CycT2"},{"$f":"Composite!F490","v":0},{"$f":"Composite!AB87","v":-4.2235675066820022E-2},{"$f":"Composite!G87","v":"CMGC"}]
[228,{"$f":"Composite!B281","v":"NUAK1 (ARK5)"},{"$f":"Composite!F684","v":0},{"$f":"Composite!AB281","v":-8.8884938447179707E-2},{"$f":"Composite!G281","v":"CAMK"}]
[229,{"$f":"Composite!B371","v":"SLK"},{"$f":"Composite!F774","v":0},{"$f":"Composite!AB371","v":-0.21681303489290826},{"$f":"Composite!G371","v":"STE"}]
[230,{"$f":"Composite!B138","v":"EPHB3"},{"$f":"Composite!F541","v":0},{"$f":"Composite!AB138","v":-0.25948231676062505},{"$f":"Composite!G138","v":"TK"}]
[231,{"$f":"Composite!B412","v":"TTK"},{"$f":"Composite!F815","v":0},{"$f":"Composite!AB412","v":-0.28612018044513832},{"$f":"Composite!G412","v":"Other"}]
[232,{"$f":"Composite!B341","v":"PRKDC (DNA-PK)"},{"$f":"Composite!F744","v":0},{"$f":"Composite!AB341","v":-0.31162064964681235},{"$f":"Composite!G341","v":"Atypical"}]
[233,{"$f":"Composite!B213","v":"MAP3K19 (YSK4)"},{"$f":"Composite!F616","v":0},{"$f":"Composite!AB213","v":-0.34821929638135884},{"$f":"Composite!G213","v":"STE"}]
[234,{"$f":"Composite!B397","v":"TEC"},{"$f":"Composite!F800","v":0},{"$f":"Composite!AB397","v":-0.35456357635372626},{"$f":"Composite!G397","v":"TK"}]
[235,{"$f":"Composite!B275","v":"NEK9"},{"$f":"Composite!F678","v":0},{"$f":"Composite!AB275","v":-0.42613031064898621},{"$f":"Composite!G275","v":"Other"}]
[236,{"$f":"Composite!B231","v":"MAPK13 (p38δ)"},{"$f":"Composite!F634","v":0},{"$f":"Composite!AB231","v":-0.69622294310700283},{"$f":"Composite!G231","v":"CMGC"}]
[237,{"$f":"Composite!B280","v":"NTRK3 (TRKC)"},{"$f":"Composite!F683","v":0},{"$f":"Composite!AB280","v":-0.79996825522796655},{"$f":"Composite!G280","v":"TK"}]
[238,{"$f":"Composite!B56","v":"CDK1 (CDC2)/CycA1 "},{"$f":"Composite!F459","v":0},{"$f":"Composite!AB56","v":-0.84168089984459016},{"$f":"Composite!G56","v":"CMGC"}]
[239,{"$f":"Composite!B354","v":"ROCK2"},{"$f":"Composite!F757","v":0},{"$f":"Composite!AB354","v":-0.88179292692824163},{"$f":"Composite!G354","v":"AGC"}]
[240,{"$f":"Composite!B320","v":"PRKAA2-B1-G2 (AMPKα2β1γ2)"},{"$f":"Composite!F723","v":0},{"$f":"Composite!AB320","v":-0.89553600967404634},{"$f":"Composite!G320","v":"CAMK"}]
[241,{"$f":"Composite!B378","v":"SRPK3 (MSSK1)"},{"$f":"Composite!F781","v":0},{"$f":"Composite!AB378","v":-1.0344928640506339},{"$f":"Composite!G378","v":"CMGC"}]
[242,{"$f":"Composite!B336","v":"PRKCQ (PKCᶿ [theta])"},{"$f":"Composite!F739","v":0},{"$f":"Composite!AB336","v":-1.0359864408643489},{"$f":"Composite!G336","v":"AGC"}]
[243,{"$f":"Composite!B216","v":"MAP3K3 (MEKK3)"},{"$f":"Composite!F619","v":0},{"$f":"Composite!AB216","v":-1.080550098231825},{"$f":"Composite!G216","v":"STE"}]
[244,{"$f":"Composite!B23","v":"AKT1 (PKB)"},{"$f":"Composite!F426","v":0},{"$f":"Composite!AB23","v":-1.093395126143264},{"$f":"Composite!G23","v":"AGC"}]
[245,{"$f":"Composite!B119","v":"DYRK2"},{"$f":"Composite!F522","v":0},{"$f":"Composite!AB119","v":-1.1236698169985715},{"$f":"Composite!G119","v":"CMGC"}]
[246,{"$f":"Composite!B400","v":"TLK1"},{"$f":"Composite!F803","v":0},{"$f":"Composite!AB400","v":-1.1241169005813845},{"$f":"Composite!G400","v":"Other"}]
[247,{"$f":"Composite!B308","v":"PLK1"},{"$f":"Composite!F711","v":0},{"$f":"Composite!AB308","v":-1.1429973019376973},{"$f":"Composite!G308","v":"Other"}]
[248,{"$f":"Composite!B149","v":"FGFR3"},{"$f":"Composite!F552","v":0},{"$f":"Composite!AB149","v":-1.1730591801766366},{"$f":"Composite!G149","v":"TK"}]
[249,{"$f":"Composite!B401","v":"TLK2"},{"$f":"Composite!F804","v":0},{"$f":"Composite!AB401","v":-1.2228846430110565},{"$f":"Composite!G401","v":"Other"}]
[250,{"$f":"Composite!B95","v":"CLK3"},{"$f":"Composite!F498","v":0},{"$f":"Composite!AB95","v":-1.3523776142072848},{"$f":"Composite!G95","v":"CMGC"}]
[251,{"$f":"Composite!B29","v":"AURKC (AURC)"},{"$f":"Composite!F432","v":0},{"$f":"Composite!AB29","v":-1.3582488352973456},{"$f":"Composite!G29","v":"Other"}]
[252,{"$f":"Composite!B100","v":"CSNK1A1L (CK1A1L, CK1a2)"},{"$f":"Composite!F503","v":0},{"$f":"Composite!AB100","v":-1.3809938416021197},{"$f":"Composite!G100","v":"CK1"}]
[253,{"$f":"Composite!B375","v":"SRMS (SRM)"},{"$f":"Composite!F778","v":0},{"$f":"Composite!AB375","v":-1.3928258480882505},{"$f":"Composite!G375","v":"TK"}]
[254,{"$f":"Composite!B64","v":"CDK17 (PCTAIRE2, PCTK2)/CycY"},{"$f":"Composite!F467","v":0},{"$f":"Composite!AB64","v":-1.4175982014613169},{"$f":"Composite!G64","v":"CMGC"}]
[255,{"$f":"Composite!B153","v":"FLT3"},{"$f":"Composite!F556","v":0},{"$f":"Composite!AB153","v":-1.4530403769098541},{"$f":"Composite!G153","v":"TK"}]
[256,{"$f":"Composite!B407","v":"TSSK2"},{"$f":"Composite!F810","v":0},{"$f":"Composite!AB407","v":-1.4628403237674803},{"$f":"Composite!G407","v":"CAMK"}]
[257,{"$f":"Composite!B350","v":"RIPK1"},{"$f":"Composite!F753","v":0},{"$f":"Composite!AB350","v":-1.4759357594905822},{"$f":"Composite!G350","v":"TKL"}]
[258,{"$f":"Composite!B59","v":"CDK1 (CDC2)/CycE1 "},{"$f":"Composite!F462","v":0},{"$f":"Composite!AB59","v":-1.4897766659953504},{"$f":"Composite!G59","v":"CMGC"}]
[259,{"$f":"Composite!B121","v":"DYRK4"},{"$f":"Composite!F524","v":0},{"$f":"Composite!AB121","v":-1.528800573737513},{"$f":"Composite!G121","v":"CMGC"}]
[260,{"$f":"Composite!B81","v":"CDK6/CycD2"},{"$f":"Composite!F484","v":0},{"$f":"Composite!AB81","v":-1.5500783214679643},{"$f":"Composite!G81","v":"CMGC"}]
[261,{"$f":"Composite!B384","v":"STK24 (MST3)"},{"$f":"Composite!F787","v":0},{"$f":"Composite!AB384","v":-1.5853125110830177},{"$f":"Composite!G384","v":"STE"}]
[262,{"$f":"Composite!B175","v":"ICK"},{"$f":"Composite!F578","v":0},{"$f":"Composite!AB175","v":-1.6459330143540569},{"$f":"Composite!G175","v":"CMGC"}]
[263,{"$f":"Composite!B217","v":"MAP3K5 (ASK1)"},{"$f":"Composite!F620","v":0},{"$f":"Composite!AB217","v":-1.7196045435422747},{"$f":"Composite!G217","v":"STE"}]
[264,{"$f":"Composite!B331","v":"PRKCD (PKCδ [delta])"},{"$f":"Composite!F734","v":0},{"$f":"Composite!AB331","v":-1.8088354655432113},{"$f":"Composite!G331","v":"AGC"}]
[265,{"$f":"Composite!B207","v":"MAP3K1 (MEKK1)"},{"$f":"Composite!F610","v":0},{"$f":"Composite!AB207","v":-1.8212463130296328},{"$f":"Composite!G207","v":"STE"}]
[266,{"$f":"Composite!B318","v":"PRKAA1-B2-G3 (AMPKα1β2γ3)"},{"$f":"Composite!F721","v":0},{"$f":"Composite!AB318","v":-1.9119374569611409},{"$f":"Composite!G318","v":"CAMK"}]
[267,{"$f":"Composite!B117","v":"DYRK1A"},{"$f":"Composite!F520","v":0},{"$f":"Composite!AB117","v":-1.9426114777044603},{"$f":"Composite!G117","v":"CMGC"}]
[268,{"$f":"Composite!B396","v":"TBK1"},{"$f":"Composite!F799","v":0},{"$f":"Composite!AB396","v":-1.9824701195219063},{"$f":"Composite!G396","v":"Other"}]
[269,{"$f":"Composite!B312","v":"PNCK (CAMK1β)"},{"$f":"Composite!F715","v":0},{"$f":"Composite!AB312","v":-2.1232321094769588},{"$f":"Composite!G312","v":"CAMK"}]
[270,{"$f":"Composite!B413","v":"TXK"},{"$f":"Composite!F816","v":0},{"$f":"Composite!AB413","v":-2.1872624516640826},{"$f":"Composite!G413","v":"TK"}]
[271,{"$f":"Composite!B204","v":"MAP2K2 (MEK2)"},{"$f":"Composite!F607","v":0},{"$f":"Composite!AB204","v":-2.2374541003671879},{"$f":"Composite!G204","v":"STE"}]
[272,{"$f":"Composite!B296","v":"PDK4 (PDHK4)"},{"$f":"Composite!F699","v":0},{"$f":"Composite!AB296","v":-2.3300904823456818},{"$f":"Composite!G296","v":"Atypical"}]
[273,{"$f":"Composite!B304","v":"PKMYT1 (MYT1)"},{"$f":"Composite!F707","v":0},{"$f":"Composite!AB304","v":-2.3301657680963359},{"$f":"Composite!G304","v":"Other"}]
[274,{"$f":"Composite!B332","v":"PRKCE (PKCe [epsilon])"},{"$f":"Composite!F735","v":0},{"$f":"Composite!AB332","v":-2.3464100666172811},{"$f":"Composite!G332","v":"AGC"}]
[275,{"$f":"Composite!B120","v":"DYRK3"},{"$f":"Composite!F523","v":0},{"$f":"Composite!AB120","v":-2.3565037409295542},{"$f":"Composite!G120","v":"CMGC"}]
[276,{"$f":"Composite!B194","v":"LATS2"},{"$f":"Composite!F597","v":0},{"$f":"Composite!AB194","v":-2.3960192546919785},{"$f":"Composite!G194","v":"AGC"}]
[277,{"$f":"Composite!B234","v":"MAPK3 (ERK1)"},{"$f":"Composite!F637","v":0},{"$f":"Composite!AB234","v":-2.4380435329010197},{"$f":"Composite!G234","v":"CAMK"}]
[278,{"$f":"Composite!B322","v":"PRKAA2-B2-G1 (AMPKα2β2γ1)"},{"$f":"Composite!F725","v":0},{"$f":"Composite!AB322","v":-2.4949772054029609},{"$f":"Composite!G322","v":"CAMK"}]
[279,{"$f":"Composite!B255","v":"MNK2"},{"$f":"Composite!F658","v":0},{"$f":"Composite!AB255","v":-2.5044091710758352},{"$f":"Composite!G255","v":"CAMK"}]
[280,{"$f":"Composite!B181","v":"IRAK1"},{"$f":"Composite!F584","v":0},{"$f":"Composite!AB181","v":-2.5131684671011385},{"$f":"Composite!G181","v":"TKL"}]
[281,{"$f":"Composite!B240","v":"MAPKAPK3 (MK3)"},{"$f":"Composite!F643","v":0},{"$f":"Composite!AB240","v":-2.5672166848144684},{"$f":"Composite!G240","v":"CAMK"}]
[282,{"$f":"Composite!B61","v":"CDK13 (CHED)/CycK"},{"$f":"Composite!F464","v":0},{"$f":"Composite!AB61","v":-2.6872732951440241},{"$f":"Composite!G61","v":"CMGC"}]
[283,{"$f":"Composite!B108","v":"DAPK1"},{"$f":"Composite!F511","v":0},{"$f":"Composite!AB108","v":-2.7236637570249798},{"$f":"Composite!G108","v":"CAMK"}]
[284,{"$f":"Composite!B184","v":"JAK1 [JH1]"},{"$f":"Composite!F587","v":0},{"$f":"Composite!AB184","v":-2.7650153469565595},{"$f":"Composite!G184","v":"TK"}]
[285,{"$f":"Composite!B326","v":"PRKACB (PKACB, PKACβ)"},{"$f":"Composite!F729","v":0},{"$f":"Composite!AB326","v":-3.2374220651485359},{"$f":"Composite!G326","v":"AGC"}]
[286,{"$f":"Composite!B105","v":"CSNK1G3 (CK1G3, CK1γ3)"},{"$f":"Composite!F508","v":0},{"$f":"Composite!AB105","v":-3.2527854957761519},{"$f":"Composite!G105","v":"CK1"}]
[287,{"$f":"Composite!B381","v":"STK16 (MPSK1, PKL12, TSF1)"},{"$f":"Composite!F784","v":0},{"$f":"Composite!AB381","v":-3.3478082939250839},{"$f":"Composite!G381","v":"Other"}]
[288,{"$f":"Composite!B40","v":"BTK"},{"$f":"Composite!F443","v":0},{"$f":"Composite!AB40","v":-3.3998466234606326},{"$f":"Composite!G40","v":"TK"}]
[289,{"$f":"Composite!B291","v":"PDGFRA (PDGFRα)"},{"$f":"Composite!F694","v":0},{"$f":"Composite!AB291","v":-3.43384900943785},{"$f":"Composite!G291","v":"TK"}]
[290,{"$f":"Composite!B328","v":"PRKCA (PKCα [alpha])"},{"$f":"Composite!F731","v":0},{"$f":"Composite!AB328","v":-3.4586412101775466},{"$f":"Composite!G328","v":"AGC"}]
[291,{"$f":"Composite!B211","v":"MAP3K13 (LZK)"},{"$f":"Composite!F614","v":0},{"$f":"Composite!AB211","v":-3.5240866472680068},{"$f":"Composite!G211","v":"TKL"}]
[292,{"$f":"Composite!B132","v":"EPHA5"},{"$f":"Composite!F535","v":0},{"$f":"Composite!AB132","v":-3.6771505222900913},{"$f":"Composite!G132","v":"TK"}]
[293,{"$f":"Composite!B99","v":"CSNK1A1 (CK1A1, CK1α)"},{"$f":"Composite!F502","v":0},{"$f":"Composite!AB99","v":-3.7790013647701102},{"$f":"Composite!G99","v":"CK1"}]
[294,{"$f":"Composite!B399","v":"TESK2"},{"$f":"Composite!F802","v":0},{"$f":"Composite!AB399","v":-3.8276128037022943},{"$f":"Composite!G399","v":"TKL"}]
[295,{"$f":"Composite!B408","v":"TSSK3"},{"$f":"Composite!F811","v":0},{"$f":"Composite!AB408","v":-3.8993966042250747},{"$f":"Composite!G408","v":"CAMK"}]
[296,{"$f":"Composite!B151","v":"FGR"},{"$f":"Composite!F554","v":0},{"$f":"Composite!AB151","v":-3.9316119375058349},{"$f":"Composite!G151","v":"TK"}]
[297,{"$f":"Composite!B186","v":"JAK2 [JH1]"},{"$f":"Composite!F589","v":0},{"$f":"Composite!AB186","v":-4.1258398045243467},{"$f":"Composite!G186","v":"TK"}]
[298,{"$f":"Composite!B317","v":"PRKAA1-B2-G2 (AMPKα1β2γ2)"},{"$f":"Composite!F720","v":0},{"$f":"Composite!AB317","v":-4.1394041072482821},{"$f":"Composite!G317","v":"CAMK"}]
[299,{"$f":"Composite!B160","v":"GRK2 (ADRBK1, BARK1)"},{"$f":"Composite!F563","v":0},{"$f":"Composite!AB160","v":-4.226958717301315},{"$f":"Composite!G160","v":"AGC"}]
[300,{"$f":"Composite!B337","v":"PRKCZ (PKCζ [zeta])"},{"$f":"Composite!F740","v":0},{"$f":"Composite!AB337","v":-4.2561386168478066},{"$f":"Composite!G337","v":"AGC"}]
[301,{"$f":"Composite!B177","v":"IKKB (IKKβ)"},{"$f":"Composite!F580","v":0},{"$f":"Composite!AB177","v":-4.2675318193161758},{"$f":"Composite!G177","v":"Other"}]
[302,{"$f":"Composite!B283","v":"PAK1"},{"$f":"Composite!F686","v":0},{"$f":"Composite!AB283","v":-4.4106230186970379},{"$f":"Composite!G283","v":"STE"}]
[303,{"$f":"Composite!B179","v":"INSR (IR)"},{"$f":"Composite!F582","v":0},{"$f":"Composite!AB179","v":-4.4259848140696789},{"$f":"Composite!G179","v":"TK"}]
[304,{"$f":"Composite!B143","v":"ERN2 (IRE2)"},{"$f":"Composite!F546","v":0},{"$f":"Composite!AB143","v":-4.504940902925739},{"$f":"Composite!G143","v":"Other"}]
[305,{"$f":"Composite!B323","v":"PRKAA2-B2-G2 (AMPKα2β2γ2)"},{"$f":"Composite!F726","v":0},{"$f":"Composite!AB323","v":-4.5145264067394066},{"$f":"Composite!G323","v":"CAMK"}]
[306,{"$f":"Composite!B270","v":"NEK4"},{"$f":"Composite!F673","v":0},{"$f":"Composite!AB270","v":-4.5229325616066092},{"$f":"Composite!G270","v":"Other"}]
[307,{"$f":"Composite!B104","v":"CSNK1G2 (CK1G2, CK1γ2)"},{"$f":"Composite!F507","v":0},{"$f":"Composite!AB104","v":-4.6152073732718861},{"$f":"Composite!G104","v":"CK1"}]
[308,{"$f":"Composite!B85","v":"CDK9 (TAK)/CycK"},{"$f":"Composite!F488","v":0},{"$f":"Composite!AB85","v":-4.6501361194908384},{"$f":"Composite!G85","v":"CMGC"}]
[309,{"$f":"Composite!B368","v":"SIK1 (SIK)"},{"$f":"Composite!F771","v":0},{"$f":"Composite!AB368","v":-4.6565827354567375},{"$f":"Composite!G368","v":"CAMK"}]
[310,{"$f":"Composite!B221","v":"MAP3K9 (MLK1)"},{"$f":"Composite!F624","v":0},{"$f":"Composite!AB221","v":-4.7083315809395714},{"$f":"Composite!G221","v":"TKL"}]
[311,{"$f":"Composite!B254","v":"MNK1"},{"$f":"Composite!F657","v":0},{"$f":"Composite!AB254","v":-4.7731039381264395},{"$f":"Composite!G254","v":"CAMK"}]
[312,{"$f":"Composite!B27","v":"AURKA (AURA)"},{"$f":"Composite!F430","v":0},{"$f":"Composite!AB27","v":-4.787530154017432},{"$f":"Composite!G27","v":"Other"}]
[313,{"$f":"Composite!B290","v":"PBK (TOPK)"},{"$f":"Composite!F693","v":0},{"$f":"Composite!AB290","v":-4.8732561227199369},{"$f":"Composite!G290","v":"Other"}]
[314,{"$f":"Composite!B316","v":"PRKAA1-B2-G1 (AMPKα1β2γ1)"},{"$f":"Composite!F719","v":0},{"$f":"Composite!AB316","v":-4.9027159990813232},{"$f":"Composite!G316","v":"CAMK"}]
[315,{"$f":"Composite!B129","v":"EPHA2"},{"$f":"Composite!F532","v":0},{"$f":"Composite!AB129","v":-5.0279793894398495},{"$f":"Composite!G129","v":"TK"}]
[316,{"$f":"Composite!B41","v":"BUB1"},{"$f":"Composite!F444","v":0},{"$f":"Composite!AB41","v":-5.0326923936193992},{"$f":"Composite!G41","v":"Other"}]
[317,{"$f":"Composite!B269","v":"NEK3"},{"$f":"Composite!F672","v":0},{"$f":"Composite!AB269","v":-5.147554031714904},{"$f":"Composite!G269","v":"Other"}]
[318,{"$f":"Composite!B301","v":"PIM2"},{"$f":"Composite!F704","v":0},{"$f":"Composite!AB301","v":-5.1654220859502544},{"$f":"Composite!G301","v":"CAMK"}]
[319,{"$f":"Composite!B259","v":"MYLK (smMLCK)"},{"$f":"Composite!F662","v":0},{"$f":"Composite!AB259","v":-5.175247656701174},{"$f":"Composite!G259","v":"CAMK"}]
[320,{"$f":"Composite!B386","v":"STK26 (MST4)"},{"$f":"Composite!F789","v":0},{"$f":"Composite!AB386","v":-5.2024338070086884},{"$f":"Composite!G386","v":"STE"}]
[321,{"$f":"Composite!B257","v":"mTOR (FRAP)"},{"$f":"Composite!F660","v":0},{"$f":"Composite!AB257","v":-5.2549054744198429},{"$f":"Composite!G257","v":"Atypical"}]
[322,{"$f":"Composite!B302","v":"PIM3"},{"$f":"Composite!F705","v":0},{"$f":"Composite!AB302","v":-5.307758116079043},{"$f":"Composite!G302","v":"CAMK"}]
[323,{"$f":"Composite!B148","v":"FGFR2"},{"$f":"Composite!F551","v":0},{"$f":"Composite!AB148","v":-5.3705224263573825},{"$f":"Composite!G148","v":"TK"}]
[324,{"$f":"Composite!B196","v":"LIMK1"},{"$f":"Composite!F599","v":0},{"$f":"Composite!AB196","v":-5.390740556241056},{"$f":"Composite!G196","v":"TKL"}]
[325,{"$f":"Composite!B403","v":"TNK1"},{"$f":"Composite!F806","v":0},{"$f":"Composite!AB403","v":-5.7328531810091334},{"$f":"Composite!G403","v":"TK"}]
[326,{"$f":"Composite!B230","v":"MAPK12 (p38γ)"},{"$f":"Composite!F633","v":0},{"$f":"Composite!AB230","v":-5.8071721057202836},{"$f":"Composite!G230","v":"CMGC"}]
[327,{"$f":"Composite!B314","v":"PRKAA1-B1-G2 (AMPKα1β1γ2)"},{"$f":"Composite!F717","v":0},{"$f":"Composite!AB314","v":-5.9751063846773746},{"$f":"Composite!G314","v":"CAMK"}]
[328,{"$f":"Composite!B157","v":"FYNb (FYN)"},{"$f":"Composite!F560","v":0},{"$f":"Composite!AB157","v":-6.0153512431169531},{"$f":"Composite!G157","v":"TK"}]
[329,{"$f":"Composite!B54","v":"CDC42BPG (DMPK2)"},{"$f":"Composite!F457","v":0},{"$f":"Composite!AB54","v":-6.2394990071788499},{"$f":"Composite!G54","v":"AGC"}]
[330,{"$f":"Composite!B25","v":"AKT3 (PKBg)"},{"$f":"Composite!F428","v":0},{"$f":"Composite!AB25","v":-6.2613740288773272},{"$f":"Composite!G25","v":"AGC"}]
[331,{"$f":"Composite!B173","v":"HIPK4"},{"$f":"Composite!F576","v":0},{"$f":"Composite!AB173","v":-6.3002835769186447},{"$f":"Composite!G173","v":"CMGC"}]
[332,{"$f":"Composite!B111","v":"DCLK1 (DCAMKL1)"},{"$f":"Composite!F514","v":0},{"$f":"Composite!AB111","v":-6.3254415633220447},{"$f":"Composite!G111","v":"CAMK"}]
[333,{"$f":"Composite!B392","v":"SYK"},{"$f":"Composite!F795","v":0},{"$f":"Composite!AB392","v":-6.3806450252061921},{"$f":"Composite!G392","v":"TK"}]
[334,{"$f":"Composite!B411","v":"TTBK2"},{"$f":"Composite!F814","v":0},{"$f":"Composite!AB411","v":-6.4582369456785642},{"$f":"Composite!G411","v":"CK1"}]
[335,{"$f":"Composite!B110","v":"DAPK3 (ZIPK)"},{"$f":"Composite!F513","v":0},{"$f":"Composite!AB110","v":-6.4761082398953533},{"$f":"Composite!G110","v":"CAMK"}]
[336,{"$f":"Composite!B346","v":"PTK2B (PYK2)"},{"$f":"Composite!F749","v":0},{"$f":"Composite!AB346","v":-6.5549252886727345},{"$f":"Composite!G346","v":"TK"}]
[337,{"$f":"Composite!B205","v":"MAP2K3 (MEK3)"},{"$f":"Composite!F608","v":0},{"$f":"Composite!AB205","v":-6.6028802375703748},{"$f":"Composite!G205","v":"STE"}]
[338,{"$f":"Composite!B282","v":"NUAK2 (SNARK)"},{"$f":"Composite!F685","v":0},{"$f":"Composite!AB282","v":-6.6253899820246716},{"$f":"Composite!G282","v":"CAMK"}]
[339,{"$f":"Composite!B264","v":"MYO3B"},{"$f":"Composite!F667","v":0},{"$f":"Composite!AB264","v":-6.798511242759929},{"$f":"Composite!G264","v":"STE"}]
[340,{"$f":"Composite!B131","v":"EPHA4"},{"$f":"Composite!F534","v":0},{"$f":"Composite!AB131","v":-6.9324611032531891},{"$f":"Composite!G131","v":"TK"}]
[341,{"$f":"Composite!B315","v":"PRKAA1-B1-G3 (AMPKα1β1γ3)"},{"$f":"Composite!F718","v":0},{"$f":"Composite!AB315","v":-6.9695924675628618},{"$f":"Composite!G315","v":"CAMK"}]
[342,{"$f":"Composite!B372","v":"SNRK"},{"$f":"Composite!F775","v":0},{"$f":"Composite!AB372","v":-7.0428228356753948},{"$f":"Composite!G372","v":"CAMK"}]
[343,{"$f":"Composite!B106","v":"CSNK2A1 (CK2A1, CK2α1)"},{"$f":"Composite!F509","v":0},{"$f":"Composite!AB106","v":-7.0563401517816828},{"$f":"Composite!G106","v":"Other"}]
[344,{"$f":"Composite!B351","v":"RIPK2"},{"$f":"Composite!F754","v":0},{"$f":"Composite!AB351","v":-7.1650633750034274},{"$f":"Composite!G351","v":"TKL"}]
[345,{"$f":"Composite!B158","v":"GAK"},{"$f":"Composite!F561","v":0},{"$f":"Composite!AB158","v":-7.2077146036237707},{"$f":"Composite!G158","v":"Other"}]
[346,{"$f":"Composite!B48","v":"CAMK2G (CAMK2γ)"},{"$f":"Composite!F451","v":0},{"$f":"Composite!AB48","v":-7.2393326094622097},{"$f":"Composite!G48","v":"CAMK"}]
[347,{"$f":"Composite!B34","v":"BMP2K (BIKE)"},{"$f":"Composite!F437","v":0},{"$f":"Composite!AB34","v":-7.2520352217976694},{"$f":"Composite!G34","v":"Other"}]
[348,{"$f":"Composite!B406","v":"TSSK1B (TSSK1)"},{"$f":"Composite!F809","v":0},{"$f":"Composite!AB406","v":-7.2534107845760047},{"$f":"Composite!G406","v":"CAMK"}]
[349,{"$f":"Composite!B44","v":"CAMK1G (CAMK1γ)"},{"$f":"Composite!F447","v":0},{"$f":"Composite!AB44","v":-7.2620435991746604},{"$f":"Composite!G44","v":"CAMK"}]
[350,{"$f":"Composite!B103","v":"CSNK1G1 (CK1G1, CK1γ1)"},{"$f":"Composite!F506","v":0},{"$f":"Composite!AB103","v":-7.3942359668838549},{"$f":"Composite!G103","v":"CK1"}]
[351,{"$f":"Composite!B92","v":"CIT (CRIK)"},{"$f":"Composite!F495","v":0},{"$f":"Composite!AB92","v":-7.4248609550946583},{"$f":"Composite!G92","v":"AGC"}]
[352,{"$f":"Composite!B246","v":"MAST3"},{"$f":"Composite!F649","v":0},{"$f":"Composite!AB246","v":-7.4406650590176753},{"$f":"Composite!G246","v":"AGC"}]
[353,{"$f":"Composite!B345","v":"PTK2 (FAK)"},{"$f":"Composite!F748","v":0},{"$f":"Composite!AB345","v":-7.5572931544188009},{"$f":"Composite!G345","v":"TK"}]
[354,{"$f":"Composite!B202","v":"MAK"},{"$f":"Composite!F605","v":0},{"$f":"Composite!AB202","v":-7.7353699742087656},{"$f":"Composite!G202","v":"Atypical"}]
[355,{"$f":"Composite!B114","v":"DDR2"},{"$f":"Composite!F517","v":0},{"$f":"Composite!AB114","v":-7.7765106492338276},{"$f":"Composite!G114","v":"TK"}]
[356,{"$f":"Composite!B284","v":"PAK2"},{"$f":"Composite!F687","v":0},{"$f":"Composite!AB284","v":-7.9164107432017374},{"$f":"Composite!G284","v":"STE"}]
[357,{"$f":"Composite!B263","v":"MYO3A"},{"$f":"Composite!F666","v":0},{"$f":"Composite!AB263","v":-7.9566042464821578},{"$f":"Composite!G263","v":"STE"}]
[358,{"$f":"Composite!B102","v":"CSNK1E (CK1E, CK1ε)"},{"$f":"Composite!F505","v":0},{"$f":"Composite!AB102","v":-8.0615758557828627},{"$f":"Composite!G102","v":"CK1"}]
[359,{"$f":"Composite!B62","v":"CDK14 (PFTAIRE1, PFTK1)/CycY"},{"$f":"Composite!F465","v":0},{"$f":"Composite!AB62","v":-8.1532339861121841},{"$f":"Composite!G62","v":"CMGC"}]
[360,{"$f":"Composite!B130","v":"EPHA3"},{"$f":"Composite!F533","v":0},{"$f":"Composite!AB130","v":-8.1783060921248136},{"$f":"Composite!G130","v":"TK"}]
[361,{"$f":"Composite!B236","v":"MAPK7 (BMK, ERK5)"},{"$f":"Composite!F639","v":0},{"$f":"Composite!AB236","v":-8.1819422142459928},{"$f":"Composite!G236","v":"CMGC"}]
[362,{"$f":"Composite!B112","v":"DCLK2 (DCAMKL2)"},{"$f":"Composite!F515","v":0},{"$f":"Composite!AB112","v":-8.1999284265775998},{"$f":"Composite!G112","v":"CAMK"}]
[363,{"$f":"Composite!B185","v":"JAK1 [JH1-JH2]"},{"$f":"Composite!F588","v":0},{"$f":"Composite!AB185","v":-8.3323061752742689},{"$f":"Composite!G185","v":"TK"}]
[364,{"$f":"Composite!B20","v":"AAK1"},{"$f":"Composite!F423","v":0},{"$f":"Composite!AB20","v":-8.5254524714571431},{"$f":"Composite!G20","v":"Other"}]
[365,{"$f":"Composite!B65","v":"CDK17 (PCTAIRE2, PCTK2)/p35NCK"},{"$f":"Composite!F468","v":0},{"$f":"Composite!AB65","v":-8.6417277628679017},{"$f":"Composite!G65","v":"CMGC"}]
[366,{"$f":"Composite!B287","v":"PAK5 (PAK7)"},{"$f":"Composite!F690","v":0},{"$f":"Composite!AB287","v":-8.7681908403230722},{"$f":"Composite!G287","v":"STE"}]
[367,{"$f":"Composite!B101","v":"CSNK1D (CK1D, CK1δ)"},{"$f":"Composite!F504","v":0},{"$f":"Composite!AB101","v":-8.8272019978868599},{"$f":"Composite!G101","v":"CK1"}]
[368,{"$f":"Composite!B361","v":"RPS6KA6 (RSK4)"},{"$f":"Composite!F764","v":0},{"$f":"Composite!AB361","v":-8.9183773770367907},{"$f":"Composite!G361","v":"AGC"}]
[369,{"$f":"Composite!B195","v":"LCK"},{"$f":"Composite!F598","v":0},{"$f":"Composite!AB195","v":-9.5924501470540378},{"$f":"Composite!G195","v":"TK"}]
[370,{"$f":"Composite!B389","v":"STK38 (NDR1)"},{"$f":"Composite!F792","v":0},{"$f":"Composite!AB389","v":-9.808232842147703},{"$f":"Composite!G389","v":"AGC"}]
[371,{"$f":"Composite!B310","v":"PLK3"},{"$f":"Composite!F713","v":0},{"$f":"Composite!AB310","v":-9.8336501366566154},{"$f":"Composite!G310","v":"Other"}]
[372,{"$f":"Composite!B405","v":"TRPM7 (CHAK1)"},{"$f":"Composite!F808","v":0},{"$f":"Composite!AB405","v":-10.083920726952726},{"$f":"Composite!G405","v":"Atypical"}]
[373,{"$f":"Composite!B197","v":"LIMK2"},{"$f":"Composite!F600","v":0},{"$f":"Composite!AB197","v":-10.558027437893955},{"$f":"Composite!G197","v":"TKL"}]
[374,{"$f":"Composite!B299","v":"PHKG2"},{"$f":"Composite!F702","v":0},{"$f":"Composite!AB299","v":-10.639529674480187},{"$f":"Composite!G299","v":"CAMK"}]
[375,{"$f":"Composite!B125","v":"EIF2AK2 (PKR)"},{"$f":"Composite!F528","v":0},{"$f":"Composite!AB125","v":-10.645128925454003},{"$f":"Composite!G125","v":"Other"}]
[376,{"$f":"Composite!B66","v":"CDK18 (PCTAIRE3, PCTK3)/CycY "},{"$f":"Composite!F469","v":0},{"$f":"Composite!AB66","v":-11.124062067458297},{"$f":"Composite!G66","v":"CMGC"}]
[377,{"$f":"Composite!B390","v":"STK38L (NDR2)"},{"$f":"Composite!F793","v":0},{"$f":"Composite!AB390","v":-11.164411044216891},{"$f":"Composite!G390","v":"AGC"}]
[378,{"$f":"Composite!B164","v":"GRK6 (GPRK6)"},{"$f":"Composite!F567","v":0},{"$f":"Composite!AB164","v":-11.4495806830612},{"$f":"Composite!G164","v":"AGC"}]
[379,{"$f":"Composite!B146","v":"FES"},{"$f":"Composite!F549","v":0},{"$f":"Composite!AB146","v":-11.923562058526727},{"$f":"Composite!G146","v":"TK"}]
[380,{"$f":"Composite!B37","v":"BRAF, b-[V600E]"},{"$f":"Composite!F440","v":0},{"$f":"Composite!AB37","v":-12.038431092554362},{"$f":"Composite!G37","v":"TKL"}]
[381,{"$f":"Composite!B404","v":"TNK2 (ACK)"},{"$f":"Composite!F807","v":0},{"$f":"Composite!AB404","v":-12.208626700389658},{"$f":"Composite!G404","v":"TK"}]
[382,{"$f":"Composite!B410","v":"TTBK1"},{"$f":"Composite!F813","v":0},{"$f":"Composite!AB410","v":-12.33255552674791},{"$f":"Composite!G410","v":"CK1"}]
[383,{"$f":"Composite!B333","v":"PRKCG (PKCγ [gamma])"},{"$f":"Composite!F736","v":0},{"$f":"Composite!AB333","v":-12.370142048697744},{"$f":"Composite!G333","v":"AGC"}]
[384,{"$f":"Composite!B329","v":"PRKCB1 (PKCβ1 [beta1])"},{"$f":"Composite!F732","v":0},{"$f":"Composite!AB329","v":-12.426930753217874},{"$f":"Composite!G329","v":"AGC"}]
[385,{"$f":"Composite!B163","v":"GRK5 (GPRK5)"},{"$f":"Composite!F566","v":0},{"$f":"Composite!AB163","v":-12.676252861339592},{"$f":"Composite!G163","v":"AGC"}]
[386,{"$f":"Composite!B325","v":"PRKACA (PKACA, PKACα)"},{"$f":"Composite!F728","v":0},{"$f":"Composite!AB325","v":-12.721999543780754},{"$f":"Composite!G325","v":"AGC"}]
[387,{"$f":"Composite!B214","v":"MAP3K2 (MEKK2)"},{"$f":"Composite!F617","v":0},{"$f":"Composite!AB214","v":-13.058145625982206},{"$f":"Composite!G214","v":"STE"}]
[388,{"$f":"Composite!B330","v":"PRKCB2 (PKCβ2 [beta2])"},{"$f":"Composite!F733","v":0},{"$f":"Composite!AB330","v":-13.110651772477496},{"$f":"Composite!G330","v":"AGC"}]
[389,{"$f":"Composite!B191","v":"KSR1"},{"$f":"Composite!F594","v":0},{"$f":"Composite!AB191","v":-13.152688843771159},{"$f":"Composite!G191","v":"TKL"}]
[390,{"$f":"Composite!B303","v":"PINK1 (PINK)"},{"$f":"Composite!F706","v":0},{"$f":"Composite!AB303","v":-13.841306822694648},{"$f":"Composite!G303","v":"Other"}]
[391,{"$f":"Composite!B248","v":"MATK (CTK)"},{"$f":"Composite!F651","v":0},{"$f":"Composite!AB248","v":-14.440296164363147},{"$f":"Composite!G248","v":"TK"}]
[392,{"$f":"Composite!B297","v":"PDPK1 (PDK1)"},{"$f":"Composite!F700","v":0},{"$f":"Composite!AB297","v":-14.878925463488457},{"$f":"Composite!G297","v":"AGC"}]
[393,{"$f":"Composite!B309","v":"PLK2"},{"$f":"Composite!F712","v":0},{"$f":"Composite!AB309","v":-14.904731634964875},{"$f":"Composite!G309","v":"Other"}]
[394,{"$f":"Composite!B53","v":"CDC42BPB (MRCKB)"},{"$f":"Composite!F456","v":0},{"$f":"Composite!AB53","v":-14.919211140323171},{"$f":"Composite!G53","v":"AGC"}]
[395,{"$f":"Composite!B266","v":"NEK10"},{"$f":"Composite!F669","v":0},{"$f":"Composite!AB266","v":-15.617941011364238},{"$f":"Composite!G266","v":"Other"}]
[396,{"$f":"Composite!B286","v":"PAK4"},{"$f":"Composite!F689","v":0},{"$f":"Composite!AB286","v":-16.430638407940904},{"$f":"Composite!G286","v":"STE"}]
[397,{"$f":"Composite!B352","v":"RIPK3"},{"$f":"Composite!F755","v":0},{"$f":"Composite!AB352","v":-16.652044218283905},{"$f":"Composite!G352","v":"TKL"}]
[398,{"$f":"Composite!B343","v":"PRKG2 (PKG2, PGK2, CGK2)"},{"$f":"Composite!F746","v":0},{"$f":"Composite!AB343","v":-16.820470953169576},{"$f":"Composite!G343","v":"AGC"}]
[399,{"$f":"Composite!B300","v":"PIM1"},{"$f":"Composite!F703","v":0},{"$f":"Composite!AB300","v":-17.24645541179207},{"$f":"Composite!G300","v":"CAMK"}]
[400,{"$f":"Composite!B415","v":"TYK2 [JH1-JH2]"},{"$f":"Composite!F818","v":0},{"$f":"Composite!AB415","v":-19.131037212985021},{"$f":"Composite!G415","v":"TK"}]
[401,{"$f":"Composite!B247","v":"MASTL"},{"$f":"Composite!F650","v":0},{"$f":"Composite!AB247","v":-20.266785678865475},{"$f":"Composite!G247","v":"AGC"}]
[402,{"$f":"Composite!B116","v":"DSTYK (RIPK5, SGK496)"},{"$f":"Composite!F519","v":0},{"$f":"Composite!AB116","v":-21.742735942334079},{"$f":"Composite!G116","v":"TKL"}]
[403,{"$f":"Composite!B161","v":"GRK3 (ADRBK2, BARK2)"},{"$f":"Composite!F564","v":0},{"$f":"Composite!AB161","v":-28.117877825518406},{"$f":"Composite!G161","v":"AGC"}]

{"sheet":"Compound 10 Kinome Tree","index":23,"n_rows":6,"n_cols":27,"rows_kept":6,"cut":false,"hidden":false,"merged":[[1,1,3,20]]}
[]
[null,{"$f":"Summary!AC19","v":"Kinome Hit View for Afatinib  (0.02 µM) with 398 Kinases (Coral Names) at 1 mM"}]
[null,null,null,null,null,null,null,null,null,null,null,null,null,null,null,null,null,null,null,null,null,null,null,null,null,null,"Kinome Hit View for VVVVVVVVVVVVVVVVVVVVVVVVVVV (VVVVV µM) with VVV Kinases (Coral Names)"]
[null,null,null,null,null,null,null,null,null,null,null,null,null,null,null,null,null,null,null,null,null,null,null,null,null,null,{"$f":"REPLACE(AA3,65,3,Summary!E19)","v":"Kinome Hit View for VVVVVVVVVVVVVVVVVVVVVVVVVVV (VVVVV µM) with 398 Kinases (Coral Names)"}]
[null,null,null,null,null,null,null,null,null,null,null,null,null,null,null,null,null,null,null,null,null,null,null,null,null,null,{"$f":"REPLACE(AA4,50,5,Summary!D19)","v":"Kinome Hit View for VVVVVVVVVVVVVVVVVVVVVVVVVVV (0.02 µM) with 398 Kinases (Coral Names)"}]
[null,null,null,null,null,null,null,null,null,null,null,null,null,null,null,null,null,null,null,null,null,null,null,null,null,null,{"$f":"REPLACE(AA5,21,27,Summary!C19)","v":"Kinome Hit View for Afatinib  (0.02 µM) with 398 Kinases (Coral Names)"}]

{"sheet":"Compound 11","index":24,"n_rows":405,"n_cols":27,"rows_kept":405,"cut":false,"hidden":false,"merged":[]}
[]
["Panel #","Kinase Target",{"$f":"Summary!AB20","v":"0.02 µM Afatinib , % inhibition at  ATP Km "},{"$f":"Composite!G19","v":"Group"}]
[1,{"$f":"Composite!B123","v":"EGFR (ERBB1)"},{"$f":"Composite!AD123","v":100},{"$f":"Composite!G123","v":"TK"},null,null,null,null,null,null,null,null,null,null,null,null,null,null,null,null,null,null,null,null,null,null,"VVVVV μM VVVVVVVVVVVVVVVVVVVVVVVVVVV, % inhibition"]
[2,{"$f":"Composite!B141","v":"ERBB4 (HER4)"},{"$f":"Composite!AD141","v":96.912090122711732},{"$f":"Composite!G141","v":"TK"},null,null,null,null,null,null,null,null,null,null,null,null,null,null,null,null,null,null,null,null,null,null,{"$f":"REPLACE(AA3,10,27,Summary!C21)","v":"VVVVV μM Afatinib , % inhibition"}]
[3,{"$f":"Composite!B59","v":"CDK1 (CDC2)/CycE1 "},{"$f":"Composite!AD59","v":66.057844852133584},{"$f":"Composite!G59","v":"CMGC"},null,null,null,null,null,null,null,null,null,null,null,null,null,null,null,null,null,null,null,null,null,null,{"$f":"REPLACE(AA4,1,5,Summary!D21)","v":"0.002 μM Afatinib , % inhibition"}]
[4,{"$f":"Composite!B140","v":"ERBB2 (HER2)"},{"$f":"Composite!AD140","v":52.117787031528856},{"$f":"Composite!G140","v":"TK"}]
[5,{"$f":"Composite!B76","v":"CDK4/CycD1"},{"$f":"Composite!AD76","v":40.601754561526391},{"$f":"Composite!G76","v":"CMGC"}]
[6,{"$f":"Composite!B71","v":"CDK2/CycE2"},{"$f":"Composite!AD71","v":32.495053629074249},{"$f":"Composite!G71","v":"CMGC"}]
[7,{"$f":"Composite!B55","v":"CDC7/DBF4 (CDC7)"},{"$f":"Composite!AD55","v":27.602087328282664},{"$f":"Composite!G55","v":"Other"}]
[8,{"$f":"Composite!B233","v":"MAPK15 (ERK7)"},{"$f":"Composite!AD233","v":20.320477177374499},{"$f":"Composite!G233","v":"CMGC"}]
[9,{"$f":"Composite!B355","v":"ROS1 (ROS)"},{"$f":"Composite!AD355","v":18.885709941811456},{"$f":"Composite!G355","v":"TK"}]
[10,{"$f":"Composite!B89","v":"CHEK1 (CHK1)"},{"$f":"Composite!AD89","v":17.914856646394426},{"$f":"Composite!G89","v":"CAMK"}]
[11,{"$f":"Composite!B47","v":"CAMK2D (CAMK2δ)"},{"$f":"Composite!AD47","v":17.874537475260297},{"$f":"Composite!G47","v":"CAMK"}]
[12,{"$f":"Composite!B192","v":"KSR2"},{"$f":"Composite!AD192","v":16.586776497392989},{"$f":"Composite!G192","v":"TKL"}]
[13,{"$f":"Composite!B81","v":"CDK6/CycD2"},{"$f":"Composite!AD81","v":15.568160717285778},{"$f":"Composite!G81","v":"CMGC"}]
[14,{"$f":"Composite!B96","v":"CLK4"},{"$f":"Composite!AD96","v":13.806706114398395},{"$f":"Composite!G96","v":"CMGC"}]
[15,{"$f":"Composite!B56","v":"CDK1 (CDC2)/CycA1 "},{"$f":"Composite!AD56","v":13.787469364670386},{"$f":"Composite!G56","v":"CMGC"}]
[16,{"$f":"Composite!B46","v":"CAMK2B (CAMK2β)"},{"$f":"Composite!AD46","v":13.668015999228956},{"$f":"Composite!G46","v":"CAMK"}]
[17,{"$f":"Composite!B409","v":"TSSK6 (SSTK)"},{"$f":"Composite!AD409","v":13.63636363636364},{"$f":"Composite!G409","v":"CAMK"}]
[18,{"$f":"Composite!B165","v":"GRK7 (GPRK7)"},{"$f":"Composite!AD165","v":13.612605733430414},{"$f":"Composite!G165","v":"AGC"}]
[19,{"$f":"Composite!B86","v":"CDK9 (TAK)/CycT1"},{"$f":"Composite!AD86","v":13.124027098726174},{"$f":"Composite!G86","v":"CMGC"}]
[20,{"$f":"Composite!B271","v":"NEK5"},{"$f":"Composite!AD271","v":13.077109617405526},{"$f":"Composite!G271","v":"Other"}]
[21,{"$f":"Composite!B45","v":"CAMK2A (CAMK2α)"},{"$f":"Composite!AD45","v":12.97449308982678},{"$f":"Composite!G45","v":"CAMK"}]
[22,{"$f":"Composite!B166","v":"GSK3A (GSK3α)"},{"$f":"Composite!AD166","v":12.885904118219827},{"$f":"Composite!G166","v":"CMGC"}]
[23,{"$f":"Composite!B113","v":"DDR1 [SRC treated]"},{"$f":"Composite!AD113","v":12.681683431347196},{"$f":"Composite!G113","v":"TK"}]
[24,{"$f":"Composite!B74","v":"CDK3/CycE2"},{"$f":"Composite!AD74","v":11.610603007285675},{"$f":"Composite!G74","v":"CMGC"}]
[25,{"$f":"Composite!B125","v":"EIF2AK2 (PKR)"},{"$f":"Composite!AD125","v":11.53987297106562},{"$f":"Composite!G125","v":"Other"}]
[26,{"$f":"Composite!B48","v":"CAMK2G (CAMK2γ)"},{"$f":"Composite!AD48","v":11.502137134959426},{"$f":"Composite!G48","v":"CAMK"}]
[27,{"$f":"Composite!B339","v":"PRKD2 (PKD2)"},{"$f":"Composite!AD339","v":11.404723720658993},{"$f":"Composite!G339","v":"CAMK"}]
[28,{"$f":"Composite!B161","v":"GRK3 (ADRBK2, BARK2)"},{"$f":"Composite!AD161","v":11.215832966603088},{"$f":"Composite!G161","v":"AGC"}]
[29,{"$f":"Composite!B54","v":"CDC42BPG (DMPK2)"},{"$f":"Composite!AD54","v":10.774149791686838},{"$f":"Composite!G54","v":"AGC"}]
[30,{"$f":"Composite!B84","v":"CDK7/CycH1"},{"$f":"Composite!AD84","v":10.739974126778776},{"$f":"Composite!G84","v":"CMGC"}]
[31,{"$f":"Composite!B401","v":"TLK2"},{"$f":"Composite!AD401","v":10.451866404715147},{"$f":"Composite!G401","v":"Other"}]
[32,{"$f":"Composite!B232","v":"MAPK14 (p38a)"},{"$f":"Composite!AD232","v":10.275085438960161},{"$f":"Composite!G232","v":"CMGC"}]
[33,{"$f":"Composite!B117","v":"DYRK1A"},{"$f":"Composite!AD117","v":10.253128344751758},{"$f":"Composite!G117","v":"CMGC"}]
[34,{"$f":"Composite!B180","v":"INSRR (IRR)"},{"$f":"Composite!AD180","v":10.237392285350808},{"$f":"Composite!G180","v":"TK"}]
[35,{"$f":"Composite!B204","v":"MAP2K2 (MEK2)"},{"$f":"Composite!AD204","v":10.228130424937731},{"$f":"Composite!G204","v":"STE"}]
[36,{"$f":"Composite!B292","v":"PDGFRB (PDGFRβ)"},{"$f":"Composite!AD292","v":10.212832064626369},{"$f":"Composite!G292","v":"TK"}]
[37,{"$f":"Composite!B385","v":"STK25 (YSK1)"},{"$f":"Composite!AD385","v":10.053580126643936},{"$f":"Composite!G385","v":"STE"}]
[38,{"$f":"Composite!B273","v":"NEK7"},{"$f":"Composite!AD273","v":10.034346882440914},{"$f":"Composite!G273","v":"Other"}]
[39,{"$f":"Composite!B162","v":"GRK4 (GPRK4)"},{"$f":"Composite!AD162","v":9.9904157728994392},{"$f":"Composite!G162","v":"AGC"}]
[40,{"$f":"Composite!B139","v":"EPHB4"},{"$f":"Composite!AD139","v":9.4857584740301775},{"$f":"Composite!G139","v":"TK"}]
[41,{"$f":"Composite!B80","v":"CDK6/CycD1"},{"$f":"Composite!AD80","v":9.4150832934163731},{"$f":"Composite!G80","v":"CMGC"}]
[42,{"$f":"Composite!B57","v":"CDK1 (CDC2)/CycA2 "},{"$f":"Composite!AD57","v":9.3379733200762161},{"$f":"Composite!G57","v":"CMGC"}]
[43,{"$f":"Composite!B317","v":"PRKAA1-B2-G2 (AMPKα1β2γ2)"},{"$f":"Composite!AD317","v":9.1211568608631666},{"$f":"Composite!G317","v":"CAMK"}]
[44,{"$f":"Composite!B20","v":"AAK1"},{"$f":"Composite!AD20","v":9.050197875442592},{"$f":"Composite!G20","v":"Other"}]
[45,{"$f":"Composite!B100","v":"CSNK1A1L (CK1A1L, CK1a2)"},{"$f":"Composite!AD100","v":9.0215942415355528},{"$f":"Composite!G100","v":"CK1"}]
[46,{"$f":"Composite!B395","v":"TAOK3 (TAO3)"},{"$f":"Composite!AD395","v":8.906171600602093},{"$f":"Composite!G395","v":"STE"}]
[47,{"$f":"Composite!B126","v":"EIF2AK3 (PERK/PEK)"},{"$f":"Composite!AD126","v":8.8774134131500233},{"$f":"Composite!G126","v":"Other"}]
[48,{"$f":"Composite!B154","v":"FLT4"},{"$f":"Composite!AD154","v":8.8020347059013204},{"$f":"Composite!G154","v":"TK"}]
[49,{"$f":"Composite!B77","v":"CDK4/CycD2"},{"$f":"Composite!AD77","v":8.7823341294579222},{"$f":"Composite!G77","v":"CMGC"}]
[50,{"$f":"Composite!B305","v":"PKN1"},{"$f":"Composite!AD305","v":8.4717890558548277},{"$f":"Composite!G305","v":"AGC"}]
[51,{"$f":"Composite!B193","v":"LATS1"},{"$f":"Composite!AD193","v":8.4630916121967346},{"$f":"Composite!G193","v":"AGC"}]
[52,{"$f":"Composite!B186","v":"JAK2 [JH1]"},{"$f":"Composite!AD186","v":8.3561009123008745},{"$f":"Composite!G186","v":"TK"}]
[53,{"$f":"Composite!B224","v":"MAP4K3 (GLK, KHS2)"},{"$f":"Composite!AD224","v":7.8894162215080712},{"$f":"Composite!G224","v":"STE"}]
[54,{"$f":"Composite!B130","v":"EPHA3"},{"$f":"Composite!AD130","v":7.7878623112635381},{"$f":"Composite!G130","v":"TK"}]
[55,{"$f":"Composite!B104","v":"CSNK1G2 (CK1G2, CK1γ2)"},{"$f":"Composite!AD104","v":7.7449721865639845},{"$f":"Composite!G104","v":"CK1"}]
[56,{"$f":"Composite!B370","v":"SIK3 (QSK)"},{"$f":"Composite!AD370","v":7.7375519724165969},{"$f":"Composite!G370","v":"CAMK"}]
[57,{"$f":"Composite!B267","v":"NEK11"},{"$f":"Composite!AD267","v":7.6847243261439502},{"$f":"Composite!G267","v":"Other"}]
[58,{"$f":"Composite!B164","v":"GRK6 (GPRK6)"},{"$f":"Composite!AD164","v":7.6647825453334377},{"$f":"Composite!G164","v":"AGC"}]
[59,{"$f":"Composite!B187","v":"JAK2 [JH1-JH2]"},{"$f":"Composite!AD187","v":7.6496073652856609},{"$f":"Composite!G187","v":"TK"}]
[60,{"$f":"Composite!B189","v":"KDR (VEGFR2)"},{"$f":"Composite!AD189","v":7.6472145531560898},{"$f":"Composite!G189","v":"TK"}]
[61,{"$f":"Composite!B205","v":"MAP2K3 (MEK3)"},{"$f":"Composite!AD205","v":7.5587271446509874},{"$f":"Composite!G205","v":"STE"}]
[62,{"$f":"Composite!B351","v":"RIPK2"},{"$f":"Composite!AD351","v":7.5357443229604826},{"$f":"Composite!G351","v":"TKL"}]
[63,{"$f":"Composite!B342","v":"PRKG1 (PKG1, PGK)"},{"$f":"Composite!AD342","v":7.4171916277179548},{"$f":"Composite!G342","v":"AGC"}]
[64,{"$f":"Composite!B73","v":"CDK3/CycE1"},{"$f":"Composite!AD73","v":7.0559610705595901},{"$f":"Composite!G73","v":"CMGC"}]
[65,{"$f":"Composite!B29","v":"AURKC (AURC)"},{"$f":"Composite!AD29","v":7.0323998467710993},{"$f":"Composite!G29","v":"Other"}]
[66,{"$f":"Composite!B359","v":"RPS6KA4 (MSK2)"},{"$f":"Composite!AD359","v":7.007384582691401},{"$f":"Composite!G359","v":"AGC"}]
[67,{"$f":"Composite!B290","v":"PBK (TOPK)"},{"$f":"Composite!AD290","v":6.9501054887276155},{"$f":"Composite!G290","v":"Other"}]
[68,{"$f":"Composite!B303","v":"PINK1 (PINK)"},{"$f":"Composite!AD303","v":6.9108394291268098},{"$f":"Composite!G303","v":"Other"}]
[69,{"$f":"Composite!B323","v":"PRKAA2-B2-G2 (AMPKα2β2γ2)"},{"$f":"Composite!AD323","v":6.7960227821218666},{"$f":"Composite!G323","v":"CAMK"}]
[70,{"$f":"Composite!B119","v":"DYRK2"},{"$f":"Composite!AD119","v":6.6377201565557726},{"$f":"Composite!G119","v":"CMGC"}]
[71,{"$f":"Composite!B381","v":"STK16 (MPSK1, PKL12, TSF1)"},{"$f":"Composite!AD381","v":6.6338871485784381},{"$f":"Composite!G381","v":"Other"}]
[72,{"$f":"Composite!B360","v":"RPS6KA5 (MSK1)"},{"$f":"Composite!AD360","v":6.5659524318214721},{"$f":"Composite!G360","v":"AGC"}]
[73,{"$f":"Composite!B199","v":"LTK"},{"$f":"Composite!AD199","v":6.3972329741287837},{"$f":"Composite!G199","v":"TK"}]
[74,{"$f":"Composite!B171","v":"HIPK2"},{"$f":"Composite!AD171","v":6.3442436085328069},{"$f":"Composite!G171","v":"CMGC"}]
[75,{"$f":"Composite!B352","v":"RIPK3"},{"$f":"Composite!AD352","v":6.3106796116504853},{"$f":"Composite!G352","v":"TKL"}]
[76,{"$f":"Composite!B202","v":"MAK"},{"$f":"Composite!AD202","v":6.2964030052525146},{"$f":"Composite!G202","v":"Atypical"}]
[77,{"$f":"Composite!B51","v":"CAMKK2"},{"$f":"Composite!AD51","v":6.1563276142624801},{"$f":"Composite!G51","v":"Other"}]
[78,{"$f":"Composite!B133","v":"EPHA6"},{"$f":"Composite!AD133","v":6.0140570360196932},{"$f":"Composite!G133","v":"TK"}]
[79,{"$f":"Composite!B336","v":"PRKCQ (PKCᶿ [theta])"},{"$f":"Composite!AD336","v":5.9659797962881527},{"$f":"Composite!G336","v":"AGC"}]
[80,{"$f":"Composite!B226","v":"MAP4K5 (KHS1)"},{"$f":"Composite!AD226","v":5.9061047908989082},{"$f":"Composite!G226","v":"STE"}]
[81,{"$f":"Composite!B379","v":"STK10 (LOK)"},{"$f":"Composite!AD379","v":5.8072211229844157},{"$f":"Composite!G379","v":"STE"}]
[82,{"$f":"Composite!B200","v":"LYNA (LYNa)"},{"$f":"Composite!AD200","v":5.7705294978373161},{"$f":"Composite!G200","v":"TK"}]
[83,{"$f":"Composite!B329","v":"PRKCB1 (PKCβ1 [beta1])"},{"$f":"Composite!AD329","v":5.7460881583493659},{"$f":"Composite!G329","v":"AGC"}]
[84,{"$f":"Composite!B321","v":"PRKAA2-B1-G3 (AMPKα2β1γ3)"},{"$f":"Composite!AD321","v":5.7436393303922131},{"$f":"Composite!G321","v":"CAMK"}]
[85,{"$f":"Composite!B291","v":"PDGFRA (PDGFRα)"},{"$f":"Composite!AD291","v":5.7248064114366031},{"$f":"Composite!G291","v":"TK"}]
[86,{"$f":"Composite!B215","v":"MAP3K20 (MLK7, ZAK)"},{"$f":"Composite!AD215","v":5.6724956822107231},{"$f":"Composite!G215","v":"TKL"}]
[87,{"$f":"Composite!B277","v":"NLK (LAK1)"},{"$f":"Composite!AD277","v":5.6282079892881143},{"$f":"Composite!G277","v":"CMGC"}]
[88,{"$f":"Composite!B38","v":"BRSK1"},{"$f":"Composite!AD38","v":5.5727375334382003},{"$f":"Composite!G38","v":"CAMK"}]
[89,{"$f":"Composite!B253","v":"MLK4 (MAP3K21)"},{"$f":"Composite!AD253","v":5.5432444763084163},{"$f":"Composite!G253","v":"STE"}]
[90,{"$f":"Composite!B167","v":"GSK3B (GSK3β)"},{"$f":"Composite!AD167","v":5.5325686551790483},{"$f":"Composite!G167","v":"CMGC"}]
[91,{"$f":"Composite!B207","v":"MAP3K1 (MEKK1)"},{"$f":"Composite!AD207","v":5.4736686171394524},{"$f":"Composite!G207","v":"STE"}]
[92,{"$f":"Composite!B124","v":"EIF2AK1 (HRI)"},{"$f":"Composite!AD124","v":5.4137776298076119},{"$f":"Composite!G124","v":"Other"}]
[93,{"$f":"Composite!B335","v":"PRKCI (PKCι [iota])"},{"$f":"Composite!AD335","v":5.4111854375450861},{"$f":"Composite!G335","v":"AGC"}]
[94,{"$f":"Composite!B136","v":"EPHB1"},{"$f":"Composite!AD136","v":5.4084910543969471},{"$f":"Composite!G136","v":"TK"}]
[95,{"$f":"Composite!B247","v":"MASTL"},{"$f":"Composite!AD247","v":5.3650143936667831},{"$f":"Composite!G247","v":"AGC"}]
[96,{"$f":"Composite!B298","v":"PHKG1"},{"$f":"Composite!AD298","v":5.3403097877995265},{"$f":"Composite!G298","v":"CAMK"}]
[97,{"$f":"Composite!B58","v":"CDK1 (CDC2)/CycB1 "},{"$f":"Composite!AD58","v":5.3183436945488864},{"$f":"Composite!G58","v":"CMGC"}]
[98,{"$f":"Composite!B295","v":"PDK3 (PDHK3)"},{"$f":"Composite!AD295","v":5.1406027921310198},{"$f":"Composite!G295","v":"Atypical"}]
[99,{"$f":"Composite!B396","v":"TBK1"},{"$f":"Composite!AD396","v":5.1373585031852542},{"$f":"Composite!G396","v":"Other"}]
[100,{"$f":"Composite!B338","v":"PRKD1 (PKD1)"},{"$f":"Composite!AD338","v":5.0862295368992392},{"$f":"Composite!G338","v":"CAMK"}]
[101,{"$f":"Composite!B87","v":"CDK9 (TAK)/CycT2"},{"$f":"Composite!AD87","v":5.0691244239631317},{"$f":"Composite!G87","v":"CMGC"}]
[102,{"$f":"Composite!B128","v":"EPHA1"},{"$f":"Composite!AD128","v":5.0540213538239556},{"$f":"Composite!G128","v":"TK"}]
[103,{"$f":"Composite!B78","v":"CDK5/p25"},{"$f":"Composite!AD78","v":5.0208199871877071},{"$f":"Composite!G78","v":"CMGC"}]
[104,{"$f":"Composite!B97","v":"CSF1R (FMS)"},{"$f":"Composite!AD97","v":4.9976708591202623},{"$f":"Composite!G97","v":"TK"}]
[105,{"$f":"Composite!B373","v":"SRC"},{"$f":"Composite!AD373","v":4.8558141556381429},{"$f":"Composite!G373","v":"TK"}]
[106,{"$f":"Composite!B265","v":"NEK1"},{"$f":"Composite!AD265","v":4.8103887139220944},{"$f":"Composite!G265","v":"Other"}]
[107,{"$f":"Composite!B156","v":"FYNa (FYN)"},{"$f":"Composite!AD156","v":4.713998275366464},{"$f":"Composite!G156","v":"TK"}]
[108,{"$f":"Composite!B122","v":"EEF2K (eEF2K)"},{"$f":"Composite!AD122","v":4.6997419116969326},{"$f":"Composite!G122","v":"Atypical"}]
[109,{"$f":"Composite!B112","v":"DCLK2 (DCAMKL2)"},{"$f":"Composite!AD112","v":4.6905920156795418},{"$f":"Composite!G112","v":"CAMK"}]
[110,{"$f":"Composite!B138","v":"EPHB3"},{"$f":"Composite!AD138","v":4.6393037210283268},{"$f":"Composite!G138","v":"TK"}]
[111,{"$f":"Composite!B150","v":"FGFR4"},{"$f":"Composite!AD150","v":4.6374019540388076},{"$f":"Composite!G150","v":"TK"}]
[112,{"$f":"Composite!B198","v":"LRRK2"},{"$f":"Composite!AD198","v":4.6205744497964503},{"$f":"Composite!G198","v":"TKL"}]
[113,{"$f":"Composite!B259","v":"MYLK (smMLCK)"},{"$f":"Composite!AD259","v":4.4899621120627415},{"$f":"Composite!G259","v":"CAMK"}]
[114,{"$f":"Composite!B82","v":"CDK6/CycD3"},{"$f":"Composite!AD82","v":4.4113008394182884},{"$f":"Composite!G82","v":"CMGC"}]
[115,{"$f":"Composite!B43","v":"CAMK1D (CAMK1δ)"},{"$f":"Composite!AD43","v":4.3921338803151713},{"$f":"Composite!G43","v":"CAMK"}]
[116,{"$f":"Composite!B134","v":"EPHA7"},{"$f":"Composite!AD134","v":4.3793964147946269},{"$f":"Composite!G134","v":"TK"}]
[117,{"$f":"Composite!B157","v":"FYNb (FYN)"},{"$f":"Composite!AD157","v":4.3055667121857368},{"$f":"Composite!G157","v":"TK"}]
[118,{"$f":"Composite!B319","v":"PRKAA2-B1-G1 (AMPKα2β1γ1)"},{"$f":"Composite!AD319","v":4.2961192670991153},{"$f":"Composite!G319","v":"CAMK"}]
[119,{"$f":"Composite!B242","v":"MARK1"},{"$f":"Composite!AD242","v":4.2692157965310003},{"$f":"Composite!G242","v":"CAMK"}]
[120,{"$f":"Composite!B99","v":"CSNK1A1 (CK1A1, CK1α)"},{"$f":"Composite!AD99","v":4.2133529165229504},{"$f":"Composite!G99","v":"CK1"}]
[121,{"$f":"Composite!B49","v":"CAMK4"},{"$f":"Composite!AD49","v":4.2036149888182592},{"$f":"Composite!G49","v":"CAMK"}]
[122,{"$f":"Composite!B411","v":"TTBK2"},{"$f":"Composite!AD411","v":4.1166156342414553},{"$f":"Composite!G411","v":"CK1"}]
[123,{"$f":"Composite!B324","v":"PRKAA2-B2-G3 (AMPKα2β2γ3)"},{"$f":"Composite!AD324","v":4.0900725931861643},{"$f":"Composite!G324","v":"CAMK"}]
[124,{"$f":"Composite!B90","v":"CHEK2 (CHK2)"},{"$f":"Composite!AD90","v":4.0724482061646938},{"$f":"Composite!G90","v":"CAMK"}]
[125,{"$f":"Composite!B67","v":"CDK2/CycA1"},{"$f":"Composite!AD67","v":3.9901784552173609},{"$f":"Composite!G67","v":"CMGC"}]
[126,{"$f":"Composite!B230","v":"MAPK12 (p38γ)"},{"$f":"Composite!AD230","v":3.9880783423218844},{"$f":"Composite!G230","v":"CMGC"}]
[127,{"$f":"Composite!B294","v":"PDK2 (PDHK2)"},{"$f":"Composite!AD294","v":3.9438515167940835},{"$f":"Composite!G294","v":"Atypical"}]
[128,{"$f":"Composite!B300","v":"PIM1"},{"$f":"Composite!AD300","v":3.8356689525919023},{"$f":"Composite!G300","v":"CAMK"}]
[129,{"$f":"Composite!B26","v":"ALK"},{"$f":"Composite!AD26","v":3.7362077745713833},{"$f":"Composite!G26","v":"TK"}]
[130,{"$f":"Composite!B216","v":"MAP3K3 (MEKK3)"},{"$f":"Composite!AD216","v":3.7296653881761586},{"$f":"Composite!G216","v":"STE"}]
[131,{"$f":"Composite!B410","v":"TTBK1"},{"$f":"Composite!AD410","v":3.7005492084936407},{"$f":"Composite!G410","v":"CK1"}]
[132,{"$f":"Composite!B402","v":"TNIK (ZC2)"},{"$f":"Composite!AD402","v":3.680605255086391},{"$f":"Composite!G402","v":"STE"}]
[133,{"$f":"Composite!B190","v":"KIT (SCFR, CD117)"},{"$f":"Composite!AD190","v":3.6688267854732288},{"$f":"Composite!G190","v":"TK"}]
[134,{"$f":"Composite!B21","v":"ABL1"},{"$f":"Composite!AD21","v":3.6116304045185217},{"$f":"Composite!G21","v":"TK"}]
[135,{"$f":"Composite!B219","v":"MAP3K7 (TAK1)"},{"$f":"Composite!AD219","v":3.5669975186104068},{"$f":"Composite!G219","v":"STE"}]
[136,{"$f":"Composite!B107","v":"CSNK2A2 (CK2A2, CK2α2)"},{"$f":"Composite!AD107","v":3.5579726763424162},{"$f":"Composite!G107","v":"Other"}]
[137,{"$f":"Composite!B412","v":"TTK"},{"$f":"Composite!AD412","v":3.5377415289272847},{"$f":"Composite!G412","v":"Other"}]
[138,{"$f":"Composite!B68","v":"CDK2/CycA2"},{"$f":"Composite!AD68","v":3.5246452529197683},{"$f":"Composite!G68","v":"CMGC"}]
[139,{"$f":"Composite!B278","v":"NTRK1 (TRKA)"},{"$f":"Composite!AD278","v":3.4966194716888026},{"$f":"Composite!G278","v":"TK"}]
[140,{"$f":"Composite!B195","v":"LCK"},{"$f":"Composite!AD195","v":3.451567772199823},{"$f":"Composite!G195","v":"TK"}]
[141,{"$f":"Composite!B390","v":"STK38L (NDR2)"},{"$f":"Composite!AD390","v":3.4440655130310489},{"$f":"Composite!G390","v":"AGC"}]
[142,{"$f":"Composite!B328","v":"PRKCA (PKCα [alpha])"},{"$f":"Composite!AD328","v":3.3980302527794066},{"$f":"Composite!G328","v":"AGC"}]
[143,{"$f":"Composite!B33","v":"BLK"},{"$f":"Composite!AD33","v":3.3064362108479912},{"$f":"Composite!G33","v":"TK"}]
[144,{"$f":"Composite!B334","v":"PRKCH (PKCη [eta])"},{"$f":"Composite!AD334","v":3.2478744117130702},{"$f":"Composite!G334","v":"AGC"}]
[145,{"$f":"Composite!B238","v":"MAPK9 (JNK2)"},{"$f":"Composite!AD238","v":3.1788567916410528},{"$f":"Composite!G238","v":"CMGC"}]
[146,{"$f":"Composite!B364","v":"SBK1 (SBK)"},{"$f":"Composite!AD364","v":3.1298357117871376},{"$f":"Composite!G364","v":"Other"}]
[147,{"$f":"Composite!B79","v":"CDK5/p35NCK"},{"$f":"Composite!AD79","v":3.0827474310438134},{"$f":"Composite!G79","v":"CMGC"}]
[148,{"$f":"Composite!B212","v":"MAP3K14 (NIK)"},{"$f":"Composite!AD212","v":3.0446894495232755},{"$f":"Composite!G212","v":"STE"}]
[149,{"$f":"Composite!B422","v":"ZAP70"},{"$f":"Composite!AD422","v":2.9673913043477853},{"$f":"Composite!G422","v":"TK"}]
[150,{"$f":"Composite!B356","v":"RPS6KA1 (RSK1)"},{"$f":"Composite!AD356","v":2.9524480571929388},{"$f":"Composite!G356","v":"AGC"}]
[151,{"$f":"Composite!B209","v":"MAP3K11 (MLK3)"},{"$f":"Composite!AD209","v":2.9305703692417211},{"$f":"Composite!G209","v":"TKL"}]
[152,{"$f":"Composite!B405","v":"TRPM7 (CHAK1)"},{"$f":"Composite!AD405","v":2.8895043849294098},{"$f":"Composite!G405","v":"Atypical"}]
[153,{"$f":"Composite!B307","v":"PKN3"},{"$f":"Composite!AD307","v":2.8860467971139769},{"$f":"Composite!G307","v":"AGC"}]
[154,{"$f":"Composite!B297","v":"PDPK1 (PDK1)"},{"$f":"Composite!AD297","v":2.7946273830155945},{"$f":"Composite!G297","v":"AGC"}]
[155,{"$f":"Composite!B398","v":"TEK (TIE2)"},{"$f":"Composite!AD398","v":2.6558118119794045},{"$f":"Composite!G398","v":"TK"}]
[156,{"$f":"Composite!B314","v":"PRKAA1-B1-G2 (AMPKα1β1γ2)"},{"$f":"Composite!AD314","v":2.5974318286685474},{"$f":"Composite!G314","v":"CAMK"}]
[157,{"$f":"Composite!B144","v":"FAM20C"},{"$f":"Composite!AD144","v":2.5261959914241459},{"$f":"Composite!G144","v":"Other"}]
[158,{"$f":"Composite!B183","v":"ITK"},{"$f":"Composite!AD183","v":2.4797419984281532},{"$f":"Composite!G183","v":"TK"}]
[159,{"$f":"Composite!B275","v":"NEK9"},{"$f":"Composite!AD275","v":2.4783356374548902},{"$f":"Composite!G275","v":"Other"}]
[160,{"$f":"Composite!B42","v":"CAMK1 (CAMK1a)"},{"$f":"Composite!AD42","v":2.4459912503570393},{"$f":"Composite!G42","v":"CAMK"}]
[161,{"$f":"Composite!B276","v":"NIM1 (NIM1K)"},{"$f":"Composite!AD276","v":2.3613201627165239},{"$f":"Composite!G276","v":"CAMK"}]
[162,{"$f":"Composite!B178","v":"IKKE (IKKe)"},{"$f":"Composite!AD178","v":2.3190669582422174},{"$f":"Composite!G178","v":"Other"}]
[163,{"$f":"Composite!B241","v":"MAPKAPK5 (MK5)"},{"$f":"Composite!AD241","v":2.3116949143749252},{"$f":"Composite!G241","v":"CAMK"}]
[164,{"$f":"Composite!B93","v":"CLK1"},{"$f":"Composite!AD93","v":2.2838628101786043},{"$f":"Composite!G93","v":"CMGC"}]
[165,{"$f":"Composite!B213","v":"MAP3K19 (YSK4)"},{"$f":"Composite!AD213","v":2.2670652715495834},{"$f":"Composite!G213","v":"STE"}]
[166,{"$f":"Composite!B257","v":"mTOR (FRAP)"},{"$f":"Composite!AD257","v":2.1039737723817353},{"$f":"Composite!G257","v":"Atypical"}]
[167,{"$f":"Composite!B392","v":"SYK"},{"$f":"Composite!AD392","v":2.0618040158831548},{"$f":"Composite!G392","v":"TK"}]
[168,{"$f":"Composite!B35","v":"BMX"},{"$f":"Composite!AD35","v":2.0082989420819359},{"$f":"Composite!G35","v":"TK"}]
[169,{"$f":"Composite!B289","v":"PASK"},{"$f":"Composite!AD289","v":1.9978663563184966},{"$f":"Composite!G289","v":"CAMK"}]
[170,{"$f":"Composite!B296","v":"PDK4 (PDHK4)"},{"$f":"Composite!AD296","v":1.9922060140080902},{"$f":"Composite!G296","v":"Atypical"}]
[171,{"$f":"Composite!B312","v":"PNCK (CAMK1β)"},{"$f":"Composite!AD312","v":1.9369235346622702},{"$f":"Composite!G312","v":"CAMK"}]
[172,{"$f":"Composite!B283","v":"PAK1"},{"$f":"Composite!AD283","v":1.9319279504517226},{"$f":"Composite!G283","v":"STE"}]
[173,{"$f":"Composite!B145","v":"FER"},{"$f":"Composite!AD145","v":1.9011145884807377},{"$f":"Composite!G145","v":"TK"}]
[174,{"$f":"Composite!B229","v":"MAPK11 (p38b)"},{"$f":"Composite!AD229","v":1.87574343489797},{"$f":"Composite!G229","v":"CMGC"}]
[175,{"$f":"Composite!B39","v":"BRSK2"},{"$f":"Composite!AD39","v":1.852641652710318},{"$f":"Composite!G39","v":"CAMK"}]
[176,{"$f":"Composite!B66","v":"CDK18 (PCTAIRE3, PCTK3)/CycY "},{"$f":"Composite!AD66","v":1.7159743443366011},{"$f":"Composite!G66","v":"CMGC"}]
[177,{"$f":"Composite!B188","v":"JAK3 [JH1]"},{"$f":"Composite!AD188","v":1.7044697944871103},{"$f":"Composite!G188","v":"TK"}]
[178,{"$f":"Composite!B23","v":"AKT1 (PKB)"},{"$f":"Composite!AD23","v":1.5412017910595637},{"$f":"Composite!G23","v":"AGC"}]
[179,{"$f":"Composite!B393","v":"TAOK1 (TAO1)"},{"$f":"Composite!AD393","v":1.5331010452961635},{"$f":"Composite!G393","v":"STE"}]
[180,{"$f":"Composite!B234","v":"MAPK3 (ERK1)"},{"$f":"Composite!AD234","v":1.5189920602377924},{"$f":"Composite!G234","v":"CAMK"}]
[181,{"$f":"Composite!B92","v":"CIT (CRIK)"},{"$f":"Composite!AD92","v":1.5153385939902932},{"$f":"Composite!G92","v":"AGC"}]
[182,{"$f":"Composite!B201","v":"LYNB (LYNb)"},{"$f":"Composite!AD201","v":1.5079985055870821},{"$f":"Composite!G201","v":"TK"}]
[183,{"$f":"Composite!B325","v":"PRKACA (PKACA, PKACα)"},{"$f":"Composite!AD325","v":1.4783915590589913},{"$f":"Composite!G325","v":"AGC"}]
[184,{"$f":"Composite!B348","v":"RAF1 [Y340E/Y341E]"},{"$f":"Composite!AD348","v":1.4387976779800056},{"$f":"Composite!G348","v":"TKL"}]
[185,{"$f":"Composite!B152","v":"FLT1"},{"$f":"Composite!AD152","v":1.4067839723951892},{"$f":"Composite!G152","v":"TK"}]
[186,{"$f":"Composite!B403","v":"TNK1"},{"$f":"Composite!AD403","v":1.3416522024675146},{"$f":"Composite!G403","v":"TK"}]
[187,{"$f":"Composite!B416","v":"TYRO3"},{"$f":"Composite!AD416","v":1.290691563359843},{"$f":"Composite!G416","v":"TK"}]
[188,{"$f":"Composite!B155","v":"FRK"},{"$f":"Composite!AD155","v":1.2672440302937105},{"$f":"Composite!G155","v":"TK"}]
[189,{"$f":"Composite!B72","v":"CDK2/CycO"},{"$f":"Composite!AD72","v":1.263742491216135},{"$f":"Composite!G72","v":"CMGC"}]
[190,{"$f":"Composite!B137","v":"EPHB2"},{"$f":"Composite!AD137","v":1.2497232899317794},{"$f":"Composite!G137","v":"TK"}]
[191,{"$f":"Composite!B337","v":"PRKCZ (PKCζ [zeta])"},{"$f":"Composite!AD337","v":1.1784052914668024},{"$f":"Composite!G337","v":"AGC"}]
[192,{"$f":"Composite!B391","v":"STK4 (MST1)"},{"$f":"Composite!AD391","v":1.0425944360035686},{"$f":"Composite!G391","v":"STE"}]
[193,{"$f":"Composite!B181","v":"IRAK1"},{"$f":"Composite!AD181","v":0.98215114300737127},{"$f":"Composite!G181","v":"TKL"}]
[194,{"$f":"Composite!B114","v":"DDR2"},{"$f":"Composite!AD114","v":0.94818015422929136},{"$f":"Composite!G114","v":"TK"}]
[195,{"$f":"Composite!B121","v":"DYRK4"},{"$f":"Composite!AD121","v":0.88730122147960344},{"$f":"Composite!G121","v":"CMGC"}]
[196,{"$f":"Composite!B191","v":"KSR1"},{"$f":"Composite!AD191","v":0.76197016408292484},{"$f":"Composite!G191","v":"TKL"}]
[197,{"$f":"Composite!B85","v":"CDK9 (TAK)/CycK"},{"$f":"Composite!AD85","v":0.7366818873667853},{"$f":"Composite!G85","v":"CMGC"}]
[198,{"$f":"Composite!B95","v":"CLK3"},{"$f":"Composite!AD95","v":0.69233397471634817},{"$f":"Composite!G95","v":"CMGC"}]
[199,{"$f":"Composite!B135","v":"EPHA8"},{"$f":"Composite!AD135","v":0.58110156644768551},{"$f":"Composite!G135","v":"TK"}]
[200,{"$f":"Composite!B63","v":"CDK16 (PCTAIRE1, PCTK1)/CycY "},{"$f":"Composite!AD63","v":0.45280602521688706},{"$f":"Composite!G63","v":"CMGC"}]
[201,{"$f":"Composite!B177","v":"IKKB (IKKβ)"},{"$f":"Composite!AD177","v":0.3295811169407159},{"$f":"Composite!G177","v":"Other"}]
[202,{"$f":"Composite!B169","v":"HCK"},{"$f":"Composite!AD169","v":0.2626102467545337},{"$f":"Composite!G169","v":"TK"}]
[203,{"$f":"Composite!B266","v":"NEK10"},{"$f":"Composite!AD266","v":0.25295193913157732},{"$f":"Composite!G266","v":"Other"}]
[204,{"$f":"Composite!B227","v":"MAPK1 (ERK2)"},{"$f":"Composite!AD227","v":0.24000266669628445},{"$f":"Composite!G227","v":"CMGC"}]
[205,{"$f":"Composite!B353","v":"ROCK1"},{"$f":"Composite!AD353","v":0.2028881728129619},{"$f":"Composite!G353","v":"AGC"}]
[206,{"$f":"Composite!B211","v":"MAP3K13 (LZK)"},{"$f":"Composite!AD211","v":0.18909290216497254},{"$f":"Composite!G211","v":"TKL"}]
[207,{"$f":"Composite!B389","v":"STK38 (NDR1)"},{"$f":"Composite!AD389","v":0.18348623853209745},{"$f":"Composite!G389","v":"AGC"}]
[208,{"$f":"Composite!B251","v":"MET (c-MET, HGFR)"},{"$f":"Composite!AD251","v":0.15835336359243968},{"$f":"Composite!G251","v":"TK"}]
[209,{"$f":"Composite!B65","v":"CDK17 (PCTAIRE2, PCTK2)/p35NCK"},{"$f":"Composite!AD65","v":7.2385088671722997E-2},{"$f":"Composite!G65","v":"CMGC"}]
[210,{"$f":"Composite!B315","v":"PRKAA1-B1-G3 (AMPKα1β1γ3)"},{"$f":"Composite!AD315","v":5.931732118739319E-2},{"$f":"Composite!G315","v":"CAMK"}]
[211,{"$f":"Composite!B256","v":"MST1R (RON)"},{"$f":"Composite!AD256","v":2.7118164453995064E-2},{"$f":"Composite!G256","v":"TK"}]
[212,{"$f":"Composite!B60","v":"CDK12 (CRK7)/CycK"},{"$f":"Composite!AD60","v":0},{"$f":"Composite!G60","v":"CMGC"}]
[213,{"$f":"Composite!B69","v":"CDK2/CycD1"},{"$f":"Composite!AD69","v":0},{"$f":"Composite!G69","v":"CMGC"}]
[214,{"$f":"Composite!B206","v":"MAP2K4 (MEK4)"},{"$f":"Composite!AD206","v":0},{"$f":"Composite!G206","v":"STE"}]
[215,{"$f":"Composite!B235","v":"MAPK6 (ERK3)"},{"$f":"Composite!AD235","v":0},{"$f":"Composite!G235","v":"CMGC"}]
[216,{"$f":"Composite!B274","v":"NEK8"},{"$f":"Composite!AD274","v":0},{"$f":"Composite!G274","v":"Other"}]
[217,{"$f":"Composite!B415","v":"TYK2 [JH1-JH2]"},{"$f":"Composite!AD415","v":0},{"$f":"Composite!G415","v":"TK"}]
[218,{"$f":"Composite!B420","v":"WEE1"},{"$f":"Composite!AD420","v":0},{"$f":"Composite!G420","v":"Other"}]
[219,{"$f":"Composite!B108","v":"DAPK1"},{"$f":"Composite!AD108","v":-5.587202876196784E-2},{"$f":"Composite!G108","v":"CAMK"}]
[220,{"$f":"Composite!B384","v":"STK24 (MST3)"},{"$f":"Composite!AD384","v":-0.23047755941612991},{"$f":"Composite!G384","v":"STE"}]
[221,{"$f":"Composite!B331","v":"PRKCD (PKCδ [delta])"},{"$f":"Composite!AD331","v":-0.32573483167401207},{"$f":"Composite!G331","v":"AGC"}]
[222,{"$f":"Composite!B372","v":"SNRK"},{"$f":"Composite!AD372","v":-0.42130429721429152},{"$f":"Composite!G372","v":"CAMK"}]
[223,{"$f":"Composite!B280","v":"NTRK3 (TRKC)"},{"$f":"Composite!AD280","v":-0.45406811618414622},{"$f":"Composite!G280","v":"TK"}]
[224,{"$f":"Composite!B309","v":"PLK2"},{"$f":"Composite!AD309","v":-0.50673341215852474},{"$f":"Composite!G309","v":"Other"}]
[225,{"$f":"Composite!B374","v":"SRC N1"},{"$f":"Composite!AD374","v":-0.51814423518601416},{"$f":"Composite!G374","v":"TK"}]
[226,{"$f":"Composite!B111","v":"DCLK1 (DCAMKL1)"},{"$f":"Composite!AD111","v":-0.55782092832555463},{"$f":"Composite!G111","v":"CAMK"}]
[227,{"$f":"Composite!B421","v":"YES1 (YES)"},{"$f":"Composite!AD421","v":-0.59983799995620757},{"$f":"Composite!G421","v":"TK"}]
[228,{"$f":"Composite!B299","v":"PHKG2"},{"$f":"Composite!AD299","v":-0.60312209924187243},{"$f":"Composite!G299","v":"CAMK"}]
[229,{"$f":"Composite!B61","v":"CDK13 (CHED)/CycK"},{"$f":"Composite!AD61","v":-0.62010382000197239},{"$f":"Composite!G61","v":"CMGC"}]
[230,{"$f":"Composite!B185","v":"JAK1 [JH1-JH2]"},{"$f":"Composite!AD185","v":-0.79602626612501126},{"$f":"Composite!G185","v":"TK"}]
[231,{"$f":"Composite!B327","v":"PRKACG (PKACG, PKACg)"},{"$f":"Composite!AD327","v":-0.79692772154147917},{"$f":"Composite!G327","v":"AGC"}]
[232,{"$f":"Composite!B146","v":"FES"},{"$f":"Composite!AD146","v":-0.79814647584124998},{"$f":"Composite!G146","v":"TK"}]
[233,{"$f":"Composite!B64","v":"CDK17 (PCTAIRE2, PCTK2)/CycY"},{"$f":"Composite!AD64","v":-0.81679492372082052},{"$f":"Composite!G64","v":"CMGC"}]
[234,{"$f":"Composite!B53","v":"CDC42BPB (MRCKB)"},{"$f":"Composite!AD53","v":-0.82270009815296419},{"$f":"Composite!G53","v":"AGC"}]
[235,{"$f":"Composite!B407","v":"TSSK2"},{"$f":"Composite!AD407","v":-0.8272980501392766},{"$f":"Composite!G407","v":"CAMK"}]
[236,{"$f":"Composite!B105","v":"CSNK1G3 (CK1G3, CK1γ3)"},{"$f":"Composite!AD105","v":-0.86241928929426592},{"$f":"Composite!G105","v":"CK1"}]
[237,{"$f":"Composite!B347","v":"PTK6 (BRK)"},{"$f":"Composite!AD347","v":-0.88171016604279373},{"$f":"Composite!G347","v":"TK"}]
[238,{"$f":"Composite!B182","v":"IRAK4"},{"$f":"Composite!AD182","v":-0.91239833139678694},{"$f":"Composite!G182","v":"TKL"}]
[239,{"$f":"Composite!B170","v":"HIPK1"},{"$f":"Composite!AD170","v":-1.0274339371033534},{"$f":"Composite!G170","v":"CMGC"}]
[240,{"$f":"Composite!B30","v":"AXL"},{"$f":"Composite!AD30","v":-1.0490389797018196},{"$f":"Composite!G30","v":"TK"}]
[241,{"$f":"Composite!B52","v":"CDC42BPA (MRCKA)"},{"$f":"Composite!AD52","v":-1.1033335142076766},{"$f":"Composite!G52","v":"AGC"}]
[242,{"$f":"Composite!B220","v":"MAP3K8 (COT, Tpl2)"},{"$f":"Composite!AD220","v":-1.2342731635113466},{"$f":"Composite!G220","v":"STE"}]
[243,{"$f":"Composite!B369","v":"SIK2 (QIK)"},{"$f":"Composite!AD369","v":-1.3368837907960796},{"$f":"Composite!G369","v":"CAMK"}]
[244,{"$f":"Composite!B318","v":"PRKAA1-B2-G3 (AMPKα1β2γ3)"},{"$f":"Composite!AD318","v":-1.4686843094399791},{"$f":"Composite!G318","v":"CAMK"}]
[245,{"$f":"Composite!B367","v":"SGK3"},{"$f":"Composite!AD367","v":-1.5240814739365192},{"$f":"Composite!G367","v":"AGC"}]
[246,{"$f":"Composite!B83","v":"CDK7/CycH/MAT1"},{"$f":"Composite!AD83","v":-1.5538375853946889},{"$f":"Composite!G83","v":"CMGC"}]
[247,{"$f":"Composite!B255","v":"MNK2"},{"$f":"Composite!AD255","v":-1.6980366451290649},{"$f":"Composite!G255","v":"CAMK"}]
[248,{"$f":"Composite!B240","v":"MAPKAPK3 (MK3)"},{"$f":"Composite!AD240","v":-1.8505731252589612},{"$f":"Composite!G240","v":"CAMK"}]
[249,{"$f":"Composite!B129","v":"EPHA2"},{"$f":"Composite!AD129","v":-1.8802712807581798},{"$f":"Composite!G129","v":"TK"}]
[250,{"$f":"Composite!B375","v":"SRMS (SRM)"},{"$f":"Composite!AD375","v":-1.9425028446694483},{"$f":"Composite!G375","v":"TK"}]
[251,{"$f":"Composite!B210","v":"MAP3K12 (DLK)"},{"$f":"Composite!AD210","v":-2.0311194653299935},{"$f":"Composite!G210","v":"TKL"}]
[252,{"$f":"Composite!B147","v":"FGFR1"},{"$f":"Composite!AD147","v":-2.0318437333165917},{"$f":"Composite!G147","v":"TK"}]
[253,{"$f":"Composite!B132","v":"EPHA5"},{"$f":"Composite!AD132","v":-2.0815130801253758},{"$f":"Composite!G132","v":"TK"}]
[254,{"$f":"Composite!B254","v":"MNK1"},{"$f":"Composite!AD254","v":-2.0933506962807513},{"$f":"Composite!G254","v":"CAMK"}]
[255,{"$f":"Composite!B316","v":"PRKAA1-B2-G1 (AMPKα1β2γ1)"},{"$f":"Composite!AD316","v":-2.1200303609286237},{"$f":"Composite!G316","v":"CAMK"}]
[256,{"$f":"Composite!B236","v":"MAPK7 (BMK, ERK5)"},{"$f":"Composite!AD236","v":-2.1202730725319867},{"$f":"Composite!G236","v":"CMGC"}]
[257,{"$f":"Composite!B225","v":"MAP4K4 (HGK, ZC1)"},{"$f":"Composite!AD225","v":-2.1356292279308917},{"$f":"Composite!G225","v":"STE"}]
[258,{"$f":"Composite!B244","v":"MARK3"},{"$f":"Composite!AD244","v":-2.2770258545896098},{"$f":"Composite!G244","v":"CAMK"}]
[259,{"$f":"Composite!B245","v":"MARK4"},{"$f":"Composite!AD245","v":-2.2814090999556953},{"$f":"Composite!G245","v":"CAMK"}]
[260,{"$f":"Composite!B98","v":"CSK"},{"$f":"Composite!AD98","v":-2.2977578656742139},{"$f":"Composite!G98","v":"TK"}]
[261,{"$f":"Composite!B272","v":"NEK6"},{"$f":"Composite!AD272","v":-2.3700383688159974},{"$f":"Composite!G272","v":"Other"}]
[262,{"$f":"Composite!B322","v":"PRKAA2-B2-G1 (AMPKα2β2γ1)"},{"$f":"Composite!AD322","v":-2.4024450920463494},{"$f":"Composite!G322","v":"CAMK"}]
[263,{"$f":"Composite!B301","v":"PIM2"},{"$f":"Composite!AD301","v":-2.4028341120295238},{"$f":"Composite!G301","v":"CAMK"}]
[264,{"$f":"Composite!B387","v":"STK3 (CLIK1, MST2)"},{"$f":"Composite!AD387","v":-2.4335527920019331},{"$f":"Composite!G387","v":"STE"}]
[265,{"$f":"Composite!B413","v":"TXK"},{"$f":"Composite!AD413","v":-2.5548261972251254},{"$f":"Composite!G413","v":"TK"}]
[266,{"$f":"Composite!B142","v":"ERN1 (IRE1)"},{"$f":"Composite!AD142","v":-2.5679071437118637},{"$f":"Composite!G142","v":"Other"}]
[267,{"$f":"Composite!B288","v":"PAK6"},{"$f":"Composite!AD288","v":-2.5848224963269359},{"$f":"Composite!G288","v":"STE"}]
[268,{"$f":"Composite!B41","v":"BUB1"},{"$f":"Composite!AD41","v":-2.6476724475159727},{"$f":"Composite!G41","v":"Other"}]
[269,{"$f":"Composite!B32","v":"BCR RET (fusion)"},{"$f":"Composite!AD32","v":-2.6787522103586667},{"$f":"Composite!G32","v":"TK"}]
[270,{"$f":"Composite!B361","v":"RPS6KA6 (RSK4)"},{"$f":"Composite!AD361","v":-2.6964536791126505},{"$f":"Composite!G361","v":"AGC"}]
[271,{"$f":"Composite!B365","v":"SGK1 (SGK)"},{"$f":"Composite!AD365","v":-2.7249954865499149},{"$f":"Composite!G365","v":"AGC"}]
[272,{"$f":"Composite!B175","v":"ICK"},{"$f":"Composite!AD175","v":-2.7427962652140394},{"$f":"Composite!G175","v":"CMGC"}]
[273,{"$f":"Composite!B293","v":"PDK1 (PDHK1)"},{"$f":"Composite!AD293","v":-2.8369740311708256},{"$f":"Composite!G293","v":"Atypical"}]
[274,{"$f":"Composite!B376","v":"SRPK1"},{"$f":"Composite!AD376","v":-2.9482390608324209},{"$f":"Composite!G376","v":"CMGC"}]
[275,{"$f":"Composite!B366","v":"SGK2"},{"$f":"Composite!AD366","v":-2.9754703041853787},{"$f":"Composite!G366","v":"AGC"}]
[276,{"$f":"Composite!B153","v":"FLT3"},{"$f":"Composite!AD153","v":-3.043040529610721},{"$f":"Composite!G153","v":"TK"}]
[277,{"$f":"Composite!B40","v":"BTK"},{"$f":"Composite!AD40","v":-3.0478764580080764},{"$f":"Composite!G40","v":"TK"}]
[278,{"$f":"Composite!B62","v":"CDK14 (PFTAIRE1, PFTK1)/CycY"},{"$f":"Composite!AD62","v":-3.0634964812531962},{"$f":"Composite!G62","v":"CMGC"}]
[279,{"$f":"Composite!B158","v":"GAK"},{"$f":"Composite!AD158","v":-3.1352642579874868},{"$f":"Composite!G158","v":"Other"}]
[280,{"$f":"Composite!B406","v":"TSSK1B (TSSK1)"},{"$f":"Composite!AD406","v":-3.1457199774031466},{"$f":"Composite!G406","v":"CAMK"}]
[281,{"$f":"Composite!B400","v":"TLK1"},{"$f":"Composite!AD400","v":-3.1655496934264846},{"$f":"Composite!G400","v":"Other"}]
[282,{"$f":"Composite!B127","v":"EIF2AK4 (GCN2)"},{"$f":"Composite!AD127","v":-3.1856299959443675},{"$f":"Composite!G127","v":"Other"}]
[283,{"$f":"Composite!B260","v":"MYLK2 (skMLCK)"},{"$f":"Composite!AD260","v":-3.2111622938780897},{"$f":"Composite!G260","v":"CAMK"}]
[284,{"$f":"Composite!B308","v":"PLK1"},{"$f":"Composite!AD308","v":-3.3301731025299404},{"$f":"Composite!G308","v":"Other"}]
[285,{"$f":"Composite!B221","v":"MAP3K9 (MLK1)"},{"$f":"Composite!AD221","v":-3.3620003185220781},{"$f":"Composite!G221","v":"TKL"}]
[286,{"$f":"Composite!B340","v":"PRKD3 (PKD3)"},{"$f":"Composite!AD340","v":-3.3738135698594931},{"$f":"Composite!G340","v":"CAMK"}]
[287,{"$f":"Composite!B362","v":"RPS6KB1 (p70S6K)"},{"$f":"Composite!AD362","v":-3.4224747124844299},{"$f":"Composite!G362","v":"AGC"}]
[288,{"$f":"Composite!B250","v":"MERTK (MER)"},{"$f":"Composite!AD250","v":-3.4518973852070616},{"$f":"Composite!G250","v":"TK"}]
[289,{"$f":"Composite!B208","v":"MAP3K10 (MLK2)"},{"$f":"Composite!AD208","v":-3.4735349716446251},{"$f":"Composite!G208","v":"TKL"}]
[290,{"$f":"Composite!B143","v":"ERN2 (IRE2)"},{"$f":"Composite!AD143","v":-3.4924697312727631},{"$f":"Composite!G143","v":"Other"}]
[291,{"$f":"Composite!B173","v":"HIPK4"},{"$f":"Composite!AD173","v":-3.5184575514304157},{"$f":"Composite!G173","v":"CMGC"}]
[292,{"$f":"Composite!B120","v":"DYRK3"},{"$f":"Composite!AD120","v":-3.5392438201681387},{"$f":"Composite!G120","v":"CMGC"}]
[293,{"$f":"Composite!B268","v":"NEK2"},{"$f":"Composite!AD268","v":-3.54935401410917},{"$f":"Composite!G268","v":"Other"}]
[294,{"$f":"Composite!B131","v":"EPHA4"},{"$f":"Composite!AD131","v":-3.638246908784879},{"$f":"Composite!G131","v":"TK"}]
[295,{"$f":"Composite!B368","v":"SIK1 (SIK)"},{"$f":"Composite!AD368","v":-3.6501773223622536},{"$f":"Composite!G368","v":"CAMK"}]
[296,{"$f":"Composite!B243","v":"MARK2"},{"$f":"Composite!AD243","v":-3.6878639767055006},{"$f":"Composite!G243","v":"CAMK"}]
[297,{"$f":"Composite!B50","v":"CAMKK1"},{"$f":"Composite!AD50","v":-3.8367427877380038},{"$f":"Composite!G50","v":"Other"}]
[298,{"$f":"Composite!B418","v":"ULK2"},{"$f":"Composite!AD418","v":-3.851165739240713},{"$f":"Composite!G418","v":"Other"}]
[299,{"$f":"Composite!B24","v":"AKT2 (PKBb)"},{"$f":"Composite!AD24","v":-3.9672311304261001},{"$f":"Composite!G24","v":"AGC"}]
[300,{"$f":"Composite!B310","v":"PLK3"},{"$f":"Composite!AD310","v":-3.9720495244168177},{"$f":"Composite!G310","v":"Other"}]
[301,{"$f":"Composite!B203","v":"MAP2K1 (MEK1)"},{"$f":"Composite!AD203","v":-4.0206637372354948},{"$f":"Composite!G203","v":"STE"}]
[302,{"$f":"Composite!B311","v":"PLK4"},{"$f":"Composite!AD311","v":-4.1362902436637938},{"$f":"Composite!G311","v":"Other"}]
[303,{"$f":"Composite!B148","v":"FGFR2"},{"$f":"Composite!AD148","v":-4.1514426746729782},{"$f":"Composite!G148","v":"TK"}]
[304,{"$f":"Composite!B22","v":"ABL2 (ARG)"},{"$f":"Composite!AD22","v":-4.2358899589456342},{"$f":"Composite!G22","v":"TK"}]
[305,{"$f":"Composite!B330","v":"PRKCB2 (PKCβ2 [beta2])"},{"$f":"Composite!AD330","v":-4.2619154481234602},{"$f":"Composite!G330","v":"AGC"}]
[306,{"$f":"Composite!B116","v":"DSTYK (RIPK5, SGK496)"},{"$f":"Composite!AD116","v":-4.3114118326594877},{"$f":"Composite!G116","v":"TKL"}]
[307,{"$f":"Composite!B394","v":"TAOK2 (TAO2)"},{"$f":"Composite!AD394","v":-4.4450968878449686},{"$f":"Composite!G394","v":"STE"}]
[308,{"$f":"Composite!B270","v":"NEK4"},{"$f":"Composite!AD270","v":-4.4583578451970709},{"$f":"Composite!G270","v":"Other"}]
[309,{"$f":"Composite!B333","v":"PRKCG (PKCγ [gamma])"},{"$f":"Composite!AD333","v":-4.6135067610092619},{"$f":"Composite!G333","v":"AGC"}]
[310,{"$f":"Composite!B237","v":"MAPK8 (JNK1)"},{"$f":"Composite!AD237","v":-4.7444220345392694},{"$f":"Composite!G237","v":"CMGC"}]
[311,{"$f":"Composite!B149","v":"FGFR3"},{"$f":"Composite!AD149","v":-4.7593212165054126},{"$f":"Composite!G149","v":"TK"}]
[312,{"$f":"Composite!B284","v":"PAK2"},{"$f":"Composite!AD284","v":-4.7710354161967246},{"$f":"Composite!G284","v":"STE"}]
[313,{"$f":"Composite!B159","v":"GRK1 (RHOK)"},{"$f":"Composite!AD159","v":-4.7803421946313023},{"$f":"Composite!G159","v":"AGC"}]
[314,{"$f":"Composite!B378","v":"SRPK3 (MSSK1)"},{"$f":"Composite!AD378","v":-4.7822692869022205},{"$f":"Composite!G378","v":"CMGC"}]
[315,{"$f":"Composite!B417","v":"ULK1"},{"$f":"Composite!AD417","v":-4.8269020499489557},{"$f":"Composite!G417","v":"Other"}]
[316,{"$f":"Composite!B341","v":"PRKDC (DNA-PK)"},{"$f":"Composite!AD341","v":-4.8389620958402446},{"$f":"Composite!G341","v":"Atypical"}]
[317,{"$f":"Composite!B151","v":"FGR"},{"$f":"Composite!AD151","v":-4.8806892507555233},{"$f":"Composite!G151","v":"TK"}]
[318,{"$f":"Composite!B371","v":"SLK"},{"$f":"Composite!AD371","v":-4.9850448654037507},{"$f":"Composite!G371","v":"STE"}]
[319,{"$f":"Composite!B222","v":"MAP4K1 (HPK1)"},{"$f":"Composite!AD222","v":-5.002294630564478},{"$f":"Composite!G222","v":"STE"}]
[320,{"$f":"Composite!B106","v":"CSNK2A1 (CK2A1, CK2α1)"},{"$f":"Composite!AD106","v":-5.1447277739490005},{"$f":"Composite!G106","v":"Other"}]
[321,{"$f":"Composite!B252","v":"MINK1 (MAP4K6, MINK, ZC3)"},{"$f":"Composite!AD252","v":-5.1901930867575032},{"$f":"Composite!G252","v":"STE"}]
[322,{"$f":"Composite!B383","v":"STK17B (DRAK2)"},{"$f":"Composite!AD383","v":-5.2257970512972349},{"$f":"Composite!G383","v":"CAMK"}]
[323,{"$f":"Composite!B70","v":"CDK2/CycE1"},{"$f":"Composite!AD70","v":-5.2918287937743003},{"$f":"Composite!G70","v":"CMGC"}]
[324,{"$f":"Composite!B287","v":"PAK5 (PAK7)"},{"$f":"Composite!AD287","v":-5.3232501212113874},{"$f":"Composite!G287","v":"STE"}]
[325,{"$f":"Composite!B109","v":"DAPK2 (DRP-1)"},{"$f":"Composite!AD109","v":-5.3486287363083846},{"$f":"Composite!G109","v":"CAMK"}]
[326,{"$f":"Composite!B404","v":"TNK2 (ACK)"},{"$f":"Composite!AD404","v":-5.4143273936139167},{"$f":"Composite!G404","v":"TK"}]
[327,{"$f":"Composite!B246","v":"MAST3"},{"$f":"Composite!AD246","v":-5.5725229059230088},{"$f":"Composite!G246","v":"AGC"}]
[328,{"$f":"Composite!B397","v":"TEC"},{"$f":"Composite!AD397","v":-5.6650958643099329},{"$f":"Composite!G397","v":"TK"}]
[329,{"$f":"Composite!B194","v":"LATS2"},{"$f":"Composite!AD194","v":-5.7371714386745225},{"$f":"Composite!G194","v":"AGC"}]
[330,{"$f":"Composite!B101","v":"CSNK1D (CK1D, CK1δ)"},{"$f":"Composite!AD101","v":-5.7598784194528747},{"$f":"Composite!G101","v":"CK1"}]
[331,{"$f":"Composite!B75","v":"CDK4 /CycD3"},{"$f":"Composite!AD75","v":-5.9982094897045641},{"$f":"Composite!G75","v":"CMGC"}]
[332,{"$f":"Composite!B363","v":"RPS6KB2 (p70S6KB)"},{"$f":"Composite!AD363","v":-6.0255643428369012},{"$f":"Composite!G363","v":"AGC"}]
[333,{"$f":"Composite!B264","v":"MYO3B"},{"$f":"Composite!AD264","v":-6.0471694507090632},{"$f":"Composite!G264","v":"STE"}]
[334,{"$f":"Composite!B168","v":"HASPIN"},{"$f":"Composite!AD168","v":-6.1180996664867422},{"$f":"Composite!G168","v":"Other"}]
[335,{"$f":"Composite!B184","v":"JAK1 [JH1]"},{"$f":"Composite!AD184","v":-6.1342788001575883},{"$f":"Composite!G184","v":"TK"}]
[336,{"$f":"Composite!B176","v":"IGF1R"},{"$f":"Composite!AD176","v":-6.3187431798105251},{"$f":"Composite!G176","v":"TK"}]
[337,{"$f":"Composite!B306","v":"PKN2"},{"$f":"Composite!AD306","v":-6.3607324268184016},{"$f":"Composite!G306","v":"AGC"}]
[338,{"$f":"Composite!B286","v":"PAK4"},{"$f":"Composite!AD286","v":-6.6852580663334749},{"$f":"Composite!G286","v":"STE"}]
[339,{"$f":"Composite!B262","v":"MYLK4 (SgK085)"},{"$f":"Composite!AD262","v":-6.7265640039741896},{"$f":"Composite!G262","v":"CAMK"}]
[340,{"$f":"Composite!B377","v":"SRPK2"},{"$f":"Composite!AD377","v":-6.7462876911124425},{"$f":"Composite!G377","v":"CMGC"}]
[341,{"$f":"Composite!B320","v":"PRKAA2-B1-G2 (AMPKα2β1γ2)"},{"$f":"Composite!AD320","v":-6.7718594717112808},{"$f":"Composite!G320","v":"CAMK"}]
[342,{"$f":"Composite!B282","v":"NUAK2 (SNARK)"},{"$f":"Composite!AD282","v":-7.0709602522327799},{"$f":"Composite!G282","v":"CAMK"}]
[343,{"$f":"Composite!B239","v":"MAPKAPK2 (MK2)"},{"$f":"Composite!AD239","v":-7.1568491309139546},{"$f":"Composite!G239","v":"CAMK"}]
[344,{"$f":"Composite!B354","v":"ROCK2"},{"$f":"Composite!AD354","v":-7.1984090344117533},{"$f":"Composite!G354","v":"AGC"}]
[345,{"$f":"Composite!B343","v":"PRKG2 (PKG2, PGK2, CGK2)"},{"$f":"Composite!AD343","v":-7.2963577618421454},{"$f":"Composite!G343","v":"AGC"}]
[346,{"$f":"Composite!B269","v":"NEK3"},{"$f":"Composite!AD269","v":-7.3073572570345959},{"$f":"Composite!G269","v":"Other"}]
[347,{"$f":"Composite!B346","v":"PTK2B (PYK2)"},{"$f":"Composite!AD346","v":-7.3623072800468634},{"$f":"Composite!G346","v":"TK"}]
[348,{"$f":"Composite!B386","v":"STK26 (MST4)"},{"$f":"Composite!AD386","v":-7.4460947575218199},{"$f":"Composite!G386","v":"STE"}]
[349,{"$f":"Composite!B214","v":"MAP3K2 (MEKK2)"},{"$f":"Composite!AD214","v":-7.5807600181265116},{"$f":"Composite!G214","v":"STE"}]
[350,{"$f":"Composite!B217","v":"MAP3K5 (ASK1)"},{"$f":"Composite!AD217","v":-7.6203446029960276},{"$f":"Composite!G217","v":"STE"}]
[351,{"$f":"Composite!B37","v":"BRAF, b-[V600E]"},{"$f":"Composite!AD37","v":-7.6642399483231145},{"$f":"Composite!G37","v":"TKL"}]
[352,{"$f":"Composite!B358","v":"RPS6KA3 (RSK2)"},{"$f":"Composite!AD358","v":-7.7020624687400385},{"$f":"Composite!G358","v":"AGC"}]
[353,{"$f":"Composite!B350","v":"RIPK1"},{"$f":"Composite!AD350","v":-7.7762800895527846},{"$f":"Composite!G350","v":"TKL"}]
[354,{"$f":"Composite!B302","v":"PIM3"},{"$f":"Composite!AD302","v":-8.0335328267545378},{"$f":"Composite!G302","v":"CAMK"}]
[355,{"$f":"Composite!B110","v":"DAPK3 (ZIPK)"},{"$f":"Composite!AD110","v":-8.0419551967972183},{"$f":"Composite!G110","v":"CAMK"}]
[356,{"$f":"Composite!B94","v":"CLK2"},{"$f":"Composite!AD94","v":-8.0663498819345136},{"$f":"Composite!G94","v":"CMGC"}]
[357,{"$f":"Composite!B25","v":"AKT3 (PKBg)"},{"$f":"Composite!AD25","v":-8.0853396581043597},{"$f":"Composite!G25","v":"AGC"}]
[358,{"$f":"Composite!B160","v":"GRK2 (ADRBK1, BARK1)"},{"$f":"Composite!AD160","v":-8.0895384378290771},{"$f":"Composite!G160","v":"AGC"}]
[359,{"$f":"Composite!B281","v":"NUAK1 (ARK5)"},{"$f":"Composite!AD281","v":-8.1024141711632467},{"$f":"Composite!G281","v":"CAMK"}]
[360,{"$f":"Composite!B408","v":"TSSK3"},{"$f":"Composite!AD408","v":-8.1879060967412443},{"$f":"Composite!G408","v":"CAMK"}]
[361,{"$f":"Composite!B172","v":"HIPK3"},{"$f":"Composite!AD172","v":-8.2173117466883667},{"$f":"Composite!G172","v":"CMGC"}]
[362,{"$f":"Composite!B231","v":"MAPK13 (p38δ)"},{"$f":"Composite!AD231","v":-8.3027765747557538},{"$f":"Composite!G231","v":"CMGC"}]
[363,{"$f":"Composite!B313","v":"PRKAA1-B1-G1 (AMPKα1β1γ1)"},{"$f":"Composite!AD313","v":-8.3411769802418547},{"$f":"Composite!G313","v":"CAMK"}]
[364,{"$f":"Composite!B28","v":"AURKB (AURB)"},{"$f":"Composite!AD28","v":-8.5103951474660562},{"$f":"Composite!G28","v":"Other"}]
[365,{"$f":"Composite!B102","v":"CSNK1E (CK1E, CK1ε)"},{"$f":"Composite!AD102","v":-8.6532142719084959},{"$f":"Composite!G102","v":"CK1"}]
[366,{"$f":"Composite!B27","v":"AURKA (AURA)"},{"$f":"Composite!AD27","v":-8.6598468102606319},{"$f":"Composite!G27","v":"Other"}]
[367,{"$f":"Composite!B326","v":"PRKACB (PKACB, PKACβ)"},{"$f":"Composite!AD326","v":-8.666447997033714},{"$f":"Composite!G326","v":"AGC"}]
[368,{"$f":"Composite!B380","v":"STK11 (LKB1, AMPKK)"},{"$f":"Composite!AD380","v":-8.7214688789691053},{"$f":"Composite!G380","v":"CAMK"}]
[369,{"$f":"Composite!B344","v":"PRKX"},{"$f":"Composite!AD344","v":-9.1550856201139652},{"$f":"Composite!G344","v":"AGC"}]
[370,{"$f":"Composite!B261","v":"MYLK3 (caMLCK)"},{"$f":"Composite!AD261","v":-9.1825441482801011},{"$f":"Composite!G261","v":"CAMK"}]
[371,{"$f":"Composite!B357","v":"RPS6KA2 (RSK3)"},{"$f":"Composite!AD357","v":-9.1883876119317875},{"$f":"Composite!G357","v":"AGC"}]
[372,{"$f":"Composite!B345","v":"PTK2 (FAK)"},{"$f":"Composite!AD345","v":-9.2044564442864782},{"$f":"Composite!G345","v":"TK"}]
[373,{"$f":"Composite!B196","v":"LIMK1"},{"$f":"Composite!AD196","v":-9.2549471938867782},{"$f":"Composite!G196","v":"TKL"}]
[374,{"$f":"Composite!B258","v":"MUSK"},{"$f":"Composite!AD258","v":-9.2897767129644535},{"$f":"Composite!G258","v":"TK"}]
[375,{"$f":"Composite!B382","v":"STK17A (DRAK1)"},{"$f":"Composite!AD382","v":-9.4207417733592393},{"$f":"Composite!G382","v":"CAMK"}]
[376,{"$f":"Composite!B103","v":"CSNK1G1 (CK1G1, CK1γ1)"},{"$f":"Composite!AD103","v":-9.5398675073828798},{"$f":"Composite!G103","v":"CK1"}]
[377,{"$f":"Composite!B91","v":"CHUK (IKKA, IKKa)"},{"$f":"Composite!AD91","v":-9.574436381517188},{"$f":"Composite!G91","v":"Other"}]
[378,{"$f":"Composite!B388","v":"STK33"},{"$f":"Composite!AD388","v":-9.9631571427952821},{"$f":"Composite!G388","v":"CAMK"}]
[379,{"$f":"Composite!B118","v":"DYRK1B"},{"$f":"Composite!AD118","v":-10.094128428356328},{"$f":"Composite!G118","v":"CMGC"}]
[380,{"$f":"Composite!B349","v":"RET"},{"$f":"Composite!AD349","v":-10.619758941886886},{"$f":"Composite!G349","v":"TK"}]
[381,{"$f":"Composite!B36","v":"BRAF (BRAF1, RAFB1)"},{"$f":"Composite!AD36","v":-10.876693019550146},{"$f":"Composite!G36","v":"TKL"}]
[382,{"$f":"Composite!B285","v":"PAK3"},{"$f":"Composite!AD285","v":-10.975879014947878},{"$f":"Composite!G285","v":"STE"}]
[383,{"$f":"Composite!B414","v":"TYK2 [JH1]"},{"$f":"Composite!AD414","v":-11.733101435206734},{"$f":"Composite!G414","v":"TK"}]
[384,{"$f":"Composite!B197","v":"LIMK2"},{"$f":"Composite!AD197","v":-12.348928611239955},{"$f":"Composite!G197","v":"TKL"}]
[385,{"$f":"Composite!B228","v":"MAPK10 (JNK3)"},{"$f":"Composite!AD228","v":-12.3660160216631},{"$f":"Composite!G228","v":"CMGC"}]
[386,{"$f":"Composite!B174","v":"HUNK"},{"$f":"Composite!AD174","v":-12.603587729984383},{"$f":"Composite!G174","v":"CAMK"}]
[387,{"$f":"Composite!B249","v":"MELK"},{"$f":"Composite!AD249","v":-13.303385518862029},{"$f":"Composite!G249","v":"CAMK"}]
[388,{"$f":"Composite!B163","v":"GRK5 (GPRK5)"},{"$f":"Composite!AD163","v":-13.394132512910673},{"$f":"Composite!G163","v":"AGC"}]
[389,{"$f":"Composite!B399","v":"TESK2"},{"$f":"Composite!AD399","v":-13.701657458563545},{"$f":"Composite!G399","v":"TKL"}]
[390,{"$f":"Composite!B304","v":"PKMYT1 (MYT1)"},{"$f":"Composite!AD304","v":-14.383131449080281},{"$f":"Composite!G304","v":"Other"}]
[391,{"$f":"Composite!B179","v":"INSR (IR)"},{"$f":"Composite!AD179","v":-15.407646699627676},{"$f":"Composite!G179","v":"TK"}]
[392,{"$f":"Composite!B263","v":"MYO3A"},{"$f":"Composite!AD263","v":-15.426101063095416},{"$f":"Composite!G263","v":"STE"}]
[393,{"$f":"Composite!B44","v":"CAMK1G (CAMK1γ)"},{"$f":"Composite!AD44","v":-15.90689558470693},{"$f":"Composite!G44","v":"CAMK"}]
[394,{"$f":"Composite!B88","v":"CDKL5"},{"$f":"Composite!AD88","v":-15.982812800615648},{"$f":"Composite!G88","v":"CMGC"}]
[395,{"$f":"Composite!B279","v":"NTRK2 (TRKB)"},{"$f":"Composite!AD279","v":-16.839414104682163},{"$f":"Composite!G279","v":"TK"}]
[396,{"$f":"Composite!B332","v":"PRKCE (PKCe [epsilon])"},{"$f":"Composite!AD332","v":-17.598247144590488},{"$f":"Composite!G332","v":"AGC"}]
[397,{"$f":"Composite!B419","v":"ULK3"},{"$f":"Composite!AD419","v":-18.625714285714281},{"$f":"Composite!G419","v":"Other"}]
[398,{"$f":"Composite!B218","v":"MAP3K6 (ASK2)"},{"$f":"Composite!AD218","v":-20.482913313101974},{"$f":"Composite!G218","v":"STE"}]
[399,{"$f":"Composite!B115","v":"DMPK (DMPK1)"},{"$f":"Composite!AD115","v":-23.289586919104963},{"$f":"Composite!G115","v":"AGC"}]
[400,{"$f":"Composite!B31","v":"BCKDK"},{"$f":"Composite!AD31","v":-25.102626103582082},{"$f":"Composite!G31","v":"Atypical"}]
[401,{"$f":"Composite!B34","v":"BMP2K (BIKE)"},{"$f":"Composite!AD34","v":-27.780064838161906},{"$f":"Composite!G34","v":"Other"}]
[402,{"$f":"Composite!B223","v":"MAP4K2 (GCK)"},{"$f":"Composite!AD223","v":-29.822227191413276},{"$f":"Composite!G223","v":"STE"}]
[403,{"$f":"Composite!B248","v":"MATK (CTK)"},{"$f":"Composite!AD248","v":-30.801817761688369},{"$f":"Composite!G248","v":"TK"}]

{"sheet":"Compound 11 Kinome Tree","index":25,"n_rows":6,"n_cols":27,"rows_kept":6,"cut":false,"hidden":false,"merged":[[1,1,3,20]]}
[]
[null,{"$f":"Summary!AC20","v":"Kinome Hit View for Afatinib  (0.02 µM) with 396 Kinases (Coral Names) at  ATP Km "}]
[null,null,null,null,null,null,null,null,null,null,null,null,null,null,null,null,null,null,null,null,null,null,null,null,null,null,"Kinome Hit View for VVVVVVVVVVVVVVVVVVVVVVVVVVV (VVVVV µM) with VVV Kinases (Coral Names)"]
[null,null,null,null,null,null,null,null,null,null,null,null,null,null,null,null,null,null,null,null,null,null,null,null,null,null,{"$f":"REPLACE(AA3,65,3,Summary!E20)","v":"Kinome Hit View for VVVVVVVVVVVVVVVVVVVVVVVVVVV (VVVVV µM) with 396 Kinases (Coral Names)"}]
[null,null,null,null,null,null,null,null,null,null,null,null,null,null,null,null,null,null,null,null,null,null,null,null,null,null,{"$f":"REPLACE(AA4,50,5,Summary!D21)","v":"Kinome Hit View for VVVVVVVVVVVVVVVVVVVVVVVVVVV (0.002 µM) with 396 Kinases (Coral Names)"}]
[null,null,null,null,null,null,null,null,null,null,null,null,null,null,null,null,null,null,null,null,null,null,null,null,null,null,{"$f":"REPLACE(AA5,21,27,Summary!C21)","v":"Kinome Hit View for Afatinib  (0.002 µM) with 396 Kinases (Coral Names)"}]

{"sheet":"Compound 12","index":26,"n_rows":405,"n_cols":27,"rows_kept":405,"cut":false,"hidden":false,"merged":[]}
[]
["Panel #","Kinase Target",{"$f":"Summary!AB21","v":"0.002 µM Afatinib , % inhibition at 1 mM"},{"$f":"Composite!G19","v":"Group"}]
[1,{"$f":"Composite!B123","v":"EGFR (ERBB1)"},{"$f":"Composite!AF123","v":66.622365121376532},{"$f":"Composite!G123","v":"TK"},null,null,null,null,null,null,null,null,null,null,null,null,null,null,null,null,null,null,null,null,null,null,"VVVVV μM VVVVVVVVVVVVVVVVVVVVVVVVVVV, % inhibition"]
[2,{"$f":"Composite!B162","v":"GRK4 (GPRK4)"},{"$f":"Composite!AF162","v":30.33279298178698},{"$f":"Composite!G162","v":"AGC"},null,null,null,null,null,null,null,null,null,null,null,null,null,null,null,null,null,null,null,null,null,null,{"$f":"REPLACE(AA3,10,27,Summary!C20)","v":"VVVVV μM Afatinib , % inhibition"}]
[3,{"$f":"Composite!B170","v":"HIPK1"},{"$f":"Composite!AF170","v":27.107221886944259},{"$f":"Composite!G170","v":"CMGC"},null,null,null,null,null,null,null,null,null,null,null,null,null,null,null,null,null,null,null,null,null,null,{"$f":"REPLACE(AA4,1,5,Summary!D20)","v":"0.02 μM Afatinib , % inhibition"}]
[4,{"$f":"Composite!B48","v":"CAMK2G (CAMK2γ)"},{"$f":"Composite!AF48","v":26.746416760257304},{"$f":"Composite!G48","v":"CAMK"}]
[5,{"$f":"Composite!B256","v":"MST1R (RON)"},{"$f":"Composite!AF256","v":25.775094409995816},{"$f":"Composite!G256","v":"TK"}]
[6,{"$f":"Composite!B293","v":"PDK1 (PDHK1)"},{"$f":"Composite!AF293","v":21.879902294363291},{"$f":"Composite!G293","v":"Atypical"}]
[7,{"$f":"Composite!B273","v":"NEK7"},{"$f":"Composite!AF273","v":20.766955529033268},{"$f":"Composite!G273","v":"Other"}]
[8,{"$f":"Composite!B165","v":"GRK7 (GPRK7)"},{"$f":"Composite!AF165","v":20.374686267479404},{"$f":"Composite!G165","v":"AGC"}]
[9,{"$f":"Composite!B180","v":"INSRR (IRR)"},{"$f":"Composite!AF180","v":18.538731229741359},{"$f":"Composite!G180","v":"TK"}]
[10,{"$f":"Composite!B141","v":"ERBB4 (HER4)"},{"$f":"Composite!AF141","v":18.20322069973102},{"$f":"Composite!G141","v":"TK"}]
[11,{"$f":"Composite!B360","v":"RPS6KA5 (MSK1)"},{"$f":"Composite!AF360","v":17.165639724537897},{"$f":"Composite!G360","v":"AGC"}]
[12,{"$f":"Composite!B172","v":"HIPK3"},{"$f":"Composite!AF172","v":16.532902780825793},{"$f":"Composite!G172","v":"CMGC"}]
[13,{"$f":"Composite!B373","v":"SRC"},{"$f":"Composite!AF373","v":16.351155302360127},{"$f":"Composite!G373","v":"TK"}]
[14,{"$f":"Composite!B96","v":"CLK4"},{"$f":"Composite!AF96","v":15.968222442899688},{"$f":"Composite!G96","v":"CMGC"}]
[15,{"$f":"Composite!B225","v":"MAP4K4 (HGK, ZC1)"},{"$f":"Composite!AF225","v":15.946761313220932},{"$f":"Composite!G225","v":"STE"}]
[16,{"$f":"Composite!B67","v":"CDK2/CycA1"},{"$f":"Composite!AF67","v":15.634511555344815},{"$f":"Composite!G67","v":"CMGC"}]
[17,{"$f":"Composite!B410","v":"TTBK1"},{"$f":"Composite!AF410","v":15.510039466482297},{"$f":"Composite!G410","v":"CK1"}]
[18,{"$f":"Composite!B418","v":"ULK2"},{"$f":"Composite!AF418","v":15.475066709281336},{"$f":"Composite!G418","v":"Other"}]
[19,{"$f":"Composite!B391","v":"STK4 (MST1)"},{"$f":"Composite!AF391","v":15.326549714665319},{"$f":"Composite!G391","v":"STE"}]
[20,{"$f":"Composite!B370","v":"SIK3 (QSK)"},{"$f":"Composite!AF370","v":15.011065849825187},{"$f":"Composite!G370","v":"CAMK"}]
[21,{"$f":"Composite!B38","v":"BRSK1"},{"$f":"Composite!AF38","v":14.504975543936567},{"$f":"Composite!G38","v":"CAMK"}]
[22,{"$f":"Composite!B47","v":"CAMK2D (CAMK2δ)"},{"$f":"Composite!AF47","v":14.084290315184674},{"$f":"Composite!G47","v":"CAMK"}]
[23,{"$f":"Composite!B262","v":"MYLK4 (SgK085)"},{"$f":"Composite!AF262","v":13.751690559913442},{"$f":"Composite!G262","v":"CAMK"}]
[24,{"$f":"Composite!B33","v":"BLK"},{"$f":"Composite!AF33","v":13.214750977051807},{"$f":"Composite!G33","v":"TK"}]
[25,{"$f":"Composite!B87","v":"CDK9 (TAK)/CycT2"},{"$f":"Composite!AF87","v":12.797409545262624},{"$f":"Composite!G87","v":"CMGC"}]
[26,{"$f":"Composite!B307","v":"PKN3"},{"$f":"Composite!AF307","v":12.772411104749594},{"$f":"Composite!G307","v":"AGC"}]
[27,{"$f":"Composite!B124","v":"EIF2AK1 (HRI)"},{"$f":"Composite!AF124","v":12.582056892778979},{"$f":"Composite!G124","v":"Other"}]
[28,{"$f":"Composite!B82","v":"CDK6/CycD3"},{"$f":"Composite!AF82","v":12.310043796478652},{"$f":"Composite!G82","v":"CMGC"}]
[29,{"$f":"Composite!B215","v":"MAP3K20 (MLK7, ZAK)"},{"$f":"Composite!AF215","v":11.866743251005161},{"$f":"Composite!G215","v":"TKL"}]
[30,{"$f":"Composite!B348","v":"RAF1 [Y340E/Y341E]"},{"$f":"Composite!AF348","v":11.480146406388627},{"$f":"Composite!G348","v":"TKL"}]
[31,{"$f":"Composite!B178","v":"IKKE (IKKe)"},{"$f":"Composite!AF178","v":11.38113155442025},{"$f":"Composite!G178","v":"Other"}]
[32,{"$f":"Composite!B237","v":"MAPK8 (JNK1)"},{"$f":"Composite!AF237","v":11.263262679971817},{"$f":"Composite!G237","v":"CMGC"}]
[33,{"$f":"Composite!B388","v":"STK33"},{"$f":"Composite!AF388","v":11.122353111223518},{"$f":"Composite!G388","v":"CAMK"}]
[34,{"$f":"Composite!B57","v":"CDK1 (CDC2)/CycA2 "},{"$f":"Composite!AF57","v":11.07687317547844},{"$f":"Composite!G57","v":"CMGC"}]
[35,{"$f":"Composite!B402","v":"TNIK (ZC2)"},{"$f":"Composite!AF402","v":11.058537497662257},{"$f":"Composite!G402","v":"STE"}]
[36,{"$f":"Composite!B22","v":"ABL2 (ARG)"},{"$f":"Composite!AF22","v":10.981183961153988},{"$f":"Composite!G22","v":"TK"}]
[37,{"$f":"Composite!B252","v":"MINK1 (MAP4K6, MINK, ZC3)"},{"$f":"Composite!AF252","v":10.67477249556319},{"$f":"Composite!G252","v":"STE"}]
[38,{"$f":"Composite!B358","v":"RPS6KA3 (RSK2)"},{"$f":"Composite!AF358","v":10.480169874648965},{"$f":"Composite!G358","v":"AGC"}]
[39,{"$f":"Composite!B288","v":"PAK6"},{"$f":"Composite!AF288","v":10.292499004707111},{"$f":"Composite!G288","v":"STE"}]
[40,{"$f":"Composite!B212","v":"MAP3K14 (NIK)"},{"$f":"Composite!AF212","v":10.162185629670986},{"$f":"Composite!G212","v":"STE"}]
[41,{"$f":"Composite!B80","v":"CDK6/CycD1"},{"$f":"Composite!AF80","v":10.064892644048612},{"$f":"Composite!G80","v":"CMGC"}]
[42,{"$f":"Composite!B260","v":"MYLK2 (skMLCK)"},{"$f":"Composite!AF260","v":10.036490127203905},{"$f":"Composite!G260","v":"CAMK"}]
[43,{"$f":"Composite!B366","v":"SGK2"},{"$f":"Composite!AF366","v":9.9924973391726155},{"$f":"Composite!G366","v":"AGC"}]
[44,{"$f":"Composite!B58","v":"CDK1 (CDC2)/CycB1 "},{"$f":"Composite!AF58","v":9.9801941935172209},{"$f":"Composite!G58","v":"CMGC"}]
[45,{"$f":"Composite!B73","v":"CDK3/CycE1"},{"$f":"Composite!AF73","v":9.9515978539771197},{"$f":"Composite!G73","v":"CMGC"}]
[46,{"$f":"Composite!B223","v":"MAP4K2 (GCK)"},{"$f":"Composite!AF223","v":9.9387998116917373},{"$f":"Composite!G223","v":"STE"}]
[47,{"$f":"Composite!B55","v":"CDC7/DBF4 (CDC7)"},{"$f":"Composite!AF55","v":9.7839443576192053},{"$f":"Composite!G55","v":"Other"}]
[48,{"$f":"Composite!B40","v":"BTK"},{"$f":"Composite!AF40","v":9.664225674029737},{"$f":"Composite!G40","v":"TK"}]
[49,{"$f":"Composite!B46","v":"CAMK2B (CAMK2β)"},{"$f":"Composite!AF46","v":9.5522141123534396},{"$f":"Composite!G46","v":"CAMK"}]
[50,{"$f":"Composite!B417","v":"ULK1"},{"$f":"Composite!AF417","v":9.4775924960916882},{"$f":"Composite!G417","v":"Other"}]
[51,{"$f":"Composite!B301","v":"PIM2"},{"$f":"Composite!AF301","v":9.3491914346471674},{"$f":"Composite!G301","v":"CAMK"}]
[52,{"$f":"Composite!B271","v":"NEK5"},{"$f":"Composite!AF271","v":9.2952281814095414},{"$f":"Composite!G271","v":"Other"}]
[53,{"$f":"Composite!B253","v":"MLK4 (MAP3K21)"},{"$f":"Composite!AF253","v":9.2895414376174301},{"$f":"Composite!G253","v":"STE"}]
[54,{"$f":"Composite!B26","v":"ALK"},{"$f":"Composite!AF26","v":9.2029601480074064},{"$f":"Composite!G26","v":"TK"}]
[55,{"$f":"Composite!B66","v":"CDK18 (PCTAIRE3, PCTK3)/CycY "},{"$f":"Composite!AF66","v":9.1862752240110694},{"$f":"Composite!G66","v":"CMGC"}]
[56,{"$f":"Composite!B51","v":"CAMKK2"},{"$f":"Composite!AF51","v":9.1172639805049442},{"$f":"Composite!G51","v":"Other"}]
[57,{"$f":"Composite!B359","v":"RPS6KA4 (MSK2)"},{"$f":"Composite!AF359","v":9.1155698985079994},{"$f":"Composite!G359","v":"AGC"}]
[58,{"$f":"Composite!B356","v":"RPS6KA1 (RSK1)"},{"$f":"Composite!AF356","v":9.0600270976103019},{"$f":"Composite!G356","v":"AGC"}]
[59,{"$f":"Composite!B159","v":"GRK1 (RHOK)"},{"$f":"Composite!AF159","v":8.7903334446182129},{"$f":"Composite!G159","v":"AGC"}]
[60,{"$f":"Composite!B68","v":"CDK2/CycA2"},{"$f":"Composite!AF68","v":8.703228617067623},{"$f":"Composite!G68","v":"CMGC"}]
[61,{"$f":"Composite!B83","v":"CDK7/CycH/MAT1"},{"$f":"Composite!AF83","v":8.6123028071479268},{"$f":"Composite!G83","v":"CMGC"}]
[62,{"$f":"Composite!B31","v":"BCKDK"},{"$f":"Composite!AF31","v":8.5669318133480061},{"$f":"Composite!G31","v":"Atypical"}]
[63,{"$f":"Composite!B91","v":"CHUK (IKKA, IKKa)"},{"$f":"Composite!AF91","v":8.5400441183090834},{"$f":"Composite!G91","v":"Other"}]
[64,{"$f":"Composite!B140","v":"ERBB2 (HER2)"},{"$f":"Composite!AF140","v":8.4319050622321043},{"$f":"Composite!G140","v":"TK"}]
[65,{"$f":"Composite!B35","v":"BMX"},{"$f":"Composite!AF35","v":8.372692690648222},{"$f":"Composite!G35","v":"TK"}]
[66,{"$f":"Composite!B276","v":"NIM1 (NIM1K)"},{"$f":"Composite!AF276","v":8.3184070343576195},{"$f":"Composite!G276","v":"CAMK"}]
[67,{"$f":"Composite!B363","v":"RPS6KB2 (p70S6KB)"},{"$f":"Composite!AF363","v":8.2600210178651707},{"$f":"Composite!G363","v":"AGC"}]
[68,{"$f":"Composite!B294","v":"PDK2 (PDHK2)"},{"$f":"Composite!AF294","v":8.1740671022035229},{"$f":"Composite!G294","v":"Atypical"}]
[69,{"$f":"Composite!B210","v":"MAP3K12 (DLK)"},{"$f":"Composite!AF210","v":7.9969259979205418},{"$f":"Composite!G210","v":"TKL"}]
[70,{"$f":"Composite!B199","v":"LTK"},{"$f":"Composite!AF199","v":7.9497040304641331},{"$f":"Composite!G199","v":"TK"}]
[71,{"$f":"Composite!B142","v":"ERN1 (IRE1)"},{"$f":"Composite!AF142","v":7.9302464769574215},{"$f":"Composite!G142","v":"Other"}]
[72,{"$f":"Composite!B269","v":"NEK3"},{"$f":"Composite!AF269","v":7.8858752219433228},{"$f":"Composite!G269","v":"Other"}]
[73,{"$f":"Composite!B292","v":"PDGFRB (PDGFRβ)"},{"$f":"Composite!AF292","v":7.8808984851123114},{"$f":"Composite!G292","v":"TK"}]
[74,{"$f":"Composite!B267","v":"NEK11"},{"$f":"Composite!AF267","v":7.8739417849636482},{"$f":"Composite!G267","v":"Other"}]
[75,{"$f":"Composite!B230","v":"MAPK12 (p38γ)"},{"$f":"Composite!AF230","v":7.8731852587169726},{"$f":"Composite!G230","v":"CMGC"}]
[76,{"$f":"Composite!B79","v":"CDK5/p35NCK"},{"$f":"Composite!AF79","v":7.8328183886191738},{"$f":"Composite!G79","v":"CMGC"}]
[77,{"$f":"Composite!B226","v":"MAP4K5 (KHS1)"},{"$f":"Composite!AF226","v":7.689448688829259},{"$f":"Composite!G226","v":"STE"}]
[78,{"$f":"Composite!B166","v":"GSK3A (GSK3α)"},{"$f":"Composite!AF166","v":7.6673107324784979},{"$f":"Composite!G166","v":"CMGC"}]
[79,{"$f":"Composite!B305","v":"PKN1"},{"$f":"Composite!AF305","v":7.6425573932362028},{"$f":"Composite!G305","v":"AGC"}]
[80,{"$f":"Composite!B414","v":"TYK2 [JH1]"},{"$f":"Composite!AF414","v":7.6356580601062944},{"$f":"Composite!G414","v":"TK"}]
[81,{"$f":"Composite!B78","v":"CDK5/p25"},{"$f":"Composite!AF78","v":7.5718151540383047},{"$f":"Composite!G78","v":"CMGC"}]
[82,{"$f":"Composite!B265","v":"NEK1"},{"$f":"Composite!AF265","v":7.5124474120961793},{"$f":"Composite!G265","v":"Other"}]
[83,{"$f":"Composite!B422","v":"ZAP70"},{"$f":"Composite!AF422","v":7.2218011316563917},{"$f":"Composite!G422","v":"TK"}]
[84,{"$f":"Composite!B367","v":"SGK3"},{"$f":"Composite!AF367","v":7.1604116807435219},{"$f":"Composite!G367","v":"AGC"}]
[85,{"$f":"Composite!B88","v":"CDKL5"},{"$f":"Composite!AF88","v":7.0983172460920798},{"$f":"Composite!G88","v":"CMGC"}]
[86,{"$f":"Composite!B43","v":"CAMK1D (CAMK1δ)"},{"$f":"Composite!AF43","v":7.0122620503653366},{"$f":"Composite!G43","v":"CAMK"}]
[87,{"$f":"Composite!B224","v":"MAP4K3 (GLK, KHS2)"},{"$f":"Composite!AF224","v":6.9998072903541555},{"$f":"Composite!G224","v":"STE"}]
[88,{"$f":"Composite!B285","v":"PAK3"},{"$f":"Composite!AF285","v":6.9866266716660448},{"$f":"Composite!G285","v":"STE"}]
[89,{"$f":"Composite!B268","v":"NEK2"},{"$f":"Composite!AF268","v":6.8772491003598475},{"$f":"Composite!G268","v":"Other"}]
[90,{"$f":"Composite!B346","v":"PTK2B (PYK2)"},{"$f":"Composite!AF346","v":6.8715558010752034},{"$f":"Composite!G346","v":"TK"}]
[91,{"$f":"Composite!B258","v":"MUSK"},{"$f":"Composite!AF258","v":6.8640529443356968},{"$f":"Composite!G258","v":"TK"}]
[92,{"$f":"Composite!B97","v":"CSF1R (FMS)"},{"$f":"Composite!AF97","v":6.8194447105712044},{"$f":"Composite!G97","v":"TK"}]
[93,{"$f":"Composite!B385","v":"STK25 (YSK1)"},{"$f":"Composite!AF385","v":6.7098174800997157},{"$f":"Composite!G385","v":"STE"}]
[94,{"$f":"Composite!B355","v":"ROS1 (ROS)"},{"$f":"Composite!AF355","v":6.6547320885653392},{"$f":"Composite!G355","v":"TK"}]
[95,{"$f":"Composite!B49","v":"CAMK4"},{"$f":"Composite!AF49","v":6.5625354808362886},{"$f":"Composite!G49","v":"CAMK"}]
[96,{"$f":"Composite!B75","v":"CDK4 /CycD3"},{"$f":"Composite!AF75","v":6.445738169876094},{"$f":"Composite!G75","v":"CMGC"}]
[97,{"$f":"Composite!B84","v":"CDK7/CycH1"},{"$f":"Composite!AF84","v":6.3979482989492169},{"$f":"Composite!G84","v":"CMGC"}]
[98,{"$f":"Composite!B376","v":"SRPK1"},{"$f":"Composite!AF376","v":6.3932802860347806},{"$f":"Composite!G376","v":"CMGC"}]
[99,{"$f":"Composite!B36","v":"BRAF (BRAF1, RAFB1)"},{"$f":"Composite!AF36","v":6.3554672439870785},{"$f":"Composite!G36","v":"TKL"}]
[100,{"$f":"Composite!B408","v":"TSSK3"},{"$f":"Composite!AF408","v":6.2175248247474286},{"$f":"Composite!G408","v":"CAMK"}]
[101,{"$f":"Composite!B89","v":"CHEK1 (CHK1)"},{"$f":"Composite!AF89","v":6.1927936777247083},{"$f":"Composite!G89","v":"CAMK"}]
[102,{"$f":"Composite!B311","v":"PLK4"},{"$f":"Composite!AF311","v":6.1684092727297894},{"$f":"Composite!G311","v":"Other"}]
[103,{"$f":"Composite!B201","v":"LYNB (LYNb)"},{"$f":"Composite!AF201","v":6.098795083183802},{"$f":"Composite!G201","v":"TK"}]
[104,{"$f":"Composite!B396","v":"TBK1"},{"$f":"Composite!AF396","v":6.0804780876494107},{"$f":"Composite!G396","v":"Other"}]
[105,{"$f":"Composite!B344","v":"PRKX"},{"$f":"Composite!AF344","v":5.9881748570320923},{"$f":"Composite!G344","v":"AGC"}]
[106,{"$f":"Composite!B232","v":"MAPK14 (p38a)"},{"$f":"Composite!AF232","v":5.9733646690167888},{"$f":"Composite!G232","v":"CMGC"}]
[107,{"$f":"Composite!B113","v":"DDR1 [SRC treated]"},{"$f":"Composite!AF113","v":5.9424390917247649},{"$f":"Composite!G113","v":"TK"}]
[108,{"$f":"Composite!B167","v":"GSK3B (GSK3β)"},{"$f":"Composite!AF167","v":5.869131318216958},{"$f":"Composite!G167","v":"CMGC"}]
[109,{"$f":"Composite!B144","v":"FAM20C"},{"$f":"Composite!AF144","v":5.8546661952988046},{"$f":"Composite!G144","v":"Other"}]
[110,{"$f":"Composite!B243","v":"MARK2"},{"$f":"Composite!AF243","v":5.8444223766964569},{"$f":"Composite!G243","v":"CAMK"}]
[111,{"$f":"Composite!B398","v":"TEK (TIE2)"},{"$f":"Composite!AF398","v":5.7944771389769159},{"$f":"Composite!G398","v":"TK"}]
[112,{"$f":"Composite!B409","v":"TSSK6 (SSTK)"},{"$f":"Composite!AF409","v":5.7703677426983546},{"$f":"Composite!G409","v":"CAMK"}]
[113,{"$f":"Composite!B45","v":"CAMK2A (CAMK2α)"},{"$f":"Composite!AF45","v":5.6835625227773079},{"$f":"Composite!G45","v":"CAMK"}]
[114,{"$f":"Composite!B222","v":"MAP4K1 (HPK1)"},{"$f":"Composite!AF222","v":5.5989220332682947},{"$f":"Composite!G222","v":"STE"}]
[115,{"$f":"Composite!B156","v":"FYNa (FYN)"},{"$f":"Composite!AF156","v":5.5644359093138718},{"$f":"Composite!G156","v":"TK"}]
[116,{"$f":"Composite!B245","v":"MARK4"},{"$f":"Composite!AF245","v":5.5047201059953608},{"$f":"Composite!G245","v":"CAMK"}]
[117,{"$f":"Composite!B250","v":"MERTK (MER)"},{"$f":"Composite!AF250","v":5.3930575669804313},{"$f":"Composite!G250","v":"TK"}]
[118,{"$f":"Composite!B118","v":"DYRK1B"},{"$f":"Composite!AF118","v":5.3292916924868763},{"$f":"Composite!G118","v":"CMGC"}]
[119,{"$f":"Composite!B193","v":"LATS1"},{"$f":"Composite!AF193","v":5.2964685468845545},{"$f":"Composite!G193","v":"AGC"}]
[120,{"$f":"Composite!B155","v":"FRK"},{"$f":"Composite!AF155","v":5.2894279581615535},{"$f":"Composite!G155","v":"TK"}]
[121,{"$f":"Composite!B364","v":"SBK1 (SBK)"},{"$f":"Composite!AF364","v":5.2479068507272331},{"$f":"Composite!G364","v":"Other"}]
[122,{"$f":"Composite!B349","v":"RET"},{"$f":"Composite!AF349","v":5.1558277787785869},{"$f":"Composite!G349","v":"TK"}]
[123,{"$f":"Composite!B107","v":"CSNK2A2 (CK2A2, CK2α2)"},{"$f":"Composite!AF107","v":5.1556101328562107},{"$f":"Composite!G107","v":"Other"}]
[124,{"$f":"Composite!B191","v":"KSR1"},{"$f":"Composite!AF191","v":5.1199958352855504},{"$f":"Composite!G191","v":"TKL"}]
[125,{"$f":"Composite!B263","v":"MYO3A"},{"$f":"Composite!AF263","v":5.0929141752300495},{"$f":"Composite!G263","v":"STE"}]
[126,{"$f":"Composite!B383","v":"STK17B (DRAK2)"},{"$f":"Composite!AF383","v":5.0643847451351149},{"$f":"Composite!G383","v":"CAMK"}]
[127,{"$f":"Composite!B277","v":"NLK (LAK1)"},{"$f":"Composite!AF277","v":5.0115355037169849},{"$f":"Composite!G277","v":"CMGC"}]
[128,{"$f":"Composite!B56","v":"CDK1 (CDC2)/CycA1 "},{"$f":"Composite!AF56","v":4.8862115127175372},{"$f":"Composite!G56","v":"CMGC"}]
[129,{"$f":"Composite!B95","v":"CLK3"},{"$f":"Composite!AF95","v":4.8399345717957658},{"$f":"Composite!G95","v":"CMGC"}]
[130,{"$f":"Composite!B176","v":"IGF1R"},{"$f":"Composite!AF176","v":4.8117072402111205},{"$f":"Composite!G176","v":"TK"}]
[131,{"$f":"Composite!B59","v":"CDK1 (CDC2)/CycE1 "},{"$f":"Composite!AF59","v":4.752339866232802},{"$f":"Composite!G59","v":"CMGC"}]
[132,{"$f":"Composite!B202","v":"MAK"},{"$f":"Composite!AF202","v":4.7443869084511192},{"$f":"Composite!G202","v":"Atypical"}]
[133,{"$f":"Composite!B416","v":"TYRO3"},{"$f":"Composite!AF416","v":4.734813727289378},{"$f":"Composite!G416","v":"TK"}]
[134,{"$f":"Composite!B218","v":"MAP3K6 (ASK2)"},{"$f":"Composite!AF218","v":4.73413929603079},{"$f":"Composite!G218","v":"STE"}]
[135,{"$f":"Composite!B169","v":"HCK"},{"$f":"Composite!AF169","v":4.6916831248628341},{"$f":"Composite!G169","v":"TK"}]
[136,{"$f":"Composite!B134","v":"EPHA7"},{"$f":"Composite!AF134","v":4.6763316842428111},{"$f":"Composite!G134","v":"TK"}]
[137,{"$f":"Composite!B72","v":"CDK2/CycO"},{"$f":"Composite!AF72","v":4.6691252116933839},{"$f":"Composite!G72","v":"CMGC"}]
[138,{"$f":"Composite!B157","v":"FYNb (FYN)"},{"$f":"Composite!AF157","v":4.6429167361922339},{"$f":"Composite!G157","v":"TK"}]
[139,{"$f":"Composite!B168","v":"HASPIN"},{"$f":"Composite!AF168","v":4.5413880422750879},{"$f":"Composite!G168","v":"Other"}]
[140,{"$f":"Composite!B362","v":"RPS6KB1 (p70S6K)"},{"$f":"Composite!AF362","v":4.4450551337982347},{"$f":"Composite!G362","v":"AGC"}]
[141,{"$f":"Composite!B74","v":"CDK3/CycE2"},{"$f":"Composite!AF74","v":4.3951608444193795},{"$f":"Composite!G74","v":"CMGC"}]
[142,{"$f":"Composite!B94","v":"CLK2"},{"$f":"Composite!AF94","v":4.3472273228057361},{"$f":"Composite!G94","v":"CMGC"}]
[143,{"$f":"Composite!B233","v":"MAPK15 (ERK7)"},{"$f":"Composite!AF233","v":4.3343078565130781},{"$f":"Composite!G233","v":"CMGC"}]
[144,{"$f":"Composite!B234","v":"MAPK3 (ERK1)"},{"$f":"Composite!AF234","v":4.333685215905092},{"$f":"Composite!G234","v":"CAMK"}]
[145,{"$f":"Composite!B342","v":"PRKG1 (PKG1, PGK)"},{"$f":"Composite!AF342","v":4.3060475479124847},{"$f":"Composite!G342","v":"AGC"}]
[146,{"$f":"Composite!B54","v":"CDC42BPG (DMPK2)"},{"$f":"Composite!AF54","v":4.3034977852451419},{"$f":"Composite!G54","v":"AGC"}]
[147,{"$f":"Composite!B281","v":"NUAK1 (ARK5)"},{"$f":"Composite!AF281","v":4.244255810852863},{"$f":"Composite!G281","v":"CAMK"}]
[148,{"$f":"Composite!B27","v":"AURKA (AURA)"},{"$f":"Composite!AF27","v":4.1910770617395059},{"$f":"Composite!G27","v":"Other"}]
[149,{"$f":"Composite!B187","v":"JAK2 [JH1-JH2]"},{"$f":"Composite!AF187","v":4.1818992420865015},{"$f":"Composite!G187","v":"TK"}]
[150,{"$f":"Composite!B173","v":"HIPK4"},{"$f":"Composite!AF173","v":4.1651161895474189},{"$f":"Composite!G173","v":"CMGC"}]
[151,{"$f":"Composite!B306","v":"PKN2"},{"$f":"Composite!AF306","v":4.1593949970913542},{"$f":"Composite!G306","v":"AGC"}]
[152,{"$f":"Composite!B30","v":"AXL"},{"$f":"Composite!AF30","v":4.1407189951393093},{"$f":"Composite!G30","v":"TK"}]
[153,{"$f":"Composite!B406","v":"TSSK1B (TSSK1)"},{"$f":"Composite!AF406","v":4.104406313295371},{"$f":"Composite!G406","v":"CAMK"}]
[154,{"$f":"Composite!B24","v":"AKT2 (PKBb)"},{"$f":"Composite!AF24","v":3.9978047956771405},{"$f":"Composite!G24","v":"AGC"}]
[155,{"$f":"Composite!B341","v":"PRKDC (DNA-PK)"},{"$f":"Composite!AF341","v":3.9714962681093482},{"$f":"Composite!G341","v":"Atypical"}]
[156,{"$f":"Composite!B228","v":"MAPK10 (JNK3)"},{"$f":"Composite!AF228","v":3.8842191942575681},{"$f":"Composite!G228","v":"CMGC"}]
[157,{"$f":"Composite!B121","v":"DYRK4"},{"$f":"Composite!AF121","v":3.8237506340849166},{"$f":"Composite!G121","v":"CMGC"}]
[158,{"$f":"Composite!B229","v":"MAPK11 (p38b)"},{"$f":"Composite!AF229","v":3.8205755922663371},{"$f":"Composite!G229","v":"CMGC"}]
[159,{"$f":"Composite!B185","v":"JAK1 [JH1-JH2]"},{"$f":"Composite!AF185","v":3.7655614445950789},{"$f":"Composite!G185","v":"TK"}]
[160,{"$f":"Composite!B183","v":"ITK"},{"$f":"Composite!AF183","v":3.7353202407973782},{"$f":"Composite!G183","v":"TK"}]
[161,{"$f":"Composite!B246","v":"MAST3"},{"$f":"Composite!AF246","v":3.7124000507678545},{"$f":"Composite!G246","v":"AGC"}]
[162,{"$f":"Composite!B42","v":"CAMK1 (CAMK1a)"},{"$f":"Composite!AF42","v":3.6988597638477074},{"$f":"Composite!G42","v":"CAMK"}]
[163,{"$f":"Composite!B21","v":"ABL1"},{"$f":"Composite!AF21","v":3.6833212943351441},{"$f":"Composite!G21","v":"TK"}]
[164,{"$f":"Composite!B347","v":"PTK6 (BRK)"},{"$f":"Composite!AF347","v":3.6283514967041555},{"$f":"Composite!G347","v":"TK"}]
[165,{"$f":"Composite!B238","v":"MAPK9 (JNK2)"},{"$f":"Composite!AF238","v":3.6204036494332286},{"$f":"Composite!G238","v":"CMGC"}]
[166,{"$f":"Composite!B340","v":"PRKD3 (PKD3)"},{"$f":"Composite!AF340","v":3.6100427526782397},{"$f":"Composite!G340","v":"CAMK"}]
[167,{"$f":"Composite!B369","v":"SIK2 (QIK)"},{"$f":"Composite!AF369","v":3.5477130253076297},{"$f":"Composite!G369","v":"CAMK"}]
[168,{"$f":"Composite!B195","v":"LCK"},{"$f":"Composite!AF195","v":3.5212178016224556},{"$f":"Composite!G195","v":"TK"}]
[169,{"$f":"Composite!B239","v":"MAPKAPK2 (MK2)"},{"$f":"Composite!AF239","v":3.4735180134921677},{"$f":"Composite!G239","v":"CAMK"}]
[170,{"$f":"Composite!B357","v":"RPS6KA2 (RSK3)"},{"$f":"Composite!AF357","v":3.4696674601457005},{"$f":"Composite!G357","v":"AGC"}]
[171,{"$f":"Composite!B298","v":"PHKG1"},{"$f":"Composite!AF298","v":3.4242241205741237},{"$f":"Composite!G298","v":"CAMK"}]
[172,{"$f":"Composite!B146","v":"FES"},{"$f":"Composite!AF146","v":3.411957618567115},{"$f":"Composite!G146","v":"TK"}]
[173,{"$f":"Composite!B192","v":"KSR2"},{"$f":"Composite!AF192","v":3.3483362385201758},{"$f":"Composite!G192","v":"TKL"}]
[174,{"$f":"Composite!B189","v":"KDR (VEGFR2)"},{"$f":"Composite!AF189","v":3.3154331076348598},{"$f":"Composite!G189","v":"TK"}]
[175,{"$f":"Composite!B387","v":"STK3 (CLIK1, MST2)"},{"$f":"Composite!AF387","v":3.3154121863799304},{"$f":"Composite!G387","v":"STE"}]
[176,{"$f":"Composite!B160","v":"GRK2 (ADRBK1, BARK1)"},{"$f":"Composite!AF160","v":3.291337169808898},{"$f":"Composite!G160","v":"AGC"}]
[177,{"$f":"Composite!B190","v":"KIT (SCFR, CD117)"},{"$f":"Composite!AF190","v":3.0739926286121317},{"$f":"Composite!G190","v":"TK"}]
[178,{"$f":"Composite!B100","v":"CSNK1A1L (CK1A1L, CK1a2)"},{"$f":"Composite!AF100","v":3.0244164450833608},{"$f":"Composite!G100","v":"CK1"}]
[179,{"$f":"Composite!B186","v":"JAK2 [JH1]"},{"$f":"Composite!AF186","v":3.0031628722638146},{"$f":"Composite!G186","v":"TK"}]
[180,{"$f":"Composite!B171","v":"HIPK2"},{"$f":"Composite!AF171","v":2.9908531063213246},{"$f":"Composite!G171","v":"CMGC"}]
[181,{"$f":"Composite!B152","v":"FLT1"},{"$f":"Composite!AF152","v":2.9146676280539907},{"$f":"Composite!G152","v":"TK"}]
[182,{"$f":"Composite!B148","v":"FGFR2"},{"$f":"Composite!AF148","v":2.8328030380786231},{"$f":"Composite!G148","v":"TK"}]
[183,{"$f":"Composite!B174","v":"HUNK"},{"$f":"Composite!AF174","v":2.7939708012487898},{"$f":"Composite!G174","v":"CAMK"}]
[184,{"$f":"Composite!B98","v":"CSK"},{"$f":"Composite!AF98","v":2.7815478459778831},{"$f":"Composite!G98","v":"TK"}]
[185,{"$f":"Composite!B282","v":"NUAK2 (SNARK)"},{"$f":"Composite!AF282","v":2.7197157005213626},{"$f":"Composite!G282","v":"CAMK"}]
[186,{"$f":"Composite!B353","v":"ROCK1"},{"$f":"Composite!AF353","v":2.6698227457888066},{"$f":"Composite!G353","v":"AGC"}]
[187,{"$f":"Composite!B203","v":"MAP2K1 (MEK1)"},{"$f":"Composite!AF203","v":2.6607242934535975},{"$f":"Composite!G203","v":"STE"}]
[188,{"$f":"Composite!B28","v":"AURKB (AURB)"},{"$f":"Composite!AF28","v":2.5050515517330751},{"$f":"Composite!G28","v":"Other"}]
[189,{"$f":"Composite!B249","v":"MELK"},{"$f":"Composite!AF249","v":2.4270502005255139},{"$f":"Composite!G249","v":"CAMK"}]
[190,{"$f":"Composite!B137","v":"EPHB2"},{"$f":"Composite!AF137","v":2.3938163473047069},{"$f":"Composite!G137","v":"TK"}]
[191,{"$f":"Composite!B61","v":"CDK13 (CHED)/CycK"},{"$f":"Composite!AF61","v":2.3399845255080436},{"$f":"Composite!G61","v":"CMGC"}]
[192,{"$f":"Composite!B279","v":"NTRK2 (TRKB)"},{"$f":"Composite!AF279","v":2.2701577886647755},{"$f":"Composite!G279","v":"TK"}]
[193,{"$f":"Composite!B90","v":"CHEK2 (CHK2)"},{"$f":"Composite!AF90","v":2.2439024390243816},{"$f":"Composite!G90","v":"CAMK"}]
[194,{"$f":"Composite!B34","v":"BMP2K (BIKE)"},{"$f":"Composite!AF34","v":2.1847482970593006},{"$f":"Composite!G34","v":"Other"}]
[195,{"$f":"Composite!B420","v":"WEE1"},{"$f":"Composite!AF420","v":2.1216216216216424},{"$f":"Composite!G420","v":"Other"}]
[196,{"$f":"Composite!B208","v":"MAP3K10 (MLK2)"},{"$f":"Composite!AF208","v":2.0796450261076131},{"$f":"Composite!G208","v":"TKL"}]
[197,{"$f":"Composite!B264","v":"MYO3B"},{"$f":"Composite!AF264","v":2.0701653930010764},{"$f":"Composite!G264","v":"STE"}]
[198,{"$f":"Composite!B296","v":"PDK4 (PDHK4)"},{"$f":"Composite!AF296","v":2.0500260788715963},{"$f":"Composite!G296","v":"Atypical"}]
[199,{"$f":"Composite!B32","v":"BCR RET (fusion)"},{"$f":"Composite!AF32","v":1.9885018599932636},{"$f":"Composite!G32","v":"TK"}]
[200,{"$f":"Composite!B135","v":"EPHA8"},{"$f":"Composite!AF135","v":1.986133333333342},{"$f":"Composite!G135","v":"TK"}]
[201,{"$f":"Composite!B150","v":"FGFR4"},{"$f":"Composite!AF150","v":1.9580321276586545},{"$f":"Composite!G150","v":"TK"}]
[202,{"$f":"Composite!B220","v":"MAP3K8 (COT, Tpl2)"},{"$f":"Composite!AF220","v":1.9249622426538906},{"$f":"Composite!G220","v":"STE"}]
[203,{"$f":"Composite!B63","v":"CDK16 (PCTAIRE1, PCTK1)/CycY "},{"$f":"Composite!AF63","v":1.8745914651227906},{"$f":"Composite!G63","v":"CMGC"}]
[204,{"$f":"Composite!B319","v":"PRKAA2-B1-G1 (AMPKα2β1γ1)"},{"$f":"Composite!AF319","v":1.8244898001975258},{"$f":"Composite!G319","v":"CAMK"}]
[205,{"$f":"Composite!B213","v":"MAP3K19 (YSK4)"},{"$f":"Composite!AF213","v":1.8108302042272442},{"$f":"Composite!G213","v":"STE"}]
[206,{"$f":"Composite!B127","v":"EIF2AK4 (GCN2)"},{"$f":"Composite!AF127","v":1.7511787992637124},{"$f":"Composite!G127","v":"Other"}]
[207,{"$f":"Composite!B198","v":"LRRK2"},{"$f":"Composite!AF198","v":1.7462700284917787},{"$f":"Composite!G198","v":"TKL"}]
[208,{"$f":"Composite!B200","v":"LYNA (LYNa)"},{"$f":"Composite!AF200","v":1.6764831693593578},{"$f":"Composite!G200","v":"TK"}]
[209,{"$f":"Composite!B394","v":"TAOK2 (TAO2)"},{"$f":"Composite!AF394","v":1.6718995290423777},{"$f":"Composite!G394","v":"STE"}]
[210,{"$f":"Composite!B29","v":"AURKC (AURC)"},{"$f":"Composite!AF29","v":1.6348657166347067},{"$f":"Composite!G29","v":"Other"}]
[211,{"$f":"Composite!B379","v":"STK10 (LOK)"},{"$f":"Composite!AF379","v":1.5948626729777402},{"$f":"Composite!G379","v":"STE"}]
[212,{"$f":"Composite!B395","v":"TAOK3 (TAO3)"},{"$f":"Composite!AF395","v":1.474828121534685},{"$f":"Composite!G395","v":"STE"}]
[213,{"$f":"Composite!B143","v":"ERN2 (IRE2)"},{"$f":"Composite!AF143","v":1.3078860685914009},{"$f":"Composite!G143","v":"Other"}]
[214,{"$f":"Composite!B110","v":"DAPK3 (ZIPK)"},{"$f":"Composite!AF110","v":1.2304605655801311},{"$f":"Composite!G110","v":"CAMK"}]
[215,{"$f":"Composite!B375","v":"SRMS (SRM)"},{"$f":"Composite!AF375","v":0.99818722153449357},{"$f":"Composite!G375","v":"TK"}]
[216,{"$f":"Composite!B393","v":"TAOK1 (TAO1)"},{"$f":"Composite!AF393","v":0.98147546311342637},{"$f":"Composite!G393","v":"STE"}]
[217,{"$f":"Composite!B81","v":"CDK6/CycD2"},{"$f":"Composite!AF81","v":0.95293844488553248},{"$f":"Composite!G81","v":"CMGC"}]
[218,{"$f":"Composite!B284","v":"PAK2"},{"$f":"Composite!AF284","v":0.94319429709459257},{"$f":"Composite!G284","v":"STE"}]
[219,{"$f":"Composite!B389","v":"STK38 (NDR1)"},{"$f":"Composite!AF389","v":0.88964145395401317},{"$f":"Composite!G389","v":"AGC"}]
[220,{"$f":"Composite!B188","v":"JAK3 [JH1]"},{"$f":"Composite!AF188","v":0.84430835767599888},{"$f":"Composite!G188","v":"TK"}]
[221,{"$f":"Composite!B390","v":"STK38L (NDR2)"},{"$f":"Composite!AF390","v":0.82560539159142365},{"$f":"Composite!G390","v":"AGC"}]
[222,{"$f":"Composite!B197","v":"LIMK2"},{"$f":"Composite!AF197","v":0.82499073044124316},{"$f":"Composite!G197","v":"TKL"}]
[223,{"$f":"Composite!B289","v":"PASK"},{"$f":"Composite!AF289","v":0.7643170992873678},{"$f":"Composite!G289","v":"CAMK"}]
[224,{"$f":"Composite!B114","v":"DDR2"},{"$f":"Composite!AF114","v":0.54129589771595477},{"$f":"Composite!G114","v":"TK"}]
[225,{"$f":"Composite!B85","v":"CDK9 (TAK)/CycK"},{"$f":"Composite!AF85","v":0.45189218355284311},{"$f":"Composite!G85","v":"CMGC"}]
[226,{"$f":"Composite!B278","v":"NTRK1 (TRKA)"},{"$f":"Composite!AF278","v":0.44814594487408499},{"$f":"Composite!G278","v":"TK"}]
[227,{"$f":"Composite!B126","v":"EIF2AK3 (PERK/PEK)"},{"$f":"Composite!AF126","v":0.436777505958446},{"$f":"Composite!G126","v":"Other"}]
[228,{"$f":"Composite!B244","v":"MARK3"},{"$f":"Composite!AF244","v":0.41857683874825113},{"$f":"Composite!G244","v":"CAMK"}]
[229,{"$f":"Composite!B184","v":"JAK1 [JH1]"},{"$f":"Composite!AF184","v":0.37016389310743136},{"$f":"Composite!G184","v":"TK"}]
[230,{"$f":"Composite!B412","v":"TTK"},{"$f":"Composite!AF412","v":0.35540712309646949},{"$f":"Composite!G412","v":"Other"}]
[231,{"$f":"Composite!B131","v":"EPHA4"},{"$f":"Composite!AF131","v":0.35272277227723237},{"$f":"Composite!G131","v":"TK"}]
[232,{"$f":"Composite!B316","v":"PRKAA1-B2-G1 (AMPKα1β2γ1)"},{"$f":"Composite!AF316","v":0.35122239792046628},{"$f":"Composite!G316","v":"CAMK"}]
[233,{"$f":"Composite!B386","v":"STK26 (MST4)"},{"$f":"Composite!AF386","v":0.31670819280530793},{"$f":"Composite!G386","v":"STE"}]
[234,{"$f":"Composite!B407","v":"TSSK2"},{"$f":"Composite!AF407","v":0.30316409124355914},{"$f":"Composite!G407","v":"CAMK"}]
[235,{"$f":"Composite!B315","v":"PRKAA1-B1-G3 (AMPKα1β1γ3)"},{"$f":"Composite!AF315","v":0.26829245142735658},{"$f":"Composite!G315","v":"CAMK"}]
[236,{"$f":"Composite!B295","v":"PDK3 (PDHK3)"},{"$f":"Composite!AF295","v":0.23883614912654139},{"$f":"Composite!G295","v":"Atypical"}]
[237,{"$f":"Composite!B164","v":"GRK6 (GPRK6)"},{"$f":"Composite!AF164","v":0.21472268362842328},{"$f":"Composite!G164","v":"AGC"}]
[238,{"$f":"Composite!B242","v":"MARK1"},{"$f":"Composite!AF242","v":0.20799421233496673},{"$f":"Composite!G242","v":"CAMK"}]
[239,{"$f":"Composite!B60","v":"CDK12 (CRK7)/CycK"},{"$f":"Composite!AF60","v":0},{"$f":"Composite!G60","v":"CMGC"}]
[240,{"$f":"Composite!B69","v":"CDK2/CycD1"},{"$f":"Composite!AF69","v":0},{"$f":"Composite!G69","v":"CMGC"}]
[241,{"$f":"Composite!B206","v":"MAP2K4 (MEK4)"},{"$f":"Composite!AF206","v":0},{"$f":"Composite!G206","v":"STE"}]
[242,{"$f":"Composite!B235","v":"MAPK6 (ERK3)"},{"$f":"Composite!AF235","v":0},{"$f":"Composite!G235","v":"CMGC"}]
[243,{"$f":"Composite!B274","v":"NEK8"},{"$f":"Composite!AF274","v":0},{"$f":"Composite!G274","v":"Other"}]
[244,{"$f":"Composite!B240","v":"MAPKAPK3 (MK3)"},{"$f":"Composite!AF240","v":-4.606750984169139E-2},{"$f":"Composite!G240","v":"CAMK"}]
[245,{"$f":"Composite!B209","v":"MAP3K11 (MLK3)"},{"$f":"Composite!AF209","v":-6.6503258659665221E-2},{"$f":"Composite!G209","v":"TKL"}]
[246,{"$f":"Composite!B231","v":"MAPK13 (p38δ)"},{"$f":"Composite!AF231","v":-0.10813271868420316},{"$f":"Composite!G231","v":"CMGC"}]
[247,{"$f":"Composite!B64","v":"CDK17 (PCTAIRE2, PCTK2)/CycY"},{"$f":"Composite!AF64","v":-0.15612314994065457},{"$f":"Composite!G64","v":"CMGC"}]
[248,{"$f":"Composite!B50","v":"CAMKK1"},{"$f":"Composite!AF50","v":-0.18598457016901193},{"$f":"Composite!G50","v":"Other"}]
[249,{"$f":"Composite!B318","v":"PRKAA1-B2-G3 (AMPKα1β2γ3)"},{"$f":"Composite!AF318","v":-0.19038360270587873},{"$f":"Composite!G318","v":"CAMK"}]
[250,{"$f":"Composite!B350","v":"RIPK1"},{"$f":"Composite!AF350","v":-0.21474054346872151},{"$f":"Composite!G350","v":"TKL"}]
[251,{"$f":"Composite!B310","v":"PLK3"},{"$f":"Composite!AF310","v":-0.25644198000203744},{"$f":"Composite!G310","v":"Other"}]
[252,{"$f":"Composite!B421","v":"YES1 (YES)"},{"$f":"Composite!AF421","v":-0.27607415561497817},{"$f":"Composite!G421","v":"TK"}]
[253,{"$f":"Composite!B71","v":"CDK2/CycE2"},{"$f":"Composite!AF71","v":-0.30555485216042655},{"$f":"Composite!G71","v":"CMGC"}]
[254,{"$f":"Composite!B145","v":"FER"},{"$f":"Composite!AF145","v":-0.36855036855037326},{"$f":"Composite!G145","v":"TK"}]
[255,{"$f":"Composite!B400","v":"TLK1"},{"$f":"Composite!AF400","v":-0.37880940204927072},{"$f":"Composite!G400","v":"Other"}]
[256,{"$f":"Composite!B128","v":"EPHA1"},{"$f":"Composite!AF128","v":-0.386765916575186},{"$f":"Composite!G128","v":"TK"}]
[257,{"$f":"Composite!B149","v":"FGFR3"},{"$f":"Composite!AF149","v":-0.45692192785905661},{"$f":"Composite!G149","v":"TK"}]
[258,{"$f":"Composite!B413","v":"TXK"},{"$f":"Composite!AF413","v":-0.46666887001354951},{"$f":"Composite!G413","v":"TK"}]
[259,{"$f":"Composite!B378","v":"SRPK3 (MSSK1)"},{"$f":"Composite!AF378","v":-0.50405884593969574},{"$f":"Composite!G378","v":"CMGC"}]
[260,{"$f":"Composite!B70","v":"CDK2/CycE1"},{"$f":"Composite!AF70","v":-0.52480916030535241},{"$f":"Composite!G70","v":"CMGC"}]
[261,{"$f":"Composite!B227","v":"MAPK1 (ERK2)"},{"$f":"Composite!AF227","v":-0.52790154022434876},{"$f":"Composite!G227","v":"CMGC"}]
[262,{"$f":"Composite!B272","v":"NEK6"},{"$f":"Composite!AF272","v":-0.53079116932504178},{"$f":"Composite!G272","v":"Other"}]
[263,{"$f":"Composite!B138","v":"EPHB3"},{"$f":"Composite!AF138","v":-0.54379164531009394},{"$f":"Composite!G138","v":"TK"}]
[264,{"$f":"Composite!B313","v":"PRKAA1-B1-G1 (AMPKα1β1γ1)"},{"$f":"Composite!AF313","v":-0.54577202426682447},{"$f":"Composite!G313","v":"CAMK"}]
[265,{"$f":"Composite!B392","v":"SYK"},{"$f":"Composite!AF392","v":-0.57689468244426223},{"$f":"Composite!G392","v":"TK"}]
[266,{"$f":"Composite!B351","v":"RIPK2"},{"$f":"Composite!AF351","v":-0.63249885904735947},{"$f":"Composite!G351","v":"TKL"}]
[267,{"$f":"Composite!B354","v":"ROCK2"},{"$f":"Composite!AF354","v":-0.72338233917032824},{"$f":"Composite!G354","v":"AGC"}]
[268,{"$f":"Composite!B257","v":"mTOR (FRAP)"},{"$f":"Composite!AF257","v":-0.76158050353907925},{"$f":"Composite!G257","v":"Atypical"}]
[269,{"$f":"Composite!B365","v":"SGK1 (SGK)"},{"$f":"Composite!AF365","v":-0.78004706429211979},{"$f":"Composite!G365","v":"AGC"}]
[270,{"$f":"Composite!B334","v":"PRKCH (PKCη [eta])"},{"$f":"Composite!AF334","v":-0.84271061541525683},{"$f":"Composite!G334","v":"AGC"}]
[271,{"$f":"Composite!B411","v":"TTBK2"},{"$f":"Composite!AF411","v":-0.85465481072107252},{"$f":"Composite!G411","v":"CK1"}]
[272,{"$f":"Composite!B211","v":"MAP3K13 (LZK)"},{"$f":"Composite!AF211","v":-0.88371591766353674},{"$f":"Composite!G211","v":"TKL"}]
[273,{"$f":"Composite!B283","v":"PAK1"},{"$f":"Composite!AF283","v":-0.96396454680727572},{"$f":"Composite!G283","v":"STE"}]
[274,{"$f":"Composite!B270","v":"NEK4"},{"$f":"Composite!AF270","v":-0.99973691133911302},{"$f":"Composite!G270","v":"Other"}]
[275,{"$f":"Composite!B251","v":"MET (c-MET, HGFR)"},{"$f":"Composite!AF251","v":-1.054099865809718},{"$f":"Composite!G251","v":"TK"}]
[276,{"$f":"Composite!B175","v":"ICK"},{"$f":"Composite!AF175","v":-1.1291866028708029},{"$f":"Composite!G175","v":"CMGC"}]
[277,{"$f":"Composite!B304","v":"PKMYT1 (MYT1)"},{"$f":"Composite!AF304","v":-1.1365940361371685},{"$f":"Composite!G304","v":"Other"}]
[278,{"$f":"Composite!B196","v":"LIMK1"},{"$f":"Composite!AF196","v":-1.2568687108665557},{"$f":"Composite!G196","v":"TKL"}]
[279,{"$f":"Composite!B405","v":"TRPM7 (CHAK1)"},{"$f":"Composite!AF405","v":-1.2621306754576551},{"$f":"Composite!G405","v":"Atypical"}]
[280,{"$f":"Composite!B151","v":"FGR"},{"$f":"Composite!AF151","v":-1.3232404946261482},{"$f":"Composite!G151","v":"TK"}]
[281,{"$f":"Composite!B179","v":"INSR (IR)"},{"$f":"Composite!AF179","v":-1.3271464728405391},{"$f":"Composite!G179","v":"TK"}]
[282,{"$f":"Composite!B136","v":"EPHB1"},{"$f":"Composite!AF136","v":-1.4738373163456657},{"$f":"Composite!G136","v":"TK"}]
[283,{"$f":"Composite!B221","v":"MAP3K9 (MLK1)"},{"$f":"Composite!AF221","v":-1.4930394919460213},{"$f":"Composite!G221","v":"TKL"}]
[284,{"$f":"Composite!B322","v":"PRKAA2-B2-G1 (AMPKα2β2γ1)"},{"$f":"Composite!AF322","v":-1.5922651987163903},{"$f":"Composite!G322","v":"CAMK"}]
[285,{"$f":"Composite!B371","v":"SLK"},{"$f":"Composite!AF371","v":-1.627962820061498},{"$f":"Composite!G371","v":"STE"}]
[286,{"$f":"Composite!B380","v":"STK11 (LKB1, AMPKK)"},{"$f":"Composite!AF380","v":-1.6498339250349403},{"$f":"Composite!G380","v":"CAMK"}]
[287,{"$f":"Composite!B62","v":"CDK14 (PFTAIRE1, PFTK1)/CycY"},{"$f":"Composite!AF62","v":-1.6618553483654779},{"$f":"Composite!G62","v":"CMGC"}]
[288,{"$f":"Composite!B397","v":"TEC"},{"$f":"Composite!AF397","v":-1.7327865102447646},{"$f":"Composite!G397","v":"TK"}]
[289,{"$f":"Composite!B122","v":"EEF2K (eEF2K)"},{"$f":"Composite!AF122","v":-1.7866458007303123},{"$f":"Composite!G122","v":"Atypical"}]
[290,{"$f":"Composite!B104","v":"CSNK1G2 (CK1G2, CK1γ2)"},{"$f":"Composite!AF104","v":-1.9447004608294804},{"$f":"Composite!G104","v":"CK1"}]
[291,{"$f":"Composite!B86","v":"CDK9 (TAK)/CycT1"},{"$f":"Composite!AF86","v":-2.0298607616172006},{"$f":"Composite!G86","v":"CMGC"}]
[292,{"$f":"Composite!B327","v":"PRKACG (PKACG, PKACg)"},{"$f":"Composite!AF327","v":-2.0558965496692849},{"$f":"Composite!G327","v":"AGC"}]
[293,{"$f":"Composite!B372","v":"SNRK"},{"$f":"Composite!AF372","v":-2.1114202154219299},{"$f":"Composite!G372","v":"CAMK"}]
[294,{"$f":"Composite!B286","v":"PAK4"},{"$f":"Composite!AF286","v":-2.2673262524855886},{"$f":"Composite!G286","v":"STE"}]
[295,{"$f":"Composite!B77","v":"CDK4/CycD2"},{"$f":"Composite!AF77","v":-2.3033908387864415},{"$f":"Composite!G77","v":"CMGC"}]
[296,{"$f":"Composite!B236","v":"MAPK7 (BMK, ERK5)"},{"$f":"Composite!AF236","v":-2.3561390804235884},{"$f":"Composite!G236","v":"CMGC"}]
[297,{"$f":"Composite!B154","v":"FLT4"},{"$f":"Composite!AF154","v":-2.4862393880025877},{"$f":"Composite!G154","v":"TK"}]
[298,{"$f":"Composite!B302","v":"PIM3"},{"$f":"Composite!AF302","v":-2.4863793957404425},{"$f":"Composite!G302","v":"CAMK"}]
[299,{"$f":"Composite!B320","v":"PRKAA2-B1-G2 (AMPKα2β1γ2)"},{"$f":"Composite!AF320","v":-2.5006559658669687},{"$f":"Composite!G320","v":"CAMK"}]
[300,{"$f":"Composite!B39","v":"BRSK2"},{"$f":"Composite!AF39","v":-2.5845606795583507},{"$f":"Composite!G39","v":"CAMK"}]
[301,{"$f":"Composite!B300","v":"PIM1"},{"$f":"Composite!AF300","v":-2.6574726892383751},{"$f":"Composite!G300","v":"CAMK"}]
[302,{"$f":"Composite!B119","v":"DYRK2"},{"$f":"Composite!AF119","v":-2.6917811390136563},{"$f":"Composite!G119","v":"CMGC"}]
[303,{"$f":"Composite!B130","v":"EPHA3"},{"$f":"Composite!AF130","v":-2.733677126125329},{"$f":"Composite!G130","v":"TK"}]
[304,{"$f":"Composite!B153","v":"FLT3"},{"$f":"Composite!AF153","v":-2.7563735634714135},{"$f":"Composite!G153","v":"TK"}]
[305,{"$f":"Composite!B384","v":"STK24 (MST3)"},{"$f":"Composite!AF384","v":-2.8561633309295473},{"$f":"Composite!G384","v":"STE"}]
[306,{"$f":"Composite!B328","v":"PRKCA (PKCα [alpha])"},{"$f":"Composite!AF328","v":-2.9089639524631394},{"$f":"Composite!G328","v":"AGC"}]
[307,{"$f":"Composite!B76","v":"CDK4/CycD1"},{"$f":"Composite!AF76","v":-2.9674943779584595},{"$f":"Composite!G76","v":"CMGC"}]
[308,{"$f":"Composite!B194","v":"LATS2"},{"$f":"Composite!AF194","v":-3.0234193304126649},{"$f":"Composite!G194","v":"AGC"}]
[309,{"$f":"Composite!B312","v":"PNCK (CAMK1β)"},{"$f":"Composite!AF312","v":-3.1531054914823784},{"$f":"Composite!G312","v":"CAMK"}]
[310,{"$f":"Composite!B92","v":"CIT (CRIK)"},{"$f":"Composite!AF92","v":-3.1535110550973968},{"$f":"Composite!G92","v":"AGC"}]
[311,{"$f":"Composite!B291","v":"PDGFRA (PDGFRα)"},{"$f":"Composite!AF291","v":-3.1906055639131239},{"$f":"Composite!G291","v":"TK"}]
[312,{"$f":"Composite!B117","v":"DYRK1A"},{"$f":"Composite!AF117","v":-3.2253549290142018},{"$f":"Composite!G117","v":"CMGC"}]
[313,{"$f":"Composite!B41","v":"BUB1"},{"$f":"Composite!AF41","v":-3.2290254836836141},{"$f":"Composite!G41","v":"Other"}]
[314,{"$f":"Composite!B336","v":"PRKCQ (PKCᶿ [theta])"},{"$f":"Composite!AF336","v":-3.2344767750455645},{"$f":"Composite!G336","v":"AGC"}]
[315,{"$f":"Composite!B339","v":"PRKD2 (PKD2)"},{"$f":"Composite!AF339","v":-3.2856035386930529},{"$f":"Composite!G339","v":"CAMK"}]
[316,{"$f":"Composite!B52","v":"CDC42BPA (MRCKA)"},{"$f":"Composite!AF52","v":-3.2985050903889004},{"$f":"Composite!G52","v":"AGC"}]
[317,{"$f":"Composite!B361","v":"RPS6KA6 (RSK4)"},{"$f":"Composite!AF361","v":-3.3080034781293648},{"$f":"Composite!G361","v":"AGC"}]
[318,{"$f":"Composite!B204","v":"MAP2K2 (MEK2)"},{"$f":"Composite!AF204","v":-3.3351285189718567},{"$f":"Composite!G204","v":"STE"}]
[319,{"$f":"Composite!B331","v":"PRKCD (PKCδ [delta])"},{"$f":"Composite!AF331","v":-3.3587137170022601},{"$f":"Composite!G331","v":"AGC"}]
[320,{"$f":"Composite!B329","v":"PRKCB1 (PKCβ1 [beta1])"},{"$f":"Composite!AF329","v":-3.4439118728343487},{"$f":"Composite!G329","v":"AGC"}]
[321,{"$f":"Composite!B23","v":"AKT1 (PKB)"},{"$f":"Composite!AF23","v":-3.4581977779141937},{"$f":"Composite!G23","v":"AGC"}]
[322,{"$f":"Composite!B324","v":"PRKAA2-B2-G3 (AMPKα2β2γ3)"},{"$f":"Composite!AF324","v":-3.5028264090884278},{"$f":"Composite!G324","v":"CAMK"}]
[323,{"$f":"Composite!B303","v":"PINK1 (PINK)"},{"$f":"Composite!AF303","v":-3.5344576526964886},{"$f":"Composite!G303","v":"Other"}]
[324,{"$f":"Composite!B338","v":"PRKD1 (PKD1)"},{"$f":"Composite!AF338","v":-3.5620495055036656},{"$f":"Composite!G338","v":"CAMK"}]
[325,{"$f":"Composite!B254","v":"MNK1"},{"$f":"Composite!AF254","v":-3.5687791018862072},{"$f":"Composite!G254","v":"CAMK"}]
[326,{"$f":"Composite!B132","v":"EPHA5"},{"$f":"Composite!AF132","v":-3.6668759632399031},{"$f":"Composite!G132","v":"TK"}]
[327,{"$f":"Composite!B374","v":"SRC N1"},{"$f":"Composite!AF374","v":-3.6966395345870353},{"$f":"Composite!G374","v":"TK"}]
[328,{"$f":"Composite!B109","v":"DAPK2 (DRP-1)"},{"$f":"Composite!AF109","v":-3.715491556430436},{"$f":"Composite!G109","v":"CAMK"}]
[329,{"$f":"Composite!B403","v":"TNK1"},{"$f":"Composite!AF403","v":-3.7335982449604899},{"$f":"Composite!G403","v":"TK"}]
[330,{"$f":"Composite!B207","v":"MAP3K1 (MEKK1)"},{"$f":"Composite!AF207","v":-3.8086989091249421},{"$f":"Composite!G207","v":"STE"}]
[331,{"$f":"Composite!B133","v":"EPHA6"},{"$f":"Composite!AF133","v":-4.087091037892705},{"$f":"Composite!G133","v":"TK"}]
[332,{"$f":"Composite!B399","v":"TESK2"},{"$f":"Composite!AF399","v":-4.1815877913062707},{"$f":"Composite!G399","v":"TKL"}]
[333,{"$f":"Composite!B330","v":"PRKCB2 (PKCβ2 [beta2])"},{"$f":"Composite!AF330","v":-4.1854186002065887},{"$f":"Composite!G330","v":"AGC"}]
[334,{"$f":"Composite!B181","v":"IRAK1"},{"$f":"Composite!AF181","v":-4.2764038925095917},{"$f":"Composite!G181","v":"TKL"}]
[335,{"$f":"Composite!B241","v":"MAPKAPK5 (MK5)"},{"$f":"Composite!AF241","v":-4.3403576447946364},{"$f":"Composite!G241","v":"CAMK"}]
[336,{"$f":"Composite!B182","v":"IRAK4"},{"$f":"Composite!AF182","v":-4.3770537574364852},{"$f":"Composite!G182","v":"TKL"}]
[337,{"$f":"Composite!B297","v":"PDPK1 (PDK1)"},{"$f":"Composite!AF297","v":-4.390303226852609},{"$f":"Composite!G297","v":"AGC"}]
[338,{"$f":"Composite!B216","v":"MAP3K3 (MEKK3)"},{"$f":"Composite!AF216","v":-4.4884388695783457},{"$f":"Composite!G216","v":"STE"}]
[339,{"$f":"Composite!B102","v":"CSNK1E (CK1E, CK1ε)"},{"$f":"Composite!AF102","v":-4.554047667274304},{"$f":"Composite!G102","v":"CK1"}]
[340,{"$f":"Composite!B325","v":"PRKACA (PKACA, PKACα)"},{"$f":"Composite!AF325","v":-4.7381627399224584},{"$f":"Composite!G325","v":"AGC"}]
[341,{"$f":"Composite!B321","v":"PRKAA2-B1-G3 (AMPKα2β1γ3)"},{"$f":"Composite!AF321","v":-4.7682031611666105},{"$f":"Composite!G321","v":"CAMK"}]
[342,{"$f":"Composite!B381","v":"STK16 (MPSK1, PKL12, TSF1)"},{"$f":"Composite!AF381","v":-4.8142506365951334},{"$f":"Composite!G381","v":"Other"}]
[343,{"$f":"Composite!B317","v":"PRKAA1-B2-G2 (AMPKα1β2γ2)"},{"$f":"Composite!AF317","v":-4.869046509460361},{"$f":"Composite!G317","v":"CAMK"}]
[344,{"$f":"Composite!B20","v":"AAK1"},{"$f":"Composite!AF20","v":-5.0305822301503156},{"$f":"Composite!G20","v":"Other"}]
[345,{"$f":"Composite!B139","v":"EPHB4"},{"$f":"Composite!AF139","v":-5.1356368871713158},{"$f":"Composite!G139","v":"TK"}]
[346,{"$f":"Composite!B103","v":"CSNK1G1 (CK1G1, CK1γ1)"},{"$f":"Composite!AF103","v":-5.1473726137301412},{"$f":"Composite!G103","v":"CK1"}]
[347,{"$f":"Composite!B259","v":"MYLK (smMLCK)"},{"$f":"Composite!AF259","v":-5.1663631113677724},{"$f":"Composite!G259","v":"CAMK"}]
[348,{"$f":"Composite!B112","v":"DCLK2 (DCAMKL2)"},{"$f":"Composite!AF112","v":-5.1890731241798989},{"$f":"Composite!G112","v":"CAMK"}]
[349,{"$f":"Composite!B345","v":"PTK2 (FAK)"},{"$f":"Composite!AF345","v":-5.2672877511899401},{"$f":"Composite!G345","v":"TK"}]
[350,{"$f":"Composite!B214","v":"MAP3K2 (MEKK2)"},{"$f":"Composite!AF214","v":-5.336825563122062},{"$f":"Composite!G214","v":"STE"}]
[351,{"$f":"Composite!B343","v":"PRKG2 (PKG2, PGK2, CGK2)"},{"$f":"Composite!AF343","v":-5.3818929991138873},{"$f":"Composite!G343","v":"AGC"}]
[352,{"$f":"Composite!B332","v":"PRKCE (PKCe [epsilon])"},{"$f":"Composite!AF332","v":-5.5588452997779001},{"$f":"Composite!G332","v":"AGC"}]
[353,{"$f":"Composite!B255","v":"MNK2"},{"$f":"Composite!AF255","v":-5.6837154614932359},{"$f":"Composite!G255","v":"CAMK"}]
[354,{"$f":"Composite!B93","v":"CLK1"},{"$f":"Composite!AF93","v":-5.8350870480199006},{"$f":"Composite!G93","v":"CMGC"}]
[355,{"$f":"Composite!B108","v":"DAPK1"},{"$f":"Composite!AF108","v":-6.2025588903503461},{"$f":"Composite!G108","v":"CAMK"}]
[356,{"$f":"Composite!B99","v":"CSNK1A1 (CK1A1, CK1α)"},{"$f":"Composite!AF99","v":-6.4755988517106715},{"$f":"Composite!G99","v":"CK1"}]
[357,{"$f":"Composite!B290","v":"PBK (TOPK)"},{"$f":"Composite!AF290","v":-6.5069346569438409},{"$f":"Composite!G290","v":"Other"}]
[358,{"$f":"Composite!B37","v":"BRAF, b-[V600E]"},{"$f":"Composite!AF37","v":-6.6649075698076672},{"$f":"Composite!G37","v":"TKL"}]
[359,{"$f":"Composite!B299","v":"PHKG2"},{"$f":"Composite!AF299","v":-6.781950637875525},{"$f":"Composite!G299","v":"CAMK"}]
[360,{"$f":"Composite!B65","v":"CDK17 (PCTAIRE2, PCTK2)/p35NCK"},{"$f":"Composite!AF65","v":-6.90772674145596},{"$f":"Composite!G65","v":"CMGC"}]
[361,{"$f":"Composite!B287","v":"PAK5 (PAK7)"},{"$f":"Composite!AF287","v":-6.9662571917275642},{"$f":"Composite!G287","v":"STE"}]
[362,{"$f":"Composite!B323","v":"PRKAA2-B2-G2 (AMPKα2β2γ2)"},{"$f":"Composite!AF323","v":-7.1143134864918949},{"$f":"Composite!G323","v":"CAMK"}]
[363,{"$f":"Composite!B129","v":"EPHA2"},{"$f":"Composite!AF129","v":-7.1324357766820015},{"$f":"Composite!G129","v":"TK"}]
[364,{"$f":"Composite!B280","v":"NTRK3 (TRKC)"},{"$f":"Composite!AF280","v":-7.5933494702591133},{"$f":"Composite!G280","v":"TK"}]
[365,{"$f":"Composite!B115","v":"DMPK (DMPK1)"},{"$f":"Composite!AF115","v":-7.6016227825942764},{"$f":"Composite!G115","v":"AGC"}]
[366,{"$f":"Composite!B335","v":"PRKCI (PKCι [iota])"},{"$f":"Composite!AF335","v":-7.6281365203948042},{"$f":"Composite!G335","v":"AGC"}]
[367,{"$f":"Composite!B177","v":"IKKB (IKKβ)"},{"$f":"Composite!AF177","v":-7.7474634443487531},{"$f":"Composite!G177","v":"Other"}]
[368,{"$f":"Composite!B163","v":"GRK5 (GPRK5)"},{"$f":"Composite!AF163","v":-7.786991888314418},{"$f":"Composite!G163","v":"AGC"}]
[369,{"$f":"Composite!B120","v":"DYRK3"},{"$f":"Composite!AF120","v":-7.8660191516264462},{"$f":"Composite!G120","v":"CMGC"}]
[370,{"$f":"Composite!B314","v":"PRKAA1-B1-G2 (AMPKα1β1γ2)"},{"$f":"Composite!AF314","v":-7.8936233064277701},{"$f":"Composite!G314","v":"CAMK"}]
[371,{"$f":"Composite!B326","v":"PRKACB (PKACB, PKACβ)"},{"$f":"Composite!AF326","v":-7.9085119861300939},{"$f":"Composite!G326","v":"AGC"}]
[372,{"$f":"Composite!B105","v":"CSNK1G3 (CK1G3, CK1γ3)"},{"$f":"Composite!AF105","v":-7.950941595801396},{"$f":"Composite!G105","v":"CK1"}]
[373,{"$f":"Composite!B261","v":"MYLK3 (caMLCK)"},{"$f":"Composite!AF261","v":-7.9906699369980316},{"$f":"Composite!G261","v":"CAMK"}]
[374,{"$f":"Composite!B248","v":"MATK (CTK)"},{"$f":"Composite!AF248","v":-8.2409960439107834},{"$f":"Composite!G248","v":"TK"}]
[375,{"$f":"Composite!B106","v":"CSNK2A1 (CK2A1, CK2α1)"},{"$f":"Composite!AF106","v":-8.3128109765291356},{"$f":"Composite!G106","v":"Other"}]
[376,{"$f":"Composite!B368","v":"SIK1 (SIK)"},{"$f":"Composite!AF368","v":-8.3215281268564354},{"$f":"Composite!G368","v":"CAMK"}]
[377,{"$f":"Composite!B337","v":"PRKCZ (PKCζ [zeta])"},{"$f":"Composite!AF337","v":-8.3505606715530263},{"$f":"Composite!G337","v":"AGC"}]
[378,{"$f":"Composite!B352","v":"RIPK3"},{"$f":"Composite!AF352","v":-8.6195345275886268},{"$f":"Composite!G352","v":"TKL"}]
[379,{"$f":"Composite!B111","v":"DCLK1 (DCAMKL1)"},{"$f":"Composite!AF111","v":-8.7065013152949717},{"$f":"Composite!G111","v":"CAMK"}]
[380,{"$f":"Composite!B25","v":"AKT3 (PKBg)"},{"$f":"Composite!AF25","v":-8.7084645869322088},{"$f":"Composite!G25","v":"AGC"}]
[381,{"$f":"Composite!B101","v":"CSNK1D (CK1D, CK1δ)"},{"$f":"Composite!AF101","v":-8.9904908270098929},{"$f":"Composite!G101","v":"CK1"}]
[382,{"$f":"Composite!B382","v":"STK17A (DRAK1)"},{"$f":"Composite!AF382","v":-9.5431735594393245},{"$f":"Composite!G382","v":"CAMK"}]
[383,{"$f":"Composite!B205","v":"MAP2K3 (MEK3)"},{"$f":"Composite!AF205","v":-9.5497829594782075},{"$f":"Composite!G205","v":"STE"}]
[384,{"$f":"Composite!B219","v":"MAP3K7 (TAK1)"},{"$f":"Composite!AF219","v":-9.6057547094825537},{"$f":"Composite!G219","v":"STE"}]
[385,{"$f":"Composite!B419","v":"ULK3"},{"$f":"Composite!AF419","v":-9.6472818731267012},{"$f":"Composite!G419","v":"Other"}]
[386,{"$f":"Composite!B308","v":"PLK1"},{"$f":"Composite!AF308","v":-9.8258523424086519},{"$f":"Composite!G308","v":"Other"}]
[387,{"$f":"Composite!B377","v":"SRPK2"},{"$f":"Composite!AF377","v":-9.8643923798320259},{"$f":"Composite!G377","v":"CMGC"}]
[388,{"$f":"Composite!B309","v":"PLK2"},{"$f":"Composite!AF309","v":-9.8674881423891208},{"$f":"Composite!G309","v":"Other"}]
[389,{"$f":"Composite!B217","v":"MAP3K5 (ASK1)"},{"$f":"Composite!AF217","v":-9.9968447623054004},{"$f":"Composite!G217","v":"STE"}]
[390,{"$f":"Composite!B147","v":"FGFR1"},{"$f":"Composite!AF147","v":-10.560005252100822},{"$f":"Composite!G147","v":"TK"}]
[391,{"$f":"Composite!B401","v":"TLK2"},{"$f":"Composite!AF401","v":-11.045467605229106},{"$f":"Composite!G401","v":"Other"}]
[392,{"$f":"Composite!B53","v":"CDC42BPB (MRCKB)"},{"$f":"Composite!AF53","v":-11.821464352714131},{"$f":"Composite!G53","v":"AGC"}]
[393,{"$f":"Composite!B275","v":"NEK9"},{"$f":"Composite!AF275","v":-12.315165977755996},{"$f":"Composite!G275","v":"Other"}]
[394,{"$f":"Composite!B247","v":"MASTL"},{"$f":"Composite!AF247","v":-12.412688967285845},{"$f":"Composite!G247","v":"AGC"}]
[395,{"$f":"Composite!B125","v":"EIF2AK2 (PKR)"},{"$f":"Composite!AF125","v":-12.516303802548407},{"$f":"Composite!G125","v":"Other"}]
[396,{"$f":"Composite!B158","v":"GAK"},{"$f":"Composite!AF158","v":-13.386540654147822},{"$f":"Composite!G158","v":"Other"}]
[397,{"$f":"Composite!B404","v":"TNK2 (ACK)"},{"$f":"Composite!AF404","v":-14.53961309727255},{"$f":"Composite!G404","v":"TK"}]
[398,{"$f":"Composite!B116","v":"DSTYK (RIPK5, SGK496)"},{"$f":"Composite!AF116","v":-14.652505342391464},{"$f":"Composite!G116","v":"TKL"}]
[399,{"$f":"Composite!B44","v":"CAMK1G (CAMK1γ)"},{"$f":"Composite!AF44","v":-16.576208845429264},{"$f":"Composite!G44","v":"CAMK"}]
[400,{"$f":"Composite!B333","v":"PRKCG (PKCγ [gamma])"},{"$f":"Composite!AF333","v":-16.920266810183136},{"$f":"Composite!G333","v":"AGC"}]
[401,{"$f":"Composite!B161","v":"GRK3 (ADRBK2, BARK2)"},{"$f":"Composite!AF161","v":-17.251074164020153},{"$f":"Composite!G161","v":"AGC"}]
[402,{"$f":"Composite!B415","v":"TYK2 [JH1-JH2]"},{"$f":"Composite!AF415","v":-17.542557403008701},{"$f":"Composite!G415","v":"TK"}]
[403,{"$f":"Composite!B266","v":"NEK10"},{"$f":"Composite!AF266","v":-20.332841806134184},{"$f":"Composite!G266","v":"Other"}]

{"sheet":"Compound 12 Kinome Tree","index":27,"n_rows":6,"n_cols":27,"rows_kept":6,"cut":false,"hidden":false,"merged":[[1,1,3,20]]}
[]
[null,{"$f":"Summary!AC21","v":"Kinome Hit View for Afatinib  (0.002 µM) with 398 Kinases (Coral Names) at 1 mM"}]
[null,null,null,null,null,null,null,null,null,null,null,null,null,null,null,null,null,null,null,null,null,null,null,null,null,null,"Kinome Hit View for VVVVVVVVVVVVVVVVVVVVVVVVVVV (VVVVV µM) with VVV Kinases (Coral Names)"]
[null,null,null,null,null,null,null,null,null,null,null,null,null,null,null,null,null,null,null,null,null,null,null,null,null,null,{"$f":"REPLACE(AA3,65,3,Summary!E21)","v":"Kinome Hit View for VVVVVVVVVVVVVVVVVVVVVVVVVVV (VVVVV µM) with 398 Kinases (Coral Names)"}]
[null,null,null,null,null,null,null,null,null,null,null,null,null,null,null,null,null,null,null,null,null,null,null,null,null,null,{"$f":"REPLACE(AA4,50,5,Summary!D20)","v":"Kinome Hit View for VVVVVVVVVVVVVVVVVVVVVVVVVVV (0.02 µM) with 398 Kinases (Coral Names)"}]
[null,null,null,null,null,null,null,null,null,null,null,null,null,null,null,null,null,null,null,null,null,null,null,null,null,null,{"$f":"REPLACE(AA5,21,27,Summary!C20)","v":"Kinome Hit View for Afatinib  (0.02 µM) with 398 Kinases (Coral Names)"}]

{"sheet":"Compound 13","index":28,"n_rows":405,"n_cols":27,"rows_kept":405,"cut":false,"hidden":false,"merged":[]}
[]
["Panel #","Kinase Target",{"$f":"Summary!AB22","v":"0.0005 µM Afatinib , % inhibition at  ATP Km "},{"$f":"Composite!G19","v":"Group"}]
[1,{"$f":"Composite!B248","v":"MATK (CTK)"},{"$f":"Composite!AH248","v":82.908418701378736},{"$f":"Composite!G248","v":"TK"},null,null,null,null,null,null,null,null,null,null,null,null,null,null,null,null,null,null,null,null,null,null,"VVVVV μM VVVVVVVVVVVVVVVVVVVVVVVVVVV, % inhibition"]
[2,{"$f":"Composite!B123","v":"EGFR (ERBB1)"},{"$f":"Composite!AH123","v":75.592155531029803},{"$f":"Composite!G123","v":"TK"},null,null,null,null,null,null,null,null,null,null,null,null,null,null,null,null,null,null,null,null,null,null,{"$f":"REPLACE(AA3,10,27,Summary!C22)","v":"VVVVV μM Afatinib , % inhibition"}]
[3,{"$f":"Composite!B59","v":"CDK1 (CDC2)/CycE1 "},{"$f":"Composite!AH59","v":67.916853109872676},{"$f":"Composite!G59","v":"CMGC"},null,null,null,null,null,null,null,null,null,null,null,null,null,null,null,null,null,null,null,null,null,null,{"$f":"REPLACE(AA4,1,5,Summary!D22)","v":"0.0005 μM Afatinib , % inhibition"}]
[4,{"$f":"Composite!B141","v":"ERBB4 (HER4)"},{"$f":"Composite!AH141","v":28.184504609493658},{"$f":"Composite!G141","v":"TK"}]
[5,{"$f":"Composite!B271","v":"NEK5"},{"$f":"Composite!AH271","v":24.932379075132317},{"$f":"Composite!G271","v":"Other"}]
[6,{"$f":"Composite!B224","v":"MAP4K3 (GLK, KHS2)"},{"$f":"Composite!AH224","v":24.849426437099638},{"$f":"Composite!G224","v":"STE"}]
[7,{"$f":"Composite!B71","v":"CDK2/CycE2"},{"$f":"Composite!AH71","v":23.362490888264077},{"$f":"Composite!G71","v":"CMGC"}]
[8,{"$f":"Composite!B85","v":"CDK9 (TAK)/CycK"},{"$f":"Composite!AH85","v":22.67884322678843},{"$f":"Composite!G85","v":"CMGC"}]
[9,{"$f":"Composite!B162","v":"GRK4 (GPRK4)"},{"$f":"Composite!AH162","v":21.149194468531775},{"$f":"Composite!G162","v":"AGC"}]
[10,{"$f":"Composite!B143","v":"ERN2 (IRE2)"},{"$f":"Composite!AH143","v":20.687075499557039},{"$f":"Composite!G143","v":"Other"}]
[11,{"$f":"Composite!B265","v":"NEK1"},{"$f":"Composite!AH265","v":20.022434099831756},{"$f":"Composite!G265","v":"Other"}]
[12,{"$f":"Composite!B58","v":"CDK1 (CDC2)/CycB1 "},{"$f":"Composite!AH58","v":18.759384035042004},{"$f":"Composite!G58","v":"CMGC"}]
[13,{"$f":"Composite!B191","v":"KSR1"},{"$f":"Composite!AH191","v":18.548092517642942},{"$f":"Composite!G191","v":"TKL"}]
[14,{"$f":"Composite!B166","v":"GSK3A (GSK3α)"},{"$f":"Composite!AH166","v":17.959218741050449},{"$f":"Composite!G166","v":"CMGC"}]
[15,{"$f":"Composite!B233","v":"MAPK15 (ERK7)"},{"$f":"Composite!AH233","v":17.825068661645531},{"$f":"Composite!G233","v":"CMGC"}]
[16,{"$f":"Composite!B310","v":"PLK3"},{"$f":"Composite!AH310","v":17.131622296615106},{"$f":"Composite!G310","v":"Other"}]
[17,{"$f":"Composite!B48","v":"CAMK2G (CAMK2γ)"},{"$f":"Composite!AH48","v":16.348442578894833},{"$f":"Composite!G48","v":"CAMK"}]
[18,{"$f":"Composite!B81","v":"CDK6/CycD2"},{"$f":"Composite!AH81","v":16.257858576569731},{"$f":"Composite!G81","v":"CMGC"}]
[19,{"$f":"Composite!B159","v":"GRK1 (RHOK)"},{"$f":"Composite!AH159","v":15.84434686682097},{"$f":"Composite!G159","v":"AGC"}]
[20,{"$f":"Composite!B232","v":"MAPK14 (p38a)"},{"$f":"Composite!AH232","v":15.541486918034622},{"$f":"Composite!G232","v":"CMGC"}]
[21,{"$f":"Composite!B100","v":"CSNK1A1L (CK1A1L, CK1a2)"},{"$f":"Composite!AH100","v":15.313249800053327},{"$f":"Composite!G100","v":"CK1"}]
[22,{"$f":"Composite!B76","v":"CDK4/CycD1"},{"$f":"Composite!AH76","v":15.190633443410377},{"$f":"Composite!G76","v":"CMGC"}]
[23,{"$f":"Composite!B57","v":"CDK1 (CDC2)/CycA2 "},{"$f":"Composite!AH57","v":14.955671555224129},{"$f":"Composite!G57","v":"CMGC"}]
[24,{"$f":"Composite!B89","v":"CHEK1 (CHK1)"},{"$f":"Composite!AH89","v":14.682884448305799},{"$f":"Composite!G89","v":"CAMK"}]
[25,{"$f":"Composite!B115","v":"DMPK (DMPK1)"},{"$f":"Composite!AH115","v":14.436316695352843},{"$f":"Composite!G115","v":"AGC"}]
[26,{"$f":"Composite!B125","v":"EIF2AK2 (PKR)"},{"$f":"Composite!AH125","v":14.433309809456603},{"$f":"Composite!G125","v":"Other"}]
[27,{"$f":"Composite!B54","v":"CDC42BPG (DMPK2)"},{"$f":"Composite!AH54","v":14.223427962406745},{"$f":"Composite!G54","v":"AGC"}]
[28,{"$f":"Composite!B409","v":"TSSK6 (SSTK)"},{"$f":"Composite!AH409","v":14.177949709864606},{"$f":"Composite!G409","v":"CAMK"}]
[29,{"$f":"Composite!B359","v":"RPS6KA4 (MSK2)"},{"$f":"Composite!AH359","v":13.511395633002181},{"$f":"Composite!G359","v":"AGC"}]
[30,{"$f":"Composite!B91","v":"CHUK (IKKA, IKKa)"},{"$f":"Composite!AH91","v":13.130485315373022},{"$f":"Composite!G91","v":"Other"}]
[31,{"$f":"Composite!B401","v":"TLK2"},{"$f":"Composite!AH401","v":13.064833005893931},{"$f":"Composite!G401","v":"Other"}]
[32,{"$f":"Composite!B61","v":"CDK13 (CHED)/CycK"},{"$f":"Composite!AH61","v":12.999163266024553},{"$f":"Composite!G61","v":"CMGC"}]
[33,{"$f":"Composite!B124","v":"EIF2AK1 (HRI)"},{"$f":"Composite!AH124","v":12.919242071131833},{"$f":"Composite!G124","v":"Other"}]
[34,{"$f":"Composite!B131","v":"EPHA4"},{"$f":"Composite!AH131","v":12.915129151291524},{"$f":"Composite!G131","v":"TK"}]
[35,{"$f":"Composite!B283","v":"PAK1"},{"$f":"Composite!AH283","v":12.830274447411767},{"$f":"Composite!G283","v":"STE"}]
[36,{"$f":"Composite!B212","v":"MAP3K14 (NIK)"},{"$f":"Composite!AH212","v":12.728057441048392},{"$f":"Composite!G212","v":"STE"}]
[37,{"$f":"Composite!B93","v":"CLK1"},{"$f":"Composite!AH93","v":12.713022620143363},{"$f":"Composite!G93","v":"CMGC"}]
[38,{"$f":"Composite!B407","v":"TSSK2"},{"$f":"Composite!AH407","v":12.603064066852369},{"$f":"Composite!G407","v":"CAMK"}]
[39,{"$f":"Composite!B301","v":"PIM2"},{"$f":"Composite!AH301","v":12.496791086923082},{"$f":"Composite!G301","v":"CAMK"}]
[40,{"$f":"Composite!B390","v":"STK38L (NDR2)"},{"$f":"Composite!AH390","v":12.487895246515947},{"$f":"Composite!G390","v":"AGC"}]
[41,{"$f":"Composite!B406","v":"TSSK1B (TSSK1)"},{"$f":"Composite!AH406","v":12.469895638212463},{"$f":"Composite!G406","v":"CAMK"}]
[42,{"$f":"Composite!B345","v":"PTK2 (FAK)"},{"$f":"Composite!AH345","v":12.45095595008867},{"$f":"Composite!G345","v":"TK"}]
[43,{"$f":"Composite!B21","v":"ABL1"},{"$f":"Composite!AH21","v":12.344377709717179},{"$f":"Composite!G21","v":"TK"}]
[44,{"$f":"Composite!B86","v":"CDK9 (TAK)/CycT1"},{"$f":"Composite!AH86","v":12.194426783012872},{"$f":"Composite!G86","v":"CMGC"}]
[45,{"$f":"Composite!B375","v":"SRMS (SRM)"},{"$f":"Composite!AH375","v":11.911617862201879},{"$f":"Composite!G375","v":"TK"}]
[46,{"$f":"Composite!B303","v":"PINK1 (PINK)"},{"$f":"Composite!AH303","v":11.890633792009837},{"$f":"Composite!G303","v":"Other"}]
[47,{"$f":"Composite!B205","v":"MAP2K3 (MEK3)"},{"$f":"Composite!AH205","v":11.818933570181599},{"$f":"Composite!G205","v":"STE"}]
[48,{"$f":"Composite!B165","v":"GRK7 (GPRK7)"},{"$f":"Composite!AH165","v":11.765193353814112},{"$f":"Composite!G165","v":"AGC"}]
[49,{"$f":"Composite!B67","v":"CDK2/CycA1"},{"$f":"Composite!AH67","v":11.740826599782636},{"$f":"Composite!G67","v":"CMGC"}]
[50,{"$f":"Composite!B410","v":"TTBK1"},{"$f":"Composite!AH410","v":11.728685130253467},{"$f":"Composite!G410","v":"CK1"}]
[51,{"$f":"Composite!B314","v":"PRKAA1-B1-G2 (AMPKα1β1γ2)"},{"$f":"Composite!AH314","v":11.408217698099193},{"$f":"Composite!G314","v":"CAMK"}]
[52,{"$f":"Composite!B372","v":"SNRK"},{"$f":"Composite!AH372","v":11.373425145732796},{"$f":"Composite!G372","v":"CAMK"}]
[53,{"$f":"Composite!B213","v":"MAP3K19 (YSK4)"},{"$f":"Composite!AH213","v":11.354010961634273},{"$f":"Composite!G213","v":"STE"}]
[54,{"$f":"Composite!B170","v":"HIPK1"},{"$f":"Composite!AH170","v":11.203313768098425},{"$f":"Composite!G170","v":"CMGC"}]
[55,{"$f":"Composite!B41","v":"BUB1"},{"$f":"Composite!AH41","v":11.202894771156608},{"$f":"Composite!G41","v":"Other"}]
[56,{"$f":"Composite!B65","v":"CDK17 (PCTAIRE2, PCTK2)/p35NCK"},{"$f":"Composite!AH65","v":11.188666563259403},{"$f":"Composite!G65","v":"CMGC"}]
[57,{"$f":"Composite!B68","v":"CDK2/CycA2"},{"$f":"Composite!AH68","v":11.044395693579673},{"$f":"Composite!G68","v":"CMGC"}]
[58,{"$f":"Composite!B355","v":"ROS1 (ROS)"},{"$f":"Composite!AH355","v":10.999156887949042},{"$f":"Composite!G355","v":"TK"}]
[59,{"$f":"Composite!B172","v":"HIPK3"},{"$f":"Composite!AH172","v":10.957078642746353},{"$f":"Composite!G172","v":"CMGC"}]
[60,{"$f":"Composite!B360","v":"RPS6KA5 (MSK1)"},{"$f":"Composite!AH360","v":10.872037326753812},{"$f":"Composite!G360","v":"AGC"}]
[61,{"$f":"Composite!B256","v":"MST1R (RON)"},{"$f":"Composite!AH256","v":10.639752870988275},{"$f":"Composite!G256","v":"TK"}]
[62,{"$f":"Composite!B315","v":"PRKAA1-B1-G3 (AMPKα1β1γ3)"},{"$f":"Composite!AH315","v":10.52193946455526},{"$f":"Composite!G315","v":"CAMK"}]
[63,{"$f":"Composite!B269","v":"NEK3"},{"$f":"Composite!AH269","v":10.517012441114034},{"$f":"Composite!G269","v":"Other"}]
[64,{"$f":"Composite!B111","v":"DCLK1 (DCAMKL1)"},{"$f":"Composite!AH111","v":10.475877033954575},{"$f":"Composite!G111","v":"CAMK"}]
[65,{"$f":"Composite!B56","v":"CDK1 (CDC2)/CycA1 "},{"$f":"Composite!AH56","v":10.381449129642419},{"$f":"Composite!G56","v":"CMGC"}]
[66,{"$f":"Composite!B25","v":"AKT3 (PKBg)"},{"$f":"Composite!AH25","v":10.337420567439381},{"$f":"Composite!G25","v":"AGC"}]
[67,{"$f":"Composite!B46","v":"CAMK2B (CAMK2β)"},{"$f":"Composite!AH46","v":10.324803623921738},{"$f":"Composite!G46","v":"CAMK"}]
[68,{"$f":"Composite!B204","v":"MAP2K2 (MEK2)"},{"$f":"Composite!AH204","v":10.284974337685853},{"$f":"Composite!G204","v":"STE"}]
[69,{"$f":"Composite!B195","v":"LCK"},{"$f":"Composite!AH195","v":10.259237922804701},{"$f":"Composite!G195","v":"TK"}]
[70,{"$f":"Composite!B200","v":"LYNA (LYNa)"},{"$f":"Composite!AH200","v":10.138926854368009},{"$f":"Composite!G200","v":"TK"}]
[71,{"$f":"Composite!B77","v":"CDK4/CycD2"},{"$f":"Composite!AH77","v":10.081771444763788},{"$f":"Composite!G77","v":"CMGC"}]
[72,{"$f":"Composite!B342","v":"PRKG1 (PKG1, PGK)"},{"$f":"Composite!AH342","v":10.074171916277194},{"$f":"Composite!G342","v":"AGC"}]
[73,{"$f":"Composite!B47","v":"CAMK2D (CAMK2δ)"},{"$f":"Composite!AH47","v":10.059375268909733},{"$f":"Composite!G47","v":"CAMK"}]
[74,{"$f":"Composite!B40","v":"BTK"},{"$f":"Composite!AH40","v":10.025322434627441},{"$f":"Composite!G40","v":"TK"}]
[75,{"$f":"Composite!B298","v":"PHKG1"},{"$f":"Composite!AH298","v":9.9487147543706698},{"$f":"Composite!G298","v":"CAMK"}]
[76,{"$f":"Composite!B291","v":"PDGFRA (PDGFRα)"},{"$f":"Composite!AH291","v":9.8467536687063557},{"$f":"Composite!G291","v":"TK"}]
[77,{"$f":"Composite!B202","v":"MAK"},{"$f":"Composite!AH202","v":9.8424237051483487},{"$f":"Composite!G202","v":"Atypical"}]
[78,{"$f":"Composite!B351","v":"RIPK2"},{"$f":"Composite!AH351","v":9.8233809924306001},{"$f":"Composite!G351","v":"TKL"}]
[79,{"$f":"Composite!B300","v":"PIM1"},{"$f":"Composite!AH300","v":9.7989521659496575},{"$f":"Composite!G300","v":"CAMK"}]
[80,{"$f":"Composite!B222","v":"MAP4K1 (HPK1)"},{"$f":"Composite!AH222","v":9.6558054153281319},{"$f":"Composite!G222","v":"STE"}]
[81,{"$f":"Composite!B84","v":"CDK7/CycH1"},{"$f":"Composite!AH84","v":9.5679172056920976},{"$f":"Composite!G84","v":"CMGC"}]
[82,{"$f":"Composite!B35","v":"BMX"},{"$f":"Composite!AH35","v":9.4697460208430613},{"$f":"Composite!G35","v":"TK"}]
[83,{"$f":"Composite!B87","v":"CDK9 (TAK)/CycT2"},{"$f":"Composite!AH87","v":9.3189964157706129},{"$f":"Composite!G87","v":"CMGC"}]
[84,{"$f":"Composite!B45","v":"CAMK2A (CAMK2α)"},{"$f":"Composite!AH45","v":9.1566634203989565},{"$f":"Composite!G45","v":"CAMK"}]
[85,{"$f":"Composite!B290","v":"PBK (TOPK)"},{"$f":"Composite!AH290","v":9.0422065369873366},{"$f":"Composite!G290","v":"Other"}]
[86,{"$f":"Composite!B370","v":"SIK3 (QSK)"},{"$f":"Composite!AH370","v":9.0051718892607369},{"$f":"Composite!G370","v":"CAMK"}]
[87,{"$f":"Composite!B199","v":"LTK"},{"$f":"Composite!AH199","v":8.8589652728561248},{"$f":"Composite!G199","v":"TK"}]
[88,{"$f":"Composite!B107","v":"CSNK2A2 (CK2A2, CK2α2)"},{"$f":"Composite!AH107","v":8.8195786783736736},{"$f":"Composite!G107","v":"Other"}]
[89,{"$f":"Composite!B74","v":"CDK3/CycE2"},{"$f":"Composite!AH74","v":8.8125871957836068},{"$f":"Composite!G74","v":"CMGC"}]
[90,{"$f":"Composite!B211","v":"MAP3K13 (LZK)"},{"$f":"Composite!AH211","v":8.6599068237873524},{"$f":"Composite!G211","v":"TKL"}]
[91,{"$f":"Composite!B317","v":"PRKAA1-B2-G2 (AMPKα1β2γ2)"},{"$f":"Composite!AH317","v":8.6284672233419712},{"$f":"Composite!G317","v":"CAMK"}]
[92,{"$f":"Composite!B26","v":"ALK"},{"$f":"Composite!AH26","v":8.5876761161093214},{"$f":"Composite!G26","v":"TK"}]
[93,{"$f":"Composite!B180","v":"INSRR (IRR)"},{"$f":"Composite!AH180","v":8.5787667122728379},{"$f":"Composite!G180","v":"TK"}]
[94,{"$f":"Composite!B352","v":"RIPK3"},{"$f":"Composite!AH352","v":8.4951456310679561},{"$f":"Composite!G352","v":"TKL"}]
[95,{"$f":"Composite!B323","v":"PRKAA2-B2-G2 (AMPKα2β2γ2)"},{"$f":"Composite!AH323","v":8.4338900151237368},{"$f":"Composite!G323","v":"CAMK"}]
[96,{"$f":"Composite!B97","v":"CSF1R (FMS)"},{"$f":"Composite!AH97","v":8.4248352964663695},{"$f":"Composite!G97","v":"TK"}]
[97,{"$f":"Composite!B169","v":"HCK"},{"$f":"Composite!AH169","v":8.2598354969775016},{"$f":"Composite!G169","v":"TK"}]
[98,{"$f":"Composite!B385","v":"STK25 (YSK1)"},{"$f":"Composite!AH385","v":8.2075012177301545},{"$f":"Composite!G385","v":"STE"}]
[99,{"$f":"Composite!B405","v":"TRPM7 (CHAK1)"},{"$f":"Composite!AH405","v":8.1289624157131755},{"$f":"Composite!G405","v":"Atypical"}]
[100,{"$f":"Composite!B226","v":"MAP4K5 (KHS1)"},{"$f":"Composite!AH226","v":8.0371735298830487},{"$f":"Composite!G226","v":"STE"}]
[101,{"$f":"Composite!B183","v":"ITK"},{"$f":"Composite!AH183","v":8.0246077129461355},{"$f":"Composite!G183","v":"TK"}]
[102,{"$f":"Composite!B187","v":"JAK2 [JH1-JH2]"},{"$f":"Composite!AH187","v":8.0196768661431435},{"$f":"Composite!G187","v":"TK"}]
[103,{"$f":"Composite!B377","v":"SRPK2"},{"$f":"Composite!AH377","v":8.0182940236590952},{"$f":"Composite!G377","v":"CMGC"}]
[104,{"$f":"Composite!B43","v":"CAMK1D (CAMK1δ)"},{"$f":"Composite!AH43","v":7.957283323565818},{"$f":"Composite!G43","v":"CAMK"}]
[105,{"$f":"Composite!B80","v":"CDK6/CycD1"},{"$f":"Composite!AH80","v":7.7438927031773943},{"$f":"Composite!G80","v":"CMGC"}]
[106,{"$f":"Composite!B186","v":"JAK2 [JH1]"},{"$f":"Composite!AH186","v":7.619549761140135},{"$f":"Composite!G186","v":"TK"}]
[107,{"$f":"Composite!B253","v":"MLK4 (MAP3K21)"},{"$f":"Composite!AH253","v":7.5800039105781281},{"$f":"Composite!G253","v":"STE"}]
[108,{"$f":"Composite!B367","v":"SGK3"},{"$f":"Composite!AH367","v":7.5684632371931571},{"$f":"Composite!G367","v":"AGC"}]
[109,{"$f":"Composite!B350","v":"RIPK1"},{"$f":"Composite!AH350","v":7.4453745538271079},{"$f":"Composite!G350","v":"TKL"}]
[110,{"$f":"Composite!B207","v":"MAP3K1 (MEKK1)"},{"$f":"Composite!AH207","v":7.3031627286867575},{"$f":"Composite!G207","v":"STE"}]
[111,{"$f":"Composite!B321","v":"PRKAA2-B1-G3 (AMPKα2β1γ3)"},{"$f":"Composite!AH321","v":7.2665740013295306},{"$f":"Composite!G321","v":"CAMK"}]
[112,{"$f":"Composite!B119","v":"DYRK2"},{"$f":"Composite!AH119","v":7.2235812133072557},{"$f":"Composite!G119","v":"CMGC"}]
[113,{"$f":"Composite!B402","v":"TNIK (ZC2)"},{"$f":"Composite!AH402","v":7.1771802474184767},{"$f":"Composite!G402","v":"STE"}]
[114,{"$f":"Composite!B347","v":"PTK6 (BRK)"},{"$f":"Composite!AH347","v":7.1742570775453061},{"$f":"Composite!G347","v":"TK"}]
[115,{"$f":"Composite!B179","v":"INSR (IR)"},{"$f":"Composite!AH179","v":7.1660724486379053},{"$f":"Composite!G179","v":"TK"}]
[116,{"$f":"Composite!B30","v":"AXL"},{"$f":"Composite!AH30","v":7.1552601640620281},{"$f":"Composite!G30","v":"TK"}]
[117,{"$f":"Composite!B238","v":"MAPK9 (JNK2)"},{"$f":"Composite!AH238","v":7.1198524892439963},{"$f":"Composite!G238","v":"CMGC"}]
[118,{"$f":"Composite!B242","v":"MARK1"},{"$f":"Composite!AH242","v":7.1121155759332311},{"$f":"Composite!G242","v":"CAMK"}]
[119,{"$f":"Composite!B140","v":"ERBB2 (HER2)"},{"$f":"Composite!AH140","v":7.0801693669734505},{"$f":"Composite!G140","v":"TK"}]
[120,{"$f":"Composite!B133","v":"EPHA6"},{"$f":"Composite!AH133","v":7.0689117915219413},{"$f":"Composite!G133","v":"TK"}]
[121,{"$f":"Composite!B129","v":"EPHA2"},{"$f":"Composite!AH129","v":6.8515781236414313},{"$f":"Composite!G129","v":"TK"}]
[122,{"$f":"Composite!B324","v":"PRKAA2-B2-G3 (AMPKα2β2γ3)"},{"$f":"Composite!AH324","v":6.8308218852497902},{"$f":"Composite!G324","v":"CAMK"}]
[123,{"$f":"Composite!B72","v":"CDK2/CycO"},{"$f":"Composite!AH72","v":6.7890740111073455},{"$f":"Composite!G72","v":"CMGC"}]
[124,{"$f":"Composite!B189","v":"KDR (VEGFR2)"},{"$f":"Composite!AH189","v":6.7092772588026151},{"$f":"Composite!G189","v":"TK"}]
[125,{"$f":"Composite!B380","v":"STK11 (LKB1, AMPKK)"},{"$f":"Composite!AH380","v":6.6642802998399588},{"$f":"Composite!G380","v":"CAMK"}]
[126,{"$f":"Composite!B215","v":"MAP3K20 (MLK7, ZAK)"},{"$f":"Composite!AH215","v":6.5576424870466354},{"$f":"Composite!G215","v":"TKL"}]
[127,{"$f":"Composite!B396","v":"TBK1"},{"$f":"Composite!AH396","v":6.4875349039410253},{"$f":"Composite!G396","v":"Other"}]
[128,{"$f":"Composite!B209","v":"MAP3K11 (MLK3)"},{"$f":"Composite!AH209","v":6.4223678195946974},{"$f":"Composite!G209","v":"TKL"}]
[129,{"$f":"Composite!B44","v":"CAMK1G (CAMK1γ)"},{"$f":"Composite!AH44","v":6.3471785124481528},{"$f":"Composite!G44","v":"CAMK"}]
[130,{"$f":"Composite!B305","v":"PKN1"},{"$f":"Composite!AH305","v":6.3396654380493374},{"$f":"Composite!G305","v":"AGC"}]
[131,{"$f":"Composite!B339","v":"PRKD2 (PKD2)"},{"$f":"Composite!AH339","v":6.2800699810467933},{"$f":"Composite!G339","v":"CAMK"}]
[132,{"$f":"Composite!B417","v":"ULK1"},{"$f":"Composite!AH417","v":6.2063272532422076},{"$f":"Composite!G417","v":"Other"}]
[133,{"$f":"Composite!B185","v":"JAK1 [JH1-JH2]"},{"$f":"Composite!AH185","v":6.1461270260513601},{"$f":"Composite!G185","v":"TK"}]
[134,{"$f":"Composite!B78","v":"CDK5/p25"},{"$f":"Composite!AH78","v":6.1058616271620707},{"$f":"Composite!G78","v":"CMGC"}]
[135,{"$f":"Composite!B52","v":"CDC42BPA (MRCKA)"},{"$f":"Composite!AH52","v":6.1027004539946148},{"$f":"Composite!G52","v":"AGC"}]
[136,{"$f":"Composite!B335","v":"PRKCI (PKCι [iota])"},{"$f":"Composite!AH335","v":6.0676895531295969},{"$f":"Composite!G335","v":"AGC"}]
[137,{"$f":"Composite!B230","v":"MAPK12 (p38γ)"},{"$f":"Composite!AH230","v":6.0317910871416558},{"$f":"Composite!G230","v":"CMGC"}]
[138,{"$f":"Composite!B384","v":"STK24 (MST3)"},{"$f":"Composite!AH384","v":6.029590344725051},{"$f":"Composite!G384","v":"STE"}]
[139,{"$f":"Composite!B397","v":"TEC"},{"$f":"Composite!AH397","v":5.9049692927986825},{"$f":"Composite!G397","v":"TK"}]
[140,{"$f":"Composite!B210","v":"MAP3K12 (DLK)"},{"$f":"Composite!AH210","v":5.8740601503759251},{"$f":"Composite!G210","v":"TKL"}]
[141,{"$f":"Composite!B126","v":"EIF2AK3 (PERK/PEK)"},{"$f":"Composite!AH126","v":5.8722275214069128},{"$f":"Composite!G126","v":"Other"}]
[142,{"$f":"Composite!B99","v":"CSNK1A1 (CK1A1, CK1α)"},{"$f":"Composite!AH99","v":5.8686516899773551},{"$f":"Composite!G99","v":"CK1"}]
[143,{"$f":"Composite!B264","v":"MYO3B"},{"$f":"Composite!AH264","v":5.8369328389587878},{"$f":"Composite!G264","v":"STE"}]
[144,{"$f":"Composite!B42","v":"CAMK1 (CAMK1a)"},{"$f":"Composite!AH42","v":5.8060345475592925},{"$f":"Composite!G42","v":"CAMK"}]
[145,{"$f":"Composite!B145","v":"FER"},{"$f":"Composite!AH145","v":5.7321693295996994},{"$f":"Composite!G145","v":"TK"}]
[146,{"$f":"Composite!B51","v":"CAMKK2"},{"$f":"Composite!AH51","v":5.5982186188586667},{"$f":"Composite!G51","v":"Other"}]
[147,{"$f":"Composite!B270","v":"NEK4"},{"$f":"Composite!AH270","v":5.5971090007563475},{"$f":"Composite!G270","v":"Other"}]
[148,{"$f":"Composite!B192","v":"KSR2"},{"$f":"Composite!AH192","v":5.4743022389694715},{"$f":"Composite!G192","v":"TKL"}]
[149,{"$f":"Composite!B308","v":"PLK1"},{"$f":"Composite!AH308","v":5.4711051930758856},{"$f":"Composite!G308","v":"Other"}]
[150,{"$f":"Composite!B389","v":"STK38 (NDR1)"},{"$f":"Composite!AH389","v":5.4333835410105564},{"$f":"Composite!G389","v":"AGC"}]
[151,{"$f":"Composite!B196","v":"LIMK1"},{"$f":"Composite!AH196","v":5.4197455213927697},{"$f":"Composite!G196","v":"TKL"}]
[152,{"$f":"Composite!B96","v":"CLK4"},{"$f":"Composite!AH96","v":5.3911900065746039},{"$f":"Composite!G96","v":"CMGC"}]
[153,{"$f":"Composite!B403","v":"TNK1"},{"$f":"Composite!AH403","v":5.2563681568701526},{"$f":"Composite!G403","v":"TK"}]
[154,{"$f":"Composite!B292","v":"PDGFRB (PDGFRβ)"},{"$f":"Composite!AH292","v":5.1903060431878316},{"$f":"Composite!G292","v":"TK"}]
[155,{"$f":"Composite!B244","v":"MARK3"},{"$f":"Composite!AH244","v":5.1431546069755427},{"$f":"Composite!G244","v":"CAMK"}]
[156,{"$f":"Composite!B227","v":"MAPK1 (ERK2)"},{"$f":"Composite!AH227","v":5.1228346981633166},{"$f":"Composite!G227","v":"CMGC"}]
[157,{"$f":"Composite!B279","v":"NTRK2 (TRKB)"},{"$f":"Composite!AH279","v":5.1159699853249379},{"$f":"Composite!G279","v":"TK"}]
[158,{"$f":"Composite!B198","v":"LRRK2"},{"$f":"Composite!AH198","v":4.9562918633127282},{"$f":"Composite!G198","v":"TKL"}]
[159,{"$f":"Composite!B294","v":"PDK2 (PDHK2)"},{"$f":"Composite!AH294","v":4.8391618848245912},{"$f":"Composite!G294","v":"Atypical"}]
[160,{"$f":"Composite!B146","v":"FES"},{"$f":"Composite!AH146","v":4.7751963440330485},{"$f":"Composite!G146","v":"TK"}]
[161,{"$f":"Composite!B152","v":"FLT1"},{"$f":"Composite!AH152","v":4.7456839823488224},{"$f":"Composite!G152","v":"TK"}]
[162,{"$f":"Composite!B246","v":"MAST3"},{"$f":"Composite!AH246","v":4.7063535773293665},{"$f":"Composite!G246","v":"AGC"}]
[163,{"$f":"Composite!B392","v":"SYK"},{"$f":"Composite!AH392","v":4.5294552378089321},{"$f":"Composite!G392","v":"TK"}]
[164,{"$f":"Composite!B416","v":"TYRO3"},{"$f":"Composite!AH416","v":4.5089189105636081},{"$f":"Composite!G416","v":"TK"}]
[165,{"$f":"Composite!B139","v":"EPHB4"},{"$f":"Composite!AH139","v":4.4786699316922238},{"$f":"Composite!G139","v":"TK"}]
[166,{"$f":"Composite!B181","v":"IRAK1"},{"$f":"Composite!AH181","v":4.3987997649024067},{"$f":"Composite!G181","v":"TKL"}]
[167,{"$f":"Composite!B138","v":"EPHB3"},{"$f":"Composite!AH138","v":4.3958361290569741},{"$f":"Composite!G138","v":"TK"}]
[168,{"$f":"Composite!B188","v":"JAK3 [JH1]"},{"$f":"Composite!AH188","v":4.3233166141417598},{"$f":"Composite!G188","v":"TK"}]
[169,{"$f":"Composite!B128","v":"EPHA1"},{"$f":"Composite!AH128","v":4.2898686081806687},{"$f":"Composite!G128","v":"TK"}]
[170,{"$f":"Composite!B411","v":"TTBK2"},{"$f":"Composite!AH411","v":4.2684043861715395},{"$f":"Composite!G411","v":"CK1"}]
[171,{"$f":"Composite!B33","v":"BLK"},{"$f":"Composite!AH33","v":4.2327158135981762},{"$f":"Composite!G33","v":"TK"}]
[172,{"$f":"Composite!B157","v":"FYNb (FYN)"},{"$f":"Composite!AH157","v":4.2091734275845596},{"$f":"Composite!G157","v":"TK"}]
[173,{"$f":"Composite!B316","v":"PRKAA1-B2-G1 (AMPKα1β2γ1)"},{"$f":"Composite!AH316","v":4.0542309000968544},{"$f":"Composite!G316","v":"CAMK"}]
[174,{"$f":"Composite!B163","v":"GRK5 (GPRK5)"},{"$f":"Composite!AH163","v":4.0215360949346177},{"$f":"Composite!G163","v":"AGC"}]
[175,{"$f":"Composite!B167","v":"GSK3B (GSK3β)"},{"$f":"Composite!AH167","v":3.9560746521412682},{"$f":"Composite!G167","v":"CMGC"}]
[176,{"$f":"Composite!B225","v":"MAP4K4 (HGK, ZC1)"},{"$f":"Composite!AH225","v":3.9190473528260696},{"$f":"Composite!G225","v":"STE"}]
[177,{"$f":"Composite!B29","v":"AURKC (AURC)"},{"$f":"Composite!AH29","v":3.8710457872134612},{"$f":"Composite!G29","v":"Other"}]
[178,{"$f":"Composite!B83","v":"CDK7/CycH/MAT1"},{"$f":"Composite!AH83","v":3.8455053165669284},{"$f":"Composite!G83","v":"CMGC"}]
[179,{"$f":"Composite!B236","v":"MAPK7 (BMK, ERK5)"},{"$f":"Composite!AH236","v":3.7955217968731745},{"$f":"Composite!G236","v":"CMGC"}]
[180,{"$f":"Composite!B286","v":"PAK4"},{"$f":"Composite!AH286","v":3.7709958068747937},{"$f":"Composite!G286","v":"STE"}]
[181,{"$f":"Composite!B217","v":"MAP3K5 (ASK1)"},{"$f":"Composite!AH217","v":3.6651074663982541},{"$f":"Composite!G217","v":"STE"}]
[182,{"$f":"Composite!B75","v":"CDK4 /CycD3"},{"$f":"Composite!AH75","v":3.6344217751181986},{"$f":"Composite!G75","v":"CMGC"}]
[183,{"$f":"Composite!B322","v":"PRKAA2-B2-G1 (AMPKα2β2γ1)"},{"$f":"Composite!AH322","v":3.4236027199279704},{"$f":"Composite!G322","v":"CAMK"}]
[184,{"$f":"Composite!B297","v":"PDPK1 (PDK1)"},{"$f":"Composite!AH297","v":3.3752166377816195},{"$f":"Composite!G297","v":"AGC"}]
[185,{"$f":"Composite!B134","v":"EPHA7"},{"$f":"Composite!AH134","v":3.3441116405718105},{"$f":"Composite!G134","v":"TK"}]
[186,{"$f":"Composite!B50","v":"CAMKK1"},{"$f":"Composite!AH50","v":3.3360363454803661},{"$f":"Composite!G50","v":"Other"}]
[187,{"$f":"Composite!B336","v":"PRKCQ (PKCᶿ [theta])"},{"$f":"Composite!AH336","v":3.333635714468457},{"$f":"Composite!G336","v":"AGC"}]
[188,{"$f":"Composite!B144","v":"FAM20C"},{"$f":"Composite!AH144","v":3.3010110531851922},{"$f":"Composite!G144","v":"Other"}]
[189,{"$f":"Composite!B254","v":"MNK1"},{"$f":"Composite!AH254","v":3.2754067490077432},{"$f":"Composite!G254","v":"CAMK"}]
[190,{"$f":"Composite!B277","v":"NLK (LAK1)"},{"$f":"Composite!AH277","v":3.2626645837982693},{"$f":"Composite!G277","v":"CMGC"}]
[191,{"$f":"Composite!B250","v":"MERTK (MER)"},{"$f":"Composite!AH250","v":3.2511158818168724},{"$f":"Composite!G250","v":"TK"}]
[192,{"$f":"Composite!B234","v":"MAPK3 (ERK1)"},{"$f":"Composite!AH234","v":3.1255824356059065},{"$f":"Composite!G234","v":"CAMK"}]
[193,{"$f":"Composite!B112","v":"DCLK2 (DCAMKL2)"},{"$f":"Composite!AH112","v":3.074994788832683},{"$f":"Composite!G112","v":"CAMK"}]
[194,{"$f":"Composite!B216","v":"MAP3K3 (MEKK3)"},{"$f":"Composite!AH216","v":3.0683771987832387},{"$f":"Composite!G216","v":"STE"}]
[195,{"$f":"Composite!B257","v":"mTOR (FRAP)"},{"$f":"Composite!AH257","v":3.058687898548115},{"$f":"Composite!G257","v":"Atypical"}]
[196,{"$f":"Composite!B156","v":"FYNa (FYN)"},{"$f":"Composite!AH156","v":3.0085273546037854},{"$f":"Composite!G156","v":"TK"}]
[197,{"$f":"Composite!B82","v":"CDK6/CycD3"},{"$f":"Composite!AH82","v":2.9824536625095703},{"$f":"Composite!G82","v":"CMGC"}]
[198,{"$f":"Composite!B135","v":"EPHA8"},{"$f":"Composite!AH135","v":2.9698194680509005},{"$f":"Composite!G135","v":"TK"}]
[199,{"$f":"Composite!B151","v":"FGR"},{"$f":"Composite!AH151","v":2.9635978167711841},{"$f":"Composite!G151","v":"TK"}]
[200,{"$f":"Composite!B161","v":"GRK3 (ADRBK2, BARK2)"},{"$f":"Composite!AH161","v":2.9558456799178572},{"$f":"Composite!G161","v":"AGC"}]
[201,{"$f":"Composite!B281","v":"NUAK1 (ARK5)"},{"$f":"Composite!AH281","v":2.9236623170023819},{"$f":"Composite!G281","v":"CAMK"}]
[202,{"$f":"Composite!B155","v":"FRK"},{"$f":"Composite!AH155","v":2.9106564352682938},{"$f":"Composite!G155","v":"TK"}]
[203,{"$f":"Composite!B348","v":"RAF1 [Y340E/Y341E]"},{"$f":"Composite!AH348","v":2.8134905089212765},{"$f":"Composite!G348","v":"TKL"}]
[204,{"$f":"Composite!B201","v":"LYNB (LYNb)"},{"$f":"Composite!AH201","v":2.7680603199402327},{"$f":"Composite!G201","v":"TK"}]
[205,{"$f":"Composite!B127","v":"EIF2AK4 (GCN2)"},{"$f":"Composite!AH127","v":2.7225034996140494},{"$f":"Composite!G127","v":"Other"}]
[206,{"$f":"Composite!B237","v":"MAPK8 (JNK1)"},{"$f":"Composite!AH237","v":2.5258414219084955},{"$f":"Composite!G237","v":"CMGC"}]
[207,{"$f":"Composite!B393","v":"TAOK1 (TAO1)"},{"$f":"Composite!AH393","v":2.521615692347396},{"$f":"Composite!G393","v":"STE"}]
[208,{"$f":"Composite!B121","v":"DYRK4"},{"$f":"Composite!AH121","v":2.4729200276561443},{"$f":"Composite!G121","v":"CMGC"}]
[209,{"$f":"Composite!B252","v":"MINK1 (MAP4K6, MINK, ZC3)"},{"$f":"Composite!AH252","v":2.4451517861840415},{"$f":"Composite!G252","v":"STE"}]
[210,{"$f":"Composite!B343","v":"PRKG2 (PKG2, PGK2, CGK2)"},{"$f":"Composite!AH343","v":2.4437451851397753},{"$f":"Composite!G343","v":"AGC"}]
[211,{"$f":"Composite!B184","v":"JAK1 [JH1]"},{"$f":"Composite!AH184","v":2.4405800363929586},{"$f":"Composite!G184","v":"TK"}]
[212,{"$f":"Composite!B136","v":"EPHB1"},{"$f":"Composite!AH136","v":2.3932945205965268},{"$f":"Composite!G136","v":"TK"}]
[213,{"$f":"Composite!B168","v":"HASPIN"},{"$f":"Composite!AH168","v":2.3902935193257946},{"$f":"Composite!G168","v":"Other"}]
[214,{"$f":"Composite!B272","v":"NEK6"},{"$f":"Composite!AH272","v":2.3779611331816568},{"$f":"Composite!G272","v":"Other"}]
[215,{"$f":"Composite!B171","v":"HIPK2"},{"$f":"Composite!AH171","v":2.3416381696792286},{"$f":"Composite!G171","v":"CMGC"}]
[216,{"$f":"Composite!B422","v":"ZAP70"},{"$f":"Composite!AH422","v":2.2971014492753312},{"$f":"Composite!G422","v":"TK"}]
[217,{"$f":"Composite!B22","v":"ABL2 (ARG)"},{"$f":"Composite!AH22","v":2.2906035375820153},{"$f":"Composite!G22","v":"TK"}]
[218,{"$f":"Composite!B398","v":"TEK (TIE2)"},{"$f":"Composite!AH398","v":2.2299192164413455},{"$f":"Composite!G398","v":"TK"}]
[219,{"$f":"Composite!B309","v":"PLK2"},{"$f":"Composite!AH309","v":2.1995301199269193},{"$f":"Composite!G309","v":"Other"}]
[220,{"$f":"Composite!B259","v":"MYLK (smMLCK)"},{"$f":"Composite!AH259","v":2.1531942498671555},{"$f":"Composite!G259","v":"CAMK"}]
[221,{"$f":"Composite!B177","v":"IKKB (IKKβ)"},{"$f":"Composite!AH177","v":2.1374304789831484},{"$f":"Composite!G177","v":"Other"}]
[222,{"$f":"Composite!B66","v":"CDK18 (PCTAIRE3, PCTK3)/CycY "},{"$f":"Composite!AH66","v":2.0752879545988776},{"$f":"Composite!G66","v":"CMGC"}]
[223,{"$f":"Composite!B148","v":"FGFR2"},{"$f":"Composite!AH148","v":2.06401709836652},{"$f":"Composite!G148","v":"TK"}]
[224,{"$f":"Composite!B24","v":"AKT2 (PKBb)"},{"$f":"Composite!AH24","v":2.0090913632049308},{"$f":"Composite!G24","v":"AGC"}]
[225,{"$f":"Composite!B312","v":"PNCK (CAMK1β)"},{"$f":"Composite!AH312","v":2.0083308539125255},{"$f":"Composite!G312","v":"CAMK"}]
[226,{"$f":"Composite!B330","v":"PRKCB2 (PKCβ2 [beta2])"},{"$f":"Composite!AH330","v":1.9906539588668579},{"$f":"Composite!G330","v":"AGC"}]
[227,{"$f":"Composite!B362","v":"RPS6KB1 (p70S6K)"},{"$f":"Composite!AH362","v":1.9606484688928845},{"$f":"Composite!G362","v":"AGC"}]
[228,{"$f":"Composite!B228","v":"MAPK10 (JNK3)"},{"$f":"Composite!AH228","v":1.9519350107187137},{"$f":"Composite!G228","v":"CMGC"}]
[229,{"$f":"Composite!B400","v":"TLK1"},{"$f":"Composite!AH400","v":1.6825894766861467},{"$f":"Composite!G400","v":"Other"}]
[230,{"$f":"Composite!B408","v":"TSSK3"},{"$f":"Composite!AH408","v":1.6231422241031765},{"$f":"Composite!G408","v":"CAMK"}]
[231,{"$f":"Composite!B413","v":"TXK"},{"$f":"Composite!AH413","v":1.6224078770699748},{"$f":"Composite!G413","v":"TK"}]
[232,{"$f":"Composite!B101","v":"CSNK1D (CK1D, CK1δ)"},{"$f":"Composite!AH101","v":1.5750207239568823},{"$f":"Composite!G101","v":"CK1"}]
[233,{"$f":"Composite!B197","v":"LIMK2"},{"$f":"Composite!AH197","v":1.5070281232807048},{"$f":"Composite!G197","v":"TKL"}]
[234,{"$f":"Composite!B98","v":"CSK"},{"$f":"Composite!AH98","v":1.387554485785671},{"$f":"Composite!G98","v":"TK"}]
[235,{"$f":"Composite!B364","v":"SBK1 (SBK)"},{"$f":"Composite!AH364","v":1.360669247689259},{"$f":"Composite!G364","v":"Other"}]
[236,{"$f":"Composite!B387","v":"STK3 (CLIK1, MST2)"},{"$f":"Composite!AH387","v":1.3362594489149018},{"$f":"Composite!G387","v":"STE"}]
[237,{"$f":"Composite!B261","v":"MYLK3 (caMLCK)"},{"$f":"Composite!AH261","v":1.292681018195907},{"$f":"Composite!G261","v":"CAMK"}]
[238,{"$f":"Composite!B288","v":"PAK6"},{"$f":"Composite!AH288","v":1.2625140943724915},{"$f":"Composite!G288","v":"STE"}]
[239,{"$f":"Composite!B337","v":"PRKCZ (PKCζ [zeta])"},{"$f":"Composite!AH337","v":1.1647768571013444},{"$f":"Composite!G337","v":"AGC"}]
[240,{"$f":"Composite!B27","v":"AURKA (AURA)"},{"$f":"Composite!AH27","v":1.1000873901197821},{"$f":"Composite!G27","v":"Other"}]
[241,{"$f":"Composite!B114","v":"DDR2"},{"$f":"Composite!AH114","v":1.0201938368290087},{"$f":"Composite!G114","v":"TK"}]
[242,{"$f":"Composite!B251","v":"MET (c-MET, HGFR)"},{"$f":"Composite!AH251","v":0.94505048818164994},{"$f":"Composite!G251","v":"TK"}]
[243,{"$f":"Composite!B319","v":"PRKAA2-B1-G1 (AMPKα2β1γ1)"},{"$f":"Composite!AH319","v":0.86775918971206067},{"$f":"Composite!G319","v":"CAMK"}]
[244,{"$f":"Composite!B150","v":"FGFR4"},{"$f":"Composite!AH150","v":0.82840236686392643},{"$f":"Composite!G150","v":"TK"}]
[245,{"$f":"Composite!B214","v":"MAP3K2 (MEKK2)"},{"$f":"Composite!AH214","v":0.82216611639799453},{"$f":"Composite!G214","v":"STE"}]
[246,{"$f":"Composite!B241","v":"MAPKAPK5 (MK5)"},{"$f":"Composite!AH241","v":0.80981951556086074},{"$f":"Composite!G241","v":"CAMK"}]
[247,{"$f":"Composite!B268","v":"NEK2"},{"$f":"Composite!AH268","v":0.68902278143745832},{"$f":"Composite!G268","v":"Other"}]
[248,{"$f":"Composite!B176","v":"IGF1R"},{"$f":"Composite!AH176","v":0.65185133863360534},{"$f":"Composite!G176","v":"TK"}]
[249,{"$f":"Composite!B295","v":"PDK3 (PDHK3)"},{"$f":"Composite!AH295","v":0.63228086022074592},{"$f":"Composite!G295","v":"Atypical"}]
[250,{"$f":"Composite!B137","v":"EPHB2"},{"$f":"Composite!AH137","v":0.62083677124628878},{"$f":"Composite!G137","v":"TK"}]
[251,{"$f":"Composite!B62","v":"CDK14 (PFTAIRE1, PFTK1)/CycY"},{"$f":"Composite!AH62","v":0.59242177249416272},{"$f":"Composite!G62","v":"CMGC"}]
[252,{"$f":"Composite!B353","v":"ROCK1"},{"$f":"Composite!AH353","v":0.57385527310339057},{"$f":"Composite!G353","v":"AGC"}]
[253,{"$f":"Composite!B395","v":"TAOK3 (TAO3)"},{"$f":"Composite!AH395","v":0.55193176116405596},{"$f":"Composite!G395","v":"STE"}]
[254,{"$f":"Composite!B149","v":"FGFR3"},{"$f":"Composite!AH149","v":0.49733248937513963},{"$f":"Composite!G149","v":"TK"}]
[255,{"$f":"Composite!B64","v":"CDK17 (PCTAIRE2, PCTK2)/CycY"},{"$f":"Composite!AH64","v":0.47927636019980469},{"$f":"Composite!G64","v":"CMGC"}]
[256,{"$f":"Composite!B130","v":"EPHA3"},{"$f":"Composite!AH130","v":0.40570496465767292},{"$f":"Composite!G130","v":"TK"}]
[257,{"$f":"Composite!B287","v":"PAK5 (PAK7)"},{"$f":"Composite!AH287","v":0.34353085864975696},{"$f":"Composite!G287","v":"STE"}]
[258,{"$f":"Composite!B418","v":"ULK2"},{"$f":"Composite!AH418","v":0.30992463196450615},{"$f":"Composite!G418","v":"Other"}]
[259,{"$f":"Composite!B357","v":"RPS6KA2 (RSK3)"},{"$f":"Composite!AH357","v":0.25665887184167957},{"$f":"Composite!G357","v":"AGC"}]
[260,{"$f":"Composite!B346","v":"PTK2B (PYK2)"},{"$f":"Composite!AH346","v":0.24761216290887944},{"$f":"Composite!G346","v":"TK"}]
[261,{"$f":"Composite!B113","v":"DDR1 [SRC treated]"},{"$f":"Composite!AH113","v":0.12960736665492334},{"$f":"Composite!G113","v":"TK"}]
[262,{"$f":"Composite!B282","v":"NUAK2 (SNARK)"},{"$f":"Composite!AH282","v":3.1661016054769675E-2},{"$f":"Composite!G282","v":"CAMK"}]
[263,{"$f":"Composite!B60","v":"CDK12 (CRK7)/CycK"},{"$f":"Composite!AH60","v":0},{"$f":"Composite!G60","v":"CMGC"}]
[264,{"$f":"Composite!B69","v":"CDK2/CycD1"},{"$f":"Composite!AH69","v":0},{"$f":"Composite!G69","v":"CMGC"}]
[265,{"$f":"Composite!B206","v":"MAP2K4 (MEK4)"},{"$f":"Composite!AH206","v":0},{"$f":"Composite!G206","v":"STE"}]
[266,{"$f":"Composite!B235","v":"MAPK6 (ERK3)"},{"$f":"Composite!AH235","v":0},{"$f":"Composite!G235","v":"CMGC"}]
[267,{"$f":"Composite!B274","v":"NEK8"},{"$f":"Composite!AH274","v":0},{"$f":"Composite!G274","v":"Other"}]
[268,{"$f":"Composite!B415","v":"TYK2 [JH1-JH2]"},{"$f":"Composite!AH415","v":0},{"$f":"Composite!G415","v":"TK"}]
[269,{"$f":"Composite!B420","v":"WEE1"},{"$f":"Composite!AH420","v":0},{"$f":"Composite!G420","v":"Other"}]
[270,{"$f":"Composite!B376","v":"SRPK1"},{"$f":"Composite!AH376","v":-2.2234080398447986E-2},{"$f":"Composite!G376","v":"CMGC"}]
[271,{"$f":"Composite!B240","v":"MAPKAPK3 (MK3)"},{"$f":"Composite!AH240","v":-2.7620494406860985E-2},{"$f":"Composite!G240","v":"CAMK"}]
[272,{"$f":"Composite!B95","v":"CLK3"},{"$f":"Composite!AH95","v":-5.7544642054324413E-2},{"$f":"Composite!G95","v":"CMGC"}]
[273,{"$f":"Composite!B243","v":"MARK2"},{"$f":"Composite!AH243","v":-7.7561702717687808E-2},{"$f":"Composite!G243","v":"CAMK"}]
[274,{"$f":"Composite!B105","v":"CSNK1G3 (CK1G3, CK1γ3)"},{"$f":"Composite!AH105","v":-0.12417031652142896},{"$f":"Composite!G105","v":"CK1"}]
[275,{"$f":"Composite!B239","v":"MAPKAPK2 (MK2)"},{"$f":"Composite!AH239","v":-0.17697860006677502},{"$f":"Composite!G239","v":"CAMK"}]
[276,{"$f":"Composite!B194","v":"LATS2"},{"$f":"Composite!AH194","v":-0.17834172940233373},{"$f":"Composite!G194","v":"AGC"}]
[277,{"$f":"Composite!B379","v":"STK10 (LOK)"},{"$f":"Composite!AH379","v":-0.22568182687525962},{"$f":"Composite!G379","v":"STE"}]
[278,{"$f":"Composite!B245","v":"MARK4"},{"$f":"Composite!AH245","v":-0.23112629125766659},{"$f":"Composite!G245","v":"CAMK"}]
[279,{"$f":"Composite!B147","v":"FGFR1"},{"$f":"Composite!AH147","v":-0.27949627861696058},{"$f":"Composite!G147","v":"TK"}]
[280,{"$f":"Composite!B23","v":"AKT1 (PKB)"},{"$f":"Composite!AH23","v":-0.31170373302330745},{"$f":"Composite!G23","v":"AGC"}]
[281,{"$f":"Composite!B318","v":"PRKAA1-B2-G3 (AMPKα1β2γ3)"},{"$f":"Composite!AH318","v":-0.33967675024014454},{"$f":"Composite!G318","v":"CAMK"}]
[282,{"$f":"Composite!B273","v":"NEK7"},{"$f":"Composite!AH273","v":-0.34136165370757965},{"$f":"Composite!G273","v":"Other"}]
[283,{"$f":"Composite!B267","v":"NEK11"},{"$f":"Composite!AH267","v":-0.35105436533699219},{"$f":"Composite!G267","v":"Other"}]
[284,{"$f":"Composite!B73","v":"CDK3/CycE1"},{"$f":"Composite!AH73","v":-0.52716950527168649},{"$f":"Composite!G73","v":"CMGC"}]
[285,{"$f":"Composite!B109","v":"DAPK2 (DRP-1)"},{"$f":"Composite!AH109","v":-0.68591198139901621},{"$f":"Composite!G109","v":"CAMK"}]
[286,{"$f":"Composite!B120","v":"DYRK3"},{"$f":"Composite!AH120","v":-0.70734531541056356},{"$f":"Composite!G120","v":"CMGC"}]
[287,{"$f":"Composite!B122","v":"EEF2K (eEF2K)"},{"$f":"Composite!AH122","v":-0.80998248686516661},{"$f":"Composite!G122","v":"Atypical"}]
[288,{"$f":"Composite!B175","v":"ICK"},{"$f":"Composite!AH175","v":-0.8412313939114},{"$f":"Composite!G175","v":"CMGC"}]
[289,{"$f":"Composite!B39","v":"BRSK2"},{"$f":"Composite!AH39","v":-0.86442740786203842},{"$f":"Composite!G39","v":"CAMK"}]
[290,{"$f":"Composite!B378","v":"SRPK3 (MSSK1)"},{"$f":"Composite!AH378","v":-0.92862233988394394},{"$f":"Composite!G378","v":"CMGC"}]
[291,{"$f":"Composite!B369","v":"SIK2 (QIK)"},{"$f":"Composite!AH369","v":-0.97364468114163571},{"$f":"Composite!G369","v":"CAMK"}]
[292,{"$f":"Composite!B373","v":"SRC"},{"$f":"Composite!AH373","v":-0.98224569180952415},{"$f":"Composite!G373","v":"TK"}]
[293,{"$f":"Composite!B117","v":"DYRK1A"},{"$f":"Composite!AH117","v":-1.0350542312188082},{"$f":"Composite!G117","v":"CMGC"}]
[294,{"$f":"Composite!B108","v":"DAPK1"},{"$f":"Composite!AH108","v":-1.0506370625888053},{"$f":"Composite!G108","v":"CAMK"}]
[295,{"$f":"Composite!B38","v":"BRSK1"},{"$f":"Composite!AH38","v":-1.0944623670248035},{"$f":"Composite!G38","v":"CAMK"}]
[296,{"$f":"Composite!B328","v":"PRKCA (PKCα [alpha])"},{"$f":"Composite!AH328","v":-1.1249861810071593},{"$f":"Composite!G328","v":"AGC"}]
[297,{"$f":"Composite!B37","v":"BRAF, b-[V600E]"},{"$f":"Composite!AH37","v":-1.1819340421446043},{"$f":"Composite!G37","v":"TKL"}]
[298,{"$f":"Composite!B221","v":"MAP3K9 (MLK1)"},{"$f":"Composite!AH221","v":-1.3160269682009016},{"$f":"Composite!G221","v":"TKL"}]
[299,{"$f":"Composite!B20","v":"AAK1"},{"$f":"Composite!AH20","v":-1.3271044722825422},{"$f":"Composite!G20","v":"Other"}]
[300,{"$f":"Composite!B299","v":"PHKG2"},{"$f":"Composite!AH299","v":-1.4253471485989166},{"$f":"Composite!G299","v":"CAMK"}]
[301,{"$f":"Composite!B104","v":"CSNK1G2 (CK1G2, CK1γ2)"},{"$f":"Composite!AH104","v":-1.5520404981034517},{"$f":"Composite!G104","v":"CK1"}]
[302,{"$f":"Composite!B386","v":"STK26 (MST4)"},{"$f":"Composite!AH386","v":-1.6210743685443134},{"$f":"Composite!G386","v":"STE"}]
[303,{"$f":"Composite!B284","v":"PAK2"},{"$f":"Composite!AH284","v":-1.6542597187758616},{"$f":"Composite!G284","v":"STE"}]
[304,{"$f":"Composite!B285","v":"PAK3"},{"$f":"Composite!AH285","v":-1.6905403036917761},{"$f":"Composite!G285","v":"STE"}]
[305,{"$f":"Composite!B190","v":"KIT (SCFR, CD117)"},{"$f":"Composite!AH190","v":-1.751721344673939},{"$f":"Composite!G190","v":"TK"}]
[306,{"$f":"Composite!B193","v":"LATS1"},{"$f":"Composite!AH193","v":-1.8308750556106617},{"$f":"Composite!G193","v":"AGC"}]
[307,{"$f":"Composite!B391","v":"STK4 (MST1)"},{"$f":"Composite!AH391","v":-1.8441871430816832},{"$f":"Composite!G391","v":"STE"}]
[308,{"$f":"Composite!B329","v":"PRKCB1 (PKCβ1 [beta1])"},{"$f":"Composite!AH329","v":-1.88706254010566},{"$f":"Composite!G329","v":"AGC"}]
[309,{"$f":"Composite!B220","v":"MAP3K8 (COT, Tpl2)"},{"$f":"Composite!AH220","v":-1.8955761930909176},{"$f":"Composite!G220","v":"STE"}]
[310,{"$f":"Composite!B382","v":"STK17A (DRAK1)"},{"$f":"Composite!AH382","v":-1.9167981217212713},{"$f":"Composite!G382","v":"CAMK"}]
[311,{"$f":"Composite!B63","v":"CDK16 (PCTAIRE1, PCTK1)/CycY "},{"$f":"Composite!AH63","v":-1.925569056730339},{"$f":"Composite!G63","v":"CMGC"}]
[312,{"$f":"Composite!B110","v":"DAPK3 (ZIPK)"},{"$f":"Composite!AH110","v":-1.9858738902947835},{"$f":"Composite!G110","v":"CAMK"}]
[313,{"$f":"Composite!B371","v":"SLK"},{"$f":"Composite!AH371","v":-1.9940179461614917},{"$f":"Composite!G371","v":"STE"}]
[314,{"$f":"Composite!B278","v":"NTRK1 (TRKA)"},{"$f":"Composite!AH278","v":-2.1343803393255882},{"$f":"Composite!G278","v":"TK"}]
[315,{"$f":"Composite!B276","v":"NIM1 (NIM1K)"},{"$f":"Composite!AH276","v":-2.1458568287834225},{"$f":"Composite!G276","v":"CAMK"}]
[316,{"$f":"Composite!B368","v":"SIK1 (SIK)"},{"$f":"Composite!AH368","v":-2.2280940299135352},{"$f":"Composite!G368","v":"CAMK"}]
[317,{"$f":"Composite!B173","v":"HIPK4"},{"$f":"Composite!AH173","v":-2.3484522332244353},{"$f":"Composite!G173","v":"CMGC"}]
[318,{"$f":"Composite!B365","v":"SGK1 (SGK)"},{"$f":"Composite!AH365","v":-2.4537371366672858},{"$f":"Composite!G365","v":"AGC"}]
[319,{"$f":"Composite!B325","v":"PRKACA (PKACA, PKACα)"},{"$f":"Composite!AH325","v":-2.4629635309634068},{"$f":"Composite!G325","v":"AGC"}]
[320,{"$f":"Composite!B49","v":"CAMK4"},{"$f":"Composite!AH49","v":-2.4830364050413891},{"$f":"Composite!G49","v":"CAMK"}]
[321,{"$f":"Composite!B374","v":"SRC N1"},{"$f":"Composite!AH374","v":-2.6948399938753482},{"$f":"Composite!G374","v":"TK"}]
[322,{"$f":"Composite!B132","v":"EPHA5"},{"$f":"Composite!AH132","v":-2.698257696458839},{"$f":"Composite!G132","v":"TK"}]
[323,{"$f":"Composite!B153","v":"FLT3"},{"$f":"Composite!AH153","v":-2.7117923856384891},{"$f":"Composite!G153","v":"TK"}]
[324,{"$f":"Composite!B70","v":"CDK2/CycE1"},{"$f":"Composite!AH70","v":-2.8015564202334389},{"$f":"Composite!G70","v":"CMGC"}]
[325,{"$f":"Composite!B263","v":"MYO3A"},{"$f":"Composite!AH263","v":-2.8096092779235278},{"$f":"Composite!G263","v":"STE"}]
[326,{"$f":"Composite!B349","v":"RET"},{"$f":"Composite!AH349","v":-2.859447962252176},{"$f":"Composite!G349","v":"TK"}]
[327,{"$f":"Composite!B249","v":"MELK"},{"$f":"Composite!AH249","v":-2.9529222203241972},{"$f":"Composite!G249","v":"CAMK"}]
[328,{"$f":"Composite!B289","v":"PASK"},{"$f":"Composite!AH289","v":-3.0307438657744115},{"$f":"Composite!G289","v":"CAMK"}]
[329,{"$f":"Composite!B208","v":"MAP3K10 (MLK2)"},{"$f":"Composite!AH208","v":-3.0825743254855098},{"$f":"Composite!G208","v":"TKL"}]
[330,{"$f":"Composite!B327","v":"PRKACG (PKACG, PKACg)"},{"$f":"Composite!AH327","v":-3.1788314686556589},{"$f":"Composite!G327","v":"AGC"}]
[331,{"$f":"Composite!B178","v":"IKKE (IKKe)"},{"$f":"Composite!AH178","v":-3.2541913985213},{"$f":"Composite!G178","v":"Other"}]
[332,{"$f":"Composite!B55","v":"CDC7/DBF4 (CDC7)"},{"$f":"Composite!AH55","v":-3.2913143252334294},{"$f":"Composite!G55","v":"Other"}]
[333,{"$f":"Composite!B399","v":"TESK2"},{"$f":"Composite!AH399","v":-3.3149171270718512},{"$f":"Composite!G399","v":"TKL"}]
[334,{"$f":"Composite!B341","v":"PRKDC (DNA-PK)"},{"$f":"Composite!AH341","v":-3.3678675388901098},{"$f":"Composite!G341","v":"Atypical"}]
[335,{"$f":"Composite!B106","v":"CSNK2A1 (CK2A1, CK2α1)"},{"$f":"Composite!AH106","v":-3.5079255685733983},{"$f":"Composite!G106","v":"Other"}]
[336,{"$f":"Composite!B154","v":"FLT4"},{"$f":"Composite!AH154","v":-3.5221016709055988},{"$f":"Composite!G154","v":"TK"}]
[337,{"$f":"Composite!B90","v":"CHEK2 (CHK2)"},{"$f":"Composite!AH90","v":-3.6539919151086906},{"$f":"Composite!G90","v":"CAMK"}]
[338,{"$f":"Composite!B358","v":"RPS6KA3 (RSK2)"},{"$f":"Composite!AH358","v":-3.8354750924507641},{"$f":"Composite!G358","v":"AGC"}]
[339,{"$f":"Composite!B116","v":"DSTYK (RIPK5, SGK496)"},{"$f":"Composite!AH116","v":-3.8630800121021878},{"$f":"Composite!G116","v":"TKL"}]
[340,{"$f":"Composite!B302","v":"PIM3"},{"$f":"Composite!AH302","v":-4.0369399054087296},{"$f":"Composite!G302","v":"CAMK"}]
[341,{"$f":"Composite!B293","v":"PDK1 (PDHK1)"},{"$f":"Composite!AH293","v":-4.3206139765860172},{"$f":"Composite!G293","v":"Atypical"}]
[342,{"$f":"Composite!B158","v":"GAK"},{"$f":"Composite!AH158","v":-4.3856375037324682},{"$f":"Composite!G158","v":"Other"}]
[343,{"$f":"Composite!B262","v":"MYLK4 (SgK085)"},{"$f":"Composite!AH262","v":-4.4269248608833891},{"$f":"Composite!G262","v":"CAMK"}]
[344,{"$f":"Composite!B255","v":"MNK2"},{"$f":"Composite!AH255","v":-4.4833577842286445},{"$f":"Composite!G255","v":"CAMK"}]
[345,{"$f":"Composite!B320","v":"PRKAA2-B1-G2 (AMPKα2β1γ2)"},{"$f":"Composite!AH320","v":-4.5837328916397837},{"$f":"Composite!G320","v":"CAMK"}]
[346,{"$f":"Composite!B366","v":"SGK2"},{"$f":"Composite!AH366","v":-4.5954366842618128},{"$f":"Composite!G366","v":"AGC"}]
[347,{"$f":"Composite!B307","v":"PKN3"},{"$f":"Composite!AH307","v":-4.5991399954008756},{"$f":"Composite!G307","v":"AGC"}]
[348,{"$f":"Composite!B32","v":"BCR RET (fusion)"},{"$f":"Composite!AH32","v":-4.9458040306143261},{"$f":"Composite!G32","v":"TK"}]
[349,{"$f":"Composite!B383","v":"STK17B (DRAK2)"},{"$f":"Composite!AH383","v":-5.27588310824963},{"$f":"Composite!G383","v":"CAMK"}]
[350,{"$f":"Composite!B260","v":"MYLK2 (skMLCK)"},{"$f":"Composite!AH260","v":-5.2807263502236168},{"$f":"Composite!G260","v":"CAMK"}]
[351,{"$f":"Composite!B118","v":"DYRK1B"},{"$f":"Composite!AH118","v":-5.3079793153105754},{"$f":"Composite!G118","v":"CMGC"}]
[352,{"$f":"Composite!B356","v":"RPS6KA1 (RSK1)"},{"$f":"Composite!AH356","v":-5.315437625668082},{"$f":"Composite!G356","v":"AGC"}]
[353,{"$f":"Composite!B142","v":"ERN1 (IRE1)"},{"$f":"Composite!AH142","v":-5.3404331697977625},{"$f":"Composite!G142","v":"Other"}]
[354,{"$f":"Composite!B34","v":"BMP2K (BIKE)"},{"$f":"Composite!AH34","v":-5.5009519888848928},{"$f":"Composite!G34","v":"Other"}]
[355,{"$f":"Composite!B247","v":"MASTL"},{"$f":"Composite!AH247","v":-5.5747346167686374},{"$f":"Composite!G247","v":"AGC"}]
[356,{"$f":"Composite!B311","v":"PLK4"},{"$f":"Composite!AH311","v":-5.5784567961640192},{"$f":"Composite!G311","v":"Other"}]
[357,{"$f":"Composite!B53","v":"CDC42BPB (MRCKB)"},{"$f":"Composite!AH53","v":-5.8963148032479751},{"$f":"Composite!G53","v":"AGC"}]
[358,{"$f":"Composite!B88","v":"CDKL5"},{"$f":"Composite!AH88","v":-5.92188802667863},{"$f":"Composite!G88","v":"CMGC"}]
[359,{"$f":"Composite!B354","v":"ROCK2"},{"$f":"Composite!AH354","v":-6.2076068042189121},{"$f":"Composite!G354","v":"AGC"}]
[360,{"$f":"Composite!B331","v":"PRKCD (PKCδ [delta])"},{"$f":"Composite!AH331","v":-6.3005066986270606},{"$f":"Composite!G331","v":"AGC"}]
[361,{"$f":"Composite!B304","v":"PKMYT1 (MYT1)"},{"$f":"Composite!AH304","v":-6.339165545087468},{"$f":"Composite!G304","v":"Other"}]
[362,{"$f":"Composite!B404","v":"TNK2 (ACK)"},{"$f":"Composite!AH404","v":-6.4035057130569157},{"$f":"Composite!G404","v":"TK"}]
[363,{"$f":"Composite!B344","v":"PRKX"},{"$f":"Composite!AH344","v":-6.5303946211318475},{"$f":"Composite!G344","v":"AGC"}]
[364,{"$f":"Composite!B412","v":"TTK"},{"$f":"Composite!AH412","v":-6.6098851257515889},{"$f":"Composite!G412","v":"Other"}]
[365,{"$f":"Composite!B266","v":"NEK10"},{"$f":"Composite!AH266","v":-6.7197232525820141},{"$f":"Composite!G266","v":"Other"}]
[366,{"$f":"Composite!B94","v":"CLK2"},{"$f":"Composite!AH94","v":-6.8186455995102193},{"$f":"Composite!G94","v":"CMGC"}]
[367,{"$f":"Composite!B363","v":"RPS6KB2 (p70S6KB)"},{"$f":"Composite!AH363","v":-6.8385724729181874},{"$f":"Composite!G363","v":"AGC"}]
[368,{"$f":"Composite!B421","v":"YES1 (YES)"},{"$f":"Composite!AH421","v":-6.9441099848945811},{"$f":"Composite!G421","v":"TK"}]
[369,{"$f":"Composite!B313","v":"PRKAA1-B1-G1 (AMPKα1β1γ1)"},{"$f":"Composite!AH313","v":-6.9466487608350462},{"$f":"Composite!G313","v":"CAMK"}]
[370,{"$f":"Composite!B28","v":"AURKB (AURB)"},{"$f":"Composite!AH28","v":-7.0405696452903186},{"$f":"Composite!G28","v":"Other"}]
[371,{"$f":"Composite!B306","v":"PKN2"},{"$f":"Composite!AH306","v":-7.5983173034963016},{"$f":"Composite!G306","v":"AGC"}]
[372,{"$f":"Composite!B164","v":"GRK6 (GPRK6)"},{"$f":"Composite!AH164","v":-7.667645160618747},{"$f":"Composite!G164","v":"AGC"}]
[373,{"$f":"Composite!B326","v":"PRKACB (PKACB, PKACβ)"},{"$f":"Composite!AH326","v":-7.7195134125297784},{"$f":"Composite!G326","v":"AGC"}]
[374,{"$f":"Composite!B203","v":"MAP2K1 (MEK1)"},{"$f":"Composite!AH203","v":-7.7818672603095962},{"$f":"Composite!G203","v":"STE"}]
[375,{"$f":"Composite!B102","v":"CSNK1E (CK1E, CK1ε)"},{"$f":"Composite!AH102","v":-7.7931114461324285},{"$f":"Composite!G102","v":"CK1"}]
[376,{"$f":"Composite!B182","v":"IRAK4"},{"$f":"Composite!AH182","v":-7.8325301434313133},{"$f":"Composite!G182","v":"TKL"}]
[377,{"$f":"Composite!B174","v":"HUNK"},{"$f":"Composite!AH174","v":-7.9780197947329157},{"$f":"Composite!G174","v":"CAMK"}]
[378,{"$f":"Composite!B275","v":"NEK9"},{"$f":"Composite!AH275","v":-8.1431028087803554},{"$f":"Composite!G275","v":"Other"}]
[379,{"$f":"Composite!B296","v":"PDK4 (PDHK4)"},{"$f":"Composite!AH296","v":-8.2237084627942636},{"$f":"Composite!G296","v":"Atypical"}]
[380,{"$f":"Composite!B92","v":"CIT (CRIK)"},{"$f":"Composite!AH92","v":-8.3781387152173608},{"$f":"Composite!G92","v":"AGC"}]
[381,{"$f":"Composite!B361","v":"RPS6KA6 (RSK4)"},{"$f":"Composite!AH361","v":-8.4627401968442655},{"$f":"Composite!G361","v":"AGC"}]
[382,{"$f":"Composite!B334","v":"PRKCH (PKCη [eta])"},{"$f":"Composite!AH334","v":-9.2462580258050195},{"$f":"Composite!G334","v":"AGC"}]
[383,{"$f":"Composite!B394","v":"TAOK2 (TAO2)"},{"$f":"Composite!AH394","v":-9.3893129770992516},{"$f":"Composite!G394","v":"STE"}]
[384,{"$f":"Composite!B258","v":"MUSK"},{"$f":"Composite!AH258","v":-9.69609652388813},{"$f":"Composite!G258","v":"TK"}]
[385,{"$f":"Composite!B229","v":"MAPK11 (p38b)"},{"$f":"Composite!AH229","v":-9.9094153170464097},{"$f":"Composite!G229","v":"CMGC"}]
[386,{"$f":"Composite!B103","v":"CSNK1G1 (CK1G1, CK1γ1)"},{"$f":"Composite!AH103","v":-10.322274545277196},{"$f":"Composite!G103","v":"CK1"}]
[387,{"$f":"Composite!B219","v":"MAP3K7 (TAK1)"},{"$f":"Composite!AH219","v":-10.871588089330061},{"$f":"Composite!G219","v":"STE"}]
[388,{"$f":"Composite!B160","v":"GRK2 (ADRBK1, BARK1)"},{"$f":"Composite!AH160","v":-12.855418282690792},{"$f":"Composite!G160","v":"AGC"}]
[389,{"$f":"Composite!B381","v":"STK16 (MPSK1, PKL12, TSF1)"},{"$f":"Composite!AH381","v":-13.588960704230914},{"$f":"Composite!G381","v":"Other"}]
[390,{"$f":"Composite!B332","v":"PRKCE (PKCe [epsilon])"},{"$f":"Composite!AH332","v":-13.802733571994409},{"$f":"Composite!G332","v":"AGC"}]
[391,{"$f":"Composite!B388","v":"STK33"},{"$f":"Composite!AH388","v":-14.559206168472713},{"$f":"Composite!G388","v":"CAMK"}]
[392,{"$f":"Composite!B79","v":"CDK5/p35NCK"},{"$f":"Composite!AH79","v":-14.921579232017308},{"$f":"Composite!G79","v":"CMGC"}]
[393,{"$f":"Composite!B414","v":"TYK2 [JH1]"},{"$f":"Composite!AH414","v":-15.519647299128351},{"$f":"Composite!G414","v":"TK"}]
[394,{"$f":"Composite!B223","v":"MAP4K2 (GCK)"},{"$f":"Composite!AH223","v":-15.730098389982118},{"$f":"Composite!G223","v":"STE"}]
[395,{"$f":"Composite!B280","v":"NTRK3 (TRKC)"},{"$f":"Composite!AH280","v":-17.455667199694517},{"$f":"Composite!G280","v":"TK"}]
[396,{"$f":"Composite!B36","v":"BRAF (BRAF1, RAFB1)"},{"$f":"Composite!AH36","v":-17.667156952871238},{"$f":"Composite!G36","v":"TKL"}]
[397,{"$f":"Composite!B31","v":"BCKDK"},{"$f":"Composite!AH31","v":-19.85229338881706},{"$f":"Composite!G31","v":"Atypical"}]
[398,{"$f":"Composite!B419","v":"ULK3"},{"$f":"Composite!AH419","v":-20.424999999999983},{"$f":"Composite!G419","v":"Other"}]
[399,{"$f":"Composite!B338","v":"PRKD1 (PKD1)"},{"$f":"Composite!AH338","v":-24.056727654731674},{"$f":"Composite!G338","v":"CAMK"}]
[400,{"$f":"Composite!B231","v":"MAPK13 (p38δ)"},{"$f":"Composite!AH231","v":-24.783696645974644},{"$f":"Composite!G231","v":"CMGC"}]
[401,{"$f":"Composite!B218","v":"MAP3K6 (ASK2)"},{"$f":"Composite!AH218","v":-25.124686634120579},{"$f":"Composite!G218","v":"STE"}]
[402,{"$f":"Composite!B333","v":"PRKCG (PKCγ [gamma])"},{"$f":"Composite!AH333","v":-29.689317796044435},{"$f":"Composite!G333","v":"AGC"}]
[403,{"$f":"Composite!B340","v":"PRKD3 (PKD3)"},{"$f":"Composite!AH340","v":-64.985286193890715},{"$f":"Composite!G340","v":"CAMK"}]

{"sheet":"Compound 13 Kinome Tree","index":29,"n_rows":6,"n_cols":27,"rows_kept":6,"cut":false,"hidden":false,"merged":[[1,1,3,20]]}
[]
[null,{"$f":"Summary!AC22","v":"Kinome Hit View for Afatinib  (0.0005 µM) with 396 Kinases (Coral Names) at  ATP Km "}]
[null,null,null,null,null,null,null,null,null,null,null,null,null,null,null,null,null,null,null,null,null,null,null,null,null,null,"Kinome Hit View for VVVVVVVVVVVVVVVVVVVVVVVVVVV (VVVVV µM) with VVV Kinases (Coral Names)"]
[null,null,null,null,null,null,null,null,null,null,null,null,null,null,null,null,null,null,null,null,null,null,null,null,null,null,{"$f":"REPLACE(AA3,65,3,Summary!E22)","v":"Kinome Hit View for VVVVVVVVVVVVVVVVVVVVVVVVVVV (VVVVV µM) with 396 Kinases (Coral Names)"}]
[null,null,null,null,null,null,null,null,null,null,null,null,null,null,null,null,null,null,null,null,null,null,null,null,null,null,{"$f":"REPLACE(AA4,50,5,Summary!D22)","v":"Kinome Hit View for VVVVVVVVVVVVVVVVVVVVVVVVVVV (0.0005 µM) with 396 Kinases (Coral Names)"}]
[null,null,null,null,null,null,null,null,null,null,null,null,null,null,null,null,null,null,null,null,null,null,null,null,null,null,{"$f":"REPLACE(AA5,21,27,Summary!C22)","v":"Kinome Hit View for Afatinib  (0.0005 µM) with 396 Kinases (Coral Names)"}]

{"sheet":"Compound 14","index":30,"n_rows":405,"n_cols":27,"rows_kept":405,"cut":false,"hidden":false,"merged":[]}
[]
["Panel #","Kinase Target",{"$f":"Summary!AB23","v":"1 µM Lapatinib , % inhibition at 1 mM"},{"$f":"Composite!G19","v":"Group"}]
[1,{"$f":"Composite!B123","v":"EGFR (ERBB1)"},{"$f":"Composite!AJ123","v":96.651485386175139},{"$f":"Composite!G123","v":"TK"},null,null,null,null,null,null,null,null,null,null,null,null,null,null,null,null,null,null,null,null,null,null,"VVVVV μM VVVVVVVVVVVVVVVVVVVVVVVVVVV, % inhibition"]
[2,{"$f":"Composite!B140","v":"ERBB2 (HER2)"},{"$f":"Composite!AJ140","v":88.053713241310575},{"$f":"Composite!G140","v":"TK"},null,null,null,null,null,null,null,null,null,null,null,null,null,null,null,null,null,null,null,null,null,null,{"$f":"REPLACE(AA3,10,27,Summary!C23)","v":"VVVVV μM Lapatinib , % inhibition"}]
[3,{"$f":"Composite!B141","v":"ERBB4 (HER4)"},{"$f":"Composite!AJ141","v":37.518465914871634},{"$f":"Composite!G141","v":"TK"},null,null,null,null,null,null,null,null,null,null,null,null,null,null,null,null,null,null,null,null,null,null,{"$f":"REPLACE(AA4,1,5,Summary!D23)","v":"1 μM Lapatinib , % inhibition"}]
[4,{"$f":"Composite!B162","v":"GRK4 (GPRK4)"},{"$f":"Composite!AJ162","v":25.700867741012686},{"$f":"Composite!G162","v":"AGC"}]
[5,{"$f":"Composite!B178","v":"IKKE (IKKe)"},{"$f":"Composite!AJ178","v":25.226966757568448},{"$f":"Composite!G178","v":"Other"}]
[6,{"$f":"Composite!B51","v":"CAMKK2"},{"$f":"Composite!AJ51","v":23.847737490021416},{"$f":"Composite!G51","v":"Other"}]
[7,{"$f":"Composite!B293","v":"PDK1 (PDHK1)"},{"$f":"Composite!AJ293","v":23.601928325322518},{"$f":"Composite!G293","v":"Atypical"}]
[8,{"$f":"Composite!B360","v":"RPS6KA5 (MSK1)"},{"$f":"Composite!AJ360","v":21.993475897064158},{"$f":"Composite!G360","v":"AGC"}]
[9,{"$f":"Composite!B38","v":"BRSK1"},{"$f":"Composite!AJ38","v":20.252993759487268},{"$f":"Composite!G38","v":"CAMK"}]
[10,{"$f":"Composite!B273","v":"NEK7"},{"$f":"Composite!AJ273","v":19.29842768927405},{"$f":"Composite!G273","v":"Other"}]
[11,{"$f":"Composite!B67","v":"CDK2/CycA1"},{"$f":"Composite!AJ67","v":19.254829384683589},{"$f":"Composite!G67","v":"CMGC"}]
[12,{"$f":"Composite!B115","v":"DMPK (DMPK1)"},{"$f":"Composite!AJ115","v":18.922917826744097},{"$f":"Composite!G115","v":"AGC"}]
[13,{"$f":"Composite!B54","v":"CDC42BPG (DMPK2)"},{"$f":"Composite!AJ54","v":18.481747365205436},{"$f":"Composite!G54","v":"AGC"}]
[14,{"$f":"Composite!B382","v":"STK17A (DRAK1)"},{"$f":"Composite!AJ382","v":18.125973351790989},{"$f":"Composite!G382","v":"CAMK"}]
[15,{"$f":"Composite!B164","v":"GRK6 (GPRK6)"},{"$f":"Composite!AJ164","v":17.897338248997286},{"$f":"Composite!G164","v":"AGC"}]
[16,{"$f":"Composite!B57","v":"CDK1 (CDC2)/CycA2 "},{"$f":"Composite!AJ57","v":17.764082603524713},{"$f":"Composite!G57","v":"CMGC"}]
[17,{"$f":"Composite!B288","v":"PAK6"},{"$f":"Composite!AJ288","v":17.660007962342789},{"$f":"Composite!G288","v":"STE"}]
[18,{"$f":"Composite!B370","v":"SIK3 (QSK)"},{"$f":"Composite!AJ370","v":17.468005260288024},{"$f":"Composite!G370","v":"CAMK"}]
[19,{"$f":"Composite!B70","v":"CDK2/CycE1"},{"$f":"Composite!AJ70","v":16.653413910093306},{"$f":"Composite!G70","v":"CMGC"}]
[20,{"$f":"Composite!B87","v":"CDK9 (TAK)/CycT2"},{"$f":"Composite!AJ87","v":16.204420667323703},{"$f":"Composite!G87","v":"CMGC"}]
[21,{"$f":"Composite!B68","v":"CDK2/CycA2"},{"$f":"Composite!AJ68","v":16.046275231134132},{"$f":"Composite!G68","v":"CMGC"}]
[22,{"$f":"Composite!B203","v":"MAP2K1 (MEK1)"},{"$f":"Composite!AJ203","v":16.039070214299073},{"$f":"Composite!G203","v":"STE"}]
[23,{"$f":"Composite!B388","v":"STK33"},{"$f":"Composite!AJ388","v":15.863265158632643},{"$f":"Composite!G388","v":"CAMK"}]
[24,{"$f":"Composite!B353","v":"ROCK1"},{"$f":"Composite!AJ353","v":15.727182648904517},{"$f":"Composite!G353","v":"AGC"}]
[25,{"$f":"Composite!B366","v":"SGK2"},{"$f":"Composite!AJ366","v":15.387433915516567},{"$f":"Composite!G366","v":"AGC"}]
[26,{"$f":"Composite!B80","v":"CDK6/CycD1"},{"$f":"Composite!AJ80","v":15.29114585601674},{"$f":"Composite!G80","v":"CMGC"}]
[27,{"$f":"Composite!B379","v":"STK10 (LOK)"},{"$f":"Composite!AJ379","v":15.285356809068688},{"$f":"Composite!G379","v":"STE"}]
[28,{"$f":"Composite!B391","v":"STK4 (MST1)"},{"$f":"Composite!AJ391","v":15.281258492104229},{"$f":"Composite!G391","v":"STE"}]
[29,{"$f":"Composite!B200","v":"LYNA (LYNa)"},{"$f":"Composite!AJ200","v":15.19857852653746},{"$f":"Composite!G200","v":"TK"}]
[30,{"$f":"Composite!B225","v":"MAP4K4 (HGK, ZC1)"},{"$f":"Composite!AJ225","v":15.119787045252878},{"$f":"Composite!G225","v":"STE"}]
[31,{"$f":"Composite!B143","v":"ERN2 (IRE2)"},{"$f":"Composite!AJ143","v":14.783956597558642},{"$f":"Composite!G143","v":"Other"}]
[32,{"$f":"Composite!B86","v":"CDK9 (TAK)/CycT1"},{"$f":"Composite!AJ86","v":14.779399429625911},{"$f":"Composite!G86","v":"CMGC"}]
[33,{"$f":"Composite!B33","v":"BLK"},{"$f":"Composite!AJ33","v":14.617697164044486},{"$f":"Composite!G33","v":"TK"}]
[34,{"$f":"Composite!B88","v":"CDKL5"},{"$f":"Composite!AJ88","v":14.44007858546172},{"$f":"Composite!G88","v":"CMGC"}]
[35,{"$f":"Composite!B36","v":"BRAF (BRAF1, RAFB1)"},{"$f":"Composite!AJ36","v":14.202675049675264},{"$f":"Composite!G36","v":"TKL"}]
[36,{"$f":"Composite!B91","v":"CHUK (IKKA, IKKa)"},{"$f":"Composite!AJ91","v":13.888263629406197},{"$f":"Composite!G91","v":"Other"}]
[37,{"$f":"Composite!B271","v":"NEK5"},{"$f":"Composite!AJ271","v":13.81627197236746},{"$f":"Composite!G271","v":"Other"}]
[38,{"$f":"Composite!B402","v":"TNIK (ZC2)"},{"$f":"Composite!AJ402","v":13.588928371049207},{"$f":"Composite!G402","v":"STE"}]
[39,{"$f":"Composite!B82","v":"CDK6/CycD3"},{"$f":"Composite!AJ82","v":13.532817965374306},{"$f":"Composite!G82","v":"CMGC"}]
[40,{"$f":"Composite!B314","v":"PRKAA1-B1-G2 (AMPKα1β1γ2)"},{"$f":"Composite!AJ314","v":13.517440700023158},{"$f":"Composite!G314","v":"CAMK"}]
[41,{"$f":"Composite!B45","v":"CAMK2A (CAMK2α)"},{"$f":"Composite!AJ45","v":13.364794846241267},{"$f":"Composite!G45","v":"CAMK"}]
[42,{"$f":"Composite!B281","v":"NUAK1 (ARK5)"},{"$f":"Composite!AJ281","v":13.303853162081694},{"$f":"Composite!G281","v":"CAMK"}]
[43,{"$f":"Composite!B268","v":"NEK2"},{"$f":"Composite!AJ268","v":13.270247456572918},{"$f":"Composite!G268","v":"Other"}]
[44,{"$f":"Composite!B48","v":"CAMK2G (CAMK2γ)"},{"$f":"Composite!AJ48","v":12.616017435041883},{"$f":"Composite!G48","v":"CAMK"}]
[45,{"$f":"Composite!B215","v":"MAP3K20 (MLK7, ZAK)"},{"$f":"Composite!AJ215","v":12.564618035611701},{"$f":"Composite!G215","v":"TKL"}]
[46,{"$f":"Composite!B97","v":"CSF1R (FMS)"},{"$f":"Composite!AJ97","v":12.510299105175434},{"$f":"Composite!G97","v":"TK"}]
[47,{"$f":"Composite!B124","v":"EIF2AK1 (HRI)"},{"$f":"Composite!AJ124","v":12.482593992440812},{"$f":"Composite!G124","v":"Other"}]
[48,{"$f":"Composite!B22","v":"ABL2 (ARG)"},{"$f":"Composite!AJ22","v":12.480025765214478},{"$f":"Composite!G22","v":"TK"}]
[49,{"$f":"Composite!B185","v":"JAK1 [JH1-JH2]"},{"$f":"Composite!AJ185","v":12.473807469493394},{"$f":"Composite!G185","v":"TK"}]
[50,{"$f":"Composite!B410","v":"TTBK1"},{"$f":"Composite!AJ410","v":12.47083225304641},{"$f":"Composite!G410","v":"CK1"}]
[51,{"$f":"Composite!B35","v":"BMX"},{"$f":"Composite!AJ35","v":12.338839388291746},{"$f":"Composite!G35","v":"TK"}]
[52,{"$f":"Composite!B55","v":"CDC7/DBF4 (CDC7)"},{"$f":"Composite!AJ55","v":12.23977284928597},{"$f":"Composite!G55","v":"Other"}]
[53,{"$f":"Composite!B40","v":"BTK"},{"$f":"Composite!AJ40","v":12.139301986376523},{"$f":"Composite!G40","v":"TK"}]
[54,{"$f":"Composite!B78","v":"CDK5/p25"},{"$f":"Composite!AJ78","v":12.049854288093243},{"$f":"Composite!G78","v":"CMGC"}]
[55,{"$f":"Composite!B387","v":"STK3 (CLIK1, MST2)"},{"$f":"Composite!AJ387","v":12.039752362333004},{"$f":"Composite!G387","v":"STE"}]
[56,{"$f":"Composite!B223","v":"MAP4K2 (GCK)"},{"$f":"Composite!AJ223","v":11.968652211237568},{"$f":"Composite!G223","v":"STE"}]
[57,{"$f":"Composite!B191","v":"KSR1"},{"$f":"Composite!AJ191","v":11.916289239419029},{"$f":"Composite!G191","v":"TKL"}]
[58,{"$f":"Composite!B58","v":"CDK1 (CDC2)/CycB1 "},{"$f":"Composite!AJ58","v":11.762716776967281},{"$f":"Composite!G58","v":"CMGC"}]
[59,{"$f":"Composite!B26","v":"ALK"},{"$f":"Composite!AJ26","v":11.305565278263913},{"$f":"Composite!G26","v":"TK"}]
[60,{"$f":"Composite!B180","v":"INSRR (IRR)"},{"$f":"Composite!AJ180","v":11.229079843884378},{"$f":"Composite!G180","v":"TK"}]
[61,{"$f":"Composite!B376","v":"SRPK1"},{"$f":"Composite!AJ376","v":11.123282389231633},{"$f":"Composite!G376","v":"CMGC"}]
[62,{"$f":"Composite!B250","v":"MERTK (MER)"},{"$f":"Composite!AJ250","v":11.111513396089805},{"$f":"Composite!G250","v":"TK"}]
[63,{"$f":"Composite!B47","v":"CAMK2D (CAMK2δ)"},{"$f":"Composite!AJ47","v":11.096937401615406},{"$f":"Composite!G47","v":"CAMK"}]
[64,{"$f":"Composite!B348","v":"RAF1 [Y340E/Y341E]"},{"$f":"Composite!AJ348","v":11.079747116237797},{"$f":"Composite!G348","v":"TKL"}]
[65,{"$f":"Composite!B126","v":"EIF2AK3 (PERK/PEK)"},{"$f":"Composite!AJ126","v":10.893189000766441},{"$f":"Composite!G126","v":"Other"}]
[66,{"$f":"Composite!B96","v":"CLK4"},{"$f":"Composite!AJ96","v":10.819265143992055},{"$f":"Composite!G96","v":"CMGC"}]
[67,{"$f":"Composite!B30","v":"AXL"},{"$f":"Composite!AJ30","v":10.755570527936854},{"$f":"Composite!G30","v":"TK"}]
[68,{"$f":"Composite!B292","v":"PDGFRB (PDGFRβ)"},{"$f":"Composite!AJ292","v":10.733066341633304},{"$f":"Composite!G292","v":"TK"}]
[69,{"$f":"Composite!B144","v":"FAM20C"},{"$f":"Composite!AJ144","v":10.700050602727003},{"$f":"Composite!G144","v":"Other"}]
[70,{"$f":"Composite!B267","v":"NEK11"},{"$f":"Composite!AJ267","v":10.670799722897371},{"$f":"Composite!G267","v":"Other"}]
[71,{"$f":"Composite!B359","v":"RPS6KA4 (MSK2)"},{"$f":"Composite!AJ359","v":10.612225807960328},{"$f":"Composite!G359","v":"AGC"}]
[72,{"$f":"Composite!B270","v":"NEK4"},{"$f":"Composite!AJ270","v":10.587126194861},{"$f":"Composite!G270","v":"Other"}]
[73,{"$f":"Composite!B238","v":"MAPK9 (JNK2)"},{"$f":"Composite!AJ238","v":10.522532485485215},{"$f":"Composite!G238","v":"CMGC"}]
[74,{"$f":"Composite!B159","v":"GRK1 (RHOK)"},{"$f":"Composite!AJ159","v":10.503827613876652},{"$f":"Composite!G159","v":"AGC"}]
[75,{"$f":"Composite!B226","v":"MAP4K5 (KHS1)"},{"$f":"Composite!AJ226","v":10.353086929589111},{"$f":"Composite!G226","v":"STE"}]
[76,{"$f":"Composite!B269","v":"NEK3"},{"$f":"Composite!AJ269","v":10.079287332394557},{"$f":"Composite!G269","v":"Other"}]
[77,{"$f":"Composite!B171","v":"HIPK2"},{"$f":"Composite!AJ171","v":10.06611121173701},{"$f":"Composite!G171","v":"CMGC"}]
[78,{"$f":"Composite!B367","v":"SGK3"},{"$f":"Composite!AJ367","v":9.9045922364481243},{"$f":"Composite!G367","v":"AGC"}]
[79,{"$f":"Composite!B395","v":"TAOK3 (TAO3)"},{"$f":"Composite!AJ395","v":9.7915280550010948},{"$f":"Composite!G395","v":"STE"}]
[80,{"$f":"Composite!B252","v":"MINK1 (MAP4K6, MINK, ZC3)"},{"$f":"Composite!AJ252","v":9.7892987954536892},{"$f":"Composite!G252","v":"STE"}]
[81,{"$f":"Composite!B358","v":"RPS6KA3 (RSK2)"},{"$f":"Composite!AJ358","v":9.7746420987738958},{"$f":"Composite!G358","v":"AGC"}]
[82,{"$f":"Composite!B167","v":"GSK3B (GSK3β)"},{"$f":"Composite!AJ167","v":9.763904123136669},{"$f":"Composite!G167","v":"CMGC"}]
[83,{"$f":"Composite!B256","v":"MST1R (RON)"},{"$f":"Composite!AJ256","v":9.7417129003683414},{"$f":"Composite!G256","v":"TK"}]
[84,{"$f":"Composite!B160","v":"GRK2 (ADRBK1, BARK1)"},{"$f":"Composite!AJ160","v":9.7246965638337457},{"$f":"Composite!G160","v":"AGC"}]
[85,{"$f":"Composite!B218","v":"MAP3K6 (ASK2)"},{"$f":"Composite!AJ218","v":9.6534984487001196},{"$f":"Composite!G218","v":"STE"}]
[86,{"$f":"Composite!B43","v":"CAMK1D (CAMK1δ)"},{"$f":"Composite!AJ43","v":9.6465644306457108},{"$f":"Composite!G43","v":"CAMK"}]
[87,{"$f":"Composite!B174","v":"HUNK"},{"$f":"Composite!AJ174","v":9.5482047780492252},{"$f":"Composite!G174","v":"CAMK"}]
[88,{"$f":"Composite!B50","v":"CAMKK1"},{"$f":"Composite!AJ50","v":9.4415870683320975},{"$f":"Composite!G50","v":"Other"}]
[89,{"$f":"Composite!B255","v":"MNK2"},{"$f":"Composite!AJ255","v":9.3497942386831454},{"$f":"Composite!G255","v":"CAMK"}]
[90,{"$f":"Composite!B212","v":"MAP3K14 (NIK)"},{"$f":"Composite!AJ212","v":9.3248984401649722},{"$f":"Composite!G212","v":"STE"}]
[91,{"$f":"Composite!B222","v":"MAP4K1 (HPK1)"},{"$f":"Composite!AJ222","v":9.2974630610538043},{"$f":"Composite!G222","v":"STE"}]
[92,{"$f":"Composite!B190","v":"KIT (SCFR, CD117)"},{"$f":"Composite!AJ190","v":9.1584848390993301},{"$f":"Composite!G190","v":"TK"}]
[93,{"$f":"Composite!B166","v":"GSK3A (GSK3α)"},{"$f":"Composite!AJ166","v":9.112067451255939},{"$f":"Composite!G166","v":"CMGC"}]
[94,{"$f":"Composite!B146","v":"FES"},{"$f":"Composite!AJ146","v":9.0350655903128256},{"$f":"Composite!G146","v":"TK"}]
[95,{"$f":"Composite!B21","v":"ABL1"},{"$f":"Composite!AJ21","v":9.0200663573256179},{"$f":"Composite!G21","v":"TK"}]
[96,{"$f":"Composite!B301","v":"PIM2"},{"$f":"Composite!AJ301","v":9.0129073735225802},{"$f":"Composite!G301","v":"CAMK"}]
[97,{"$f":"Composite!B142","v":"ERN1 (IRE1)"},{"$f":"Composite!AJ142","v":9.0007617389411934},{"$f":"Composite!G142","v":"Other"}]
[98,{"$f":"Composite!B31","v":"BCKDK"},{"$f":"Composite!AJ31","v":8.9923008209621003},{"$f":"Composite!G31","v":"Atypical"}]
[99,{"$f":"Composite!B237","v":"MAPK8 (JNK1)"},{"$f":"Composite!AJ237","v":8.721198436399817},{"$f":"Composite!G237","v":"CMGC"}]
[100,{"$f":"Composite!B272","v":"NEK6"},{"$f":"Composite!AJ272","v":8.7012781240097183},{"$f":"Composite!G272","v":"Other"}]
[101,{"$f":"Composite!B228","v":"MAPK10 (JNK3)"},{"$f":"Composite!AJ228","v":8.5918928576977436},{"$f":"Composite!G228","v":"CMGC"}]
[102,{"$f":"Composite!B46","v":"CAMK2B (CAMK2β)"},{"$f":"Composite!AJ46","v":8.5778480928513545},{"$f":"Composite!G46","v":"CAMK"}]
[103,{"$f":"Composite!B245","v":"MARK4"},{"$f":"Composite!AJ245","v":8.560367671414383},{"$f":"Composite!G245","v":"CAMK"}]
[104,{"$f":"Composite!B356","v":"RPS6KA1 (RSK1)"},{"$f":"Composite!AJ356","v":8.5553831955544268},{"$f":"Composite!G356","v":"AGC"}]
[105,{"$f":"Composite!B195","v":"LCK"},{"$f":"Composite!AJ195","v":8.3901619210756451},{"$f":"Composite!G195","v":"TK"}]
[106,{"$f":"Composite!B199","v":"LTK"},{"$f":"Composite!AJ199","v":8.272065754251031},{"$f":"Composite!G199","v":"TK"}]
[107,{"$f":"Composite!B239","v":"MAPKAPK2 (MK2)"},{"$f":"Composite!AJ239","v":8.1862111860676379},{"$f":"Composite!G239","v":"CAMK"}]
[108,{"$f":"Composite!B408","v":"TSSK3"},{"$f":"Composite!AJ408","v":8.1477866129930732},{"$f":"Composite!G408","v":"CAMK"}]
[109,{"$f":"Composite!B265","v":"NEK1"},{"$f":"Composite!AJ265","v":8.1307653711065768},{"$f":"Composite!G265","v":"Other"}]
[110,{"$f":"Composite!B363","v":"RPS6KB2 (p70S6KB)"},{"$f":"Composite!AJ363","v":8.1158985137366813},{"$f":"Composite!G363","v":"AGC"}]
[111,{"$f":"Composite!B251","v":"MET (c-MET, HGFR)"},{"$f":"Composite!AJ251","v":8.0990889187089294},{"$f":"Composite!G251","v":"TK"}]
[112,{"$f":"Composite!B137","v":"EPHB2"},{"$f":"Composite!AJ137","v":8.0371824557871037},{"$f":"Composite!G137","v":"TK"}]
[113,{"$f":"Composite!B59","v":"CDK1 (CDC2)/CycE1 "},{"$f":"Composite!AJ59","v":7.9990036356698511},{"$f":"Composite!G59","v":"CMGC"}]
[114,{"$f":"Composite!B349","v":"RET"},{"$f":"Composite!AJ349","v":7.9210952981444791},{"$f":"Composite!G349","v":"TK"}]
[115,{"$f":"Composite!B24","v":"AKT2 (PKBb)"},{"$f":"Composite!AJ24","v":7.899217606664422},{"$f":"Composite!G24","v":"AGC"}]
[116,{"$f":"Composite!B192","v":"KSR2"},{"$f":"Composite!AJ192","v":7.8309961755600028},{"$f":"Composite!G192","v":"TKL"}]
[117,{"$f":"Composite!B73","v":"CDK3/CycE1"},{"$f":"Composite!AJ73","v":7.828901329601095},{"$f":"Composite!G73","v":"CMGC"}]
[118,{"$f":"Composite!B79","v":"CDK5/p35NCK"},{"$f":"Composite!AJ79","v":7.8260279088717652},{"$f":"Composite!G79","v":"CMGC"}]
[119,{"$f":"Composite!B406","v":"TSSK1B (TSSK1)"},{"$f":"Composite!AJ406","v":7.7846142087362011},{"$f":"Composite!G406","v":"CAMK"}]
[120,{"$f":"Composite!B72","v":"CDK2/CycO"},{"$f":"Composite!AJ72","v":7.7016824678304943},{"$f":"Composite!G72","v":"CMGC"}]
[121,{"$f":"Composite!B418","v":"ULK2"},{"$f":"Composite!AJ418","v":7.6238116828577631},{"$f":"Composite!G418","v":"Other"}]
[122,{"$f":"Composite!B385","v":"STK25 (YSK1)"},{"$f":"Composite!AJ385","v":7.5178901664388746},{"$f":"Composite!G385","v":"STE"}]
[123,{"$f":"Composite!B169","v":"HCK"},{"$f":"Composite!AJ169","v":7.4961597542242657},{"$f":"Composite!G169","v":"TK"}]
[124,{"$f":"Composite!B170","v":"HIPK1"},{"$f":"Composite!AJ170","v":7.3023536511768015},{"$f":"Composite!G170","v":"CMGC"}]
[125,{"$f":"Composite!B259","v":"MYLK (smMLCK)"},{"$f":"Composite!AJ259","v":7.2853271733819014},{"$f":"Composite!G259","v":"CAMK"}]
[126,{"$f":"Composite!B230","v":"MAPK12 (p38γ)"},{"$f":"Composite!AJ230","v":7.2775778632585144},{"$f":"Composite!G230","v":"CMGC"}]
[127,{"$f":"Composite!B347","v":"PTK6 (BRK)"},{"$f":"Composite!AJ347","v":7.2775007462722954},{"$f":"Composite!G347","v":"TK"}]
[128,{"$f":"Composite!B188","v":"JAK3 [JH1]"},{"$f":"Composite!AJ188","v":7.2569177861267207},{"$f":"Composite!G188","v":"TK"}]
[129,{"$f":"Composite!B145","v":"FER"},{"$f":"Composite!AJ145","v":7.2426972426972469},{"$f":"Composite!G145","v":"TK"}]
[130,{"$f":"Composite!B264","v":"MYO3B"},{"$f":"Composite!AJ264","v":7.2103420177505768},{"$f":"Composite!G264","v":"STE"}]
[131,{"$f":"Composite!B85","v":"CDK9 (TAK)/CycK"},{"$f":"Composite!AJ85","v":7.1671203983027851},{"$f":"Composite!G85","v":"CMGC"}]
[132,{"$f":"Composite!B75","v":"CDK4 /CycD3"},{"$f":"Composite!AJ75","v":7.1577847439916411},{"$f":"Composite!G75","v":"CMGC"}]
[133,{"$f":"Composite!B177","v":"IKKB (IKKβ)"},{"$f":"Composite!AJ177","v":7.0178263308028193},{"$f":"Composite!G177","v":"Other"}]
[134,{"$f":"Composite!B201","v":"LYNB (LYNb)"},{"$f":"Composite!AJ201","v":7.0095664728185341},{"$f":"Composite!G201","v":"TK"}]
[135,{"$f":"Composite!B224","v":"MAP4K3 (GLK, KHS2)"},{"$f":"Composite!AJ224","v":7.0072191998102511},{"$f":"Composite!G224","v":"STE"}]
[136,{"$f":"Composite!B84","v":"CDK7/CycH1"},{"$f":"Composite!AJ84","v":6.9993872131816914},{"$f":"Composite!G84","v":"CMGC"}]
[137,{"$f":"Composite!B99","v":"CSNK1A1 (CK1A1, CK1α)"},{"$f":"Composite!AJ99","v":6.9446405321034774},{"$f":"Composite!G99","v":"CK1"}]
[138,{"$f":"Composite!B278","v":"NTRK1 (TRKA)"},{"$f":"Composite!AJ278","v":6.9323815189371487},{"$f":"Composite!G278","v":"TK"}]
[139,{"$f":"Composite!B257","v":"mTOR (FRAP)"},{"$f":"Composite!AJ257","v":6.8990233850013567},{"$f":"Composite!G257","v":"Atypical"}]
[140,{"$f":"Composite!B27","v":"AURKA (AURA)"},{"$f":"Composite!AJ27","v":6.8817432335710151},{"$f":"Composite!G27","v":"Other"}]
[141,{"$f":"Composite!B168","v":"HASPIN"},{"$f":"Composite!AJ168","v":6.8803166082882257},{"$f":"Composite!G168","v":"Other"}]
[142,{"$f":"Composite!B173","v":"HIPK4"},{"$f":"Composite!AJ173","v":6.8404911911513722},{"$f":"Composite!G173","v":"CMGC"}]
[143,{"$f":"Composite!B66","v":"CDK18 (PCTAIRE3, PCTK3)/CycY "},{"$f":"Composite!AJ66","v":6.8296058862096487},{"$f":"Composite!G66","v":"CMGC"}]
[144,{"$f":"Composite!B263","v":"MYO3A"},{"$f":"Composite!AJ263","v":6.8265960113144217},{"$f":"Composite!G263","v":"STE"}]
[145,{"$f":"Composite!B351","v":"RIPK2"},{"$f":"Composite!AJ351","v":6.8178324640644803},{"$f":"Composite!G351","v":"TKL"}]
[146,{"$f":"Composite!B94","v":"CLK2"},{"$f":"Composite!AJ94","v":6.8008630187293448},{"$f":"Composite!G94","v":"CMGC"}]
[147,{"$f":"Composite!B156","v":"FYNa (FYN)"},{"$f":"Composite!AJ156","v":6.793992474134356},{"$f":"Composite!G156","v":"TK"}]
[148,{"$f":"Composite!B41","v":"BUB1"},{"$f":"Composite!AJ41","v":6.7529527412460482},{"$f":"Composite!G41","v":"Other"}]
[149,{"$f":"Composite!B127","v":"EIF2AK4 (GCN2)"},{"$f":"Composite!AJ127","v":6.7178950553468297},{"$f":"Composite!G127","v":"Other"}]
[150,{"$f":"Composite!B311","v":"PLK4"},{"$f":"Composite!AJ311","v":6.6847170134152236},{"$f":"Composite!G311","v":"Other"}]
[151,{"$f":"Composite!B187","v":"JAK2 [JH1-JH2]"},{"$f":"Composite!AJ187","v":6.6696388765046777},{"$f":"Composite!G187","v":"TK"}]
[152,{"$f":"Composite!B411","v":"TTBK2"},{"$f":"Composite!AJ411","v":6.6436181337659832},{"$f":"Composite!G411","v":"CK1"}]
[153,{"$f":"Composite!B249","v":"MELK"},{"$f":"Composite!AJ249","v":6.6380860185313111},{"$f":"Composite!G249","v":"CAMK"}]
[154,{"$f":"Composite!B276","v":"NIM1 (NIM1K)"},{"$f":"Composite!AJ276","v":6.4295517457954219},{"$f":"Composite!G276","v":"CAMK"}]
[155,{"$f":"Composite!B254","v":"MNK1"},{"$f":"Composite!AJ254","v":6.3609817693946837},{"$f":"Composite!G254","v":"CAMK"}]
[156,{"$f":"Composite!B416","v":"TYRO3"},{"$f":"Composite!AJ416","v":6.2794396525356291},{"$f":"Composite!G416","v":"TK"}]
[157,{"$f":"Composite!B307","v":"PKN3"},{"$f":"Composite!AJ307","v":6.228453789087709},{"$f":"Composite!G307","v":"AGC"}]
[158,{"$f":"Composite!B113","v":"DDR1 [SRC treated]"},{"$f":"Composite!AJ113","v":6.2060873766305633},{"$f":"Composite!G113","v":"TK"}]
[159,{"$f":"Composite!B95","v":"CLK3"},{"$f":"Composite!AJ95","v":6.1718658721813284},{"$f":"Composite!G95","v":"CMGC"}]
[160,{"$f":"Composite!B183","v":"ITK"},{"$f":"Composite!AJ183","v":6.1531629329912221},{"$f":"Composite!G183","v":"TK"}]
[161,{"$f":"Composite!B305","v":"PKN1"},{"$f":"Composite!AJ305","v":6.149098987904182},{"$f":"Composite!G305","v":"AGC"}]
[162,{"$f":"Composite!B298","v":"PHKG1"},{"$f":"Composite!AJ298","v":6.1034889406621033},{"$f":"Composite!G298","v":"CAMK"}]
[163,{"$f":"Composite!B409","v":"TSSK6 (SSTK)"},{"$f":"Composite!AJ409","v":6.1014544164597311},{"$f":"Composite!G409","v":"CAMK"}]
[164,{"$f":"Composite!B83","v":"CDK7/CycH/MAT1"},{"$f":"Composite!AJ83","v":6.0078370435429065},{"$f":"Composite!G83","v":"CMGC"}]
[165,{"$f":"Composite!B208","v":"MAP3K10 (MLK2)"},{"$f":"Composite!AJ208","v":5.8915805750397965},{"$f":"Composite!G208","v":"TKL"}]
[166,{"$f":"Composite!B56","v":"CDK1 (CDC2)/CycA1 "},{"$f":"Composite!AJ56","v":5.8902275769745671},{"$f":"Composite!G56","v":"CMGC"}]
[167,{"$f":"Composite!B287","v":"PAK5 (PAK7)"},{"$f":"Composite!AJ287","v":5.8402773331382036},{"$f":"Composite!G287","v":"STE"}]
[168,{"$f":"Composite!B383","v":"STK17B (DRAK2)"},{"$f":"Composite!AJ383","v":5.8007981239971826},{"$f":"Composite!G383","v":"CAMK"}]
[169,{"$f":"Composite!B233","v":"MAPK15 (ERK7)"},{"$f":"Composite!AJ233","v":5.7821708663975073},{"$f":"Composite!G233","v":"CMGC"}]
[170,{"$f":"Composite!B172","v":"HIPK3"},{"$f":"Composite!AJ172","v":5.7137034830861779},{"$f":"Composite!G172","v":"CMGC"}]
[171,{"$f":"Composite!B310","v":"PLK3"},{"$f":"Composite!AJ310","v":5.7125825282029865},{"$f":"Composite!G310","v":"Other"}]
[172,{"$f":"Composite!B394","v":"TAOK2 (TAO2)"},{"$f":"Composite!AJ394","v":5.669806384092098},{"$f":"Composite!G394","v":"STE"}]
[173,{"$f":"Composite!B294","v":"PDK2 (PDHK2)"},{"$f":"Composite!AJ294","v":5.6671464954046655},{"$f":"Composite!G294","v":"Atypical"}]
[174,{"$f":"Composite!B246","v":"MAST3"},{"$f":"Composite!AJ246","v":5.6542708465540983},{"$f":"Composite!G246","v":"AGC"}]
[175,{"$f":"Composite!B131","v":"EPHA4"},{"$f":"Composite!AJ131","v":5.6232319660537513},{"$f":"Composite!G131","v":"TK"}]
[176,{"$f":"Composite!B62","v":"CDK14 (PFTAIRE1, PFTK1)/CycY"},{"$f":"Composite!AJ62","v":5.5941327923851105},{"$f":"Composite!G62","v":"CMGC"}]
[177,{"$f":"Composite!B135","v":"EPHA8"},{"$f":"Composite!AJ135","v":5.557866666666655},{"$f":"Composite!G135","v":"TK"}]
[178,{"$f":"Composite!B234","v":"MAPK3 (ERK1)"},{"$f":"Composite!AJ234","v":5.4421153169456602},{"$f":"Composite!G234","v":"CAMK"}]
[179,{"$f":"Composite!B397","v":"TEC"},{"$f":"Composite!AJ397","v":5.3339760138557466},{"$f":"Composite!G397","v":"TK"}]
[180,{"$f":"Composite!B179","v":"INSR (IR)"},{"$f":"Composite!AJ179","v":5.3118307482640148},{"$f":"Composite!G179","v":"TK"}]
[181,{"$f":"Composite!B134","v":"EPHA7"},{"$f":"Composite!AJ134","v":5.2810813642793306},{"$f":"Composite!G134","v":"TK"}]
[182,{"$f":"Composite!B344","v":"PRKX"},{"$f":"Composite!AJ344","v":5.1953087137733718},{"$f":"Composite!G344","v":"AGC"}]
[183,{"$f":"Composite!B98","v":"CSK"},{"$f":"Composite!AJ98","v":5.1208539839878},{"$f":"Composite!G98","v":"TK"}]
[184,{"$f":"Composite!B421","v":"YES1 (YES)"},{"$f":"Composite!AJ421","v":5.068931173664609},{"$f":"Composite!G421","v":"TK"}]
[185,{"$f":"Composite!B399","v":"TESK2"},{"$f":"Composite!AJ399","v":4.9460084843810108},{"$f":"Composite!G399","v":"TKL"}]
[186,{"$f":"Composite!B121","v":"DYRK4"},{"$f":"Composite!AJ121","v":4.862775280309279},{"$f":"Composite!G121","v":"CMGC"}]
[187,{"$f":"Composite!B71","v":"CDK2/CycE2"},{"$f":"Composite!AJ71","v":4.8459705305568548},{"$f":"Composite!G71","v":"CMGC"}]
[188,{"$f":"Composite!B155","v":"FRK"},{"$f":"Composite!AJ155","v":4.8362917788150384},{"$f":"Composite!G155","v":"TK"}]
[189,{"$f":"Composite!B189","v":"KDR (VEGFR2)"},{"$f":"Composite!AJ189","v":4.7766363141100499},{"$f":"Composite!G189","v":"TK"}]
[190,{"$f":"Composite!B355","v":"ROS1 (ROS)"},{"$f":"Composite!AJ355","v":4.6680925794421881},{"$f":"Composite!G355","v":"TK"}]
[191,{"$f":"Composite!B304","v":"PKMYT1 (MYT1)"},{"$f":"Composite!AJ304","v":4.6655113267219406},{"$f":"Composite!G304","v":"Other"}]
[192,{"$f":"Composite!B232","v":"MAPK14 (p38a)"},{"$f":"Composite!AJ232","v":4.5926361143752388},{"$f":"Composite!G232","v":"CMGC"}]
[193,{"$f":"Composite!B243","v":"MARK2"},{"$f":"Composite!AJ243","v":4.5839126117179774},{"$f":"Composite!G243","v":"CAMK"}]
[194,{"$f":"Composite!B277","v":"NLK (LAK1)"},{"$f":"Composite!AJ277","v":4.5372981286849381},{"$f":"Composite!G277","v":"CMGC"}]
[195,{"$f":"Composite!B306","v":"PKN2"},{"$f":"Composite!AJ306","v":4.5151474470846438},{"$f":"Composite!G306","v":"AGC"}]
[196,{"$f":"Composite!B148","v":"FGFR2"},{"$f":"Composite!AJ148","v":4.4878374217386749},{"$f":"Composite!G148","v":"TK"}]
[197,{"$f":"Composite!B118","v":"DYRK1B"},{"$f":"Composite!AJ118","v":4.4774113589022022},{"$f":"Composite!G118","v":"CMGC"}]
[198,{"$f":"Composite!B89","v":"CHEK1 (CHK1)"},{"$f":"Composite!AJ89","v":4.4581863642452078},{"$f":"Composite!G89","v":"CAMK"}]
[199,{"$f":"Composite!B184","v":"JAK1 [JH1]"},{"$f":"Composite!AJ184","v":4.3943345487012238},{"$f":"Composite!G184","v":"TK"}]
[200,{"$f":"Composite!B369","v":"SIK2 (QIK)"},{"$f":"Composite!AJ369","v":4.3371256094729347},{"$f":"Composite!G369","v":"CAMK"}]
[201,{"$f":"Composite!B74","v":"CDK3/CycE2"},{"$f":"Composite!AJ74","v":4.2934235698725161},{"$f":"Composite!G74","v":"CMGC"}]
[202,{"$f":"Composite!B341","v":"PRKDC (DNA-PK)"},{"$f":"Composite!AJ341","v":4.2359959636012832},{"$f":"Composite!G341","v":"Atypical"}]
[203,{"$f":"Composite!B357","v":"RPS6KA2 (RSK3)"},{"$f":"Composite!AJ357","v":4.1001226285796548},{"$f":"Composite!G357","v":"AGC"}]
[204,{"$f":"Composite!B316","v":"PRKAA1-B2-G1 (AMPKα1β2γ1)"},{"$f":"Composite!AJ316","v":4.0625638157678878},{"$f":"Composite!G316","v":"CAMK"}]
[205,{"$f":"Composite!B258","v":"MUSK"},{"$f":"Composite!AJ258","v":4.0297292146705672},{"$f":"Composite!G258","v":"TK"}]
[206,{"$f":"Composite!B154","v":"FLT4"},{"$f":"Composite!AJ154","v":3.9276051870510429},{"$f":"Composite!G154","v":"TK"}]
[207,{"$f":"Composite!B93","v":"CLK1"},{"$f":"Composite!AJ93","v":3.909189464957592},{"$f":"Composite!G93","v":"CMGC"}]
[208,{"$f":"Composite!B354","v":"ROCK2"},{"$f":"Composite!AJ354","v":3.9087617442332316},{"$f":"Composite!G354","v":"AGC"}]
[209,{"$f":"Composite!B120","v":"DYRK3"},{"$f":"Composite!AJ120","v":3.8963653788848944},{"$f":"Composite!G120","v":"CMGC"}]
[210,{"$f":"Composite!B414","v":"TYK2 [JH1]"},{"$f":"Composite!AJ414","v":3.8255462703679939},{"$f":"Composite!G414","v":"TK"}]
[211,{"$f":"Composite!B42","v":"CAMK1 (CAMK1a)"},{"$f":"Composite!AJ42","v":3.7909628456168178},{"$f":"Composite!G42","v":"CAMK"}]
[212,{"$f":"Composite!B362","v":"RPS6KB1 (p70S6K)"},{"$f":"Composite!AJ362","v":3.6927621861152318},{"$f":"Composite!G362","v":"AGC"}]
[213,{"$f":"Composite!B157","v":"FYNb (FYN)"},{"$f":"Composite!AJ157","v":3.6417487068246288},{"$f":"Composite!G157","v":"TK"}]
[214,{"$f":"Composite!B373","v":"SRC"},{"$f":"Composite!AJ373","v":3.641060118184015},{"$f":"Composite!G373","v":"TK"}]
[215,{"$f":"Composite!B282","v":"NUAK2 (SNARK)"},{"$f":"Composite!AJ282","v":3.5757822023567627},{"$f":"Composite!G282","v":"CAMK"}]
[216,{"$f":"Composite!B149","v":"FGFR3"},{"$f":"Composite!AJ149","v":3.50160362022757},{"$f":"Composite!G149","v":"TK"}]
[217,{"$f":"Composite!B285","v":"PAK3"},{"$f":"Composite!AJ285","v":3.329583802024743},{"$f":"Composite!G285","v":"STE"}]
[218,{"$f":"Composite!B289","v":"PASK"},{"$f":"Composite!AJ289","v":3.2898866447587096},{"$f":"Composite!G289","v":"CAMK"}]
[219,{"$f":"Composite!B28","v":"AURKB (AURB)"},{"$f":"Composite!AJ28","v":3.1760012434588987},{"$f":"Composite!G28","v":"Other"}]
[220,{"$f":"Composite!B107","v":"CSNK2A2 (CK2A2, CK2α2)"},{"$f":"Composite!AJ107","v":3.0888653045802243},{"$f":"Composite!G107","v":"Other"}]
[221,{"$f":"Composite!B150","v":"FGFR4"},{"$f":"Composite!AJ150","v":3.0131927020545248},{"$f":"Composite!G150","v":"TK"}]
[222,{"$f":"Composite!B398","v":"TEK (TIE2)"},{"$f":"Composite!AJ398","v":2.9889685735388696},{"$f":"Composite!G398","v":"TK"}]
[223,{"$f":"Composite!B202","v":"MAK"},{"$f":"Composite!AJ202","v":2.9325029489973531},{"$f":"Composite!G202","v":"Atypical"}]
[224,{"$f":"Composite!B339","v":"PRKD2 (PKD2)"},{"$f":"Composite!AJ339","v":2.918509735966083},{"$f":"Composite!G339","v":"CAMK"}]
[225,{"$f":"Composite!B346","v":"PTK2B (PYK2)"},{"$f":"Composite!AJ346","v":2.9008744391597929},{"$f":"Composite!G346","v":"TK"}]
[226,{"$f":"Composite!B209","v":"MAP3K11 (MLK3)"},{"$f":"Composite!AJ209","v":2.8539398430523164},{"$f":"Composite!G209","v":"TKL"}]
[227,{"$f":"Composite!B284","v":"PAK2"},{"$f":"Composite!AJ284","v":2.8011986524466295},{"$f":"Composite!G284","v":"STE"}]
[228,{"$f":"Composite!B176","v":"IGF1R"},{"$f":"Composite!AJ176","v":2.7633341211691516},{"$f":"Composite!G176","v":"TK"}]
[229,{"$f":"Composite!B303","v":"PINK1 (PINK)"},{"$f":"Composite!AJ303","v":2.6316486193111217},{"$f":"Composite!G303","v":"Other"}]
[230,{"$f":"Composite!B327","v":"PRKACG (PKACG, PKACg)"},{"$f":"Composite!AJ327","v":2.6160538704487237},{"$f":"Composite!G327","v":"AGC"}]
[231,{"$f":"Composite!B417","v":"ULK1"},{"$f":"Composite!AJ417","v":2.6120375195413885},{"$f":"Composite!G417","v":"Other"}]
[232,{"$f":"Composite!B32","v":"BCR RET (fusion)"},{"$f":"Composite!AJ32","v":2.6018626530837281},{"$f":"Composite!G32","v":"TK"}]
[233,{"$f":"Composite!B319","v":"PRKAA2-B1-G1 (AMPKα2β1γ1)"},{"$f":"Composite!AJ319","v":2.5718095869127069},{"$f":"Composite!G319","v":"CAMK"}]
[234,{"$f":"Composite!B125","v":"EIF2AK2 (PKR)"},{"$f":"Composite!AJ125","v":2.5459014748670654},{"$f":"Composite!G125","v":"Other"}]
[235,{"$f":"Composite!B153","v":"FLT3"},{"$f":"Composite!AJ153","v":2.5340143542776872},{"$f":"Composite!G153","v":"TK"}]
[236,{"$f":"Composite!B342","v":"PRKG1 (PKG1, PGK)"},{"$f":"Composite!AJ342","v":2.4900168483074197},{"$f":"Composite!G342","v":"AGC"}]
[237,{"$f":"Composite!B147","v":"FGFR1"},{"$f":"Composite!AJ147","v":2.4531687675070089},{"$f":"Composite!G147","v":"TK"}]
[238,{"$f":"Composite!B296","v":"PDK4 (PDHK4)"},{"$f":"Composite!AJ296","v":2.4480123364401578},{"$f":"Composite!G296","v":"Atypical"}]
[239,{"$f":"Composite!B205","v":"MAP2K3 (MEK3)"},{"$f":"Composite!AJ205","v":2.3991878972447296},{"$f":"Composite!G205","v":"STE"}]
[240,{"$f":"Composite!B210","v":"MAP3K12 (DLK)"},{"$f":"Composite!AJ210","v":2.2648162379639132},{"$f":"Composite!G210","v":"TKL"}]
[241,{"$f":"Composite!B220","v":"MAP3K8 (COT, Tpl2)"},{"$f":"Composite!AJ220","v":2.2495429373890374},{"$f":"Composite!G220","v":"STE"}]
[242,{"$f":"Composite!B130","v":"EPHA3"},{"$f":"Composite!AJ130","v":2.142470063805618},{"$f":"Composite!G130","v":"TK"}]
[243,{"$f":"Composite!B291","v":"PDGFRA (PDGFRα)"},{"$f":"Composite!AJ291","v":2.138296996504792},{"$f":"Composite!G291","v":"TK"}]
[244,{"$f":"Composite!B262","v":"MYLK4 (SgK085)"},{"$f":"Composite!AJ262","v":2.0178523126859602},{"$f":"Composite!G262","v":"CAMK"}]
[245,{"$f":"Composite!B295","v":"PDK3 (PDHK3)"},{"$f":"Composite!AJ295","v":1.9686591321204787},{"$f":"Composite!G295","v":"Atypical"}]
[246,{"$f":"Composite!B77","v":"CDK4/CycD2"},{"$f":"Composite!AJ77","v":1.7632361689470315},{"$f":"Composite!G77","v":"CMGC"}]
[247,{"$f":"Composite!B128","v":"EPHA1"},{"$f":"Composite!AJ128","v":1.7597420417124141},{"$f":"Composite!G128","v":"TK"}]
[248,{"$f":"Composite!B152","v":"FLT1"},{"$f":"Composite!AJ152","v":1.7554563354502193},{"$f":"Composite!G152","v":"TK"}]
[249,{"$f":"Composite!B375","v":"SRMS (SRM)"},{"$f":"Composite!AJ375","v":1.7237622339365117},{"$f":"Composite!G375","v":"TK"}]
[250,{"$f":"Composite!B378","v":"SRPK3 (MSSK1)"},{"$f":"Composite!AJ378","v":1.6997333177035898},{"$f":"Composite!G378","v":"CMGC"}]
[251,{"$f":"Composite!B313","v":"PRKAA1-B1-G1 (AMPKα1β1γ1)"},{"$f":"Composite!AJ313","v":1.6706484758455957},{"$f":"Composite!G313","v":"CAMK"}]
[252,{"$f":"Composite!B63","v":"CDK16 (PCTAIRE1, PCTK1)/CycY "},{"$f":"Composite!AJ63","v":1.6388084788495689},{"$f":"Composite!G63","v":"CMGC"}]
[253,{"$f":"Composite!B326","v":"PRKACB (PKACB, PKACβ)"},{"$f":"Composite!AJ326","v":1.5903710865868703},{"$f":"Composite!G326","v":"AGC"}]
[254,{"$f":"Composite!B136","v":"EPHB1"},{"$f":"Composite!AJ136","v":1.5898295098869681},{"$f":"Composite!G136","v":"TK"}]
[255,{"$f":"Composite!B302","v":"PIM3"},{"$f":"Composite!AJ302","v":1.544418929262946},{"$f":"Composite!G302","v":"CAMK"}]
[256,{"$f":"Composite!B380","v":"STK11 (LKB1, AMPKK)"},{"$f":"Composite!AJ380","v":1.531840131404536},{"$f":"Composite!G380","v":"CAMK"}]
[257,{"$f":"Composite!B386","v":"STK26 (MST4)"},{"$f":"Composite!AJ386","v":1.4459907288204619},{"$f":"Composite!G386","v":"STE"}]
[258,{"$f":"Composite!B52","v":"CDC42BPA (MRCKA)"},{"$f":"Composite!AJ52","v":1.4288223926919272},{"$f":"Composite!G52","v":"AGC"}]
[259,{"$f":"Composite!B197","v":"LIMK2"},{"$f":"Composite!AJ197","v":1.3579903596588849},{"$f":"Composite!G197","v":"TKL"}]
[260,{"$f":"Composite!B116","v":"DSTYK (RIPK5, SGK496)"},{"$f":"Composite!AJ116","v":1.2726054922973731},{"$f":"Composite!G116","v":"TKL"}]
[261,{"$f":"Composite!B374","v":"SRC N1"},{"$f":"Composite!AJ374","v":1.1807557857671327},{"$f":"Composite!G374","v":"TK"}]
[262,{"$f":"Composite!B407","v":"TSSK2"},{"$f":"Composite!AJ407","v":1.1361295069904287},{"$f":"Composite!G407","v":"CAMK"}]
[263,{"$f":"Composite!B361","v":"RPS6KA6 (RSK4)"},{"$f":"Composite!AJ361","v":1.1114891686514596},{"$f":"Composite!G361","v":"AGC"}]
[264,{"$f":"Composite!B76","v":"CDK4/CycD1"},{"$f":"Composite!AJ76","v":1.0489235559609398},{"$f":"Composite!G76","v":"CMGC"}]
[265,{"$f":"Composite!B240","v":"MAPKAPK3 (MK3)"},{"$f":"Composite!AJ240","v":0.9757936175559081},{"$f":"Composite!G240","v":"CAMK"}]
[266,{"$f":"Composite!B364","v":"SBK1 (SBK)"},{"$f":"Composite!AJ364","v":0.95059044321239128},{"$f":"Composite!G364","v":"Other"}]
[267,{"$f":"Composite!B389","v":"STK38 (NDR1)"},{"$f":"Composite!AJ389","v":0.88538901915423196},{"$f":"Composite!G389","v":"AGC"}]
[268,{"$f":"Composite!B100","v":"CSNK1A1L (CK1A1L, CK1a2)"},{"$f":"Composite!AJ100","v":0.84105090517697079},{"$f":"Composite!G100","v":"CK1"}]
[269,{"$f":"Composite!B422","v":"ZAP70"},{"$f":"Composite!AJ422","v":0.82142038744250101},{"$f":"Composite!G422","v":"TK"}]
[270,{"$f":"Composite!B350","v":"RIPK1"},{"$f":"Composite!AJ350","v":0.81484629183303525},{"$f":"Composite!G350","v":"TKL"}]
[271,{"$f":"Composite!B37","v":"BRAF, b-[V600E]"},{"$f":"Composite!AJ37","v":0.65190060067983779},{"$f":"Composite!G37","v":"TKL"}]
[272,{"$f":"Composite!B420","v":"WEE1"},{"$f":"Composite!AJ420","v":0.51801801801805425},{"$f":"Composite!G420","v":"Other"}]
[273,{"$f":"Composite!B329","v":"PRKCB1 (PKCβ1 [beta1])"},{"$f":"Composite!AJ329","v":0.51245458192258297},{"$f":"Composite!G329","v":"AGC"}]
[274,{"$f":"Composite!B213","v":"MAP3K19 (YSK4)"},{"$f":"Composite!AJ213","v":0.4889223578804831},{"$f":"Composite!G213","v":"STE"}]
[275,{"$f":"Composite!B371","v":"SLK"},{"$f":"Composite!AJ371","v":0.3907297273984085},{"$f":"Composite!G371","v":"STE"}]
[276,{"$f":"Composite!B194","v":"LATS2"},{"$f":"Composite!AJ194","v":0.38942073665423038},{"$f":"Composite!G194","v":"AGC"}]
[277,{"$f":"Composite!B381","v":"STK16 (MPSK1, PKL12, TSF1)"},{"$f":"Composite!AJ381","v":0.33762277191705437},{"$f":"Composite!G381","v":"Other"}]
[278,{"$f":"Composite!B204","v":"MAP2K2 (MEK2)"},{"$f":"Composite!AJ204","v":0.31725826193390105},{"$f":"Composite!G204","v":"STE"}]
[279,{"$f":"Composite!B393","v":"TAOK1 (TAO1)"},{"$f":"Composite!AJ393","v":0.13649658758529881},{"$f":"Composite!G393","v":"STE"}]
[280,{"$f":"Composite!B29","v":"AURKC (AURC)"},{"$f":"Composite!AJ29","v":9.3347492463706772E-2},{"$f":"Composite!G29","v":"Other"}]
[281,{"$f":"Composite!B372","v":"SNRK"},{"$f":"Composite!AJ372","v":5.4687685759787996E-2},{"$f":"Composite!G372","v":"CAMK"}]
[282,{"$f":"Composite!B227","v":"MAPK1 (ERK2)"},{"$f":"Composite!AJ227","v":6.6499225028167075E-3},{"$f":"Composite!G227","v":"CMGC"}]
[283,{"$f":"Composite!B60","v":"CDK12 (CRK7)/CycK"},{"$f":"Composite!AJ60","v":0},{"$f":"Composite!G60","v":"CMGC"}]
[284,{"$f":"Composite!B69","v":"CDK2/CycD1"},{"$f":"Composite!AJ69","v":0},{"$f":"Composite!G69","v":"CMGC"}]
[285,{"$f":"Composite!B206","v":"MAP2K4 (MEK4)"},{"$f":"Composite!AJ206","v":0},{"$f":"Composite!G206","v":"STE"}]
[286,{"$f":"Composite!B235","v":"MAPK6 (ERK3)"},{"$f":"Composite!AJ235","v":0},{"$f":"Composite!G235","v":"CMGC"}]
[287,{"$f":"Composite!B274","v":"NEK8"},{"$f":"Composite!AJ274","v":0},{"$f":"Composite!G274","v":"Other"}]
[288,{"$f":"Composite!B325","v":"PRKACA (PKACA, PKACα)"},{"$f":"Composite!AJ325","v":-5.2139342392536037E-2},{"$f":"Composite!G325","v":"AGC"}]
[289,{"$f":"Composite!B211","v":"MAP3K13 (LZK)"},{"$f":"Composite!AJ211","v":-0.13201853648021711},{"$f":"Composite!G211","v":"TKL"}]
[290,{"$f":"Composite!B338","v":"PRKD1 (PKD1)"},{"$f":"Composite!AJ338","v":-0.17880091635467465},{"$f":"Composite!G338","v":"CAMK"}]
[291,{"$f":"Composite!B217","v":"MAP3K5 (ASK1)"},{"$f":"Composite!AJ217","v":-0.22086663862008038},{"$f":"Composite!G217","v":"STE"}]
[292,{"$f":"Composite!B384","v":"STK24 (MST3)"},{"$f":"Composite!AJ384","v":-0.23407298821359745},{"$f":"Composite!G384","v":"STE"}]
[293,{"$f":"Composite!B158","v":"GAK"},{"$f":"Composite!AJ158","v":-0.33517864747173576},{"$f":"Composite!G158","v":"Other"}]
[294,{"$f":"Composite!B377","v":"SRPK2"},{"$f":"Composite!AJ377","v":-0.35356010848607866},{"$f":"Composite!G377","v":"CMGC"}]
[295,{"$f":"Composite!B165","v":"GRK7 (GPRK7)"},{"$f":"Composite!AJ165","v":-0.36751523843669531},{"$f":"Composite!G165","v":"AGC"}]
[296,{"$f":"Composite!B328","v":"PRKCA (PKCα [alpha])"},{"$f":"Composite!AJ328","v":-0.42590858954277167},{"$f":"Composite!G328","v":"AGC"}]
[297,{"$f":"Composite!B122","v":"EEF2K (eEF2K)"},{"$f":"Composite!AJ122","v":-0.47817770822463501},{"$f":"Composite!G122","v":"Atypical"}]
[298,{"$f":"Composite!B182","v":"IRAK4"},{"$f":"Composite!AJ182","v":-0.65827623977151006},{"$f":"Composite!G182","v":"TKL"}]
[299,{"$f":"Composite!B198","v":"LRRK2"},{"$f":"Composite!AJ198","v":-0.65868080022062259},{"$f":"Composite!G198","v":"TKL"}]
[300,{"$f":"Composite!B181","v":"IRAK1"},{"$f":"Composite!AJ181","v":-0.85706633336307902},{"$f":"Composite!G181","v":"TKL"}]
[301,{"$f":"Composite!B175","v":"ICK"},{"$f":"Composite!AJ175","v":-0.86124401913875204},{"$f":"Composite!G175","v":"CMGC"}]
[302,{"$f":"Composite!B413","v":"TXK"},{"$f":"Composite!AJ413","v":-0.90821958555045512},{"$f":"Composite!G413","v":"TK"}]
[303,{"$f":"Composite!B390","v":"STK38L (NDR2)"},{"$f":"Composite!AJ390","v":-0.91047735655470774},{"$f":"Composite!G390","v":"AGC"}]
[304,{"$f":"Composite!B261","v":"MYLK3 (caMLCK)"},{"$f":"Composite!AJ261","v":-0.92338767854566584},{"$f":"Composite!G261","v":"CAMK"}]
[305,{"$f":"Composite!B312","v":"PNCK (CAMK1β)"},{"$f":"Composite!AJ312","v":-0.9240644728952816},{"$f":"Composite!G312","v":"CAMK"}]
[306,{"$f":"Composite!B229","v":"MAPK11 (p38b)"},{"$f":"Composite!AJ229","v":-0.93779516934283436},{"$f":"Composite!G229","v":"CMGC"}]
[307,{"$f":"Composite!B81","v":"CDK6/CycD2"},{"$f":"Composite!AJ81","v":-0.99087285106496381},{"$f":"Composite!G81","v":"CMGC"}]
[308,{"$f":"Composite!B119","v":"DYRK2"},{"$f":"Composite!AJ119","v":-1.0238027526272901},{"$f":"Composite!G119","v":"CMGC"}]
[309,{"$f":"Composite!B368","v":"SIK1 (SIK)"},{"$f":"Composite!AJ368","v":-1.032765160169987},{"$f":"Composite!G368","v":"CAMK"}]
[310,{"$f":"Composite!B253","v":"MLK4 (MAP3K21)"},{"$f":"Composite!AJ253","v":-1.0368102428501942},{"$f":"Composite!G253","v":"STE"}]
[311,{"$f":"Composite!B23","v":"AKT1 (PKB)"},{"$f":"Composite!AJ23","v":-1.0872567675403531},{"$f":"Composite!G23","v":"AGC"}]
[312,{"$f":"Composite!B275","v":"NEK9"},{"$f":"Composite!AJ275","v":-1.1377679294328118},{"$f":"Composite!G275","v":"Other"}]
[313,{"$f":"Composite!B322","v":"PRKAA2-B2-G1 (AMPKα2β2γ1)"},{"$f":"Composite!AJ322","v":-1.1654334965060968},{"$f":"Composite!G322","v":"CAMK"}]
[314,{"$f":"Composite!B65","v":"CDK17 (PCTAIRE2, PCTK2)/p35NCK"},{"$f":"Composite!AJ65","v":-1.1679400040445245},{"$f":"Composite!G65","v":"CMGC"}]
[315,{"$f":"Composite!B39","v":"BRSK2"},{"$f":"Composite!AJ39","v":-1.1743014552558293},{"$f":"Composite!G39","v":"CAMK"}]
[316,{"$f":"Composite!B61","v":"CDK13 (CHED)/CycK"},{"$f":"Composite!AJ61","v":-1.1921747339878266},{"$f":"Composite!G61","v":"CMGC"}]
[317,{"$f":"Composite!B129","v":"EPHA2"},{"$f":"Composite!AJ129","v":-1.2105933846750645},{"$f":"Composite!G129","v":"TK"}]
[318,{"$f":"Composite!B343","v":"PRKG2 (PKG2, PGK2, CGK2)"},{"$f":"Composite!AJ343","v":-1.3105504962641561},{"$f":"Composite!G343","v":"AGC"}]
[319,{"$f":"Composite!B331","v":"PRKCD (PKCδ [delta])"},{"$f":"Composite!AJ331","v":-1.3179762686970946},{"$f":"Composite!G331","v":"AGC"}]
[320,{"$f":"Composite!B321","v":"PRKAA2-B1-G3 (AMPKα2β1γ3)"},{"$f":"Composite!AJ321","v":-1.345149130348517},{"$f":"Composite!G321","v":"CAMK"}]
[321,{"$f":"Composite!B219","v":"MAP3K7 (TAK1)"},{"$f":"Composite!AJ219","v":-1.3711151736745819},{"$f":"Composite!G219","v":"STE"}]
[322,{"$f":"Composite!B412","v":"TTK"},{"$f":"Composite!AJ412","v":-1.423954672714757},{"$f":"Composite!G412","v":"Other"}]
[323,{"$f":"Composite!B320","v":"PRKAA2-B1-G2 (AMPKα2β1γ2)"},{"$f":"Composite!AJ320","v":-1.4265831593597795},{"$f":"Composite!G320","v":"CAMK"}]
[324,{"$f":"Composite!B323","v":"PRKAA2-B2-G2 (AMPKα2β2γ2)"},{"$f":"Composite!AJ323","v":-1.4287257186058469},{"$f":"Composite!G323","v":"CAMK"}]
[325,{"$f":"Composite!B415","v":"TYK2 [JH1-JH2]"},{"$f":"Composite!AJ415","v":-1.5804384402216982},{"$f":"Composite!G415","v":"TK"}]
[326,{"$f":"Composite!B308","v":"PLK1"},{"$f":"Composite!AJ308","v":-1.5844984056904536},{"$f":"Composite!G308","v":"Other"}]
[327,{"$f":"Composite!B186","v":"JAK2 [JH1]"},{"$f":"Composite!AJ186","v":-1.6057403374155399},{"$f":"Composite!G186","v":"TK"}]
[328,{"$f":"Composite!B352","v":"RIPK3"},{"$f":"Composite!AJ352","v":-1.6749349965703857},{"$f":"Composite!G352","v":"TKL"}]
[329,{"$f":"Composite!B103","v":"CSNK1G1 (CK1G1, CK1γ1)"},{"$f":"Composite!AJ103","v":-1.7127087541608574},{"$f":"Composite!G103","v":"CK1"}]
[330,{"$f":"Composite!B290","v":"PBK (TOPK)"},{"$f":"Composite!AJ290","v":-1.8928175065193074},{"$f":"Composite!G290","v":"Other"}]
[331,{"$f":"Composite!B193","v":"LATS1"},{"$f":"Composite!AJ193","v":-1.9826200736726776},{"$f":"Composite!G193","v":"AGC"}]
[332,{"$f":"Composite!B117","v":"DYRK1A"},{"$f":"Composite!AJ117","v":-2.0945810837832539},{"$f":"Composite!G117","v":"CMGC"}]
[333,{"$f":"Composite!B132","v":"EPHA5"},{"$f":"Composite!AJ132","v":-2.2558365203493196},{"$f":"Composite!G132","v":"TK"}]
[334,{"$f":"Composite!B207","v":"MAP3K1 (MEKK1)"},{"$f":"Composite!AJ207","v":-2.2730464909405725},{"$f":"Composite!G207","v":"STE"}]
[335,{"$f":"Composite!B34","v":"BMP2K (BIKE)"},{"$f":"Composite!AJ34","v":-2.3342747964778283},{"$f":"Composite!G34","v":"Other"}]
[336,{"$f":"Composite!B345","v":"PTK2 (FAK)"},{"$f":"Composite!AJ345","v":-2.3615895817488308},{"$f":"Composite!G345","v":"TK"}]
[337,{"$f":"Composite!B139","v":"EPHB4"},{"$f":"Composite!AJ139","v":-2.4020610744866104},{"$f":"Composite!G139","v":"TK"}]
[338,{"$f":"Composite!B216","v":"MAP3K3 (MEKK3)"},{"$f":"Composite!AJ216","v":-2.5691400936980529},{"$f":"Composite!G216","v":"STE"}]
[339,{"$f":"Composite!B392","v":"SYK"},{"$f":"Composite!AJ392","v":-2.5786243118395191},{"$f":"Composite!G392","v":"TK"}]
[340,{"$f":"Composite!B138","v":"EPHB3"},{"$f":"Composite!AJ138","v":-2.7413826242952553},{"$f":"Composite!G138","v":"TK"}]
[341,{"$f":"Composite!B108","v":"DAPK1"},{"$f":"Composite!AJ108","v":-2.822671290206884},{"$f":"Composite!G108","v":"CAMK"}]
[342,{"$f":"Composite!B260","v":"MYLK2 (skMLCK)"},{"$f":"Composite!AJ260","v":-2.8339528697609353},{"$f":"Composite!G260","v":"CAMK"}]
[343,{"$f":"Composite!B403","v":"TNK1"},{"$f":"Composite!AJ403","v":-2.9636988285938912},{"$f":"Composite!G403","v":"TK"}]
[344,{"$f":"Composite!B110","v":"DAPK3 (ZIPK)"},{"$f":"Composite!AJ110","v":-2.9637718886109354},{"$f":"Composite!G110","v":"CAMK"}]
[345,{"$f":"Composite!B297","v":"PDPK1 (PDK1)"},{"$f":"Composite!AJ297","v":-3.0079455164585625},{"$f":"Composite!G297","v":"AGC"}]
[346,{"$f":"Composite!B101","v":"CSNK1D (CK1D, CK1δ)"},{"$f":"Composite!AJ101","v":-3.0304485640188403},{"$f":"Composite!G101","v":"CK1"}]
[347,{"$f":"Composite!B396","v":"TBK1"},{"$f":"Composite!AJ396","v":-3.0310756972111506},{"$f":"Composite!G396","v":"Other"}]
[348,{"$f":"Composite!B221","v":"MAP3K9 (MLK1)"},{"$f":"Composite!AJ221","v":-3.1080455902763191},{"$f":"Composite!G221","v":"TKL"}]
[349,{"$f":"Composite!B336","v":"PRKCQ (PKCᶿ [theta])"},{"$f":"Composite!AJ336","v":-3.1788614705910447},{"$f":"Composite!G336","v":"AGC"}]
[350,{"$f":"Composite!B151","v":"FGR"},{"$f":"Composite!AJ151","v":-3.3169063303120936},{"$f":"Composite!G151","v":"TK"}]
[351,{"$f":"Composite!B109","v":"DAPK2 (DRP-1)"},{"$f":"Composite!AJ109","v":-3.3774278271382059},{"$f":"Composite!G109","v":"CAMK"}]
[352,{"$f":"Composite!B133","v":"EPHA6"},{"$f":"Composite!AJ133","v":-3.5940956208706041},{"$f":"Composite!G133","v":"TK"}]
[353,{"$f":"Composite!B112","v":"DCLK2 (DCAMKL2)"},{"$f":"Composite!AJ112","v":-3.6836454729810271},{"$f":"Composite!G112","v":"CAMK"}]
[354,{"$f":"Composite!B283","v":"PAK1"},{"$f":"Composite!AJ283","v":-3.7450669599534478},{"$f":"Composite!G283","v":"STE"}]
[355,{"$f":"Composite!B231","v":"MAPK13 (p38δ)"},{"$f":"Composite!AJ231","v":-3.767571566786188},{"$f":"Composite!G231","v":"CMGC"}]
[356,{"$f":"Composite!B318","v":"PRKAA1-B2-G3 (AMPKα1β2γ3)"},{"$f":"Composite!AJ318","v":-3.7874184793616053},{"$f":"Composite!G318","v":"CAMK"}]
[357,{"$f":"Composite!B332","v":"PRKCE (PKCe [epsilon])"},{"$f":"Composite!AJ332","v":-3.8608438193930255},{"$f":"Composite!G332","v":"AGC"}]
[358,{"$f":"Composite!B44","v":"CAMK1G (CAMK1γ)"},{"$f":"Composite!AJ44","v":-3.9337938458778012},{"$f":"Composite!G44","v":"CAMK"}]
[359,{"$f":"Composite!B315","v":"PRKAA1-B1-G3 (AMPKα1β1γ3)"},{"$f":"Composite!AJ315","v":-3.9655396063567565},{"$f":"Composite!G315","v":"CAMK"}]
[360,{"$f":"Composite!B25","v":"AKT3 (PKBg)"},{"$f":"Composite!AJ25","v":-3.9759447949672477},{"$f":"Composite!G25","v":"AGC"}]
[361,{"$f":"Composite!B340","v":"PRKD3 (PKD3)"},{"$f":"Composite!AJ340","v":-4.0639804559185251},{"$f":"Composite!G340","v":"CAMK"}]
[362,{"$f":"Composite!B104","v":"CSNK1G2 (CK1G2, CK1γ2)"},{"$f":"Composite!AJ104","v":-4.0944700460829324},{"$f":"Composite!G104","v":"CK1"}]
[363,{"$f":"Composite!B405","v":"TRPM7 (CHAK1)"},{"$f":"Composite!AJ405","v":-4.1223837501061951},{"$f":"Composite!G405","v":"Atypical"}]
[364,{"$f":"Composite!B64","v":"CDK17 (PCTAIRE2, PCTK2)/CycY"},{"$f":"Composite!AJ64","v":-4.2403047523886812},{"$f":"Composite!G64","v":"CMGC"}]
[365,{"$f":"Composite!B196","v":"LIMK1"},{"$f":"Composite!AJ196","v":-4.3400289692910263},{"$f":"Composite!G196","v":"TKL"}]
[366,{"$f":"Composite!B248","v":"MATK (CTK)"},{"$f":"Composite!AJ248","v":-4.4427508805579947},{"$f":"Composite!G248","v":"TK"}]
[367,{"$f":"Composite!B400","v":"TLK1"},{"$f":"Composite!AJ400","v":-5.0286948122051598},{"$f":"Composite!G400","v":"Other"}]
[368,{"$f":"Composite!B236","v":"MAPK7 (BMK, ERK5)"},{"$f":"Composite!AJ236","v":-5.2517238122225507},{"$f":"Composite!G236","v":"CMGC"}]
[369,{"$f":"Composite!B286","v":"PAK4"},{"$f":"Composite!AJ286","v":-5.2661784438301424},{"$f":"Composite!G286","v":"STE"}]
[370,{"$f":"Composite!B337","v":"PRKCZ (PKCζ [zeta])"},{"$f":"Composite!AJ337","v":-5.3881545518456164},{"$f":"Composite!G337","v":"AGC"}]
[371,{"$f":"Composite!B280","v":"NTRK3 (TRKC)"},{"$f":"Composite!AJ280","v":-5.4140708702035596},{"$f":"Composite!G280","v":"TK"}]
[372,{"$f":"Composite!B105","v":"CSNK1G3 (CK1G3, CK1γ3)"},{"$f":"Composite!AJ105","v":-5.5990570009261518},{"$f":"Composite!G105","v":"CK1"}]
[373,{"$f":"Composite!B241","v":"MAPKAPK5 (MK5)"},{"$f":"Composite!AJ241","v":-5.7449385706869407},{"$f":"Composite!G241","v":"CAMK"}]
[374,{"$f":"Composite!B90","v":"CHEK2 (CHK2)"},{"$f":"Composite!AJ90","v":-5.849593495934954},{"$f":"Composite!G90","v":"CAMK"}]
[375,{"$f":"Composite!B49","v":"CAMK4"},{"$f":"Composite!AJ49","v":-5.8640022923999453},{"$f":"Composite!G49","v":"CAMK"}]
[376,{"$f":"Composite!B244","v":"MARK3"},{"$f":"Composite!AJ244","v":-5.9876420171417521},{"$f":"Composite!G244","v":"CAMK"}]
[377,{"$f":"Composite!B163","v":"GRK5 (GPRK5)"},{"$f":"Composite!AJ163","v":-6.1005456814985024},{"$f":"Composite!G163","v":"AGC"}]
[378,{"$f":"Composite!B242","v":"MARK1"},{"$f":"Composite!AJ242","v":-6.1011635618255156},{"$f":"Composite!G242","v":"CAMK"}]
[379,{"$f":"Composite!B279","v":"NTRK2 (TRKB)"},{"$f":"Composite!AJ279","v":-6.3684848683455897},{"$f":"Composite!G279","v":"TK"}]
[380,{"$f":"Composite!B317","v":"PRKAA1-B2-G2 (AMPKα1β2γ2)"},{"$f":"Composite!AJ317","v":-6.6259670053126882},{"$f":"Composite!G317","v":"CAMK"}]
[381,{"$f":"Composite!B266","v":"NEK10"},{"$f":"Composite!AJ266","v":-7.2993132048916323},{"$f":"Composite!G266","v":"Other"}]
[382,{"$f":"Composite!B299","v":"PHKG2"},{"$f":"Composite!AJ299","v":-7.3209227312514429},{"$f":"Composite!G299","v":"CAMK"}]
[383,{"$f":"Composite!B404","v":"TNK2 (ACK)"},{"$f":"Composite!AJ404","v":-7.6252648848178524},{"$f":"Composite!G404","v":"TK"}]
[384,{"$f":"Composite!B214","v":"MAP3K2 (MEKK2)"},{"$f":"Composite!AJ214","v":-7.6563645887899412},{"$f":"Composite!G214","v":"STE"}]
[385,{"$f":"Composite!B20","v":"AAK1"},{"$f":"Composite!AJ20","v":-7.7709666828011592},{"$f":"Composite!G20","v":"Other"}]
[386,{"$f":"Composite!B102","v":"CSNK1E (CK1E, CK1ε)"},{"$f":"Composite!AJ102","v":-7.8657754371750741},{"$f":"Composite!G102","v":"CK1"}]
[387,{"$f":"Composite!B335","v":"PRKCI (PKCι [iota])"},{"$f":"Composite!AJ335","v":-7.9129504102747035},{"$f":"Composite!G335","v":"AGC"}]
[388,{"$f":"Composite!B401","v":"TLK2"},{"$f":"Composite!AJ401","v":-9.1060910788680047},{"$f":"Composite!G401","v":"Other"}]
[389,{"$f":"Composite!B106","v":"CSNK2A1 (CK2A1, CK2α1)"},{"$f":"Composite!AJ106","v":-9.144594662511949},{"$f":"Composite!G106","v":"Other"}]
[390,{"$f":"Composite!B419","v":"ULK3"},{"$f":"Composite!AJ419","v":-9.6302952925253607},{"$f":"Composite!G419","v":"Other"}]
[391,{"$f":"Composite!B334","v":"PRKCH (PKCη [eta])"},{"$f":"Composite!AJ334","v":-9.8172052380003834},{"$f":"Composite!G334","v":"AGC"}]
[392,{"$f":"Composite!B111","v":"DCLK1 (DCAMKL1)"},{"$f":"Composite!AJ111","v":-10.00526118000748},{"$f":"Composite!G111","v":"CAMK"}]
[393,{"$f":"Composite!B114","v":"DDR2"},{"$f":"Composite!AJ114","v":-10.042886054804214},{"$f":"Composite!G114","v":"TK"}]
[394,{"$f":"Composite!B324","v":"PRKAA2-B2-G3 (AMPKα2β2γ3)"},{"$f":"Composite!AJ324","v":-10.325997475440445},{"$f":"Composite!G324","v":"CAMK"}]
[395,{"$f":"Composite!B300","v":"PIM1"},{"$f":"Composite!AJ300","v":-11.288448128922269},{"$f":"Composite!G300","v":"CAMK"}]
[396,{"$f":"Composite!B53","v":"CDC42BPB (MRCKB)"},{"$f":"Composite!AJ53","v":-11.43214475427142},{"$f":"Composite!G53","v":"AGC"}]
[397,{"$f":"Composite!B92","v":"CIT (CRIK)"},{"$f":"Composite!AJ92","v":-11.649634236554419},{"$f":"Composite!G92","v":"AGC"}]
[398,{"$f":"Composite!B365","v":"SGK1 (SGK)"},{"$f":"Composite!AJ365","v":-11.844513523720948},{"$f":"Composite!G365","v":"AGC"}]
[399,{"$f":"Composite!B309","v":"PLK2"},{"$f":"Composite!AJ309","v":-11.926067184978734},{"$f":"Composite!G309","v":"Other"}]
[400,{"$f":"Composite!B330","v":"PRKCB2 (PKCβ2 [beta2])"},{"$f":"Composite!AJ330","v":-13.244745115032188},{"$f":"Composite!G330","v":"AGC"}]
[401,{"$f":"Composite!B333","v":"PRKCG (PKCγ [gamma])"},{"$f":"Composite!AJ333","v":-18.921343183782625},{"$f":"Composite!G333","v":"AGC"}]
[402,{"$f":"Composite!B247","v":"MASTL"},{"$f":"Composite!AJ247","v":-19.048327453564056},{"$f":"Composite!G247","v":"AGC"}]
[403,{"$f":"Composite!B161","v":"GRK3 (ADRBK2, BARK2)"},{"$f":"Composite!AJ161","v":-23.134690827573337},{"$f":"Composite!G161","v":"AGC"}]

{"sheet":"Compound 14 Kinome Tree","index":31,"n_rows":6,"n_cols":27,"rows_kept":6,"cut":false,"hidden":false,"merged":[[1,1,3,20]]}
[]
[null,{"$f":"Summary!AC23","v":"Kinome Hit View for Lapatinib  (1 µM) with 398 Kinases (Coral Names) at 1 mM"}]
[null,null,null,null,null,null,null,null,null,null,null,null,null,null,null,null,null,null,null,null,null,null,null,null,null,null,"Kinome Hit View for VVVVVVVVVVVVVVVVVVVVVVVVVVV (VVVVV µM) with VVV Kinases (Coral Names)"]
[null,null,null,null,null,null,null,null,null,null,null,null,null,null,null,null,null,null,null,null,null,null,null,null,null,null,{"$f":"REPLACE(AA3,65,3,Summary!E23)","v":"Kinome Hit View for VVVVVVVVVVVVVVVVVVVVVVVVVVV (VVVVV µM) with 398 Kinases (Coral Names)"}]
[null,null,null,null,null,null,null,null,null,null,null,null,null,null,null,null,null,null,null,null,null,null,null,null,null,null,{"$f":"REPLACE(AA4,50,5,Summary!D23)","v":"Kinome Hit View for VVVVVVVVVVVVVVVVVVVVVVVVVVV (1 µM) with 398 Kinases (Coral Names)"}]
[null,null,null,null,null,null,null,null,null,null,null,null,null,null,null,null,null,null,null,null,null,null,null,null,null,null,{"$f":"REPLACE(AA5,21,27,Summary!C23)","v":"Kinome Hit View for Lapatinib  (1 µM) with 398 Kinases (Coral Names)"}]

{"sheet":"Compound 15","index":32,"n_rows":520,"n_cols":28,"rows_kept":520,"cut":false,"hidden":false,"merged":[]}
[]
["Panel #","Kinase Target","Kinase Target",{"$f":"Summary!AB24","v":"0.085 µM Lapatinib , % inhibition at 1 mM"},{"$f":"Composite!G19","v":"Group"}]
[1,{"$f":"Composite!B112","v":"DCLK2 (DCAMKL2)"},{"$f":"Composite!F112","v":"DCAML2"},{"$f":"Composite!AL112","v":96.643206489323632},{"$f":"Composite!G112","v":"CAMK"},null,null,null,null,null,null,null,null,null,null,null,null,null,null,null,null,null,null,null,null,null,null,"VVVVV μM VVVVVVVVVVVVVVVVVVVVVVVVVVV, % inhibition"]
[2,{"$f":"Composite!B123","v":"EGFR (ERBB1)"},{"$f":"Composite!F123","v":"EGFR"},{"$f":"Composite!AL123","v":49.013132544580522},{"$f":"Composite!G123","v":"TK"},null,null,null,null,null,null,null,null,null,null,null,null,null,null,null,null,null,null,null,null,null,null,{"$f":"REPLACE(AB3,10,27,Summary!C24)","v":"VVVVV μM Lapatinib , % inhibition"}]
[3,{"$f":"Composite!B170","v":"HIPK1"},{"$f":"Composite!F170","v":"HIPK1"},{"$f":"Composite!AL170","v":28.505330919332124},{"$f":"Composite!G170","v":"CMGC"},null,null,null,null,null,null,null,null,null,null,null,null,null,null,null,null,null,null,null,null,null,null,{"$f":"REPLACE(AB4,1,5,Summary!D24)","v":"0.085 μM Lapatinib , % inhibition"}]
[4,{"$f":"Composite!B48","v":"CAMK2G (CAMK2γ)"},{"$f":"Composite!F48","v":"CAMK2G"},{"$f":"Composite!AL48","v":26.634574011162542},{"$f":"Composite!G48","v":"CAMK"}]
[5,{"$f":"Composite!B420","v":"WEE1"},{"$f":"Composite!F420","v":"WEE1"},{"$f":"Composite!AL420","v":24.86936936936938},{"$f":"Composite!G420","v":"Other"}]
[6,{"$f":"Composite!B258","v":"MUSK"},{"$f":"Composite!F258","v":"MUSK"},{"$f":"Composite!AL258","v":23.19606382425809},{"$f":"Composite!G258","v":"TK"}]
[7,{"$f":"Composite!B144","v":"FAM20C"},{"$f":"Composite!F144","v":"FAM20C"},{"$f":"Composite!AL144","v":23.099105094238908},{"$f":"Composite!G144","v":"Other"}]
[8,{"$f":"Composite!B82","v":"CDK6/CycD3"},{"$f":"Composite!F82","v":"CDK6/D3"},{"$f":"Composite!AL82","v":22.345022192175421},{"$f":"Composite!G82","v":"CMGC"}]
[9,{"$f":"Composite!B47","v":"CAMK2D (CAMK2δ)"},{"$f":"Composite!F47","v":"CAMK2D"},{"$f":"Composite!AL47","v":21.608837419003422},{"$f":"Composite!G47","v":"CAMK"}]
[10,{"$f":"Composite!B67","v":"CDK2/CycA1"},{"$f":"Composite!F67","v":"CDK2/A1"},{"$f":"Composite!AL67","v":21.438950153714359},{"$f":"Composite!G67","v":"CMGC"}]
[11,{"$f":"Composite!B46","v":"CAMK2B (CAMK2β)"},{"$f":"Composite!F46","v":"CAMK2B"},{"$f":"Composite!AL46","v":20.189880242793819},{"$f":"Composite!G46","v":"CAMK"}]
[12,{"$f":"Composite!B68","v":"CDK2/CycA2"},{"$f":"Composite!F68","v":"CDK2/A2"},{"$f":"Composite!AL68","v":19.381383416428676},{"$f":"Composite!G68","v":"CMGC"}]
[13,{"$f":"Composite!B97","v":"CSF1R (FMS)"},{"$f":"Composite!F97","v":"FMS/CSF1R"},{"$f":"Composite!AL97","v":19.31249880242963},{"$f":"Composite!G97","v":"TK"}]
[14,{"$f":"Composite!B45","v":"CAMK2A (CAMK2α)"},{"$f":"Composite!F45","v":"CAMK2A"},{"$f":"Composite!AL45","v":19.139441539865913},{"$f":"Composite!G45","v":"CAMK"}]
[15,{"$f":"Composite!B273","v":"NEK7"},{"$f":"Composite!F273","v":"NEK7"},{"$f":"Composite!AL273","v":18.431840589486811},{"$f":"Composite!G273","v":"Other"}]
[16,{"$f":"Composite!B58","v":"CDK1 (CDC2)/CycB1 "},{"$f":"Composite!F58","v":"CDK1/B1"},{"$f":"Composite!AL58","v":18.032945268344534},{"$f":"Composite!G58","v":"CMGC"}]
[17,{"$f":"Composite!B57","v":"CDK1 (CDC2)/CycA2 "},{"$f":"Composite!F57","v":"CDK1/A2"},{"$f":"Composite!AL57","v":17.904638339279913},{"$f":"Composite!G57","v":"CMGC"}]
[18,{"$f":"Composite!B162","v":"GRK4 (GPRK4)"},{"$f":"Composite!F162","v":"GRK4"},{"$f":"Composite!AL162","v":17.862591780299411},{"$f":"Composite!G162","v":"AGC"}]
[19,{"$f":"Composite!B33","v":"BLK"},{"$f":"Composite!F33","v":"BLK"},{"$f":"Composite!AL33","v":17.837458663192692},{"$f":"Composite!G33","v":"TK"}]
[20,{"$f":"Composite!B293","v":"PDK1 (PDHK1)"},{"$f":"Composite!F293","v":"PDHK1"},{"$f":"Composite!AL293","v":17.826980795541644},{"$f":"Composite!G293","v":"Atypical"}]
[21,{"$f":"Composite!B38","v":"BRSK1"},{"$f":"Composite!F38","v":"BRSK1"},{"$f":"Composite!AL38","v":17.493675156012813},{"$f":"Composite!G38","v":"CAMK"}]
[22,{"$f":"Composite!B88","v":"CDKL5"},{"$f":"Composite!F88","v":"CDKL5"},{"$f":"Composite!AL88","v":17.224737336636224},{"$f":"Composite!G88","v":"CMGC"}]
[23,{"$f":"Composite!B73","v":"CDK3/CycE1"},{"$f":"Composite!F73","v":"CDK3/E1"},{"$f":"Composite!AL73","v":17.039888033589918},{"$f":"Composite!G73","v":"CMGC"}]
[24,{"$f":"Composite!B87","v":"CDK9 (TAK)/CycT2"},{"$f":"Composite!F87","v":"CDK9/T2"},{"$f":"Composite!AL87","v":17.020977051949899},{"$f":"Composite!G87","v":"CMGC"}]
[25,{"$f":"Composite!B78","v":"CDK5/p25"},{"$f":"Composite!F78","v":"CDK5/P25"},{"$f":"Composite!AL78","v":16.975437135720242},{"$f":"Composite!G78","v":"CMGC"}]
[26,{"$f":"Composite!B410","v":"TTBK1"},{"$f":"Composite!F410","v":"TTBK1"},{"$f":"Composite!AL410","v":16.359865180191861},{"$f":"Composite!G410","v":"CK1"}]
[27,{"$f":"Composite!B245","v":"MARK4"},{"$f":"Composite!F245","v":"MARK4"},{"$f":"Composite!AL245","v":16.300927459423647},{"$f":"Composite!G245","v":"CAMK"}]
[28,{"$f":"Composite!B215","v":"MAP3K20 (MLK7, ZAK)"},{"$f":"Composite!F215","v":"ZAK"},{"$f":"Composite!AL215","v":16.099942561746118},{"$f":"Composite!G215","v":"TKL"}]
[29,{"$f":"Composite!B238","v":"MAPK9 (JNK2)"},{"$f":"Composite!F238","v":"JNK2"},{"$f":"Composite!AL238","v":16.083771081006347},{"$f":"Composite!G238","v":"CMGC"}]
[30,{"$f":"Composite!B140","v":"ERBB2 (HER2)"},{"$f":"Composite!F140","v":"HER2"},{"$f":"Composite!AL140","v":16.016703104342923},{"$f":"Composite!G140","v":"TK"}]
[31,{"$f":"Composite!B388","v":"STK33"},{"$f":"Composite!F388","v":"STK33"},{"$f":"Composite!AL388","v":15.986124159861191},{"$f":"Composite!G388","v":"CAMK"}]
[32,{"$f":"Composite!B30","v":"AXL"},{"$f":"Composite!F30","v":"AXL"},{"$f":"Composite!AL30","v":15.51229606814573},{"$f":"Composite!G30","v":"TK"}]
[33,{"$f":"Composite!B281","v":"NUAK1 (ARK5)"},{"$f":"Composite!F281","v":"NUAK1"},{"$f":"Composite!AL281","v":15.490422647882312},{"$f":"Composite!G281","v":"CAMK"}]
[34,{"$f":"Composite!B218","v":"MAP3K6 (ASK2)"},{"$f":"Composite!F218","v":"MAP3K6"},{"$f":"Composite!AL218","v":14.960013908205838},{"$f":"Composite!G218","v":"STE"}]
[35,{"$f":"Composite!B358","v":"RPS6KA3 (RSK2)"},{"$f":"Composite!F358","v":"RSK2"},{"$f":"Composite!AL358","v":14.788684156449079},{"$f":"Composite!G358","v":"AGC"}]
[36,{"$f":"Composite!B79","v":"CDK5/p35NCK"},{"$f":"Composite!F79","v":"CDK5/P35"},{"$f":"Composite!AL79","v":14.728550572097916},{"$f":"Composite!G79","v":"CMGC"}]
[37,{"$f":"Composite!B268","v":"NEK2"},{"$f":"Composite!F268","v":"NEK2"},{"$f":"Composite!AL268","v":14.715595243384129},{"$f":"Composite!G268","v":"Other"}]
[38,{"$f":"Composite!B180","v":"INSRR (IRR)"},{"$f":"Composite!F180","v":"INSRR"},{"$f":"Composite!AL180","v":14.715221274062316},{"$f":"Composite!G180","v":"TK"}]
[39,{"$f":"Composite!B391","v":"STK4 (MST1)"},{"$f":"Composite!F391","v":"MST1"},{"$f":"Composite!AL391","v":14.632084302062253},{"$f":"Composite!G391","v":"STE"}]
[40,{"$f":"Composite!B124","v":"EIF2AK1 (HRI)"},{"$f":"Composite!F124","v":"HRI"},{"$f":"Composite!AL124","v":14.630992639745358},{"$f":"Composite!G124","v":"Other"}]
[41,{"$f":"Composite!B80","v":"CDK6/CycD1"},{"$f":"Composite!F80","v":"CDK6/D1"},{"$f":"Composite!AL80","v":14.594312094420971},{"$f":"Composite!G80","v":"CMGC"}]
[42,{"$f":"Composite!B75","v":"CDK4 /CycD3"},{"$f":"Composite!F75","v":"CDK4/D3"},{"$f":"Composite!AL75","v":14.554411106135234},{"$f":"Composite!G75","v":"CMGC"}]
[43,{"$f":"Composite!B225","v":"MAP4K4 (HGK, ZC1)"},{"$f":"Composite!F225","v":"HGK"},{"$f":"Composite!AL225","v":14.285714285714278},{"$f":"Composite!G225","v":"STE"}]
[44,{"$f":"Composite!B200","v":"LYNA (LYNa)"},{"$f":"Composite!F200","v":"LYNA"},{"$f":"Composite!AL200","v":13.812477378171167},{"$f":"Composite!G200","v":"TK"}]
[45,{"$f":"Composite!B357","v":"RPS6KA2 (RSK3)"},{"$f":"Composite!F357","v":"RSK3"},{"$f":"Composite!AL357","v":13.802207314434085},{"$f":"Composite!G357","v":"AGC"}]
[46,{"$f":"Composite!B359","v":"RPS6KA4 (MSK2)"},{"$f":"Composite!F359","v":"MSK2"},{"$f":"Composite!AL359","v":13.766895842102812},{"$f":"Composite!G359","v":"AGC"}]
[47,{"$f":"Composite!B288","v":"PAK6"},{"$f":"Composite!F288","v":"PAK6"},{"$f":"Composite!AL288","v":13.760801854757474},{"$f":"Composite!G288","v":"STE"}]
[48,{"$f":"Composite!B142","v":"ERN1 (IRE1)"},{"$f":"Composite!F142","v":"ERN1"},{"$f":"Composite!AL142","v":13.535828935197813},{"$f":"Composite!G142","v":"Other"}]
[49,{"$f":"Composite!B260","v":"MYLK2 (skMLCK)"},{"$f":"Composite!F260","v":"MYLK2"},{"$f":"Composite!AL260","v":13.532039695801927},{"$f":"Composite!G260","v":"CAMK"}]
[50,{"$f":"Composite!B366","v":"SGK2"},{"$f":"Composite!F366","v":"SGK2"},{"$f":"Composite!AL366","v":13.351246663060735},{"$f":"Composite!G366","v":"AGC"}]
[51,{"$f":"Composite!B360","v":"RPS6KA5 (MSK1)"},{"$f":"Composite!F360","v":"MSK1"},{"$f":"Composite!AL360","v":13.265675969554181},{"$f":"Composite!G360","v":"AGC"}]
[52,{"$f":"Composite!B370","v":"SIK3 (QSK)"},{"$f":"Composite!F370","v":"SIK3"},{"$f":"Composite!AL370","v":13.259774834012262},{"$f":"Composite!G370","v":"CAMK"}]
[53,{"$f":"Composite!B387","v":"STK3 (CLIK1, MST2)"},{"$f":"Composite!F387","v":"MST2"},{"$f":"Composite!AL387","v":12.854349951124149},{"$f":"Composite!G387","v":"STE"}]
[54,{"$f":"Composite!B167","v":"GSK3B (GSK3β)"},{"$f":"Composite!F167","v":"GSK3B"},{"$f":"Composite!AL167","v":12.649919982737856},{"$f":"Composite!G167","v":"CMGC"}]
[55,{"$f":"Composite!B26","v":"ALK"},{"$f":"Composite!F26","v":"ALK"},{"$f":"Composite!AL26","v":12.536876843842208},{"$f":"Composite!G26","v":"TK"}]
[56,{"$f":"Composite!B61","v":"CDK13 (CHED)/CycK"},{"$f":"Composite!F61","v":"CDK13/K"},{"$f":"Composite!AL61","v":12.465661534530085},{"$f":"Composite!G61","v":"CMGC"}]
[57,{"$f":"Composite!B223","v":"MAP4K2 (GCK)"},{"$f":"Composite!F223","v":"GCK"},{"$f":"Composite!AL223","v":12.334191797513242},{"$f":"Composite!G223","v":"STE"}]
[58,{"$f":"Composite!B42","v":"CAMK1 (CAMK1a)"},{"$f":"Composite!F42","v":"CAMK1A"},{"$f":"Composite!AL42","v":12.262604306740101},{"$f":"Composite!G42","v":"CAMK"}]
[59,{"$f":"Composite!B226","v":"MAP4K5 (KHS1)"},{"$f":"Composite!F226","v":"KHS1"},{"$f":"Composite!AL226","v":11.885195126987426},{"$f":"Composite!G226","v":"STE"}]
[60,{"$f":"Composite!B192","v":"KSR2"},{"$f":"Composite!F192","v":"KSR2"},{"$f":"Composite!AL192","v":11.759502562634935},{"$f":"Composite!G192","v":"TKL"}]
[61,{"$f":"Composite!B22","v":"ABL2 (ARG)"},{"$f":"Composite!F22","v":"ABL2"},{"$f":"Composite!AL22","v":11.614165913116722},{"$f":"Composite!G22","v":"TK"}]
[62,{"$f":"Composite!B165","v":"GRK7 (GPRK7)"},{"$f":"Composite!F165","v":"GRK7"},{"$f":"Composite!AL165","v":11.482610254571554},{"$f":"Composite!G165","v":"AGC"}]
[63,{"$f":"Composite!B373","v":"SRC"},{"$f":"Composite!F373","v":"SRC"},{"$f":"Composite!AL373","v":11.480485474682411},{"$f":"Composite!G373","v":"TK"}]
[64,{"$f":"Composite!B233","v":"MAPK15 (ERK7)"},{"$f":"Composite!F233","v":"ERK7"},{"$f":"Composite!AL233","v":11.244141259455205},{"$f":"Composite!G233","v":"CMGC"}]
[65,{"$f":"Composite!B385","v":"STK25 (YSK1)"},{"$f":"Composite!F385","v":"YSK1"},{"$f":"Composite!AL385","v":11.164267910267768},{"$f":"Composite!G385","v":"STE"}]
[66,{"$f":"Composite!B72","v":"CDK2/CycO"},{"$f":"Composite!F72","v":"CDK2/O"},{"$f":"Composite!AL72","v":11.065035374558818},{"$f":"Composite!G72","v":"CMGC"}]
[67,{"$f":"Composite!B285","v":"PAK3"},{"$f":"Composite!F285","v":"PAK3"},{"$f":"Composite!AL285","v":11.023622047244089},{"$f":"Composite!G285","v":"STE"}]
[68,{"$f":"Composite!B294","v":"PDK2 (PDHK2)"},{"$f":"Composite!F294","v":"PDHK2"},{"$f":"Composite!AL294","v":10.924593068320206},{"$f":"Composite!G294","v":"Atypical"}]
[69,{"$f":"Composite!B31","v":"BCKDK"},{"$f":"Composite!F31","v":"BCKDK"},{"$f":"Composite!AL31","v":10.791611723169765},{"$f":"Composite!G31","v":"Atypical"}]
[70,{"$f":"Composite!B230","v":"MAPK12 (p38γ)"},{"$f":"Composite!F230","v":"P38G"},{"$f":"Composite!AL230","v":10.727137361955585},{"$f":"Composite!G230","v":"CMGC"}]
[71,{"$f":"Composite!B265","v":"NEK1"},{"$f":"Composite!F265","v":"NEK1"},{"$f":"Composite!AL265","v":10.6264232506079},{"$f":"Composite!G265","v":"Other"}]
[72,{"$f":"Composite!B115","v":"DMPK (DMPK1)"},{"$f":"Composite!F115","v":"DMPK1"},{"$f":"Composite!AL115","v":10.525813380001566},{"$f":"Composite!G115","v":"AGC"}]
[73,{"$f":"Composite!B174","v":"HUNK"},{"$f":"Composite!F174","v":"HUNK"},{"$f":"Composite!AL174","v":10.446506451116363},{"$f":"Composite!G174","v":"CAMK"}]
[74,{"$f":"Composite!B152","v":"FLT1"},{"$f":"Composite!F152","v":"FLT1"},{"$f":"Composite!AL152","v":10.424581935161797},{"$f":"Composite!G152","v":"TK"}]
[75,{"$f":"Composite!B159","v":"GRK1 (RHOK)"},{"$f":"Composite!F159","v":"GRK1"},{"$f":"Composite!AL159","v":10.421535379803558},{"$f":"Composite!G159","v":"AGC"}]
[76,{"$f":"Composite!B166","v":"GSK3A (GSK3α)"},{"$f":"Composite!F166","v":"GSK3A"},{"$f":"Composite!AL166","v":10.047426664324618},{"$f":"Composite!G166","v":"CMGC"}]
[77,{"$f":"Composite!B402","v":"TNIK (ZC2)"},{"$f":"Composite!F402","v":"TNIK"},{"$f":"Composite!AL402","v":9.9887787544417677},{"$f":"Composite!G402","v":"STE"}]
[78,{"$f":"Composite!B237","v":"MAPK8 (JNK1)"},{"$f":"Composite!F237","v":"JNK1"},{"$f":"Composite!AL237","v":9.9740209289338821},{"$f":"Composite!G237","v":"CMGC"}]
[79,{"$f":"Composite!B367","v":"SGK3"},{"$f":"Composite!F367","v":"SGK3"},{"$f":"Composite!AL367","v":9.946447160840961},{"$f":"Composite!G367","v":"AGC"}]
[80,{"$f":"Composite!B344","v":"PRKX"},{"$f":"Composite!F344","v":"PRKX"},{"$f":"Composite!AL344","v":9.9447513812154824},{"$f":"Composite!G344","v":"AGC"}]
[81,{"$f":"Composite!B341","v":"PRKDC (DNA-PK)"},{"$f":"Composite!F341","v":"DNA-PK"},{"$f":"Composite!AL341","v":9.9082919543193526},{"$f":"Composite!G341","v":"Atypical"}]
[82,{"$f":"Composite!B249","v":"MELK"},{"$f":"Composite!F249","v":"MELK"},{"$f":"Composite!AL249","v":9.8810676255013163},{"$f":"Composite!G249","v":"CAMK"}]
[83,{"$f":"Composite!B252","v":"MINK1 (MAP4K6, MINK, ZC3)"},{"$f":"Composite!F252","v":"MINK"},{"$f":"Composite!AL252","v":9.8364988860778482},{"$f":"Composite!G252","v":"STE"}]
[84,{"$f":"Composite!B356","v":"RPS6KA1 (RSK1)"},{"$f":"Composite!F356","v":"RSK1"},{"$f":"Composite!AL356","v":9.5980521138099704},{"$f":"Composite!G356","v":"AGC"}]
[85,{"$f":"Composite!B292","v":"PDGFRB (PDGFRβ)"},{"$f":"Composite!F292","v":"PDGFRB"},{"$f":"Composite!AL292","v":9.5304428579720337},{"$f":"Composite!G292","v":"TK"}]
[86,{"$f":"Composite!B43","v":"CAMK1D (CAMK1δ)"},{"$f":"Composite!F43","v":"CAMK1D"},{"$f":"Composite!AL43","v":9.4740803462225927},{"$f":"Composite!G43","v":"CAMK"}]
[87,{"$f":"Composite!B35","v":"BMX"},{"$f":"Composite!F35","v":"BMX"},{"$f":"Composite!AL35","v":9.4424161964819007},{"$f":"Composite!G35","v":"TK"}]
[88,{"$f":"Composite!B246","v":"MAST3"},{"$f":"Composite!F246","v":"MAST3"},{"$f":"Composite!AL246","v":9.4206117527604931},{"$f":"Composite!G246","v":"AGC"}]
[89,{"$f":"Composite!B232","v":"MAPK14 (p38a)"},{"$f":"Composite!F232","v":"P38A"},{"$f":"Composite!AL232","v":9.4202898550724399},{"$f":"Composite!G232","v":"CMGC"}]
[90,{"$f":"Composite!B349","v":"RET"},{"$f":"Composite!F349","v":"RET"},{"$f":"Composite!AL349","v":9.4181228607457967},{"$f":"Composite!G349","v":"TK"}]
[91,{"$f":"Composite!B224","v":"MAP4K3 (GLK, KHS2)"},{"$f":"Composite!F224","v":"GLK/KHS2"},{"$f":"Composite!AL224","v":9.2737811114899529},{"$f":"Composite!G224","v":"STE"}]
[92,{"$f":"Composite!B126","v":"EIF2AK3 (PERK/PEK)"},{"$f":"Composite!F126","v":"PEK"},{"$f":"Composite!AL126","v":9.2374242726499602},{"$f":"Composite!G126","v":"Other"}]
[93,{"$f":"Composite!B32","v":"BCR RET (fusion)"},{"$f":"Composite!F32","v":"BCR RET"},{"$f":"Composite!AL32","v":9.234001968287032},{"$f":"Composite!G32","v":"TK"}]
[94,{"$f":"Composite!B418","v":"ULK2"},{"$f":"Composite!F418","v":"ULK2"},{"$f":"Composite!AL418","v":9.1282081775544555},{"$f":"Composite!G418","v":"Other"}]
[95,{"$f":"Composite!B222","v":"MAP4K1 (HPK1)"},{"$f":"Composite!F222","v":"HPK1"},{"$f":"Composite!AL222","v":9.1069603196728934},{"$f":"Composite!G222","v":"STE"}]
[96,{"$f":"Composite!B347","v":"PTK6 (BRK)"},{"$f":"Composite!F347","v":"PTK6"},{"$f":"Composite!AL347","v":9.1001179354926904},{"$f":"Composite!G347","v":"TK"}]
[97,{"$f":"Composite!B85","v":"CDK9 (TAK)/CycK"},{"$f":"Composite!F85","v":"CDK9/K"},{"$f":"Composite!AL85","v":9.0715669683368958},{"$f":"Composite!G85","v":"CMGC"}]
[98,{"$f":"Composite!B382","v":"STK17A (DRAK1)"},{"$f":"Composite!F382","v":"DRAK1"},{"$f":"Composite!AL382","v":9.0673126838553202},{"$f":"Composite!G382","v":"CAMK"}]
[99,{"$f":"Composite!B204","v":"MAP2K2 (MEK2)"},{"$f":"Composite!F204","v":"MEK2"},{"$f":"Composite!AL204","v":9.0320685434516434},{"$f":"Composite!G204","v":"STE"}]
[100,{"$f":"Composite!B342","v":"PRKG1 (PKG1, PGK)"},{"$f":"Composite!F342","v":"PGK"},{"$f":"Composite!AL342","v":8.8902555177040057},{"$f":"Composite!G342","v":"AGC"}]
[101,{"$f":"Composite!B381","v":"STK16 (MPSK1, PKL12, TSF1)"},{"$f":"Composite!F381","v":"STK16"},{"$f":"Composite!AL381","v":8.8793652237176843},{"$f":"Composite!G381","v":"Other"}]
[102,{"$f":"Composite!B267","v":"NEK11"},{"$f":"Composite!F267","v":"NEK11"},{"$f":"Composite!AL267","v":8.8649359493700359},{"$f":"Composite!G267","v":"Other"}]
[103,{"$f":"Composite!B50","v":"CAMKK1"},{"$f":"Composite!F50","v":"CAMKK1"},{"$f":"Composite!AL50","v":8.6195811903012469},{"$f":"Composite!G50","v":"Other"}]
[104,{"$f":"Composite!B191","v":"KSR1"},{"$f":"Composite!F191","v":"KSR1"},{"$f":"Composite!AL191","v":8.5741058878650733},{"$f":"Composite!G191","v":"TKL"}]
[105,{"$f":"Composite!B311","v":"PLK4"},{"$f":"Composite!F311","v":"PLK4"},{"$f":"Composite!AL311","v":8.4912160631130007},{"$f":"Composite!G311","v":"Other"}]
[106,{"$f":"Composite!B228","v":"MAPK10 (JNK3)"},{"$f":"Composite!F228","v":"JNK3"},{"$f":"Composite!AL228","v":8.4893494709693442},{"$f":"Composite!G228","v":"CMGC"}]
[107,{"$f":"Composite!B282","v":"NUAK2 (SNARK)"},{"$f":"Composite!F282","v":"NUAK2"},{"$f":"Composite!AL282","v":8.3106632965791505},{"$f":"Composite!G282","v":"CAMK"}]
[108,{"$f":"Composite!B171","v":"HIPK2"},{"$f":"Composite!F171","v":"HIPK2"},{"$f":"Composite!AL171","v":8.2842782104691111},{"$f":"Composite!G171","v":"CMGC"}]
[109,{"$f":"Composite!B271","v":"NEK5"},{"$f":"Composite!F271","v":"NEK5"},{"$f":"Composite!AL271","v":8.2329839835340408},{"$f":"Composite!G271","v":"Other"}]
[110,{"$f":"Composite!B276","v":"NIM1 (NIM1K)"},{"$f":"Composite!F276","v":"NIM1"},{"$f":"Composite!AL276","v":8.2253599758077485},{"$f":"Composite!G276","v":"CAMK"}]
[111,{"$f":"Composite!B355","v":"ROS1 (ROS)"},{"$f":"Composite!F355","v":"ROS"},{"$f":"Composite!AL355","v":8.1982897551143452},{"$f":"Composite!G355","v":"TK"}]
[112,{"$f":"Composite!B409","v":"TSSK6 (SSTK)"},{"$f":"Composite!F409","v":"TSSK6"},{"$f":"Composite!AL409","v":8.1589216034054743},{"$f":"Composite!G409","v":"CAMK"}]
[113,{"$f":"Composite!B70","v":"CDK2/CycE1"},{"$f":"Composite!F70","v":"CDK2/E1"},{"$f":"Composite!AL70","v":8.0576759966072871},{"$f":"Composite!G70","v":"CMGC"}]
[114,{"$f":"Composite!B272","v":"NEK6"},{"$f":"Composite!F272","v":"NEK6"},{"$f":"Composite!AL272","v":8.0094010774268298},{"$f":"Composite!G272","v":"Other"}]
[115,{"$f":"Composite!B353","v":"ROCK1"},{"$f":"Composite!F353","v":"ROCK1"},{"$f":"Composite!AL353","v":7.9764395023670573},{"$f":"Composite!G353","v":"AGC"}]
[116,{"$f":"Composite!B256","v":"MST1R (RON)"},{"$f":"Composite!F256","v":"MST1R"},{"$f":"Composite!AL256","v":7.9304396475360335},{"$f":"Composite!G256","v":"TK"}]
[117,{"$f":"Composite!B303","v":"PINK1 (PINK)"},{"$f":"Composite!F303","v":"PINK"},{"$f":"Composite!AL303","v":7.8552328505996911},{"$f":"Composite!G303","v":"Other"}]
[118,{"$f":"Composite!B135","v":"EPHA8"},{"$f":"Composite!F135","v":"EPHA8"},{"$f":"Composite!AL135","v":7.8437333333333186},{"$f":"Composite!G135","v":"TK"}]
[119,{"$f":"Composite!B195","v":"LCK"},{"$f":"Composite!F195","v":"LCK"},{"$f":"Composite!AL195","v":7.8148734688601138},{"$f":"Composite!G195","v":"TK"}]
[120,{"$f":"Composite!B183","v":"ITK"},{"$f":"Composite!F183","v":"ITK"},{"$f":"Composite!AL183","v":7.6482779038784088},{"$f":"Composite!G183","v":"TK"}]
[121,{"$f":"Composite!B301","v":"PIM2"},{"$f":"Composite!F301","v":"PIM2"},{"$f":"Composite!AL301","v":7.5663913753028993},{"$f":"Composite!G301","v":"CAMK"}]
[122,{"$f":"Composite!B363","v":"RPS6KB2 (p70S6KB)"},{"$f":"Composite!F363","v":"P70S6KB"},{"$f":"Composite!AL363","v":7.4463293799729513},{"$f":"Composite!G363","v":"AGC"}]
[123,{"$f":"Composite!B310","v":"PLK3"},{"$f":"Composite!F310","v":"PLK3"},{"$f":"Composite!AL310","v":7.3952018355846718},{"$f":"Composite!G310","v":"Other"}]
[124,{"$f":"Composite!B243","v":"MARK2"},{"$f":"Composite!F243","v":"MARK2"},{"$f":"Composite!AL243","v":7.3525322740814545},{"$f":"Composite!G243","v":"CAMK"}]
[125,{"$f":"Composite!B361","v":"RPS6KA6 (RSK4)"},{"$f":"Composite!F361","v":"RSK4"},{"$f":"Composite!AL361","v":7.2171184454274027},{"$f":"Composite!G361","v":"AGC"}]
[126,{"$f":"Composite!B351","v":"RIPK2"},{"$f":"Composite!F351","v":"RIPK2"},{"$f":"Composite!AL351","v":7.1736428621645985},{"$f":"Composite!G351","v":"TKL"}]
[127,{"$f":"Composite!B21","v":"ABL1"},{"$f":"Composite!F21","v":"ABL1"},{"$f":"Composite!AL21","v":7.0636271256993837},{"$f":"Composite!G21","v":"TK"}]
[128,{"$f":"Composite!B40","v":"BTK"},{"$f":"Composite!F40","v":"BTK"},{"$f":"Composite!AL40","v":6.8237523119257446},{"$f":"Composite!G40","v":"TK"}]
[129,{"$f":"Composite!B376","v":"SRPK1"},{"$f":"Composite!F376","v":"SRPK1"},{"$f":"Composite!AL376","v":6.744689427930453},{"$f":"Composite!G376","v":"CMGC"}]
[130,{"$f":"Composite!B374","v":"SRC N1"},{"$f":"Composite!F374","v":"SRC N1"},{"$f":"Composite!AL374","v":6.740067872725902},{"$f":"Composite!G374","v":"TK"}]
[131,{"$f":"Composite!B169","v":"HCK"},{"$f":"Composite!F169","v":"HCK"},{"$f":"Composite!AL169","v":6.7149440421329842},{"$f":"Composite!G169","v":"TK"}]
[132,{"$f":"Composite!B27","v":"AURKA (AURA)"},{"$f":"Composite!F27","v":"AURA"},{"$f":"Composite!AL27","v":6.5689367229541773},{"$f":"Composite!G27","v":"Other"}]
[133,{"$f":"Composite!B259","v":"MYLK (smMLCK)"},{"$f":"Composite!F259","v":"MLCK"},{"$f":"Composite!AL259","v":6.5479099107103309},{"$f":"Composite!G259","v":"CAMK"}]
[134,{"$f":"Composite!B94","v":"CLK2"},{"$f":"Composite!F94","v":"CLK2"},{"$f":"Composite!AL94","v":6.5357601909658598},{"$f":"Composite!G94","v":"CMGC"}]
[135,{"$f":"Composite!B24","v":"AKT2 (PKBb)"},{"$f":"Composite!F24","v":"AKT2"},{"$f":"Composite!AL24","v":6.3879038613081178},{"$f":"Composite!G24","v":"AGC"}]
[136,{"$f":"Composite!B201","v":"LYNB (LYNb)"},{"$f":"Composite!F201","v":"LYNB"},{"$f":"Composite!AL201","v":6.3281745442769761},{"$f":"Composite!G201","v":"TK"}]
[137,{"$f":"Composite!B208","v":"MAP3K10 (MLK2)"},{"$f":"Composite!F208","v":"MAP3K10"},{"$f":"Composite!AL208","v":6.3173699661609533},{"$f":"Composite!G208","v":"TKL"}]
[138,{"$f":"Composite!B199","v":"LTK"},{"$f":"Composite!F199","v":"LTK"},{"$f":"Composite!AL199","v":6.2888813482637573},{"$f":"Composite!G199","v":"TK"}]
[139,{"$f":"Composite!B190","v":"KIT (SCFR, CD117)"},{"$f":"Composite!F190","v":"KIT"},{"$f":"Composite!AL190","v":6.2176727475454499},{"$f":"Composite!G190","v":"TK"}]
[140,{"$f":"Composite!B296","v":"PDK4 (PDHK4)"},{"$f":"Composite!F296","v":"PDHK4"},{"$f":"Composite!AL296","v":6.1296686849445763},{"$f":"Composite!G296","v":"Atypical"}]
[141,{"$f":"Composite!B74","v":"CDK3/CycE2"},{"$f":"Composite!F74","v":"CDK3/E2"},{"$f":"Composite!AL74","v":6.0246159970805735},{"$f":"Composite!G74","v":"CMGC"}]
[142,{"$f":"Composite!B143","v":"ERN2 (IRE2)"},{"$f":"Composite!F143","v":"ERN2"},{"$f":"Composite!AL143","v":6.0065878705677562},{"$f":"Composite!G143","v":"Other"}]
[143,{"$f":"Composite!B234","v":"MAPK3 (ERK1)"},{"$f":"Composite!F234","v":"ERK1"},{"$f":"Composite!AL234","v":5.808073191574934},{"$f":"Composite!G234","v":"CAMK"}]
[144,{"$f":"Composite!B121","v":"DYRK4"},{"$f":"Composite!F121","v":"DYRK4"},{"$f":"Composite!AL121","v":5.800346341548746},{"$f":"Composite!G121","v":"CMGC"}]
[145,{"$f":"Composite!B378","v":"SRPK3 (MSSK1)"},{"$f":"Composite!F378","v":"MSSK1"},{"$f":"Composite!AL378","v":5.7849544295636264},{"$f":"Composite!G378","v":"CMGC"}]
[146,{"$f":"Composite!B209","v":"MAP3K11 (MLK3)"},{"$f":"Composite!F209","v":"MAP3K11"},{"$f":"Composite!AL209","v":5.7382811757776011},{"$f":"Composite!G209","v":"TKL"}]
[147,{"$f":"Composite!B307","v":"PKN3"},{"$f":"Composite!F307","v":"PKN3"},{"$f":"Composite!AL307","v":5.7229172503684964},{"$f":"Composite!G307","v":"AGC"}]
[148,{"$f":"Composite!B251","v":"MET (c-MET, HGFR)"},{"$f":"Composite!F251","v":"MET"},{"$f":"Composite!AL251","v":5.6907267462391218},{"$f":"Composite!G251","v":"TK"}]
[149,{"$f":"Composite!B168","v":"HASPIN"},{"$f":"Composite!F168","v":"HASPIN"},{"$f":"Composite!AL168","v":5.6793886184779154},{"$f":"Composite!G168","v":"Other"}]
[150,{"$f":"Composite!B254","v":"MNK1"},{"$f":"Composite!F254","v":"MNK1"},{"$f":"Composite!AL254","v":5.6506984452687163},{"$f":"Composite!G254","v":"CAMK"}]
[151,{"$f":"Composite!B291","v":"PDGFRA (PDGFRα)"},{"$f":"Composite!F291","v":"PDGFRA"},{"$f":"Composite!AL291","v":5.5736428886843044},{"$f":"Composite!G291","v":"TK"}]
[152,{"$f":"Composite!B188","v":"JAK3 [JH1]"},{"$f":"Composite!F188","v":"JAK3(JH1)"},{"$f":"Composite!AL188","v":5.5012924709591573},{"$f":"Composite!G188","v":"TK"}]
[153,{"$f":"Composite!B56","v":"CDK1 (CDC2)/CycA1 "},{"$f":"Composite!F56","v":"CDK1/A1"},{"$f":"Composite!AL56","v":5.5001615658034382},{"$f":"Composite!G56","v":"CMGC"}]
[154,{"$f":"Composite!B179","v":"INSR (IR)"},{"$f":"Composite!F179","v":"INSR"},{"$f":"Composite!AL179","v":5.461094165747312},{"$f":"Composite!G179","v":"TK"}]
[155,{"$f":"Composite!B348","v":"RAF1 [Y340E/Y341E]"},{"$f":"Composite!F348","v":"RAF1"},{"$f":"Composite!AL348","v":5.4514196983140977},{"$f":"Composite!G348","v":"TKL"}]
[156,{"$f":"Composite!B86","v":"CDK9 (TAK)/CycT1"},{"$f":"Composite!F86","v":"CDK9/T1"},{"$f":"Composite!AL86","v":5.4017782251300162},{"$f":"Composite!G86","v":"CMGC"}]
[157,{"$f":"Composite!B155","v":"FRK"},{"$f":"Composite!F155","v":"FRK"},{"$f":"Composite!AL155","v":5.357568737010709},{"$f":"Composite!G155","v":"TK"}]
[158,{"$f":"Composite!B62","v":"CDK14 (PFTAIRE1, PFTK1)/CycY"},{"$f":"Composite!F62","v":"CDK14"},{"$f":"Composite!AL62","v":5.3561675899196359},{"$f":"Composite!G62","v":"CMGC"}]
[159,{"$f":"Composite!B81","v":"CDK6/CycD2"},{"$f":"Composite!F81","v":"CDK6/D2"},{"$f":"Composite!AL81","v":5.353983603179941},{"$f":"Composite!G81","v":"CMGC"}]
[160,{"$f":"Composite!B269","v":"NEK3"},{"$f":"Composite!F269","v":"NEK3"},{"$f":"Composite!AL269","v":5.152145962162507},{"$f":"Composite!G269","v":"Other"}]
[161,{"$f":"Composite!B242","v":"MARK1"},{"$f":"Composite!F242","v":"MARK1"},{"$f":"Composite!AL242","v":5.1154518598902996},{"$f":"Composite!G242","v":"CAMK"}]
[162,{"$f":"Composite!B66","v":"CDK18 (PCTAIRE3, PCTK3)/CycY "},{"$f":"Composite!F66","v":"CDK18"},{"$f":"Composite!AL66","v":5.0921541487579134},{"$f":"Composite!G66","v":"CMGC"}]
[163,{"$f":"Composite!B91","v":"CHUK (IKKA, IKKa)"},{"$f":"Composite!F91","v":"IKKA"},{"$f":"Composite!AL91","v":5.0691036780263659},{"$f":"Composite!G91","v":"Other"}]
[164,{"$f":"Composite!B55","v":"CDC7/DBF4 (CDC7)"},{"$f":"Composite!F55","v":"CDC7"},{"$f":"Composite!AL55","v":5.0530296703689999},{"$f":"Composite!G55","v":"Other"}]
[165,{"$f":"Composite!B156","v":"FYNa (FYN)"},{"$f":"Composite!F156","v":"FYNA"},{"$f":"Composite!AL156","v":5.0512174737529705},{"$f":"Composite!G156","v":"TK"}]
[166,{"$f":"Composite!B375","v":"SRMS (SRM)"},{"$f":"Composite!F375","v":"SRM"},{"$f":"Composite!AL375","v":4.9862998456124785},{"$f":"Composite!G375","v":"TK"}]
[167,{"$f":"Composite!B172","v":"HIPK3"},{"$f":"Composite!F172","v":"HIPK3"},{"$f":"Composite!AL172","v":4.9832272627519956},{"$f":"Composite!G172","v":"CMGC"}]
[168,{"$f":"Composite!B178","v":"IKKE (IKKe)"},{"$f":"Composite!F178","v":"IKKE"},{"$f":"Composite!AL178","v":4.9432151610342032},{"$f":"Composite!G178","v":"Other"}]
[169,{"$f":"Composite!B84","v":"CDK7/CycH1"},{"$f":"Composite!F84","v":"CDK7/H1"},{"$f":"Composite!AL84","v":4.9159120310478528},{"$f":"Composite!G84","v":"CMGC"}]
[170,{"$f":"Composite!B59","v":"CDK1 (CDC2)/CycE1 "},{"$f":"Composite!F59","v":"CDK1/E1"},{"$f":"Composite!AL59","v":4.8986146295962669},{"$f":"Composite!G59","v":"CMGC"}]
[171,{"$f":"Composite!B384","v":"STK24 (MST3)"},{"$f":"Composite!F384","v":"MST3"},{"$f":"Composite!AL384","v":4.8055893792336946},{"$f":"Composite!G384","v":"STE"}]
[172,{"$f":"Composite!B145","v":"FER"},{"$f":"Composite!F145","v":"FER"},{"$f":"Composite!AL145","v":4.7392847392847273},{"$f":"Composite!G145","v":"TK"}]
[173,{"$f":"Composite!B83","v":"CDK7/CycH/MAT1"},{"$f":"Composite!F83","v":"CDK7"},{"$f":"Composite!AL83","v":4.6768908556565236},{"$f":"Composite!G83","v":"CMGC"}]
[174,{"$f":"Composite!B150","v":"FGFR4"},{"$f":"Composite!F150","v":"FGFR4"},{"$f":"Composite!AL150","v":4.5705875587324414},{"$f":"Composite!G150","v":"TK"}]
[175,{"$f":"Composite!B416","v":"TYRO3"},{"$f":"Composite!F416","v":"TYRO3"},{"$f":"Composite!AL416","v":4.5135702779306826},{"$f":"Composite!G416","v":"TK"}]
[176,{"$f":"Composite!B393","v":"TAOK1 (TAO1)"},{"$f":"Composite!F393","v":"TAOK1"},{"$f":"Composite!AL393","v":4.4718882027949292},{"$f":"Composite!G393","v":"STE"}]
[177,{"$f":"Composite!B107","v":"CSNK2A2 (CK2A2, CK2α2)"},{"$f":"Composite!F107","v":"CK2A2"},{"$f":"Composite!AL107","v":4.4700754018747517},{"$f":"Composite!G107","v":"Other"}]
[178,{"$f":"Composite!B250","v":"MERTK (MER)"},{"$f":"Composite!F250","v":"MERTK"},{"$f":"Composite!AL250","v":4.4686821144098445},{"$f":"Composite!G250","v":"TK"}]
[179,{"$f":"Composite!B54","v":"CDC42BPG (DMPK2)"},{"$f":"Composite!F54","v":"DMPK2"},{"$f":"Composite!AL54","v":4.4447838704750069},{"$f":"Composite!G54","v":"AGC"}]
[180,{"$f":"Composite!B149","v":"FGFR3"},{"$f":"Composite!F149","v":"FGFR3"},{"$f":"Composite!AL149","v":4.3275778744343398},{"$f":"Composite!G149","v":"TK"}]
[181,{"$f":"Composite!B212","v":"MAP3K14 (NIK)"},{"$f":"Composite!F212","v":"MAP3K14"},{"$f":"Composite!AL212","v":4.2205476478432047},{"$f":"Composite!G212","v":"STE"}]
[182,{"$f":"Composite!B100","v":"CSNK1A1L (CK1A1L, CK1a2)"},{"$f":"Composite!F100","v":"CK1A1L"},{"$f":"Composite!AL100","v":4.2166338337096647},{"$f":"Composite!G100","v":"CK1"}]
[183,{"$f":"Composite!B306","v":"PKN2"},{"$f":"Composite!F306","v":"PKN2"},{"$f":"Composite!AL306","v":4.1482078131292894},{"$f":"Composite!G306","v":"AGC"}]
[184,{"$f":"Composite!B239","v":"MAPKAPK2 (MK2)"},{"$f":"Composite!F239","v":"MK2"},{"$f":"Composite!AL239","v":4.0907133629969792},{"$f":"Composite!G239","v":"CAMK"}]
[185,{"$f":"Composite!B408","v":"TSSK3"},{"$f":"Composite!F408","v":"TSSK3"},{"$f":"Composite!AL408","v":4.0026260889846697},{"$f":"Composite!G408","v":"CAMK"}]
[186,{"$f":"Composite!B210","v":"MAP3K12 (DLK)"},{"$f":"Composite!F210","v":"MAP3K12"},{"$f":"Composite!AL210","v":3.9781203381402293},{"$f":"Composite!G210","v":"TKL"}]
[187,{"$f":"Composite!B89","v":"CHEK1 (CHK1)"},{"$f":"Composite!F89","v":"CHK1"},{"$f":"Composite!AL89","v":3.8018484618475412},{"$f":"Composite!G89","v":"CAMK"}]
[188,{"$f":"Composite!B41","v":"BUB1"},{"$f":"Composite!F41","v":"BUB1"},{"$f":"Composite!AL41","v":3.739890677827276},{"$f":"Composite!G41","v":"Other"}]
[189,{"$f":"Composite!B403","v":"TNK1"},{"$f":"Composite!F403","v":"TNK1"},{"$f":"Composite!AL403","v":3.7335982449604757},{"$f":"Composite!G403","v":"TK"}]
[190,{"$f":"Composite!B322","v":"PRKAA2-B2-G1 (AMPKα2β2γ1)"},{"$f":"Composite!F322","v":"AMPK221"},{"$f":"Composite!AL322","v":3.6659143058625006},{"$f":"Composite!G322","v":"CAMK"}]
[191,{"$f":"Composite!B343","v":"PRKG2 (PKG2, PGK2, CGK2)"},{"$f":"Composite!F343","v":"PGK2"},{"$f":"Composite!AL343","v":3.584175453057469},{"$f":"Composite!G343","v":"AGC"}]
[192,{"$f":"Composite!B264","v":"MYO3B"},{"$f":"Composite!F264","v":"MYO3B"},{"$f":"Composite!AL264","v":3.5258880789305493},{"$f":"Composite!G264","v":"STE"}]
[193,{"$f":"Composite!B227","v":"MAPK1 (ERK2)"},{"$f":"Composite!F227","v":"ERK2"},{"$f":"Composite!AL227","v":3.427267751456597},{"$f":"Composite!G227","v":"CMGC"}]
[194,{"$f":"Composite!B380","v":"STK11 (LKB1, AMPKK)"},{"$f":"Composite!F380","v":"LKB1"},{"$f":"Composite!AL380","v":3.3776373172265863},{"$f":"Composite!G380","v":"CAMK"}]
[195,{"$f":"Composite!B71","v":"CDK2/CycE2"},{"$f":"Composite!F71","v":"CDK2/E2"},{"$f":"Composite!AL71","v":3.2651602756183422},{"$f":"Composite!G71","v":"CMGC"}]
[196,{"$f":"Composite!B98","v":"CSK"},{"$f":"Composite!F98","v":"CSK"},{"$f":"Composite!AL98","v":3.2085398398779859},{"$f":"Composite!G98","v":"TK"}]
[197,{"$f":"Composite!B289","v":"PASK"},{"$f":"Composite!F289","v":"PASK"},{"$f":"Composite!AL289","v":3.1643466381124625},{"$f":"Composite!G289","v":"CAMK"}]
[198,{"$f":"Composite!B216","v":"MAP3K3 (MEKK3)"},{"$f":"Composite!F216","v":"MAP3K3"},{"$f":"Composite!AL216","v":3.1509747619766983},{"$f":"Composite!G216","v":"STE"}]
[199,{"$f":"Composite!B362","v":"RPS6KB1 (p70S6K)"},{"$f":"Composite!F362","v":"P70S6KA"},{"$f":"Composite!AL362","v":3.1500120229466546},{"$f":"Composite!G362","v":"AGC"}]
[200,{"$f":"Composite!B184","v":"JAK1 [JH1]"},{"$f":"Composite!F184","v":"JAK1(JH1)"},{"$f":"Composite!AL184","v":3.1287713250073352},{"$f":"Composite!G184","v":"TK"}]
[201,{"$f":"Composite!B411","v":"TTBK2"},{"$f":"Composite!F411","v":"TTBK2"},{"$f":"Composite!AL411","v":3.1277133785008147},{"$f":"Composite!G411","v":"CK1"}]
[202,{"$f":"Composite!B63","v":"CDK16 (PCTAIRE1, PCTK1)/CycY "},{"$f":"Composite!F63","v":"CDK16"},{"$f":"Composite!AL63","v":3.1048650667662798},{"$f":"Composite!G63","v":"CMGC"}]
[203,{"$f":"Composite!B369","v":"SIK2 (QIK)"},{"$f":"Composite!F369","v":"SIK2"},{"$f":"Composite!AL369","v":3.0972834919897849},{"$f":"Composite!G369","v":"CAMK"}]
[204,{"$f":"Composite!B146","v":"FES"},{"$f":"Composite!F146","v":"FES"},{"$f":"Composite!AL146","v":3.0688698284561013},{"$f":"Composite!G146","v":"TK"}]
[205,{"$f":"Composite!B392","v":"SYK"},{"$f":"Composite!F392","v":"SYK"},{"$f":"Composite!AL392","v":3.0289607458499432},{"$f":"Composite!G392","v":"TK"}]
[206,{"$f":"Composite!B354","v":"ROCK2"},{"$f":"Composite!F354","v":"ROCK2"},{"$f":"Composite!AL354","v":2.9387895246121474},{"$f":"Composite!G354","v":"AGC"}]
[207,{"$f":"Composite!B137","v":"EPHB2"},{"$f":"Composite!F137","v":"EPHB2"},{"$f":"Composite!AL137","v":2.8636307706075144},{"$f":"Composite!G137","v":"TK"}]
[208,{"$f":"Composite!B295","v":"PDK3 (PDHK3)"},{"$f":"Composite!F295","v":"PDHK3"},{"$f":"Composite!AL295","v":2.6916602126801337},{"$f":"Composite!G295","v":"Atypical"}]
[209,{"$f":"Composite!B139","v":"EPHB4"},{"$f":"Composite!F139","v":"EPHB4"},{"$f":"Composite!AL139","v":2.6862165643706959},{"$f":"Composite!G139","v":"TK"}]
[210,{"$f":"Composite!B51","v":"CAMKK2"},{"$f":"Composite!F51","v":"CAMKK2"},{"$f":"Composite!AL51","v":2.663753623797291},{"$f":"Composite!G51","v":"Other"}]
[211,{"$f":"Composite!B263","v":"MYO3A"},{"$f":"Composite!F263","v":"MYO3A"},{"$f":"Composite!AL263","v":2.5607791184790187},{"$f":"Composite!G263","v":"STE"}]
[212,{"$f":"Composite!B364","v":"SBK1 (SBK)"},{"$f":"Composite!F364","v":"SBK1"},{"$f":"Composite!AL364","v":2.3693722865053957},{"$f":"Composite!G364","v":"Other"}]
[213,{"$f":"Composite!B404","v":"TNK2 (ACK)"},{"$f":"Composite!F404","v":"TNK2"},{"$f":"Composite!AL404","v":2.3617472144370737},{"$f":"Composite!G404","v":"TK"}]
[214,{"$f":"Composite!B148","v":"FGFR2"},{"$f":"Composite!F148","v":"FGFR2"},{"$f":"Composite!AL148","v":2.3196140819049589},{"$f":"Composite!G148","v":"TK"}]
[215,{"$f":"Composite!B176","v":"IGF1R"},{"$f":"Composite!F176","v":"IGF1R"},{"$f":"Composite!AL176","v":2.231544946033253},{"$f":"Composite!G176","v":"TK"}]
[216,{"$f":"Composite!B398","v":"TEK (TIE2)"},{"$f":"Composite!F398","v":"TEK"},{"$f":"Composite!AL398","v":2.1693550308546321},{"$f":"Composite!G398","v":"TK"}]
[217,{"$f":"Composite!B147","v":"FGFR1"},{"$f":"Composite!F147","v":"FGFR1"},{"$f":"Composite!AL147","v":2.112876400560225},{"$f":"Composite!G147","v":"TK"}]
[218,{"$f":"Composite!B163","v":"GRK5 (GPRK5)"},{"$f":"Composite!F163","v":"GRK5"},{"$f":"Composite!AL163","v":2.0375377583690693},{"$f":"Composite!G163","v":"AGC"}]
[219,{"$f":"Composite!B213","v":"MAP3K19 (YSK4)"},{"$f":"Composite!F213","v":"YSK4"},{"$f":"Composite!AL213","v":2.0173354798619272},{"$f":"Composite!G213","v":"STE"}]
[220,{"$f":"Composite!B386","v":"STK26 (MST4)"},{"$f":"Composite!F386","v":"MST4"},{"$f":"Composite!AL386","v":1.9937441565625136},{"$f":"Composite!G386","v":"STE"}]
[221,{"$f":"Composite!B300","v":"PIM1"},{"$f":"Composite!F300","v":"PIM1"},{"$f":"Composite!AL300","v":1.9640505152243009},{"$f":"Composite!G300","v":"CAMK"}]
[222,{"$f":"Composite!B325","v":"PRKACA (PKACA, PKACα)"},{"$f":"Composite!F325","v":"PKACA"},{"$f":"Composite!AL325","v":1.8704989083325358},{"$f":"Composite!G325","v":"AGC"}]
[223,{"$f":"Composite!B270","v":"NEK4"},{"$f":"Composite!F270","v":"NEK4"},{"$f":"Composite!AL270","v":1.7758484609313427},{"$f":"Composite!G270","v":"Other"}]
[224,{"$f":"Composite!B284","v":"PAK2"},{"$f":"Composite!F284","v":"PAK2"},{"$f":"Composite!AL284","v":1.7644759618069088},{"$f":"Composite!G284","v":"STE"}]
[225,{"$f":"Composite!B133","v":"EPHA6"},{"$f":"Composite!F133","v":"EPHA6"},{"$f":"Composite!AL133","v":1.7074122800676719},{"$f":"Composite!G133","v":"TK"}]
[226,{"$f":"Composite!B220","v":"MAP3K8 (COT, Tpl2)"},{"$f":"Composite!F220","v":"MAP3K8"},{"$f":"Composite!AL220","v":1.6944437084337949},{"$f":"Composite!G220","v":"STE"}]
[227,{"$f":"Composite!B154","v":"FLT4"},{"$f":"Composite!F154","v":"FLT4"},{"$f":"Composite!AL154","v":1.5789719190223082},{"$f":"Composite!G154","v":"TK"}]
[228,{"$f":"Composite!B257","v":"mTOR (FRAP)"},{"$f":"Composite!F257","v":"mTOR"},{"$f":"Composite!AL257","v":1.5679598602275746},{"$f":"Composite!G257","v":"Atypical"}]
[229,{"$f":"Composite!B64","v":"CDK17 (PCTAIRE2, PCTK2)/CycY"},{"$f":"Composite!F64","v":"CDK17"},{"$f":"Composite!AL64","v":1.5612314994067304},{"$f":"Composite!G64","v":"CMGC"}]
[230,{"$f":"Composite!B399","v":"TESK2"},{"$f":"Composite!F399","v":"TESK2"},{"$f":"Composite!AL399","v":1.4338052999834758},{"$f":"Composite!G399","v":"TKL"}]
[231,{"$f":"Composite!B253","v":"MLK4 (MAP3K21)"},{"$f":"Composite!F253","v":"MLK4"},{"$f":"Composite!AL253","v":1.3638577691183684},{"$f":"Composite!G253","v":"STE"}]
[232,{"$f":"Composite!B77","v":"CDK4/CycD2"},{"$f":"Composite!F77","v":"CDK4/D2"},{"$f":"Composite!AL77","v":1.349196906603197},{"$f":"Composite!G77","v":"CMGC"}]
[233,{"$f":"Composite!B390","v":"STK38L (NDR2)"},{"$f":"Composite!F390","v":"NDR2"},{"$f":"Composite!AL390","v":1.3197119290217216},{"$f":"Composite!G390","v":"AGC"}]
[234,{"$f":"Composite!B407","v":"TSSK2"},{"$f":"Composite!F407","v":"TSSK2"},{"$f":"Composite!AL407","v":1.2803532008829706},{"$f":"Composite!G407","v":"CAMK"}]
[235,{"$f":"Composite!B421","v":"YES1 (YES)"},{"$f":"Composite!F421","v":"YES"},{"$f":"Composite!AL421","v":1.2301025667907197},{"$f":"Composite!G421","v":"TK"}]
[236,{"$f":"Composite!B248","v":"MATK (CTK)"},{"$f":"Composite!F248","v":"CTK"},{"$f":"Composite!AL248","v":1.2105176025986566},{"$f":"Composite!G248","v":"TK"}]
[237,{"$f":"Composite!B28","v":"AURKB (AURB)"},{"$f":"Composite!F28","v":"AURB"},{"$f":"Composite!AL28","v":1.196829179835234},{"$f":"Composite!G28","v":"Other"}]
[238,{"$f":"Composite!B305","v":"PKN1"},{"$f":"Composite!F305","v":"PKN1"},{"$f":"Composite!AL305","v":1.1207109355714238},{"$f":"Composite!G305","v":"AGC"}]
[239,{"$f":"Composite!B261","v":"MYLK3 (caMLCK)"},{"$f":"Composite!F261","v":"MYLK3"},{"$f":"Composite!AL261","v":1.0436204491896319},{"$f":"Composite!G261","v":"CAMK"}]
[240,{"$f":"Composite!B36","v":"BRAF (BRAF1, RAFB1)"},{"$f":"Composite!F36","v":"BRAF"},{"$f":"Composite!AL36","v":0.98164239746137127},{"$f":"Composite!G36","v":"TKL"}]
[241,{"$f":"Composite!B316","v":"PRKAA1-B2-G1 (AMPKα1β2γ1)"},{"$f":"Composite!F316","v":"AMPK121"},{"$f":"Composite!AL316","v":0.7387325533505873},{"$f":"Composite!G316","v":"CAMK"}]
[242,{"$f":"Composite!B141","v":"ERBB4 (HER4)"},{"$f":"Composite!F141","v":"HER4"},{"$f":"Composite!AL141","v":0.72113721548247156},{"$f":"Composite!G141","v":"TK"}]
[243,{"$f":"Composite!B313","v":"PRKAA1-B1-G1 (AMPKα1β1γ1)"},{"$f":"Composite!F313","v":"AMPK111"},{"$f":"Composite!AL313","v":0.70005945068412245},{"$f":"Composite!G313","v":"CAMK"}]
[244,{"$f":"Composite!B187","v":"JAK2 [JH1-JH2]"},{"$f":"Composite!F187","v":"JAK2(JH1JH2)"},{"$f":"Composite!AL187","v":0.6419973250111326},{"$f":"Composite!G187","v":"TK"}]
[245,{"$f":"Composite!B198","v":"LRRK2"},{"$f":"Composite!F198","v":"LRRK2"},{"$f":"Composite!AL198","v":0.53919916669218537},{"$f":"Composite!G198","v":"TKL"}]
[246,{"$f":"Composite!B414","v":"TYK2 [JH1]"},{"$f":"Composite!F414","v":"TYK2(JH1)"},{"$f":"Composite!AL414","v":0.41011619958989343},{"$f":"Composite!G414","v":"TK"}]
[247,{"$f":"Composite!B96","v":"CLK4"},{"$f":"Composite!F96","v":"CLK4"},{"$f":"Composite!AL96","v":0.31777557100298282},{"$f":"Composite!G96","v":"CMGC"}]
[248,{"$f":"Composite!B134","v":"EPHA7"},{"$f":"Composite!F134","v":"EPHA7"},{"$f":"Composite!AL134","v":0.24773780209416429},{"$f":"Composite!G134","v":"TK"}]
[249,{"$f":"Composite!B262","v":"MYLK4 (SgK085)"},{"$f":"Composite!F262","v":"MYLK4"},{"$f":"Composite!AL262","v":0.22721125236677153},{"$f":"Composite!G262","v":"CAMK"}]
[250,{"$f":"Composite!B185","v":"JAK1 [JH1-JH2]"},{"$f":"Composite!F185","v":"JAK1(JH1JH2)"},{"$f":"Composite!AL185","v":0.22186614076171907},{"$f":"Composite!G185","v":"TK"}]
[251,{"$f":"Composite!B417","v":"ULK1"},{"$f":"Composite!F417","v":"ULK1"},{"$f":"Composite!AL417","v":0.21495570609690162},{"$f":"Composite!G417","v":"Other"}]
[252,{"$f":"Composite!B49","v":"CAMK4"},{"$f":"Composite!F49","v":"CAMK4"},{"$f":"Composite!AL49","v":0.19301574943635558},{"$f":"Composite!G49","v":"CAMK"}]
[253,{"$f":"Composite!B189","v":"KDR (VEGFR2)"},{"$f":"Composite!F189","v":"KDR"},{"$f":"Composite!AL189","v":8.5609775079774408E-2},{"$f":"Composite!G189","v":"TK"}]
[254,{"$f":"Composite!B177","v":"IKKB (IKKβ)"},{"$f":"Composite!F177","v":"IKKB"},{"$f":"Composite!AL177","v":5.6621342757694038E-2},{"$f":"Composite!G177","v":"Other"}]
[255,{"$f":"Composite!B60","v":"CDK12 (CRK7)/CycK"},{"$f":"Composite!F60","v":"CDK12/K"},{"$f":"Composite!AL60","v":0},{"$f":"Composite!G60","v":"CMGC"}]
[256,{"$f":"Composite!B69","v":"CDK2/CycD1"},{"$f":"Composite!F69","v":"CDK2/D1"},{"$f":"Composite!AL69","v":0},{"$f":"Composite!G69","v":"CMGC"}]
[257,{"$f":"Composite!B206","v":"MAP2K4 (MEK4)"},{"$f":"Composite!F206","v":"MEK4(HIS)"},{"$f":"Composite!AL206","v":0},{"$f":"Composite!G206","v":"STE"}]
[258,{"$f":"Composite!B235","v":"MAPK6 (ERK3)"},{"$f":"Composite!F235","v":"ERK3"},{"$f":"Composite!AL235","v":0},{"$f":"Composite!G235","v":"CMGC"}]
[259,{"$f":"Composite!B274","v":"NEK8"},{"$f":"Composite!F274","v":"NEK8"},{"$f":"Composite!AL274","v":0},{"$f":"Composite!G274","v":"Other"}]
[260,{"$f":"Composite!B423","v":0},{"$f":"Composite!F423","v":0},{"$f":"Composite!AL423","v":0},{"$f":"Composite!G423","v":0}]
[261,{"$f":"Composite!B424","v":0},{"$f":"Composite!F424","v":0},{"$f":"Composite!AL424","v":0},{"$f":"Composite!G424","v":0}]
[262,{"$f":"Composite!B425","v":0},{"$f":"Composite!F425","v":0},{"$f":"Composite!AL425","v":0},{"$f":"Composite!G425","v":0}]
[263,{"$f":"Composite!B426","v":0},{"$f":"Composite!F426","v":0},{"$f":"Composite!AL426","v":0},{"$f":"Composite!G426","v":0}]
[264,{"$f":"Composite!B427","v":0},{"$f":"Composite!F427","v":0},{"$f":"Composite!AL427","v":0},{"$f":"Composite!G427","v":0}]
[265,{"$f":"Composite!B428","v":0},{"$f":"Composite!F428","v":0},{"$f":"Composite!AL428","v":0},{"$f":"Composite!G428","v":0}]
[266,{"$f":"Composite!B429","v":0},{"$f":"Composite!F429","v":0},{"$f":"Composite!AL429","v":0},{"$f":"Composite!G429","v":0}]
[267,{"$f":"Composite!B430","v":0},{"$f":"Composite!F430","v":0},{"$f":"Composite!AL430","v":0},{"$f":"Composite!G430","v":0}]
[268,{"$f":"Composite!B431","v":0},{"$f":"Composite!F431","v":0},{"$f":"Composite!AL431","v":0},{"$f":"Composite!G431","v":0}]
[269,{"$f":"Composite!B432","v":0},{"$f":"Composite!F432","v":0},{"$f":"Composite!AL432","v":0},{"$f":"Composite!G432","v":0}]
[270,{"$f":"Composite!B433","v":0},{"$f":"Composite!F433","v":0},{"$f":"Composite!AL433","v":0},{"$f":"Composite!G433","v":0}]
[271,{"$f":"Composite!B434","v":0},{"$f":"Composite!F434","v":0},{"$f":"Composite!AL434","v":0},{"$f":"Composite!G434","v":0}]
[272,{"$f":"Composite!B435","v":0},{"$f":"Composite!F435","v":0},{"$f":"Composite!AL435","v":0},{"$f":"Composite!G435","v":0}]
[273,{"$f":"Composite!B436","v":0},{"$f":"Composite!F436","v":0},{"$f":"Composite!AL436","v":0},{"$f":"Composite!G436","v":0}]
[274,{"$f":"Composite!B437","v":0},{"$f":"Composite!F437","v":0},{"$f":"Composite!AL437","v":0},{"$f":"Composite!G437","v":0}]
[275,{"$f":"Composite!B438","v":0},{"$f":"Composite!F438","v":0},{"$f":"Composite!AL438","v":0},{"$f":"Composite!G438","v":0}]
[276,{"$f":"Composite!B439","v":0},{"$f":"Composite!F439","v":0},{"$f":"Composite!AL439","v":0},{"$f":"Composite!G439","v":0}]
[277,{"$f":"Composite!B440","v":0},{"$f":"Composite!F440","v":0},{"$f":"Composite!AL440","v":0},{"$f":"Composite!G440","v":0}]
[278,{"$f":"Composite!B441","v":0},{"$f":"Composite!F441","v":0},{"$f":"Composite!AL441","v":0},{"$f":"Composite!G441","v":0}]
[279,{"$f":"Composite!B442","v":0},{"$f":"Composite!F442","v":0},{"$f":"Composite!AL442","v":0},{"$f":"Composite!G442","v":0}]
[280,{"$f":"Composite!B443","v":0},{"$f":"Composite!F443","v":0},{"$f":"Composite!AL443","v":0},{"$f":"Composite!G443","v":0}]
[281,{"$f":"Composite!B444","v":0},{"$f":"Composite!F444","v":0},{"$f":"Composite!AL444","v":0},{"$f":"Composite!G444","v":0}]
[282,{"$f":"Composite!B445","v":0},{"$f":"Composite!F445","v":0},{"$f":"Composite!AL445","v":0},{"$f":"Composite!G445","v":0}]
[283,{"$f":"Composite!B446","v":0},{"$f":"Composite!F446","v":0},{"$f":"Composite!AL446","v":0},{"$f":"Composite!G446","v":0}]
[284,{"$f":"Composite!B447","v":0},{"$f":"Composite!F447","v":0},{"$f":"Composite!AL447","v":0},{"$f":"Composite!G447","v":0}]
[285,{"$f":"Composite!B448","v":0},{"$f":"Composite!F448","v":0},{"$f":"Composite!AL448","v":0},{"$f":"Composite!G448","v":0}]
[286,{"$f":"Composite!B449","v":0},{"$f":"Composite!F449","v":0},{"$f":"Composite!AL449","v":0},{"$f":"Composite!G449","v":0}]
[287,{"$f":"Composite!B450","v":0},{"$f":"Composite!F450","v":0},{"$f":"Composite!AL450","v":0},{"$f":"Composite!G450","v":0}]
[288,{"$f":"Composite!B451","v":0},{"$f":"Composite!F451","v":0},{"$f":"Composite!AL451","v":0},{"$f":"Composite!G451","v":0}]
[289,{"$f":"Composite!B452","v":0},{"$f":"Composite!F452","v":0},{"$f":"Composite!AL452","v":0},{"$f":"Composite!G452","v":0}]
[290,{"$f":"Composite!B453","v":0},{"$f":"Composite!F453","v":0},{"$f":"Composite!AL453","v":0},{"$f":"Composite!G453","v":0}]
[291,{"$f":"Composite!B454","v":0},{"$f":"Composite!F454","v":0},{"$f":"Composite!AL454","v":0},{"$f":"Composite!G454","v":0}]
[292,{"$f":"Composite!B455","v":0},{"$f":"Composite!F455","v":0},{"$f":"Composite!AL455","v":0},{"$f":"Composite!G455","v":0}]
[293,{"$f":"Composite!B456","v":0},{"$f":"Composite!F456","v":0},{"$f":"Composite!AL456","v":0},{"$f":"Composite!G456","v":0}]
[294,{"$f":"Composite!B457","v":0},{"$f":"Composite!F457","v":0},{"$f":"Composite!AL457","v":0},{"$f":"Composite!G457","v":0}]
[295,{"$f":"Composite!B458","v":0},{"$f":"Composite!F458","v":0},{"$f":"Composite!AL458","v":0},{"$f":"Composite!G458","v":0}]
[296,{"$f":"Composite!B459","v":0},{"$f":"Composite!F459","v":0},{"$f":"Composite!AL459","v":0},{"$f":"Composite!G459","v":0}]
[297,{"$f":"Composite!B460","v":0},{"$f":"Composite!F460","v":0},{"$f":"Composite!AL460","v":0},{"$f":"Composite!G460","v":0}]
[298,{"$f":"Composite!B461","v":0},{"$f":"Composite!F461","v":0},{"$f":"Composite!AL461","v":0},{"$f":"Composite!G461","v":0}]
[299,{"$f":"Composite!B462","v":0},{"$f":"Composite!F462","v":0},{"$f":"Composite!AL462","v":0},{"$f":"Composite!G462","v":0}]
[300,{"$f":"Composite!B463","v":0},{"$f":"Composite!F463","v":0},{"$f":"Composite!AL463","v":0},{"$f":"Composite!G463","v":0}]
[301,{"$f":"Composite!B464","v":0},{"$f":"Composite!F464","v":0},{"$f":"Composite!AL464","v":0},{"$f":"Composite!G464","v":0}]
[302,{"$f":"Composite!B465","v":0},{"$f":"Composite!F465","v":0},{"$f":"Composite!AL465","v":0},{"$f":"Composite!G465","v":0}]
[303,{"$f":"Composite!B466","v":0},{"$f":"Composite!F466","v":0},{"$f":"Composite!AL466","v":0},{"$f":"Composite!G466","v":0}]
[304,{"$f":"Composite!B467","v":0},{"$f":"Composite!F467","v":0},{"$f":"Composite!AL467","v":0},{"$f":"Composite!G467","v":0}]
[305,{"$f":"Composite!B468","v":0},{"$f":"Composite!F468","v":0},{"$f":"Composite!AL468","v":0},{"$f":"Composite!G468","v":0}]
[306,{"$f":"Composite!B469","v":0},{"$f":"Composite!F469","v":0},{"$f":"Composite!AL469","v":0},{"$f":"Composite!G469","v":0}]
[307,{"$f":"Composite!B470","v":0},{"$f":"Composite!F470","v":0},{"$f":"Composite!AL470","v":0},{"$f":"Composite!G470","v":0}]
[308,{"$f":"Composite!B471","v":0},{"$f":"Composite!F471","v":0},{"$f":"Composite!AL471","v":0},{"$f":"Composite!G471","v":0}]
[309,{"$f":"Composite!B472","v":0},{"$f":"Composite!F472","v":0},{"$f":"Composite!AL472","v":0},{"$f":"Composite!G472","v":0}]
[310,{"$f":"Composite!B473","v":0},{"$f":"Composite!F473","v":0},{"$f":"Composite!AL473","v":0},{"$f":"Composite!G473","v":0}]
[311,{"$f":"Composite!B474","v":0},{"$f":"Composite!F474","v":0},{"$f":"Composite!AL474","v":0},{"$f":"Composite!G474","v":0}]
[312,{"$f":"Composite!B475","v":0},{"$f":"Composite!F475","v":0},{"$f":"Composite!AL475","v":0},{"$f":"Composite!G475","v":0}]
[313,{"$f":"Composite!B476","v":0},{"$f":"Composite!F476","v":0},{"$f":"Composite!AL476","v":0},{"$f":"Composite!G476","v":0}]
[314,{"$f":"Composite!B477","v":0},{"$f":"Composite!F477","v":0},{"$f":"Composite!AL477","v":0},{"$f":"Composite!G477","v":0}]
[315,{"$f":"Composite!B478","v":0},{"$f":"Composite!F478","v":0},{"$f":"Composite!AL478","v":0},{"$f":"Composite!G478","v":0}]
[316,{"$f":"Composite!B479","v":0},{"$f":"Composite!F479","v":0},{"$f":"Composite!AL479","v":0},{"$f":"Composite!G479","v":0}]
[317,{"$f":"Composite!B480","v":0},{"$f":"Composite!F480","v":0},{"$f":"Composite!AL480","v":0},{"$f":"Composite!G480","v":0}]
[318,{"$f":"Composite!B481","v":0},{"$f":"Composite!F481","v":0},{"$f":"Composite!AL481","v":0},{"$f":"Composite!G481","v":0}]
[319,{"$f":"Composite!B482","v":0},{"$f":"Composite!F482","v":0},{"$f":"Composite!AL482","v":0},{"$f":"Composite!G482","v":0}]
[320,{"$f":"Composite!B483","v":0},{"$f":"Composite!F483","v":0},{"$f":"Composite!AL483","v":0},{"$f":"Composite!G483","v":0}]
[321,{"$f":"Composite!B484","v":0},{"$f":"Composite!F484","v":0},{"$f":"Composite!AL484","v":0},{"$f":"Composite!G484","v":0}]
[322,{"$f":"Composite!B485","v":0},{"$f":"Composite!F485","v":0},{"$f":"Composite!AL485","v":0},{"$f":"Composite!G485","v":0}]
[323,{"$f":"Composite!B486","v":0},{"$f":"Composite!F486","v":0},{"$f":"Composite!AL486","v":0},{"$f":"Composite!G486","v":0}]
[324,{"$f":"Composite!B487","v":0},{"$f":"Composite!F487","v":0},{"$f":"Composite!AL487","v":0},{"$f":"Composite!G487","v":0}]
[325,{"$f":"Composite!B488","v":0},{"$f":"Composite!F488","v":0},{"$f":"Composite!AL488","v":0},{"$f":"Composite!G488","v":0}]
[326,{"$f":"Composite!B489","v":0},{"$f":"Composite!F489","v":0},{"$f":"Composite!AL489","v":0},{"$f":"Composite!G489","v":0}]
[327,{"$f":"Composite!B490","v":0},{"$f":"Composite!F490","v":0},{"$f":"Composite!AL490","v":0},{"$f":"Composite!G490","v":0}]
[328,{"$f":"Composite!B491","v":0},{"$f":"Composite!F491","v":0},{"$f":"Composite!AL491","v":0},{"$f":"Composite!G491","v":0}]
[329,{"$f":"Composite!B492","v":0},{"$f":"Composite!F492","v":0},{"$f":"Composite!AL492","v":0},{"$f":"Composite!G492","v":0}]
[330,{"$f":"Composite!B493","v":0},{"$f":"Composite!F493","v":0},{"$f":"Composite!AL493","v":0},{"$f":"Composite!G493","v":0}]
[331,{"$f":"Composite!B494","v":0},{"$f":"Composite!F494","v":0},{"$f":"Composite!AL494","v":0},{"$f":"Composite!G494","v":0}]
[332,{"$f":"Composite!B495","v":0},{"$f":"Composite!F495","v":0},{"$f":"Composite!AL495","v":0},{"$f":"Composite!G495","v":0}]
[333,{"$f":"Composite!B496","v":0},{"$f":"Composite!F496","v":0},{"$f":"Composite!AL496","v":0},{"$f":"Composite!G496","v":0}]
[334,{"$f":"Composite!B497","v":0},{"$f":"Composite!F497","v":0},{"$f":"Composite!AL497","v":0},{"$f":"Composite!G497","v":0}]
[335,{"$f":"Composite!B498","v":0},{"$f":"Composite!F498","v":0},{"$f":"Composite!AL498","v":0},{"$f":"Composite!G498","v":0}]
[336,{"$f":"Composite!B499","v":0},{"$f":"Composite!F499","v":0},{"$f":"Composite!AL499","v":0},{"$f":"Composite!G499","v":0}]
[337,{"$f":"Composite!B500","v":0},{"$f":"Composite!F500","v":0},{"$f":"Composite!AL500","v":0},{"$f":"Composite!G500","v":0}]
[338,{"$f":"Composite!B501","v":0},{"$f":"Composite!F501","v":0},{"$f":"Composite!AL501","v":0},{"$f":"Composite!G501","v":0}]
[339,{"$f":"Composite!B502","v":0},{"$f":"Composite!F502","v":0},{"$f":"Composite!AL502","v":0},{"$f":"Composite!G502","v":0}]
[340,{"$f":"Composite!B503","v":0},{"$f":"Composite!F503","v":0},{"$f":"Composite!AL503","v":0},{"$f":"Composite!G503","v":0}]
[341,{"$f":"Composite!B504","v":0},{"$f":"Composite!F504","v":0},{"$f":"Composite!AL504","v":0},{"$f":"Composite!G504","v":0}]
[342,{"$f":"Composite!B505","v":0},{"$f":"Composite!F505","v":0},{"$f":"Composite!AL505","v":0},{"$f":"Composite!G505","v":0}]
[343,{"$f":"Composite!B506","v":0},{"$f":"Composite!F506","v":0},{"$f":"Composite!AL506","v":0},{"$f":"Composite!G506","v":0}]
[344,{"$f":"Composite!B507","v":0},{"$f":"Composite!F507","v":0},{"$f":"Composite!AL507","v":0},{"$f":"Composite!G507","v":0}]
[345,{"$f":"Composite!B508","v":0},{"$f":"Composite!F508","v":0},{"$f":"Composite!AL508","v":0},{"$f":"Composite!G508","v":0}]
[346,{"$f":"Composite!B509","v":0},{"$f":"Composite!F509","v":0},{"$f":"Composite!AL509","v":0},{"$f":"Composite!G509","v":0}]
[347,{"$f":"Composite!B510","v":0},{"$f":"Composite!F510","v":0},{"$f":"Composite!AL510","v":0},{"$f":"Composite!G510","v":0}]
[348,{"$f":"Composite!B511","v":0},{"$f":"Composite!F511","v":0},{"$f":"Composite!AL511","v":0},{"$f":"Composite!G511","v":0}]
[349,{"$f":"Composite!B512","v":0},{"$f":"Composite!F512","v":0},{"$f":"Composite!AL512","v":0},{"$f":"Composite!G512","v":0}]
[350,{"$f":"Composite!B513","v":0},{"$f":"Composite!F513","v":0},{"$f":"Composite!AL513","v":0},{"$f":"Composite!G513","v":0}]
[351,{"$f":"Composite!B514","v":0},{"$f":"Composite!F514","v":0},{"$f":"Composite!AL514","v":0},{"$f":"Composite!G514","v":0}]
[352,{"$f":"Composite!B515","v":0},{"$f":"Composite!F515","v":0},{"$f":"Composite!AL515","v":0},{"$f":"Composite!G515","v":0}]
[353,{"$f":"Composite!B516","v":0},{"$f":"Composite!F516","v":0},{"$f":"Composite!AL516","v":0},{"$f":"Composite!G516","v":0}]
[354,{"$f":"Composite!B517","v":0},{"$f":"Composite!F517","v":0},{"$f":"Composite!AL517","v":0},{"$f":"Composite!G517","v":0}]
[355,{"$f":"Composite!B518","v":0},{"$f":"Composite!F518","v":0},{"$f":"Composite!AL518","v":0},{"$f":"Composite!G518","v":0}]
[356,{"$f":"Composite!B519","v":0},{"$f":"Composite!F519","v":0},{"$f":"Composite!AL519","v":0},{"$f":"Composite!G519","v":0}]
[357,{"$f":"Composite!B520","v":0},{"$f":"Composite!F520","v":0},{"$f":"Composite!AL520","v":0},{"$f":"Composite!G520","v":0}]
[358,{"$f":"Composite!B521","v":0},{"$f":"Composite!F521","v":0},{"$f":"Composite!AL521","v":0},{"$f":"Composite!G521","v":0}]
[359,{"$f":"Composite!B522","v":0},{"$f":"Composite!F522","v":0},{"$f":"Composite!AL522","v":0},{"$f":"Composite!G522","v":0}]
[360,{"$f":"Composite!B523","v":0},{"$f":"Composite!F523","v":0},{"$f":"Composite!AL523","v":0},{"$f":"Composite!G523","v":0}]
[361,{"$f":"Composite!B524","v":0},{"$f":"Composite!F524","v":0},{"$f":"Composite!AL524","v":0},{"$f":"Composite!G524","v":0}]
[362,{"$f":"Composite!B525","v":0},{"$f":"Composite!F525","v":0},{"$f":"Composite!AL525","v":0},{"$f":"Composite!G525","v":0}]
[363,{"$f":"Composite!B526","v":0},{"$f":"Composite!F526","v":0},{"$f":"Composite!AL526","v":0},{"$f":"Composite!G526","v":0}]
[364,{"$f":"Composite!B527","v":0},{"$f":"Composite!F527","v":0},{"$f":"Composite!AL527","v":0},{"$f":"Composite!G527","v":0}]
[365,{"$f":"Composite!B528","v":0},{"$f":"Composite!F528","v":0},{"$f":"Composite!AL528","v":0},{"$f":"Composite!G528","v":0}]
[366,{"$f":"Composite!B529","v":0},{"$f":"Composite!F529","v":0},{"$f":"Composite!AL529","v":0},{"$f":"Composite!G529","v":0}]
[367,{"$f":"Composite!B530","v":0},{"$f":"Composite!F530","v":0},{"$f":"Composite!AL530","v":0},{"$f":"Composite!G530","v":0}]
[368,{"$f":"Composite!B531","v":0},{"$f":"Composite!F531","v":0},{"$f":"Composite!AL531","v":0},{"$f":"Composite!G531","v":0}]
[369,{"$f":"Composite!B532","v":0},{"$f":"Composite!F532","v":0},{"$f":"Composite!AL532","v":0},{"$f":"Composite!G532","v":0}]
[370,{"$f":"Composite!B533","v":0},{"$f":"Composite!F533","v":0},{"$f":"Composite!AL533","v":0},{"$f":"Composite!G533","v":0}]
[371,{"$f":"Composite!B534","v":0},{"$f":"Composite!F534","v":0},{"$f":"Composite!AL534","v":0},{"$f":"Composite!G534","v":0}]
[372,{"$f":"Composite!B535","v":0},{"$f":"Composite!F535","v":0},{"$f":"Composite!AL535","v":0},{"$f":"Composite!G535","v":0}]
[373,{"$f":"Composite!B536","v":0},{"$f":"Composite!F536","v":0},{"$f":"Composite!AL536","v":0},{"$f":"Composite!G536","v":0}]
[374,{"$f":"Composite!B537","v":0},{"$f":"Composite!F537","v":0},{"$f":"Composite!AL537","v":0},{"$f":"Composite!G537","v":0}]
[375,{"$f":"Composite!B116","v":"DSTYK (RIPK5, SGK496)"},{"$f":"Composite!F116","v":"RIPK5"},{"$f":"Composite!AL116","v":-6.3789748987375106E-3},{"$f":"Composite!G116","v":"TKL"}]
[376,{"$f":"Composite!B95","v":"CLK3"},{"$f":"Composite!F95","v":"CLK3"},{"$f":"Composite!AL95","v":-9.0547961210418748E-2},{"$f":"Composite!G95","v":"CMGC"}]
[377,{"$f":"Composite!B397","v":"TEC"},{"$f":"Composite!F397","v":"TEC"},{"$f":"Composite!AL397","v":-0.17319695434790106},{"$f":"Composite!G397","v":"TK"}]
[378,{"$f":"Composite!B312","v":"PNCK (CAMK1β)"},{"$f":"Composite!F312","v":"CAMK1B"},{"$f":"Composite!AL312","v":-0.19750996367227458},{"$f":"Composite!G312","v":"CAMK"}]
[379,{"$f":"Composite!B90","v":"CHEK2 (CHK2)"},{"$f":"Composite!F90","v":"CHK2"},{"$f":"Composite!AL90","v":-0.22764227642275614},{"$f":"Composite!G90","v":"CAMK"}]
[380,{"$f":"Composite!B76","v":"CDK4/CycD1"},{"$f":"Composite!F76","v":"CDK4/D1"},{"$f":"Composite!AL76","v":-0.31609240591927801},{"$f":"Composite!G76","v":"CMGC"}]
[381,{"$f":"Composite!B302","v":"PIM3"},{"$f":"Composite!F302","v":"PIM3"},{"$f":"Composite!AL302","v":-0.52501238236749259},{"$f":"Composite!G302","v":"CAMK"}]
[382,{"$f":"Composite!B157","v":"FYNb (FYN)"},{"$f":"Composite!F157","v":"FYNB"},{"$f":"Composite!AL157","v":-0.53812781578508861},{"$f":"Composite!G157","v":"TK"}]
[383,{"$f":"Composite!B29","v":"AURKC (AURC)"},{"$f":"Composite!F29","v":"AURC"},{"$f":"Composite!AL29","v":-0.55580295971499538},{"$f":"Composite!G29","v":"Other"}]
[384,{"$f":"Composite!B119","v":"DYRK2"},{"$f":"Composite!F119","v":"DYRK2"},{"$f":"Composite!AL119","v":-0.6633554010886229},{"$f":"Composite!G119","v":"CMGC"}]
[385,{"$f":"Composite!B339","v":"PRKD2 (PKD2)"},{"$f":"Composite!F339","v":"PKD2"},{"$f":"Composite!AL339","v":-0.72734734826029523},{"$f":"Composite!G339","v":"CAMK"}]
[386,{"$f":"Composite!B350","v":"RIPK1"},{"$f":"Composite!F350","v":"RIPK1"},{"$f":"Composite!AL350","v":-0.79019329892724954},{"$f":"Composite!G350","v":"TKL"}]
[387,{"$f":"Composite!B229","v":"MAPK11 (p38b)"},{"$f":"Composite!F229","v":"P38B"},{"$f":"Composite!AL229","v":-0.80671588565257935},{"$f":"Composite!G229","v":"CMGC"}]
[388,{"$f":"Composite!B196","v":"LIMK1"},{"$f":"Composite!F196","v":"LIMK1"},{"$f":"Composite!AL196","v":-0.83765701279094174},{"$f":"Composite!G196","v":"TKL"}]
[389,{"$f":"Composite!B383","v":"STK17B (DRAK2)"},{"$f":"Composite!F383","v":"DRAK2"},{"$f":"Composite!AL383","v":-0.88040482165632739},{"$f":"Composite!G383","v":"CAMK"}]
[390,{"$f":"Composite!B389","v":"STK38 (NDR1)"},{"$f":"Composite!F389","v":"NDR1"},{"$f":"Composite!AL389","v":-0.91727425669041907},{"$f":"Composite!G389","v":"AGC"}]
[391,{"$f":"Composite!B23","v":"AKT1 (PKB)"},{"$f":"Composite!F23","v":"AKT1"},{"$f":"Composite!AL23","v":-0.92382296973788414},{"$f":"Composite!G23","v":"AGC"}]
[392,{"$f":"Composite!B406","v":"TSSK1B (TSSK1)"},{"$f":"Composite!F406","v":"TSSK1"},{"$f":"Composite!AL406","v":-0.96304505675088592},{"$f":"Composite!G406","v":"CAMK"}]
[393,{"$f":"Composite!B217","v":"MAP3K5 (ASK1)"},{"$f":"Composite!F217","v":"MAP3K5"},{"$f":"Composite!AL217","v":-1.0149347917542855},{"$f":"Composite!G217","v":"STE"}]
[394,{"$f":"Composite!B368","v":"SIK1 (SIK)"},{"$f":"Composite!F368","v":"SIK1"},{"$f":"Composite!AL368","v":-1.1561486085088717},{"$f":"Composite!G368","v":"CAMK"}]
[395,{"$f":"Composite!B346","v":"PTK2B (PYK2)"},{"$f":"Composite!F346","v":"PTK2B"},{"$f":"Composite!AL346","v":-1.1708592139479066},{"$f":"Composite!G346","v":"TK"}]
[396,{"$f":"Composite!B255","v":"MNK2"},{"$f":"Composite!F255","v":"MNK2"},{"$f":"Composite!AL255","v":-1.2204585537919002},{"$f":"Composite!G255","v":"CAMK"}]
[397,{"$f":"Composite!B328","v":"PRKCA (PKCα [alpha])"},{"$f":"Composite!F328","v":"PKCA"},{"$f":"Composite!AL328","v":-1.331696379292481},{"$f":"Composite!G328","v":"AGC"}]
[398,{"$f":"Composite!B93","v":"CLK1"},{"$f":"Composite!F93","v":"CLK1"},{"$f":"Composite!AL93","v":-1.3838403163063617},{"$f":"Composite!G93","v":"CMGC"}]
[399,{"$f":"Composite!B214","v":"MAP3K2 (MEKK2)"},{"$f":"Composite!F214","v":"MAP3K2"},{"$f":"Composite!AL214","v":-1.3913043478261073},{"$f":"Composite!G214","v":"STE"}]
[400,{"$f":"Composite!B422","v":"ZAP70"},{"$f":"Composite!F422","v":"ZAP70"},{"$f":"Composite!AL422","v":-1.401350231795675},{"$f":"Composite!G422","v":"TK"}]
[401,{"$f":"Composite!B160","v":"GRK2 (ADRBK1, BARK1)"},{"$f":"Composite!F160","v":"GRK2"},{"$f":"Composite!AL160","v":-1.4079181779731726},{"$f":"Composite!G160","v":"AGC"}]
[402,{"$f":"Composite!B236","v":"MAPK7 (BMK, ERK5)"},{"$f":"Composite!F236","v":"ERK5"},{"$f":"Composite!AL236","v":-1.4409705823703973},{"$f":"Composite!G236","v":"CMGC"}]
[403,{"$f":"Composite!B120","v":"DYRK3"},{"$f":"Composite!F120","v":"DYRK3"},{"$f":"Composite!AL120","v":-1.4552981065822621},{"$f":"Composite!G120","v":"CMGC"}]
[404,{"$f":"Composite!B327","v":"PRKACG (PKACG, PKACg)"},{"$f":"Composite!F327","v":"PKACG"},{"$f":"Composite!AL327","v":-1.4719027471545161},{"$f":"Composite!G327","v":"AGC"}]
[405,{"$f":"Composite!B231","v":"MAPK13 (p38δ)"},{"$f":"Composite!F231","v":"P38D"},{"$f":"Composite!AL231","v":-1.5612846925805997},{"$f":"Composite!G231","v":"CMGC"}]
[406,{"$f":"Composite!B127","v":"EIF2AK4 (GCN2)"},{"$f":"Composite!F127","v":"GCN2"},{"$f":"Composite!AL127","v":-1.6093446632542197},{"$f":"Composite!G127","v":"Other"}]
[407,{"$f":"Composite!B338","v":"PRKD1 (PKD1)"},{"$f":"Composite!F338","v":"PKD1"},{"$f":"Composite!AL338","v":-1.6427334190087635},{"$f":"Composite!G338","v":"CAMK"}]
[408,{"$f":"Composite!B108","v":"DAPK1"},{"$f":"Composite!F108","v":"DAPK1"},{"$f":"Composite!AL108","v":-1.8837737653952047},{"$f":"Composite!G108","v":"CAMK"}]
[409,{"$f":"Composite!B394","v":"TAOK2 (TAO2)"},{"$f":"Composite!F394","v":"TAOK2"},{"$f":"Composite!AL394","v":-1.9099947671376327},{"$f":"Composite!G394","v":"STE"}]
[410,{"$f":"Composite!B44","v":"CAMK1G (CAMK1γ)"},{"$f":"Composite!F44","v":"CAMK1G"},{"$f":"Composite!AL44","v":-1.9601686552435496},{"$f":"Composite!G44","v":"CAMK"}]
[411,{"$f":"Composite!B131","v":"EPHA4"},{"$f":"Composite!F131","v":"EPHA4"},{"$f":"Composite!AL131","v":-1.9784299858557546},{"$f":"Composite!G131","v":"TK"}]
[412,{"$f":"Composite!B118","v":"DYRK1B"},{"$f":"Composite!F118","v":"DYRK1B"},{"$f":"Composite!AL118","v":-2.0822911922591629},{"$f":"Composite!G118","v":"CMGC"}]
[413,{"$f":"Composite!B202","v":"MAK"},{"$f":"Composite!F202","v":"MAK"},{"$f":"Composite!AL202","v":-2.0852910010596304},{"$f":"Composite!G202","v":"Atypical"}]
[414,{"$f":"Composite!B203","v":"MAP2K1 (MEK1)"},{"$f":"Composite!F203","v":"MEK1"},{"$f":"Composite!AL203","v":-2.1349843879266359},{"$f":"Composite!G203","v":"STE"}]
[415,{"$f":"Composite!B186","v":"JAK2 [JH1]"},{"$f":"Composite!F186","v":"JAK2(JH1)"},{"$f":"Composite!AL186","v":-2.1624646071739164},{"$f":"Composite!G186","v":"TK"}]
[416,{"$f":"Composite!B283","v":"PAK1"},{"$f":"Composite!F283","v":"PAK1"},{"$f":"Composite!AL283","v":-2.282946237950469},{"$f":"Composite!G283","v":"STE"}]
[417,{"$f":"Composite!B158","v":"GAK"},{"$f":"Composite!F158","v":"GAK"},{"$f":"Composite!AL158","v":-2.3380084344134957},{"$f":"Composite!G158","v":"Other"}]
[418,{"$f":"Composite!B109","v":"DAPK2 (DRP-1)"},{"$f":"Composite!F109","v":"DAPK2"},{"$f":"Composite!AL109","v":-2.3667135605278418},{"$f":"Composite!G109","v":"CAMK"}]
[419,{"$f":"Composite!B153","v":"FLT3"},{"$f":"Composite!F153","v":"FLT3"},{"$f":"Composite!AL153","v":-2.4217339615164377},{"$f":"Composite!G153","v":"TK"}]
[420,{"$f":"Composite!B413","v":"TXK"},{"$f":"Composite!F413","v":"TXK"},{"$f":"Composite!AL413","v":-2.4629011468420572},{"$f":"Composite!G413","v":"TK"}]
[421,{"$f":"Composite!B320","v":"PRKAA2-B1-G2 (AMPKα2β1γ2)"},{"$f":"Composite!F320","v":"AMPK212"},{"$f":"Composite!AL320","v":-2.4943815097482229},{"$f":"Composite!G320","v":"CAMK"}]
[422,{"$f":"Composite!B128","v":"EPHA1"},{"$f":"Composite!F128","v":"EPHA1"},{"$f":"Composite!AL128","v":-2.5024012074643451},{"$f":"Composite!G128","v":"TK"}]
[423,{"$f":"Composite!B240","v":"MAPKAPK3 (MK3)"},{"$f":"Composite!F240","v":"MK3"},{"$f":"Composite!AL240","v":-2.5420889521735575},{"$f":"Composite!G240","v":"CAMK"}]
[424,{"$f":"Composite!B175","v":"ICK"},{"$f":"Composite!F175","v":"ICK"},{"$f":"Composite!AL175","v":-2.5645933014354085},{"$f":"Composite!G175","v":"CMGC"}]
[425,{"$f":"Composite!B371","v":"SLK"},{"$f":"Composite!F371","v":"SLK"},{"$f":"Composite!AL371","v":-2.7250834030787416},{"$f":"Composite!G371","v":"STE"}]
[426,{"$f":"Composite!B164","v":"GRK6 (GPRK6)"},{"$f":"Composite!F164","v":"GRK6"},{"$f":"Composite!AL164","v":-2.8440627152290716},{"$f":"Composite!G164","v":"AGC"}]
[427,{"$f":"Composite!B326","v":"PRKACB (PKACB, PKACβ)"},{"$f":"Composite!F326","v":"PKACB"},{"$f":"Composite!AL326","v":-2.9406861601040362},{"$f":"Composite!G326","v":"AGC"}]
[428,{"$f":"Composite!B197","v":"LIMK2"},{"$f":"Composite!F197","v":"LIMK2"},{"$f":"Composite!AL197","v":-2.989432703003331},{"$f":"Composite!G197","v":"TKL"}]
[429,{"$f":"Composite!B372","v":"SNRK"},{"$f":"Composite!F372","v":"SNRK"},{"$f":"Composite!AL372","v":-2.9911786385143984},{"$f":"Composite!G372","v":"CAMK"}]
[430,{"$f":"Composite!B280","v":"NTRK3 (TRKC)"},{"$f":"Composite!F280","v":"NTRK3"},{"$f":"Composite!AL280","v":-2.9959128606007681},{"$f":"Composite!G280","v":"TK"}]
[431,{"$f":"Composite!B161","v":"GRK3 (ADRBK2, BARK2)"},{"$f":"Composite!F161","v":"GRK3"},{"$f":"Composite!AL161","v":-3.0580982626564577},{"$f":"Composite!G161","v":"AGC"}]
[432,{"$f":"Composite!B340","v":"PRKD3 (PKD3)"},{"$f":"Composite!F340","v":"PKD3"},{"$f":"Composite!AL340","v":-3.3591390039781288},{"$f":"Composite!G340","v":"CAMK"}]
[433,{"$f":"Composite!B278","v":"NTRK1 (TRKA)"},{"$f":"Composite!F278","v":"NTRK1"},{"$f":"Composite!AL278","v":-3.6010311322625341},{"$f":"Composite!G278","v":"TK"}]
[434,{"$f":"Composite!B106","v":"CSNK2A1 (CK2A1, CK2α1)"},{"$f":"Composite!F106","v":"CK2A1"},{"$f":"Composite!AL106","v":-3.6060712670251718},{"$f":"Composite!G106","v":"Other"}]
[435,{"$f":"Composite!B103","v":"CSNK1G1 (CK1G1, CK1γ1)"},{"$f":"Composite!F103","v":"CK1G1"},{"$f":"Composite!AL103","v":-3.6153233377905565},{"$f":"Composite!G103","v":"CK1"}]
[436,{"$f":"Composite!B39","v":"BRSK2"},{"$f":"Composite!F39","v":"BRSK2"},{"$f":"Composite!AL39","v":-3.7226453609605272},{"$f":"Composite!G39","v":"CAMK"}]
[437,{"$f":"Composite!B207","v":"MAP3K1 (MEKK1)"},{"$f":"Composite!F207","v":"MAP3K1"},{"$f":"Composite!AL207","v":-3.7618802378388523},{"$f":"Composite!G207","v":"STE"}]
[438,{"$f":"Composite!B277","v":"NLK (LAK1)"},{"$f":"Composite!F277","v":"NLK"},{"$f":"Composite!AL277","v":-3.7810817739041482},{"$f":"Composite!G277","v":"CMGC"}]
[439,{"$f":"Composite!B34","v":"BMP2K (BIKE)"},{"$f":"Composite!F34","v":"BIKE"},{"$f":"Composite!AL34","v":-3.8959960126266822},{"$f":"Composite!G34","v":"Other"}]
[440,{"$f":"Composite!B129","v":"EPHA2"},{"$f":"Composite!F129","v":"EPHA2"},{"$f":"Composite!AL129","v":-3.9088038118455444},{"$f":"Composite!G129","v":"TK"}]
[441,{"$f":"Composite!B136","v":"EPHB1"},{"$f":"Composite!F136","v":"EPHB1"},{"$f":"Composite!AL136","v":-3.9216408292521265},{"$f":"Composite!G136","v":"TK"}]
[442,{"$f":"Composite!B205","v":"MAP2K3 (MEK3)"},{"$f":"Composite!F205","v":"MEK3"},{"$f":"Composite!AL205","v":-3.993091066112143},{"$f":"Composite!G205","v":"STE"}]
[443,{"$f":"Composite!B52","v":"CDC42BPA (MRCKA)"},{"$f":"Composite!F52","v":"MRCKA"},{"$f":"Composite!AL52","v":-4.2923230075540033},{"$f":"Composite!G52","v":"AGC"}]
[444,{"$f":"Composite!B151","v":"FGR"},{"$f":"Composite!F151","v":"FGR"},{"$f":"Composite!AL151","v":-4.3457265027818295},{"$f":"Composite!G151","v":"TK"}]
[445,{"$f":"Composite!B104","v":"CSNK1G2 (CK1G2, CK1γ2)"},{"$f":"Composite!F104","v":"CK1G2"},{"$f":"Composite!AL104","v":-4.4700460829492954},{"$f":"Composite!G104","v":"CK1"}]
[446,{"$f":"Composite!B400","v":"TLK1"},{"$f":"Composite!F400","v":"TLK1"},{"$f":"Composite!AL400","v":-4.515881584180832},{"$f":"Composite!G400","v":"Other"}]
[447,{"$f":"Composite!B101","v":"CSNK1D (CK1D, CK1δ)"},{"$f":"Composite!F101","v":"CK1D"},{"$f":"Composite!AL101","v":-4.5336663144750702},{"$f":"Composite!G101","v":"CK1"}]
[448,{"$f":"Composite!B319","v":"PRKAA2-B1-G1 (AMPKα2β1γ1)"},{"$f":"Composite!F319","v":"AMPK211"},{"$f":"Composite!AL319","v":-4.5610017172655404},{"$f":"Composite!G319","v":"CAMK"}]
[449,{"$f":"Composite!B297","v":"PDPK1 (PDK1)"},{"$f":"Composite!F297","v":"PDK1"},{"$f":"Composite!AL297","v":-4.5659694070591001},{"$f":"Composite!G297","v":"AGC"}]
[450,{"$f":"Composite!B181","v":"IRAK1"},{"$f":"Composite!F181","v":"IRAK1"},{"$f":"Composite!AL181","v":-4.5665565574502267},{"$f":"Composite!G181","v":"TKL"}]
[451,{"$f":"Composite!B221","v":"MAP3K9 (MLK1)"},{"$f":"Composite!F221","v":"MAP3K9"},{"$f":"Composite!AL221","v":-4.6207118924451009},{"$f":"Composite!G221","v":"TKL"}]
[452,{"$f":"Composite!B173","v":"HIPK4"},{"$f":"Composite!F173","v":"HIPK4"},{"$f":"Composite!AL173","v":-4.6668291994405422},{"$f":"Composite!G173","v":"CMGC"}]
[453,{"$f":"Composite!B138","v":"EPHB3"},{"$f":"Composite!F138","v":"EPHB3"},{"$f":"Composite!AL138","v":-4.6947078421322459},{"$f":"Composite!G138","v":"TK"}]
[454,{"$f":"Composite!B117","v":"DYRK1A"},{"$f":"Composite!F117","v":"DYRK1A"},{"$f":"Composite!AL117","v":-4.766046790641866},{"$f":"Composite!G117","v":"CMGC"}]
[455,{"$f":"Composite!B395","v":"TAOK3 (TAO3)"},{"$f":"Composite!F395","v":"TAOK3"},{"$f":"Composite!AL395","v":-4.8791306276336144},{"$f":"Composite!G395","v":"STE"}]
[456,{"$f":"Composite!B286","v":"PAK4"},{"$f":"Composite!F286","v":"PAK4"},{"$f":"Composite!AL286","v":-4.9557851172866663},{"$f":"Composite!G286","v":"STE"}]
[457,{"$f":"Composite!B194","v":"LATS2"},{"$f":"Composite!F194","v":"LATS2"},{"$f":"Composite!AL194","v":-5.019200605765576},{"$f":"Composite!G194","v":"AGC"}]
[458,{"$f":"Composite!B379","v":"STK10 (LOK)"},{"$f":"Composite!F379","v":"LOK"},{"$f":"Composite!AL379","v":-5.0257770810094229},{"$f":"Composite!G379","v":"STE"}]
[459,{"$f":"Composite!B241","v":"MAPKAPK5 (MK5)"},{"$f":"Composite!F241","v":"MK5"},{"$f":"Composite!AL241","v":-5.3731129109179818},{"$f":"Composite!G241","v":"CAMK"}]
[460,{"$f":"Composite!B130","v":"EPHA3"},{"$f":"Composite!F130","v":"EPHA3"},{"$f":"Composite!AL130","v":-5.4330915129796438},{"$f":"Composite!G130","v":"TK"}]
[461,{"$f":"Composite!B279","v":"NTRK2 (TRKB)"},{"$f":"Composite!F279","v":"NTRK2"},{"$f":"Composite!AL279","v":-5.4914715472464763},{"$f":"Composite!G279","v":"TK"}]
[462,{"$f":"Composite!B324","v":"PRKAA2-B2-G3 (AMPKα2β2γ3)"},{"$f":"Composite!F324","v":"AMPK223"},{"$f":"Composite!AL324","v":-5.5046375061741912},{"$f":"Composite!G324","v":"CAMK"}]
[463,{"$f":"Composite!B125","v":"EIF2AK2 (PKR)"},{"$f":"Composite!F125","v":"PKR"},{"$f":"Composite!AL125","v":-5.578408748871297},{"$f":"Composite!G125","v":"Other"}]
[464,{"$f":"Composite!B321","v":"PRKAA2-B1-G3 (AMPKα2β1γ3)"},{"$f":"Composite!F321","v":"AMPK213"},{"$f":"Composite!AL321","v":-5.6464519542358431},{"$f":"Composite!G321","v":"CAMK"}]
[465,{"$f":"Composite!B102","v":"CSNK1E (CK1E, CK1ε)"},{"$f":"Composite!F102","v":"CK1E"},{"$f":"Composite!AL102","v":-5.6478293160488704},{"$f":"Composite!G102","v":"CK1"}]
[466,{"$f":"Composite!B329","v":"PRKCB1 (PKCβ1 [beta1])"},{"$f":"Composite!F329","v":"PKCB1"},{"$f":"Composite!AL329","v":-5.7062521357433127},{"$f":"Composite!G329","v":"AGC"}]
[467,{"$f":"Composite!B219","v":"MAP3K7 (TAK1)"},{"$f":"Composite!F219","v":"MAP3K7"},{"$f":"Composite!AL219","v":-5.8540656545584682},{"$f":"Composite!G219","v":"STE"}]
[468,{"$f":"Composite!B99","v":"CSNK1A1 (CK1A1, CK1α)"},{"$f":"Composite!F99","v":"CK1A1"},{"$f":"Composite!AL99","v":-5.9375343153403293},{"$f":"Composite!G99","v":"CK1"}]
[469,{"$f":"Composite!B244","v":"MARK3"},{"$f":"Composite!F244","v":"MARK3"},{"$f":"Composite!AL244","v":-6.0434522623082216},{"$f":"Composite!G244","v":"CAMK"}]
[470,{"$f":"Composite!B317","v":"PRKAA1-B2-G2 (AMPKα1β2γ2)"},{"$f":"Composite!F317","v":"AMPK122"},{"$f":"Composite!AL317","v":-6.1972224811259196},{"$f":"Composite!G317","v":"CAMK"}]
[471,{"$f":"Composite!B182","v":"IRAK4"},{"$f":"Composite!F182","v":"IRAK4"},{"$f":"Composite!AL182","v":-6.209059083782563},{"$f":"Composite!G182","v":"TKL"}]
[472,{"$f":"Composite!B318","v":"PRKAA1-B2-G3 (AMPKα1β2γ3)"},{"$f":"Composite!F318","v":"AMPK123"},{"$f":"Composite!AL318","v":-6.2826588892939554},{"$f":"Composite!G318","v":"CAMK"}]
[473,{"$f":"Composite!B334","v":"PRKCH (PKCη [eta])"},{"$f":"Composite!F334","v":"PKCH"},{"$f":"Composite!AL334","v":-6.4027957578171737},{"$f":"Composite!G334","v":"AGC"}]
[474,{"$f":"Composite!B377","v":"SRPK2"},{"$f":"Composite!F377","v":"SRPK2"},{"$f":"Composite!AL377","v":-6.4444662288011045},{"$f":"Composite!G377","v":"CMGC"}]
[475,{"$f":"Composite!B132","v":"EPHA5"},{"$f":"Composite!F132","v":"EPHA5"},{"$f":"Composite!AL132","v":-6.4672641132484614},{"$f":"Composite!G132","v":"TK"}]
[476,{"$f":"Composite!B275","v":"NEK9"},{"$f":"Composite!F275","v":"NEK9"},{"$f":"Composite!AL275","v":-6.4729194187582664},{"$f":"Composite!G275","v":"Other"}]
[477,{"$f":"Composite!B122","v":"EEF2K (eEF2K)"},{"$f":"Composite!F122","v":"EEF2K"},{"$f":"Composite!AL122","v":-6.5771170231264051},{"$f":"Composite!G122","v":"Atypical"}]
[478,{"$f":"Composite!B287","v":"PAK5 (PAK7)"},{"$f":"Composite!F287","v":"PAK5"},{"$f":"Composite!AL287","v":-6.6195907689774742},{"$f":"Composite!G287","v":"STE"}]
[479,{"$f":"Composite!B113","v":"DDR1 [SRC treated]"},{"$f":"Composite!F113","v":"DDR1"},{"$f":"Composite!AL113","v":-6.6312374905100455},{"$f":"Composite!G113","v":"TK"}]
[480,{"$f":"Composite!B65","v":"CDK17 (PCTAIRE2, PCTK2)/p35NCK"},{"$f":"Composite!F65","v":"CDK17/P35"},{"$f":"Composite!AL65","v":-6.6604285131600989},{"$f":"Composite!G65","v":"CMGC"}]
[481,{"$f":"Composite!B211","v":"MAP3K13 (LZK)"},{"$f":"Composite!F211","v":"MAP3K13"},{"$f":"Composite!AL211","v":-6.9969824334518762},{"$f":"Composite!G211","v":"TKL"}]
[482,{"$f":"Composite!B37","v":"BRAF, b-[V600E]"},{"$f":"Composite!F37","v":"BRAF(V600E)"},{"$f":"Composite!AL37","v":-7.0793300945255879},{"$f":"Composite!G37","v":"TKL"}]
[483,{"$f":"Composite!B110","v":"DAPK3 (ZIPK)"},{"$f":"Composite!F110","v":"DAPK3"},{"$f":"Composite!AL110","v":-7.2519714035377376},{"$f":"Composite!G110","v":"CAMK"}]
[484,{"$f":"Composite!B323","v":"PRKAA2-B2-G2 (AMPKα2β2γ2)"},{"$f":"Composite!F323","v":"AMPK222"},{"$f":"Composite!AL323","v":-7.3195192322527873},{"$f":"Composite!G323","v":"CAMK"}]
[485,{"$f":"Composite!B114","v":"DDR2"},{"$f":"Composite!F114","v":"DDR2"},{"$f":"Composite!AL114","v":-7.3396190047865275},{"$f":"Composite!G114","v":"TK"}]
[486,{"$f":"Composite!B345","v":"PTK2 (FAK)"},{"$f":"Composite!F345","v":"PTK2"},{"$f":"Composite!AL345","v":-7.3859041116162842},{"$f":"Composite!G345","v":"TK"}]
[487,{"$f":"Composite!B315","v":"PRKAA1-B1-G3 (AMPKα1β1γ3)"},{"$f":"Composite!F315","v":"AMPK113"},{"$f":"Composite!AL315","v":-7.5356009529444066},{"$f":"Composite!G315","v":"CAMK"}]
[488,{"$f":"Composite!B290","v":"PBK (TOPK)"},{"$f":"Composite!F290","v":"TOPK"},{"$f":"Composite!AL290","v":-7.8577799565605062},{"$f":"Composite!G290","v":"Other"}]
[489,{"$f":"Composite!B405","v":"TRPM7 (CHAK1)"},{"$f":"Composite!F405","v":"CHAK1"},{"$f":"Composite!AL405","v":-8.3726172921475808},{"$f":"Composite!G405","v":"Atypical"}]
[490,{"$f":"Composite!B336","v":"PRKCQ (PKCᶿ [theta])"},{"$f":"Composite!F336","v":"PKCQ"},{"$f":"Composite!AL336","v":-8.6387360431854887},{"$f":"Composite!G336","v":"AGC"}]
[491,{"$f":"Composite!B332","v":"PRKCE (PKCe [epsilon])"},{"$f":"Composite!F332","v":"PKCE"},{"$f":"Composite!AL332","v":-8.7120651369355784},{"$f":"Composite!G332","v":"AGC"}]
[492,{"$f":"Composite!B314","v":"PRKAA1-B1-G2 (AMPKα1β1γ2)"},{"$f":"Composite!F314","v":"AMPK112"},{"$f":"Composite!AL314","v":-8.7790312407686741},{"$f":"Composite!G314","v":"CAMK"}]
[493,{"$f":"Composite!B396","v":"TBK1"},{"$f":"Composite!F396","v":"TBK1"},{"$f":"Composite!AL396","v":-8.8199203187250816},{"$f":"Composite!G396","v":"Other"}]
[494,{"$f":"Composite!B25","v":"AKT3 (PKBg)"},{"$f":"Composite!F25","v":"AKT3"},{"$f":"Composite!AL25","v":-8.9477233466665496},{"$f":"Composite!G25","v":"AGC"}]
[495,{"$f":"Composite!B299","v":"PHKG2"},{"$f":"Composite!F299","v":"PHKG2"},{"$f":"Composite!AL299","v":-9.1266860108483741},{"$f":"Composite!G299","v":"CAMK"}]
[496,{"$f":"Composite!B308","v":"PLK1"},{"$f":"Composite!F308","v":"PLK1"},{"$f":"Composite!AL308","v":-9.3303899926416562},{"$f":"Composite!G308","v":"Other"}]
[497,{"$f":"Composite!B331","v":"PRKCD (PKCδ [delta])"},{"$f":"Composite!F331","v":"PKCD"},{"$f":"Composite!AL331","v":-9.5968770532988117},{"$f":"Composite!G331","v":"AGC"}]
[498,{"$f":"Composite!B298","v":"PHKG1"},{"$f":"Composite!F298","v":"PHKG1"},{"$f":"Composite!AL298","v":-9.8311617338280541},{"$f":"Composite!G298","v":"CAMK"}]
[499,{"$f":"Composite!B304","v":"PKMYT1 (MYT1)"},{"$f":"Composite!F304","v":"MYT1"},{"$f":"Composite!AL304","v":-9.9352822171871651},{"$f":"Composite!G304","v":"Other"}]
[500,{"$f":"Composite!B193","v":"LATS1"},{"$f":"Composite!F193","v":"LATS1"},{"$f":"Composite!AL193","v":-9.9628792080897881},{"$f":"Composite!G193","v":"AGC"}]
[501,{"$f":"Composite!B337","v":"PRKCZ (PKCζ [zeta])"},{"$f":"Composite!F337","v":"PKCZ"},{"$f":"Composite!AL337","v":-10.055197087709786},{"$f":"Composite!G337","v":"AGC"}]
[502,{"$f":"Composite!B412","v":"TTK"},{"$f":"Composite!F412","v":"TTK"},{"$f":"Composite!AL412","v":-10.610206946971388},{"$f":"Composite!G412","v":"Other"}]
[503,{"$f":"Composite!B247","v":"MASTL"},{"$f":"Composite!F247","v":"MASTL"},{"$f":"Composite!AL247","v":-10.708264263753719},{"$f":"Composite!G247","v":"AGC"}]
[504,{"$f":"Composite!B266","v":"NEK10"},{"$f":"Composite!F266","v":"NEK10"},{"$f":"Composite!AL266","v":-10.896325364146463},{"$f":"Composite!G266","v":"Other"}]
[505,{"$f":"Composite!B365","v":"SGK1 (SGK)"},{"$f":"Composite!F365","v":"SGK"},{"$f":"Composite!AL365","v":-10.913395892042615},{"$f":"Composite!G365","v":"AGC"}]
[506,{"$f":"Composite!B335","v":"PRKCI (PKCι [iota])"},{"$f":"Composite!F335","v":"PKCI"},{"$f":"Composite!AL335","v":-11.095849684861449},{"$f":"Composite!G335","v":"AGC"}]
[507,{"$f":"Composite!B53","v":"CDC42BPB (MRCKB)"},{"$f":"Composite!F53","v":"MRCKB"},{"$f":"Composite!AL53","v":-11.473161154107345},{"$f":"Composite!G53","v":"AGC"}]
[508,{"$f":"Composite!B111","v":"DCLK1 (DCAMKL1)"},{"$f":"Composite!F111","v":"DCAML1"},{"$f":"Composite!AL111","v":-11.875234874107434},{"$f":"Composite!G111","v":"CAMK"}]
[509,{"$f":"Composite!B105","v":"CSNK1G3 (CK1G3, CK1γ3)"},{"$f":"Composite!F105","v":"CK1G3"},{"$f":"Composite!AL105","v":-12.101821447615819},{"$f":"Composite!G105","v":"CK1"}]
[510,{"$f":"Composite!B20","v":"AAK1"},{"$f":"Composite!F20","v":"AAK1"},{"$f":"Composite!AL20","v":-12.480325488350985},{"$f":"Composite!G20","v":"Other"}]
[511,{"$f":"Composite!B92","v":"CIT (CRIK)"},{"$f":"Composite!F92","v":"CRIK"},{"$f":"Composite!AL92","v":-13.375708923532159},{"$f":"Composite!G92","v":"AGC"}]
[512,{"$f":"Composite!B330","v":"PRKCB2 (PKCβ2 [beta2])"},{"$f":"Composite!F330","v":"PKCB2"},{"$f":"Composite!AL330","v":-13.529139175716224},{"$f":"Composite!G330","v":"AGC"}]
[513,{"$f":"Composite!B415","v":"TYK2 [JH1-JH2]"},{"$f":"Composite!F415","v":"TYK2(JH1JH2)"},{"$f":"Composite!AL415","v":-13.829300277117994},{"$f":"Composite!G415","v":"TK"}]
[514,{"$f":"Composite!B352","v":"RIPK3"},{"$f":"Composite!F352","v":"RIPK3"},{"$f":"Composite!AL352","v":-14.772129081657056},{"$f":"Composite!G352","v":"TKL"}]
[515,{"$f":"Composite!B309","v":"PLK2"},{"$f":"Composite!F309","v":"PLK2"},{"$f":"Composite!AL309","v":-16.473522077160027},{"$f":"Composite!G309","v":"Other"}]
[516,{"$f":"Composite!B401","v":"TLK2"},{"$f":"Composite!F401","v":"TLK2"},{"$f":"Composite!AL401","v":-16.637336589570481},{"$f":"Composite!G401","v":"Other"}]
[517,{"$f":"Composite!B333","v":"PRKCG (PKCγ [gamma])"},{"$f":"Composite!F333","v":"PKCG"},{"$f":"Composite!AL333","v":-20.43805143761108},{"$f":"Composite!G333","v":"AGC"}]
[518,{"$f":"Composite!B419","v":"ULK3"},{"$f":"Composite!F419","v":"ULK3"},{"$f":"Composite!AL419","v":-22.143377699359434},{"$f":"Composite!G419","v":"Other"}]

{"sheet":"Compound 15 Kinome Tree","index":33,"n_rows":6,"n_cols":27,"rows_kept":6,"cut":false,"hidden":false,"merged":[[1,1,3,20]]}
[]
[null,{"$f":"Summary!AC24","v":"Kinome Hit View for Lapatinib  (0.085 µM) with 398 Kinases (Coral Names) at 1 mM"}]
[null,null,null,null,null,null,null,null,null,null,null,null,null,null,null,null,null,null,null,null,null,null,null,null,null,null,"Kinome Hit View for VVVVVVVVVVVVVVVVVVVVVVVVVVV (VVVVV µM) with VVV Kinases (Coral Names)"]
[null,null,null,null,null,null,null,null,null,null,null,null,null,null,null,null,null,null,null,null,null,null,null,null,null,null,{"$f":"REPLACE(AA3,65,3,Summary!E24)","v":"Kinome Hit View for VVVVVVVVVVVVVVVVVVVVVVVVVVV (VVVVV µM) with 398 Kinases (Coral Names)"}]
[null,null,null,null,null,null,null,null,null,null,null,null,null,null,null,null,null,null,null,null,null,null,null,null,null,null,{"$f":"REPLACE(AA4,50,5,Summary!D24)","v":"Kinome Hit View for VVVVVVVVVVVVVVVVVVVVVVVVVVV (0.085 µM) with 398 Kinases (Coral Names)"}]
[null,null,null,null,null,null,null,null,null,null,null,null,null,null,null,null,null,null,null,null,null,null,null,null,null,null,{"$f":"REPLACE(AA5,21,27,Summary!C24)","v":"Kinome Hit View for Lapatinib  (0.085 µM) with 398 Kinases (Coral Names)"}]

{"sheet":"Compound 16","index":34,"n_rows":477,"n_cols":28,"rows_kept":477,"cut":false,"hidden":false,"merged":[]}
[]
["Panel #","Kinase Target","Kinase Target",{"$f":"Summary!AB25","v":"0.085 µM Lapatinib , % inhibition at  ATP Km "},{"$f":"Composite!G19","v":"Group"}]
[104,{"$f":"Composite!B123","v":"EGFR (ERBB1)"},{"$f":"Composite!F123","v":"EGFR"},{"$f":"Composite!AN123","v":98.314797521011968},{"$f":"Composite!G123","v":"TK"},null,null,null,null,null,null,null,null,null,null,null,null,null,null,null,null,null,null,null,null,null,null,"VVVVV μM VVVVVVVVVVVVVVVVVVVVVVVVVVV, % inhibition"]
[40,{"$f":"Composite!B59","v":"CDK1 (CDC2)/CycE1 "},{"$f":"Composite!F59","v":"CDK1/E1"},{"$f":"Composite!AN59","v":63.637473050482036},{"$f":"Composite!G59","v":"CMGC"},null,null,null,null,null,null,null,null,null,null,null,null,null,null,null,null,null,null,null,null,null,null,{"$f":"REPLACE(AB3,10,27,Summary!C26)","v":"VVVVV μM Lapatinib , % inhibition"}]
[122,{"$f":"Composite!B141","v":"ERBB4 (HER4)"},{"$f":"Composite!F141","v":"HER4"},{"$f":"Composite!AN141","v":44.933719018583631},{"$f":"Composite!G141","v":"TK"},null,null,null,null,null,null,null,null,null,null,null,null,null,null,null,null,null,null,null,null,null,null,{"$f":"REPLACE(AB4,1,5,Summary!D26)","v":"0.005 μM Lapatinib , % inhibition"}]
[57,{"$f":"Composite!B76","v":"CDK4/CycD1"},{"$f":"Composite!F76","v":"CDK4/D1"},{"$f":"Composite!AN76","v":39.611061076086592},{"$f":"Composite!G76","v":"CMGC"}]
[121,{"$f":"Composite!B140","v":"ERBB2 (HER2)"},{"$f":"Composite!F140","v":"HER2"},{"$f":"Composite!AN140","v":34.899744549812795},{"$f":"Composite!G140","v":"TK"}]
[52,{"$f":"Composite!B71","v":"CDK2/CycE2"},{"$f":"Composite!F71","v":"CDK2/E2"},{"$f":"Composite!AN71","v":29.995834635009885},{"$f":"Composite!G71","v":"CMGC"}]
[66,{"$f":"Composite!B85","v":"CDK9 (TAK)/CycK"},{"$f":"Composite!F85","v":"CDK9/K"},{"$f":"Composite!AN85","v":25.814307458143048},{"$f":"Composite!G85","v":"CMGC"}]
[340,{"$f":"Composite!B359","v":"RPS6KA4 (MSK2)"},{"$f":"Composite!F359","v":"MSK2"},{"$f":"Composite!AN359","v":23.795356744408451},{"$f":"Composite!G359","v":"AGC"}]
[72,{"$f":"Composite!B91","v":"CHUK (IKKA, IKKa)"},{"$f":"Composite!F91","v":"IKKA"},{"$f":"Composite!AN91","v":23.384393020518246},{"$f":"Composite!G91","v":"Other"}]
[291,{"$f":"Composite!B310","v":"PLK3"},{"$f":"Composite!F310","v":"PLK3"},{"$f":"Composite!AN310","v":22.833306764440195},{"$f":"Composite!G310","v":"Other"}]
[54,{"$f":"Composite!B73","v":"CDK3/CycE1"},{"$f":"Composite!F73","v":"CDK3/E1"},{"$f":"Composite!AN73","v":22.465531224655294},{"$f":"Composite!G73","v":"CMGC"}]
[174,{"$f":"Composite!B193","v":"LATS1"},{"$f":"Composite!F193","v":"LATS1"},{"$f":"Composite!AN193","v":22.459874747613014},{"$f":"Composite!G193","v":"AGC"}]
[27,{"$f":"Composite!B46","v":"CAMK2B (CAMK2β)"},{"$f":"Composite!F46","v":"CAMK2B"},{"$f":"Composite!AN46","v":22.339887234350172},{"$f":"Composite!G46","v":"CAMK"}]
[39,{"$f":"Composite!B58","v":"CDK1 (CDC2)/CycB1 "},{"$f":"Composite!F58","v":"CDK1/B1"},{"$f":"Composite!AN58","v":22.213949794636974},{"$f":"Composite!G58","v":"CMGC"}]
[38,{"$f":"Composite!B57","v":"CDK1 (CDC2)/CycA2 "},{"$f":"Composite!F57","v":"CDK1/A2"},{"$f":"Composite!AN57","v":22.126936780180642},{"$f":"Composite!G57","v":"CMGC"}]
[205,{"$f":"Composite!B224","v":"MAP4K3 (GLK, KHS2)"},{"$f":"Composite!F224","v":"GLK/KHS2"},{"$f":"Composite!AN224","v":21.66769531998213},{"$f":"Composite!G224","v":"STE"}]
[49,{"$f":"Composite!B68","v":"CDK2/CycA2"},{"$f":"Composite!F68","v":"CDK2/A2"},{"$f":"Composite!AN68","v":21.501033490153318},{"$f":"Composite!G68","v":"CMGC"}]
[214,{"$f":"Composite!B233","v":"MAPK15 (ERK7)"},{"$f":"Composite!F233","v":"ERK7"},{"$f":"Composite!AN233","v":21.319651552679929},{"$f":"Composite!G233","v":"CMGC"}]
[145,{"$f":"Composite!B164","v":"GRK6 (GPRK6)"},{"$f":"Composite!F164","v":"GRK6"},{"$f":"Composite!AN164","v":21.070149688755635},{"$f":"Composite!G164","v":"AGC"}]
[323,{"$f":"Composite!B342","v":"PRKG1 (PKG1, PGK)"},{"$f":"Composite!F342","v":"PGK"},{"$f":"Composite!AN342","v":20.686852265799644},{"$f":"Composite!G342","v":"AGC"}]
[383,{"$f":"Composite!B402","v":"TNIK (ZC2)"},{"$f":"Composite!F402","v":"TNIK"},{"$f":"Composite!AN402","v":20.442695020959036},{"$f":"Composite!G402","v":"STE"}]
[147,{"$f":"Composite!B166","v":"GSK3A (GSK3α)"},{"$f":"Composite!F166","v":"GSK3A"},{"$f":"Composite!AN166","v":19.727647631594024},{"$f":"Composite!G166","v":"CMGC"}]
[28,{"$f":"Composite!B47","v":"CAMK2D (CAMK2δ)"},{"$f":"Composite!F47","v":"CAMK2D"},{"$f":"Composite!AN47","v":19.333964374838658},{"$f":"Composite!G47","v":"CAMK"}]
[29,{"$f":"Composite!B48","v":"CAMK2G (CAMK2γ)"},{"$f":"Composite!F48","v":"CAMK2G"},{"$f":"Composite!AN48","v":19.06145222799519},{"$f":"Composite!G48","v":"CAMK"}]
[65,{"$f":"Composite!B84","v":"CDK7/CycH1"},{"$f":"Composite!F84","v":"CDK7/H1"},{"$f":"Composite!AN84","v":18.957309184993534},{"$f":"Composite!G84","v":"CMGC"}]
[196,{"$f":"Composite!B215","v":"MAP3K20 (MLK7, ZAK)"},{"$f":"Composite!F215","v":"ZAK"},{"$f":"Composite!AN215","v":18.733808290155466},{"$f":"Composite!G215","v":"TKL"}]
[203,{"$f":"Composite!B222","v":"MAP4K1 (HPK1)"},{"$f":"Composite!F222","v":"HPK1"},{"$f":"Composite!AN222","v":18.549793483249189},{"$f":"Composite!G222","v":"STE"}]
[366,{"$f":"Composite!B385","v":"STK25 (YSK1)"},{"$f":"Composite!F385","v":"YSK1"},{"$f":"Composite!AN385","v":18.490014612761811},{"$f":"Composite!G385","v":"STE"}]
[35,{"$f":"Composite!B54","v":"CDC42BPG (DMPK2)"},{"$f":"Composite!F54","v":"DMPK2"},{"$f":"Composite!AN54","v":18.312179052417392},{"$f":"Composite!G54","v":"AGC"}]
[88,{"$f":"Composite!B107","v":"CSNK2A2 (CK2A2, CK2α2)"},{"$f":"Composite!F107","v":"CK2A2"},{"$f":"Composite!AN107","v":18.009369983291293},{"$f":"Composite!G107","v":"Other"}]
[61,{"$f":"Composite!B80","v":"CDK6/CycD1"},{"$f":"Composite!F80","v":"CDK6/D1"},{"$f":"Composite!AN80","v":17.965298845068943},{"$f":"Composite!G80","v":"CMGC"}]
[62,{"$f":"Composite!B81","v":"CDK6/CycD2"},{"$f":"Composite!F81","v":"CDK6/D2"},{"$f":"Composite!AN81","v":17.829131776502521},{"$f":"Composite!G81","v":"CMGC"}]
[48,{"$f":"Composite!B67","v":"CDK2/CycA1"},{"$f":"Composite!F67","v":"CDK2/A1"},{"$f":"Composite!AN67","v":17.724159522712327},{"$f":"Composite!G67","v":"CMGC"}]
[81,{"$f":"Composite!B100","v":"CSNK1A1L (CK1A1L, CK1a2)"},{"$f":"Composite!F100","v":"CK1A1L"},{"$f":"Composite!AN100","v":17.174086910157271},{"$f":"Composite!G100","v":"CK1"}]
[37,{"$f":"Composite!B56","v":"CDK1 (CDC2)/CycA1 "},{"$f":"Composite!F56","v":"CDK1/A1"},{"$f":"Composite!AN56","v":17.111795387419107},{"$f":"Composite!G56","v":"CMGC"}]
[197,{"$f":"Composite!B216","v":"MAP3K3 (MEKK3)"},{"$f":"Composite!F216","v":"MAP3K3"},{"$f":"Composite!AN216","v":16.638010845126303},{"$f":"Composite!G216","v":"STE"}]
[161,{"$f":"Composite!B180","v":"INSRR (IRR)"},{"$f":"Composite!F180","v":"INSRR"},{"$f":"Composite!AN180","v":16.324620148340173},{"$f":"Composite!G180","v":"TK"}]
[293,{"$f":"Composite!B312","v":"PNCK (CAMK1β)"},{"$f":"Composite!F312","v":"CAMK1B"},{"$f":"Composite!AN312","v":16.251115739363257},{"$f":"Composite!G312","v":"CAMK"}]
[2,{"$f":"Composite!B21","v":"ABL1"},{"$f":"Composite!F21","v":"ABL1"},{"$f":"Composite!AN21","v":15.924187582037291},{"$f":"Composite!G21","v":"TK"}]
[371,{"$f":"Composite!B390","v":"STK38L (NDR2)"},{"$f":"Composite!F390","v":"NDR2"},{"$f":"Composite!AN390","v":15.763546798029537},{"$f":"Composite!G390","v":"AGC"}]
[213,{"$f":"Composite!B232","v":"MAPK14 (p38a)"},{"$f":"Composite!F232","v":"P38A"},{"$f":"Composite!AN232","v":15.575102246624454},{"$f":"Composite!G232","v":"CMGC"}]
[175,{"$f":"Composite!B194","v":"LATS2"},{"$f":"Composite!F194","v":"LATS2"},{"$f":"Composite!AN194","v":15.363781254644323},{"$f":"Composite!G194","v":"AGC"}]
[206,{"$f":"Composite!B225","v":"MAP4K4 (HGK, ZC1)"},{"$f":"Composite!F225","v":"HGK"},{"$f":"Composite!AN225","v":15.301615698551998},{"$f":"Composite!G225","v":"STE"}]
[67,{"$f":"Composite!B86","v":"CDK9 (TAK)/CycT1"},{"$f":"Composite!F86","v":"CDK9/T1"},{"$f":"Composite!AN86","v":15.277016509175411},{"$f":"Composite!G86","v":"CMGC"}]
[370,{"$f":"Composite!B389","v":"STK38 (NDR1)"},{"$f":"Composite!F389","v":"NDR1"},{"$f":"Composite!AN389","v":15.100643571135151},{"$f":"Composite!G389","v":"AGC"}]
[176,{"$f":"Composite!B195","v":"LCK"},{"$f":"Composite!F195","v":"LCK"},{"$f":"Composite!AN195","v":14.877787836392073},{"$f":"Composite!G195","v":"TK"}]
[382,{"$f":"Composite!B401","v":"TLK2"},{"$f":"Composite!F401","v":"TLK2"},{"$f":"Composite!AN401","v":14.830199270277845},{"$f":"Composite!G401","v":"Other"}]
[143,{"$f":"Composite!B162","v":"GRK4 (GPRK4)"},{"$f":"Composite!F162","v":"GRK4"},{"$f":"Composite!AN162","v":14.755145817169449},{"$f":"Composite!G162","v":"AGC"}]
[298,{"$f":"Composite!B317","v":"PRKAA1-B2-G2 (AMPKα1β2γ2)"},{"$f":"Composite!F317","v":"AMPK122"},{"$f":"Composite!AN317","v":14.713504175064784},{"$f":"Composite!G317","v":"CAMK"}]
[207,{"$f":"Composite!B226","v":"MAP4K5 (KHS1)"},{"$f":"Composite!F226","v":"KHS1"},{"$f":"Composite!AN226","v":14.555359717993923},{"$f":"Composite!G226","v":"STE"}]
[183,{"$f":"Composite!B202","v":"MAK"},{"$f":"Composite!F202","v":"MAK"},{"$f":"Composite!AN202","v":14.538684869572904},{"$f":"Composite!G202","v":"Atypical"}]
[195,{"$f":"Composite!B214","v":"MAP3K2 (MEKK2)"},{"$f":"Composite!F214","v":"MAP3K2"},{"$f":"Composite!AN214","v":14.313458924062914},{"$f":"Composite!G214","v":"STE"}]
[233,{"$f":"Composite!B252","v":"MINK1 (MAP4K6, MINK, ZC3)"},{"$f":"Composite!F252","v":"MINK"},{"$f":"Composite!AN252","v":14.293418214342097},{"$f":"Composite!G252","v":"STE"}]
[55,{"$f":"Composite!B74","v":"CDK3/CycE2"},{"$f":"Composite!F74","v":"CDK3/E2"},{"$f":"Composite!AN74","v":14.044334211750126},{"$f":"Composite!G74","v":"CMGC"}]
[58,{"$f":"Composite!B77","v":"CDK4/CycD2"},{"$f":"Composite!F77","v":"CDK4/D2"},{"$f":"Composite!AN77","v":14.005383961462172},{"$f":"Composite!G77","v":"CMGC"}]
[341,{"$f":"Composite!B360","v":"RPS6KA5 (MSK1)"},{"$f":"Composite!F360","v":"MSK1"},{"$f":"Composite!AN360","v":13.889558938732947},{"$f":"Composite!G360","v":"AGC"}]
[22,{"$f":"Composite!B41","v":"BUB1"},{"$f":"Composite!F41","v":"BUB1"},{"$f":"Composite!AN41","v":13.694745077585097},{"$f":"Composite!G41","v":"Other"}]
[181,{"$f":"Composite!B200","v":"LYNA (LYNa)"},{"$f":"Composite!F200","v":"LYNA"},{"$f":"Composite!AN200","v":13.52969079127206},{"$f":"Composite!G200","v":"TK"}]
[106,{"$f":"Composite!B125","v":"EIF2AK2 (PKR)"},{"$f":"Composite!F125","v":"PKR"},{"$f":"Composite!AN125","v":13.44530698659139},{"$f":"Composite!G125","v":"Other"}]
[107,{"$f":"Composite!B126","v":"EIF2AK3 (PERK/PEK)"},{"$f":"Composite!F126","v":"PEK"},{"$f":"Composite!AN126","v":13.339692354921127},{"$f":"Composite!G126","v":"Other"}]
[126,{"$f":"Composite!B145","v":"FER"},{"$f":"Composite!F145","v":"FER"},{"$f":"Composite!AN145","v":13.332509745785927},{"$f":"Composite!G145","v":"TK"}]
[56,{"$f":"Composite!B75","v":"CDK4 /CycD3"},{"$f":"Composite!F75","v":"CDK4/D3"},{"$f":"Composite!AN75","v":13.257629301543915},{"$f":"Composite!G75","v":"CMGC"}]
[185,{"$f":"Composite!B204","v":"MAP2K2 (MEK2)"},{"$f":"Composite!F204","v":"MEK2"},{"$f":"Composite!AN204","v":13.234961129141809},{"$f":"Composite!G204","v":"STE"}]
[390,{"$f":"Composite!B409","v":"TSSK6 (SSTK)"},{"$f":"Composite!F409","v":"TSSK6"},{"$f":"Composite!AN409","v":13.133462282398455},{"$f":"Composite!G409","v":"CAMK"}]
[345,{"$f":"Composite!B364","v":"SBK1 (SBK)"},{"$f":"Composite!F364","v":"SBK1"},{"$f":"Composite!AN364","v":12.979420989286609},{"$f":"Composite!G364","v":"Other"}]
[246,{"$f":"Composite!B265","v":"NEK1"},{"$f":"Composite!F265","v":"NEK1"},{"$f":"Composite!AN265","v":12.873721903447091},{"$f":"Composite!G265","v":"Other"}]
[273,{"$f":"Composite!B292","v":"PDGFRB (PDGFRβ)"},{"$f":"Composite!F292","v":"PDGFRB"},{"$f":"Composite!AN292","v":12.644865620630725},{"$f":"Composite!G292","v":"TK"}]
[316,{"$f":"Composite!B335","v":"PRKCI (PKCι [iota])"},{"$f":"Composite!F335","v":"PKCI"},{"$f":"Composite!AN335","v":12.617810160893242},{"$f":"Composite!G335","v":"AGC"}]
[234,{"$f":"Composite!B253","v":"MLK4 (MAP3K21)"},{"$f":"Composite!F253","v":"MLK4"},{"$f":"Composite!AN253","v":12.536661669816851},{"$f":"Composite!G253","v":"STE"}]
[150,{"$f":"Composite!B169","v":"HCK"},{"$f":"Composite!F169","v":"HCK"},{"$f":"Composite!AN169","v":12.39718561094044},{"$f":"Composite!G169","v":"TK"}]
[302,{"$f":"Composite!B321","v":"PRKAA2-B1-G3 (AMPKα2β1γ3)"},{"$f":"Composite!F321","v":"AMPK213"},{"$f":"Composite!AN321","v":12.285006345561115},{"$f":"Composite!G321","v":"CAMK"}]
[271,{"$f":"Composite!B290","v":"PBK (TOPK)"},{"$f":"Composite!F290","v":"TOPK"},{"$f":"Composite!AN290","v":12.243319967745848},{"$f":"Composite!G290","v":"Other"}]
[320,{"$f":"Composite!B339","v":"PRKD2 (PKD2)"},{"$f":"Composite!F339","v":"PKD2"},{"$f":"Composite!AN339","v":12.1300481119697},{"$f":"Composite!G339","v":"CAMK"}]
[238,{"$f":"Composite!B257","v":"mTOR (FRAP)"},{"$f":"Composite!F257","v":"mTOR"},{"$f":"Composite!AN257","v":12.123068054905062},{"$f":"Composite!G257","v":"Atypical"}]
[186,{"$f":"Composite!B205","v":"MAP2K3 (MEK3)"},{"$f":"Composite!F205","v":"MEK3"},{"$f":"Composite!AN205","v":12.067011730115453},{"$f":"Composite!G205","v":"STE"}]
[141,{"$f":"Composite!B160","v":"GRK2 (ADRBK1, BARK1)"},{"$f":"Composite!F160","v":"GRK2"},{"$f":"Composite!AN160","v":12.0501887858629},{"$f":"Composite!G160","v":"AGC"}]
[74,{"$f":"Composite!B93","v":"CLK1"},{"$f":"Composite!F93","v":"CLK1"},{"$f":"Composite!AN93","v":11.925082977714538},{"$f":"Composite!G93","v":"CMGC"}]
[60,{"$f":"Composite!B79","v":"CDK5/p35NCK"},{"$f":"Composite!F79","v":"CDK5/P35"},{"$f":"Composite!AN79","v":11.749594375338035},{"$f":"Composite!G79","v":"CMGC"}]
[103,{"$f":"Composite!B122","v":"EEF2K (eEF2K)"},{"$f":"Composite!F122","v":"EEF2K"},{"$f":"Composite!AN122","v":11.711908931698773},{"$f":"Composite!G122","v":"Atypical"}]
[262,{"$f":"Composite!B281","v":"NUAK1 (ARK5)"},{"$f":"Composite!F281","v":"NUAK1"},{"$f":"Composite!AN281","v":11.619407958380819},{"$f":"Composite!G281","v":"CAMK"}]
[76,{"$f":"Composite!B95","v":"CLK3"},{"$f":"Composite!F95","v":"CLK3"},{"$f":"Composite!AN95","v":11.487349170098369},{"$f":"Composite!G95","v":"CMGC"}]
[391,{"$f":"Composite!B410","v":"TTBK1"},{"$f":"Composite!F410","v":"TTBK1"},{"$f":"Composite!AN410","v":11.448206995800163},{"$f":"Composite!G410","v":"CK1"}]
[180,{"$f":"Composite!B199","v":"LTK"},{"$f":"Composite!F199","v":"LTK"},{"$f":"Composite!AN199","v":11.397020964703458},{"$f":"Composite!G199","v":"TK"}]
[158,{"$f":"Composite!B177","v":"IKKB (IKKβ)"},{"$f":"Composite!F177","v":"IKKB"},{"$f":"Composite!AN177","v":11.351161409928636},{"$f":"Composite!G177","v":"Other"}]
[93,{"$f":"Composite!B112","v":"DCLK2 (DCAMKL2)"},{"$f":"Composite!F112","v":"DCAML2"},{"$f":"Composite!AN112","v":10.989742798437476},{"$f":"Composite!G112","v":"CAMK"}]
[171,{"$f":"Composite!B190","v":"KIT (SCFR, CD117)"},{"$f":"Composite!F190","v":"KIT"},{"$f":"Composite!AN190","v":10.976103685702725},{"$f":"Composite!G190","v":"TK"}]
[59,{"$f":"Composite!B78","v":"CDK5/p25"},{"$f":"Composite!F78","v":"CDK5/P25"},{"$f":"Composite!AN78","v":10.966527866752074},{"$f":"Composite!G78","v":"CMGC"}]
[51,{"$f":"Composite!B70","v":"CDK2/CycE1"},{"$f":"Composite!F70","v":"CDK2/E1"},{"$f":"Composite!AN70","v":10.900927865908429},{"$f":"Composite!G70","v":"CMGC"}]
[7,{"$f":"Composite!B26","v":"ALK"},{"$f":"Composite!F26","v":"ALK"},{"$f":"Composite!AN26","v":10.743507044644375},{"$f":"Composite!G26","v":"TK"}]
[11,{"$f":"Composite!B30","v":"AXL"},{"$f":"Composite!F30","v":"AXL"},{"$f":"Composite!AN30","v":10.636488833004009},{"$f":"Composite!G30","v":"TK"}]
[322,{"$f":"Composite!B341","v":"PRKDC (DNA-PK)"},{"$f":"Composite!F341","v":"DNA-PK"},{"$f":"Composite!AN341","v":10.574665873736279},{"$f":"Composite!G341","v":"Atypical"}]
[326,{"$f":"Composite!B345","v":"PTK2 (FAK)"},{"$f":"Composite!F345","v":"PTK2"},{"$f":"Composite!AN345","v":10.531629544365543},{"$f":"Composite!G345","v":"TK"}]
[140,{"$f":"Composite!B159","v":"GRK1 (RHOK)"},{"$f":"Composite!F159","v":"GRK1"},{"$f":"Composite!AN159","v":10.499448422054471},{"$f":"Composite!G159","v":"AGC"}]
[386,{"$f":"Composite!B405","v":"TRPM7 (CHAK1)"},{"$f":"Composite!F405","v":"CHAK1"},{"$f":"Composite!AN405","v":10.438608108808424},{"$f":"Composite!G405","v":"Atypical"}]
[164,{"$f":"Composite!B183","v":"ITK"},{"$f":"Composite!F183","v":"ITK"},{"$f":"Composite!AN183","v":10.395945689585048},{"$f":"Composite!G183","v":"TK"}]
[332,{"$f":"Composite!B351","v":"RIPK2"},{"$f":"Composite!F351","v":"RIPK2"},{"$f":"Composite!AN351","v":10.375105130361646},{"$f":"Composite!G351","v":"TKL"}]
[70,{"$f":"Composite!B89","v":"CHEK1 (CHK1)"},{"$f":"Composite!F89","v":"CHK1"},{"$f":"Composite!AN89","v":10.362004054445393},{"$f":"Composite!G89","v":"CAMK"}]
[144,{"$f":"Composite!B163","v":"GRK5 (GPRK5)"},{"$f":"Composite!F163","v":"GRK5"},{"$f":"Composite!AN163","v":10.322430990489437},{"$f":"Composite!G163","v":"AGC"}]
[98,{"$f":"Composite!B117","v":"DYRK1A"},{"$f":"Composite!F117","v":"DYRK1A"},{"$f":"Composite!AN117","v":10.3219346660551},{"$f":"Composite!G117","v":"CMGC"}]
[272,{"$f":"Composite!B291","v":"PDGFRA (PDGFRα)"},{"$f":"Composite!F291","v":"PDGFRA"},{"$f":"Composite!AN291","v":10.256132560784081},{"$f":"Composite!G291","v":"TK"}]
[259,{"$f":"Composite!B278","v":"NTRK1 (TRKA)"},{"$f":"Composite!F278","v":"NTRK1"},{"$f":"Composite!AN278","v":10.082189456145699},{"$f":"Composite!G278","v":"TK"}]
[333,{"$f":"Composite!B352","v":"RIPK3"},{"$f":"Composite!F352","v":"RIPK3"},{"$f":"Composite!AN352","v":9.9029126213592065},{"$f":"Composite!G352","v":"TKL"}]
[24,{"$f":"Composite!B43","v":"CAMK1D (CAMK1δ)"},{"$f":"Composite!F43","v":"CAMK1D"},{"$f":"Composite!AN43","v":9.8993944129712901},{"$f":"Composite!G43","v":"CAMK"}]
[78,{"$f":"Composite!B97","v":"CSF1R (FMS)"},{"$f":"Composite!F97","v":"FMS/CSF1R"},{"$f":"Composite!AN97","v":9.5486457709456261},{"$f":"Composite!G97","v":"TK"}]
[16,{"$f":"Composite!B35","v":"BMX"},{"$f":"Composite!F35","v":"BMX"},{"$f":"Composite!AN35","v":9.4987416461632819},{"$f":"Composite!G35","v":"TK"}]
[399,{"$f":"Composite!B418","v":"ULK2"},{"$f":"Composite!F418","v":"ULK2"},{"$f":"Composite!AN418","v":9.3752201169261014},{"$f":"Composite!G418","v":"Other"}]
[198,{"$f":"Composite!B217","v":"MAP3K5 (ASK1)"},{"$f":"Composite!F217","v":"MAP3K5"},{"$f":"Composite!AN217","v":9.159808159156853},{"$f":"Composite!G217","v":"STE"}]
[159,{"$f":"Composite!B178","v":"IKKE (IKKe)"},{"$f":"Composite!F178","v":"IKKE"},{"$f":"Composite!AN178","v":9.0909090909090935},{"$f":"Composite!G178","v":"Other"}]
[191,{"$f":"Composite!B210","v":"MAP3K12 (DLK)"},{"$f":"Composite!F210","v":"MAP3K12"},{"$f":"Composite!AN210","v":8.9337928153717456},{"$f":"Composite!G210","v":"TKL"}]
[308,{"$f":"Composite!B327","v":"PRKACG (PKACG, PKACg)"},{"$f":"Composite!F327","v":"PKACG"},{"$f":"Composite!AN327","v":8.8749778014562253},{"$f":"Composite!G327","v":"AGC"}]
[119,{"$f":"Composite!B138","v":"EPHB3"},{"$f":"Composite!F138","v":"EPHB3"},{"$f":"Composite!AN138","v":8.8453501524068656},{"$f":"Composite!G138","v":"TK"}]
[276,{"$f":"Composite!B295","v":"PDK3 (PDHK3)"},{"$f":"Composite!F295","v":"PDHK3"},{"$f":"Composite!AN295","v":8.7722327749956435},{"$f":"Composite!G295","v":"Atypical"}]
[151,{"$f":"Composite!B170","v":"HIPK1"},{"$f":"Composite!F170","v":"HIPK1"},{"$f":"Composite!AN170","v":8.7369886581519438},{"$f":"Composite!G170","v":"CMGC"}]
[269,{"$f":"Composite!B288","v":"PAK6"},{"$f":"Composite!F288","v":"PAK6"},{"$f":"Composite!AN288","v":8.6616325554378619},{"$f":"Composite!G288","v":"STE"}]
[46,{"$f":"Composite!B65","v":"CDK17 (PCTAIRE2, PCTK2)/p35NCK"},{"$f":"Composite!F65","v":"CDK17/P35"},{"$f":"Composite!AN65","v":8.5285145545731922},{"$f":"Composite!G65","v":"CMGC"}]
[324,{"$f":"Composite!B343","v":"PRKG2 (PKG2, PGK2, CGK2)"},{"$f":"Composite!F343","v":"PGK2"},{"$f":"Composite!AN343","v":8.4327605965252701},{"$f":"Composite!G343","v":"AGC"}]
[153,{"$f":"Composite!B172","v":"HIPK3"},{"$f":"Composite!F172","v":"HIPK3"},{"$f":"Composite!AN172","v":8.4097418353952236},{"$f":"Composite!G172","v":"CMGC"}]
[387,{"$f":"Composite!B406","v":"TSSK1B (TSSK1)"},{"$f":"Composite!F406","v":"TSSK1"},{"$f":"Composite!AN406","v":8.3608360836083619},{"$f":"Composite!G406","v":"CAMK"}]
[166,{"$f":"Composite!B185","v":"JAK1 [JH1-JH2]"},{"$f":"Composite!F185","v":"JAK1(JH1JH2)"},{"$f":"Composite!AN185","v":8.2892746656186915},{"$f":"Composite!G185","v":"TK"}]
[329,{"$f":"Composite!B348","v":"RAF1 [Y340E/Y341E]"},{"$f":"Composite!F348","v":"RAF1"},{"$f":"Composite!AN348","v":8.2695252679938847},{"$f":"Composite!G348","v":"TKL"}]
[1,{"$f":"Composite!B20","v":"AAK1"},{"$f":"Composite!F20","v":"AAK1"},{"$f":"Composite!AN20","v":8.2229892581902391},{"$f":"Composite!G20","v":"Other"}]
[6,{"$f":"Composite!B25","v":"AKT3 (PKBg)"},{"$f":"Composite!F25","v":"AKT3"},{"$f":"Composite!AN25","v":8.1793162087174522},{"$f":"Composite!G25","v":"AGC"}]
[168,{"$f":"Composite!B187","v":"JAK2 [JH1-JH2]"},{"$f":"Composite!F187","v":"JAK2(JH1JH2)"},{"$f":"Composite!AN187","v":8.0512681649968272},{"$f":"Composite!G187","v":"TK"}]
[388,{"$f":"Composite!B407","v":"TSSK2"},{"$f":"Composite!F407","v":"TSSK2"},{"$f":"Composite!AN407","v":8.0090529247910922},{"$f":"Composite!G407","v":"CAMK"}]
[105,{"$f":"Composite!B124","v":"EIF2AK1 (HRI)"},{"$f":"Composite!F124","v":"HRI"},{"$f":"Composite!AN124","v":7.8499775632210458},{"$f":"Composite!G124","v":"Other"}]
[120,{"$f":"Composite!B139","v":"EPHB4"},{"$f":"Composite!F139","v":"EPHB4"},{"$f":"Composite!AN139","v":7.8231730893156168},{"$f":"Composite!G139","v":"TK"}]
[280,{"$f":"Composite!B299","v":"PHKG2"},{"$f":"Composite!F299","v":"PHKG2"},{"$f":"Composite!AN299","v":7.8184414005625769},{"$f":"Composite!G299","v":"CAMK"}]
[42,{"$f":"Composite!B61","v":"CDK13 (CHED)/CycK"},{"$f":"Composite!F61","v":"CDK13/K"},{"$f":"Composite!AN61","v":7.8157452212741561},{"$f":"Composite!G61","v":"CMGC"}]
[194,{"$f":"Composite!B213","v":"MAP3K19 (YSK4)"},{"$f":"Composite!F213","v":"YSK4"},{"$f":"Composite!AN213","v":7.7416542102640591},{"$f":"Composite!G213","v":"STE"}]
[336,{"$f":"Composite!B355","v":"ROS1 (ROS)"},{"$f":"Composite!F355","v":"ROS"},{"$f":"Composite!AN355","v":7.712402040054755},{"$f":"Composite!G355","v":"TK"}]
[319,{"$f":"Composite!B338","v":"PRKD1 (PKD1)"},{"$f":"Composite!F338","v":"PKD1"},{"$f":"Composite!AN338","v":7.6687385100236298},{"$f":"Composite!G338","v":"CAMK"}]
[266,{"$f":"Composite!B285","v":"PAK3"},{"$f":"Composite!F285","v":"PAK3"},{"$f":"Composite!AN285","v":7.6589874967848601},{"$f":"Composite!G285","v":"STE"}]
[110,{"$f":"Composite!B129","v":"EPHA2"},{"$f":"Composite!F129","v":"EPHA2"},{"$f":"Composite!AN129","v":7.6341187722806723},{"$f":"Composite!G129","v":"TK"}]
[79,{"$f":"Composite!B98","v":"CSK"},{"$f":"Composite!F98","v":"CSK"},{"$f":"Composite!AN98","v":7.5142345695243762},{"$f":"Composite!G98","v":"TK"}]
[167,{"$f":"Composite!B186","v":"JAK2 [JH1]"},{"$f":"Composite!F186","v":"JAK2(JH1)"},{"$f":"Composite!AN186","v":7.5093067471919994},{"$f":"Composite!G186","v":"TK"}]
[23,{"$f":"Composite!B42","v":"CAMK1 (CAMK1a)"},{"$f":"Composite!F42","v":"CAMK1A"},{"$f":"Composite!AN42","v":7.4567403821579745},{"$f":"Composite!G42","v":"CAMK"}]
[14,{"$f":"Composite!B33","v":"BLK"},{"$f":"Composite!F33","v":"BLK"},{"$f":"Composite!AN33","v":7.4006875477464007},{"$f":"Composite!G33","v":"TK"}]
[124,{"$f":"Composite!B143","v":"ERN2 (IRE2)"},{"$f":"Composite!F143","v":"ERN2"},{"$f":"Composite!AN143","v":7.3589920267743025},{"$f":"Composite!G143","v":"Other"}]
[225,{"$f":"Composite!B244","v":"MARK3"},{"$f":"Composite!F244","v":"MARK3"},{"$f":"Composite!AN244","v":7.3368905084157774},{"$f":"Composite!G244","v":"CAMK"}]
[92,{"$f":"Composite!B111","v":"DCLK1 (DCAMKL1)"},{"$f":"Composite!F111","v":"DCAML1"},{"$f":"Composite!AN111","v":7.3174949377750806},{"$f":"Composite!G111","v":"CAMK"}]
[152,{"$f":"Composite!B171","v":"HIPK2"},{"$f":"Composite!F171","v":"HIPK2"},{"$f":"Composite!AN171","v":7.3082559843673778},{"$f":"Composite!G171","v":"CMGC"}]
[278,{"$f":"Composite!B297","v":"PDPK1 (PDK1)"},{"$f":"Composite!F297","v":"PDK1"},{"$f":"Composite!AN297","v":7.2530329289428153},{"$f":"Composite!G297","v":"AGC"}]
[265,{"$f":"Composite!B284","v":"PAK2"},{"$f":"Composite!F284","v":"PAK2"},{"$f":"Composite!AN284","v":7.1584329648845682},{"$f":"Composite!G284","v":"STE"}]
[295,{"$f":"Composite!B314","v":"PRKAA1-B1-G2 (AMPKα1β1γ2)"},{"$f":"Composite!F314","v":"AMPK112"},{"$f":"Composite!AN314","v":7.1283072802367968},{"$f":"Composite!G314","v":"CAMK"}]
[86,{"$f":"Composite!B105","v":"CSNK1G3 (CK1G3, CK1γ3)"},{"$f":"Composite!F105","v":"CK1G3"},{"$f":"Composite!AN105","v":7.102542105025492},{"$f":"Composite!G105","v":"CK1"}]
[208,{"$f":"Composite!B227","v":"MAPK1 (ERK2)"},{"$f":"Composite!F227","v":"ERK2"},{"$f":"Composite!AN227","v":7.035633729263651},{"$f":"Composite!G227","v":"CMGC"}]
[100,{"$f":"Composite!B119","v":"DYRK2"},{"$f":"Composite!F119","v":"DYRK2"},{"$f":"Composite!AN119","v":6.9165851272015573},{"$f":"Composite!G119","v":"CMGC"}]
[3,{"$f":"Composite!B22","v":"ABL2 (ARG)"},{"$f":"Composite!F22","v":"ABL2"},{"$f":"Composite!AN22","v":6.8487894716648299},{"$f":"Composite!G22","v":"TK"}]
[142,{"$f":"Composite!B161","v":"GRK3 (ADRBK2, BARK2)"},{"$f":"Composite!F161","v":"GRK3"},{"$f":"Composite!AN161","v":6.8028458266099392},{"$f":"Composite!G161","v":"AGC"}]
[258,{"$f":"Composite!B277","v":"NLK (LAK1)"},{"$f":"Composite!F277","v":"NLK"},{"$f":"Composite!AN277","v":6.7127873242579739},{"$f":"Composite!G277","v":"CMGC"}]
[21,{"$f":"Composite!B40","v":"BTK"},{"$f":"Composite!F40","v":"BTK"},{"$f":"Composite!AN40","v":6.6966687222010819},{"$f":"Composite!G40","v":"TK"}]
[251,{"$f":"Composite!B270","v":"NEK4"},{"$f":"Composite!F270","v":"NEK4"},{"$f":"Composite!AN270","v":6.6490181247723967},{"$f":"Composite!G270","v":"Other"}]
[356,{"$f":"Composite!B375","v":"SRMS (SRM)"},{"$f":"Composite!F375","v":"SRM"},{"$f":"Composite!AN375","v":6.6170494391937211},{"$f":"Composite!G375","v":"TK"}]
[264,{"$f":"Composite!B283","v":"PAK1"},{"$f":"Composite!F283","v":"PAK1"},{"$f":"Composite!AN283","v":6.5912835956588367},{"$f":"Composite!G283","v":"STE"}]
[80,{"$f":"Composite!B99","v":"CSNK1A1 (CK1A1, CK1α)"},{"$f":"Composite!F99","v":"CK1A1"},{"$f":"Composite!AN99","v":6.524762720728134},{"$f":"Composite!G99","v":"CK1"}]
[135,{"$f":"Composite!B154","v":"FLT4"},{"$f":"Composite!F154","v":"FLT4"},{"$f":"Composite!AN154","v":6.3681143556228079},{"$f":"Composite!G154","v":"TK"}]
[297,{"$f":"Composite!B316","v":"PRKAA1-B2-G1 (AMPKα1β2γ1)"},{"$f":"Composite!F316","v":"AMPK121"},{"$f":"Composite!AN316","v":6.3574737613526224},{"$f":"Composite!G316","v":"CAMK"}]
[53,{"$f":"Composite!B72","v":"CDK2/CycO"},{"$f":"Composite!F72","v":"CDK2/O"},{"$f":"Composite!AN72","v":6.29604442933244},{"$f":"Composite!G72","v":"CMGC"}]
[353,{"$f":"Composite!B372","v":"SNRK"},{"$f":"Composite!F372","v":"SNRK"},{"$f":"Composite!AN372","v":6.2259910276959261},{"$f":"Composite!G372","v":"CAMK"}]
[267,{"$f":"Composite!B286","v":"PAK4"},{"$f":"Composite!F286","v":"PAK4"},{"$f":"Composite!AN286","v":6.1826464173326627},{"$f":"Composite!G286","v":"STE"}]
[284,{"$f":"Composite!B303","v":"PINK1 (PINK)"},{"$f":"Composite!F303","v":"PINK"},{"$f":"Composite!AN303","v":6.163998158473575},{"$f":"Composite!G303","v":"Other"}]
[47,{"$f":"Composite!B66","v":"CDK18 (PCTAIRE3, PCTK3)/CycY "},{"$f":"Composite!F66","v":"CDK18"},{"$f":"Composite!AN66","v":6.0982571610866785},{"$f":"Composite!G66","v":"CMGC"}]
[249,{"$f":"Composite!B268","v":"NEK2"},{"$f":"Composite!F268","v":"NEK2"},{"$f":"Composite!AN268","v":5.9382258420308318},{"$f":"Composite!G268","v":"Other"}]
[334,{"$f":"Composite!B353","v":"ROCK1"},{"$f":"Composite!F353","v":"ROCK1"},{"$f":"Composite!AN353","v":5.9295063054461536},{"$f":"Composite!G353","v":"AGC"}]
[305,{"$f":"Composite!B324","v":"PRKAA2-B2-G3 (AMPKα2β2γ3)"},{"$f":"Composite!F324","v":"AMPK223"},{"$f":"Composite!AN324","v":5.9215396002961},{"$f":"Composite!G324","v":"CAMK"}]
[348,{"$f":"Composite!B367","v":"SGK3"},{"$f":"Composite!F367","v":"SGK3"},{"$f":"Composite!AN367","v":5.9193095783239187},{"$f":"Composite!G367","v":"AGC"}]
[215,{"$f":"Composite!B234","v":"MAPK3 (ERK1)"},{"$f":"Composite!F234","v":"ERK1"},{"$f":"Composite!AN234","v":5.844857792522447},{"$f":"Composite!G234","v":"CAMK"}]
[373,{"$f":"Composite!B392","v":"SYK"},{"$f":"Composite!F392","v":"SYK"},{"$f":"Composite!AN392","v":5.7996066789422969},{"$f":"Composite!G392","v":"TK"}]
[231,{"$f":"Composite!B250","v":"MERTK (MER)"},{"$f":"Composite!F250","v":"MERTK"},{"$f":"Composite!AN250","v":5.7855962438413968},{"$f":"Composite!G250","v":"TK"}]
[361,{"$f":"Composite!B380","v":"STK11 (LKB1, AMPKK)"},{"$f":"Composite!F380","v":"LKB1"},{"$f":"Composite!AN380","v":5.647266908110808},{"$f":"Composite!G380","v":"CAMK"}]
[63,{"$f":"Composite!B82","v":"CDK6/CycD3"},{"$f":"Composite!F82","v":"CDK6/D3"},{"$f":"Composite!AN82","v":5.6377083833547488},{"$f":"Composite!G82","v":"CMGC"}]
[268,{"$f":"Composite!B287","v":"PAK5 (PAK7)"},{"$f":"Composite!F287","v":"PAK5"},{"$f":"Composite!AN287","v":5.4639736054775767},{"$f":"Composite!G287","v":"STE"}]
[219,{"$f":"Composite!B238","v":"MAPK9 (JNK2)"},{"$f":"Composite!F238","v":"JNK2"},{"$f":"Composite!AN238","v":5.4578979717271068},{"$f":"Composite!G238","v":"CMGC"}]
[252,{"$f":"Composite!B271","v":"NEK5"},{"$f":"Composite!F271","v":"NEK5"},{"$f":"Composite!AN271","v":5.4569309116234024},{"$f":"Composite!G271","v":"Other"}]
[113,{"$f":"Composite!B132","v":"EPHA5"},{"$f":"Composite!F132","v":"EPHA5"},{"$f":"Composite!AN132","v":5.396515392917749},{"$f":"Composite!G132","v":"TK"}]
[77,{"$f":"Composite!B96","v":"CLK4"},{"$f":"Composite!F96","v":"CLK4"},{"$f":"Composite!AN96","v":5.3911900065746181},{"$f":"Composite!G96","v":"CMGC"}]
[130,{"$f":"Composite!B149","v":"FGFR3"},{"$f":"Composite!F149","v":"FGFR3"},{"$f":"Composite!AN149","v":5.2445971606835826},{"$f":"Composite!G149","v":"TK"}]
[301,{"$f":"Composite!B320","v":"PRKAA2-B1-G2 (AMPKα2β1γ2)"},{"$f":"Composite!F320","v":"AMPK212"},{"$f":"Composite!AN320","v":5.1887368145758757},{"$f":"Composite!G320","v":"CAMK"}]
[136,{"$f":"Composite!B155","v":"FRK"},{"$f":"Composite!F155","v":"FRK"},{"$f":"Composite!AN155","v":5.1776787693716244},{"$f":"Composite!G155","v":"TK"}]
[190,{"$f":"Composite!B209","v":"MAP3K11 (MLK3)"},{"$f":"Composite!F209","v":"MAP3K11"},{"$f":"Composite!AN209","v":5.142465335974407},{"$f":"Composite!G209","v":"TKL"}]
[115,{"$f":"Composite!B134","v":"EPHA7"},{"$f":"Composite!F134","v":"EPHA7"},{"$f":"Composite!AN134","v":5.1083503517131561},{"$f":"Composite!G134","v":"TK"}]
[125,{"$f":"Composite!B144","v":"FAM20C"},{"$f":"Composite!F144","v":"FAM20C"},{"$f":"Composite!AN144","v":5.0196290314237046},{"$f":"Composite!G144","v":"Other"}]
[351,{"$f":"Composite!B370","v":"SIK3 (QSK)"},{"$f":"Composite!F370","v":"SIK3"},{"$f":"Composite!AN370","v":5.0096339113680273},{"$f":"Composite!G370","v":"CAMK"}]
[257,{"$f":"Composite!B276","v":"NIM1 (NIM1K)"},{"$f":"Composite!F276","v":"NIM1"},{"$f":"Composite!AN276","v":5.0083157437434664},{"$f":"Composite!G276","v":"CAMK"}]
[376,{"$f":"Composite!B395","v":"TAOK3 (TAO3)"},{"$f":"Composite!F395","v":"TAOK3"},{"$f":"Composite!AN395","v":4.9172102358253795},{"$f":"Composite!G395","v":"STE"}]
[328,{"$f":"Composite!B347","v":"PTK6 (BRK)"},{"$f":"Composite!F347","v":"PTK6"},{"$f":"Composite!AN347","v":4.8632218844985005},{"$f":"Composite!G347","v":"TK"}]
[26,{"$f":"Composite!B45","v":"CAMK2A (CAMK2α)"},{"$f":"Composite!F45","v":"CAMK2A"},{"$f":"Composite!AN45","v":4.8278201494742063},{"$f":"Composite!G45","v":"CAMK"}]
[228,{"$f":"Composite!B247","v":"MASTL"},{"$f":"Composite!F247","v":"MASTL"},{"$f":"Composite!AN247","v":4.7993882691615539},{"$f":"Composite!G247","v":"AGC"}]
[218,{"$f":"Composite!B237","v":"MAPK8 (JNK1)"},{"$f":"Composite!F237","v":"JNK1"},{"$f":"Composite!AN237","v":4.7885415353586325},{"$f":"Composite!G237","v":"CMGC"}]
[263,{"$f":"Composite!B282","v":"NUAK2 (SNARK)"},{"$f":"Composite!F282","v":"NUAK2"},{"$f":"Composite!AN282","v":4.7425563632046277},{"$f":"Composite!G282","v":"CAMK"}]
[240,{"$f":"Composite!B259","v":"MYLK (smMLCK)"},{"$f":"Composite!F259","v":"MLCK"},{"$f":"Composite!AN259","v":4.6976901470659271},{"$f":"Composite!G259","v":"CAMK"}]
[226,{"$f":"Composite!B245","v":"MARK4"},{"$f":"Composite!F245","v":"MARK4"},{"$f":"Composite!AN245","v":4.6729241969966466},{"$f":"Composite!G245","v":"CAMK"}]
[112,{"$f":"Composite!B131","v":"EPHA4"},{"$f":"Composite!F131","v":"EPHA4"},{"$f":"Composite!AN131","v":4.6287304978312989},{"$f":"Composite!G131","v":"TK"}]
[384,{"$f":"Composite!B403","v":"TNK1"},{"$f":"Composite!F403","v":"TNK1"},{"$f":"Composite!AN403","v":4.604306422104429},{"$f":"Composite!G403","v":"TK"}]
[138,{"$f":"Composite!B157","v":"FYNb (FYN)"},{"$f":"Composite!F157","v":"FYNB"},{"$f":"Composite!AN157","v":4.578681018555713},{"$f":"Composite!G157","v":"TK"}]
[188,{"$f":"Composite!B207","v":"MAP3K1 (MEKK1)"},{"$f":"Composite!F207","v":"MAP3K1"},{"$f":"Composite!AN207","v":4.5700318494926222},{"$f":"Composite!G207","v":"STE"}]
[378,{"$f":"Composite!B397","v":"TEC"},{"$f":"Composite!F397","v":"TEC"},{"$f":"Composite!AN397","v":4.5609976012656972},{"$f":"Composite!G397","v":"TK"}]
[108,{"$f":"Composite!B127","v":"EIF2AK4 (GCN2)"},{"$f":"Composite!F127","v":"GCN2"},{"$f":"Composite!AN127","v":4.5396862775880749},{"$f":"Composite!G127","v":"Other"}]
[347,{"$f":"Composite!B366","v":"SGK2"},{"$f":"Composite!F366","v":"SGK2"},{"$f":"Composite!AN366","v":4.2785100163816736},{"$f":"Composite!G366","v":"AGC"}]
[118,{"$f":"Composite!B137","v":"EPHB2"},{"$f":"Composite!F137","v":"EPHB2"},{"$f":"Composite!AN137","v":4.1949246342396123},{"$f":"Composite!G137","v":"TK"}]
[279,{"$f":"Composite!B298","v":"PHKG1"},{"$f":"Composite!F298","v":"PHKG1"},{"$f":"Composite!AN298","v":4.1827581911050231},{"$f":"Composite!G298","v":"CAMK"}]
[260,{"$f":"Composite!B279","v":"NTRK2 (TRKB)"},{"$f":"Composite!F279","v":"NTRK2"},{"$f":"Composite!AN279","v":4.1256333816349269},{"$f":"Composite!G279","v":"TK"}]
[327,{"$f":"Composite!B346","v":"PTK2B (PYK2)"},{"$f":"Composite!F346","v":"PTK2B"},{"$f":"Composite!AN346","v":4.0519486994129608},{"$f":"Composite!G346","v":"TK"}]
[133,{"$f":"Composite!B152","v":"FLT1"},{"$f":"Composite!F152","v":"FLT1"},{"$f":"Composite!AN152","v":3.8421128302679364},{"$f":"Composite!G152","v":"TK"}]
[157,{"$f":"Composite!B176","v":"IGF1R"},{"$f":"Composite!F176","v":"IGF1R"},{"$f":"Composite!AN176","v":3.6940167091034084},{"$f":"Composite!G176","v":"TK"}]
[223,{"$f":"Composite!B242","v":"MARK1"},{"$f":"Composite!F242","v":"MARK1"},{"$f":"Composite!AN242","v":3.6885245901639223},{"$f":"Composite!G242","v":"CAMK"}]
[32,{"$f":"Composite!B51","v":"CAMKK2"},{"$f":"Composite!F51","v":"CAMKK2"},{"$f":"Composite!AN51","v":3.6755259927488595},{"$f":"Composite!G51","v":"Other"}]
[13,{"$f":"Composite!B32","v":"BCR RET (fusion)"},{"$f":"Composite!F32","v":"BCR RET"},{"$f":"Composite!AN32","v":3.6513100171429329},{"$f":"Composite!G32","v":"TK"}]
[170,{"$f":"Composite!B189","v":"KDR (VEGFR2)"},{"$f":"Composite!F189","v":"KDR"},{"$f":"Composite!AN189","v":3.6420710260580051},{"$f":"Composite!G189","v":"TK"}]
[102,{"$f":"Composite!B121","v":"DYRK4"},{"$f":"Composite!F121","v":"DYRK4"},{"$f":"Composite!AN121","v":3.6022124913574629},{"$f":"Composite!G121","v":"CMGC"}]
[285,{"$f":"Composite!B304","v":"PKMYT1 (MYT1)"},{"$f":"Composite!F304","v":"MYT1"},{"$f":"Composite!AN304","v":3.5890533871691588},{"$f":"Composite!G304","v":"Other"}]
[44,{"$f":"Composite!B63","v":"CDK16 (PCTAIRE1, PCTK1)/CycY "},{"$f":"Composite!F63","v":"CDK16"},{"$f":"Composite!AN63","v":3.5263984388101903},{"$f":"Composite!G63","v":"CMGC"}]
[377,{"$f":"Composite!B396","v":"TBK1"},{"$f":"Composite!F396","v":"TBK1"},{"$f":"Composite!AN396","v":3.4778537629374568},{"$f":"Composite!G396","v":"Other"}]
[127,{"$f":"Composite!B146","v":"FES"},{"$f":"Composite!F146","v":"FES"},{"$f":"Composite!AN146","v":3.4498171104361006},{"$f":"Composite!G146","v":"TK"}]
[235,{"$f":"Composite!B254","v":"MNK1"},{"$f":"Composite!F254","v":"MNK1"},{"$f":"Composite!AN254","v":3.4279972325635129},{"$f":"Composite!G254","v":"CAMK"}]
[303,{"$f":"Composite!B322","v":"PRKAA2-B2-G1 (AMPKα2β2γ1)"},{"$f":"Composite!F322","v":"AMPK221"},{"$f":"Composite!AN322","v":3.3122467837088578},{"$f":"Composite!G322","v":"CAMK"}]
[392,{"$f":"Composite!B411","v":"TTBK2"},{"$f":"Composite!F411","v":"TTBK2"},{"$f":"Composite!AN411","v":3.2137342650022305},{"$f":"Composite!G411","v":"CK1"}]
[116,{"$f":"Composite!B135","v":"EPHA8"},{"$f":"Composite!F135","v":"EPHA8"},{"$f":"Composite!AN135","v":3.1995038816665868},{"$f":"Composite!G135","v":"TK"}]
[129,{"$f":"Composite!B148","v":"FGFR2"},{"$f":"Composite!F148","v":"FGFR2"},{"$f":"Composite!AN148","v":3.1876240394891084},{"$f":"Composite!G148","v":"TK"}]
[132,{"$f":"Composite!B151","v":"FGR"},{"$f":"Composite!F151","v":"FGR"},{"$f":"Composite!AN151","v":3.1733501736659377},{"$f":"Composite!G151","v":"TK"}]
[160,{"$f":"Composite!B179","v":"INSR (IR)"},{"$f":"Composite!F179","v":"INSR"},{"$f":"Composite!AN179","v":3.1575629838280861},{"$f":"Composite!G179","v":"TK"}]
[350,{"$f":"Composite!B369","v":"SIK2 (QIK)"},{"$f":"Composite!F369","v":"SIK2"},{"$f":"Composite!AN369","v":3.1230370066912343},{"$f":"Composite!G369","v":"CAMK"}]
[354,{"$f":"Composite!B373","v":"SRC"},{"$f":"Composite!F373","v":"SRC"},{"$f":"Composite!AN373","v":3.1184127605015561},{"$f":"Composite!G373","v":"TK"}]
[33,{"$f":"Composite!B52","v":"CDC42BPA (MRCKA)"},{"$f":"Composite!F52","v":"MRCKA"},{"$f":"Composite!AN52","v":3.0766726355200973},{"$f":"Composite!G52","v":"AGC"}]
[5,{"$f":"Composite!B24","v":"AKT2 (PKBb)"},{"$f":"Composite!F24","v":"AKT2"},{"$f":"Composite!AN24","v":2.9901593486188034},{"$f":"Composite!G24","v":"AGC"}]
[209,{"$f":"Composite!B228","v":"MAPK10 (JNK3)"},{"$f":"Composite!F228","v":"JNK3"},{"$f":"Composite!AN228","v":2.9673925307457836},{"$f":"Composite!G228","v":"CMGC"}]
[368,{"$f":"Composite!B387","v":"STK3 (CLIK1, MST2)"},{"$f":"Composite!F387","v":"MST2"},{"$f":"Composite!AN387","v":2.8139478176054666},{"$f":"Composite!G387","v":"STE"}]
[114,{"$f":"Composite!B133","v":"EPHA6"},{"$f":"Composite!F133","v":"EPHA6"},{"$f":"Composite!AN133","v":2.7109998038016414},{"$f":"Composite!G133","v":"TK"}]
[146,{"$f":"Composite!B165","v":"GRK7 (GPRK7)"},{"$f":"Composite!F165","v":"GRK7"},{"$f":"Composite!AN165","v":2.6737461450582742},{"$f":"Composite!G165","v":"AGC"}]
[289,{"$f":"Composite!B308","v":"PLK1"},{"$f":"Composite!F308","v":"PLK1"},{"$f":"Composite!AN308","v":2.6413848202396935},{"$f":"Composite!G308","v":"Other"}]
[128,{"$f":"Composite!B147","v":"FGFR1"},{"$f":"Composite!F147","v":"FGFR1"},{"$f":"Composite!AN147","v":2.6348019972992347},{"$f":"Composite!G147","v":"TK"}]
[148,{"$f":"Composite!B167","v":"GSK3B (GSK3β)"},{"$f":"Composite!F167","v":"GSK3B"},{"$f":"Composite!AN167","v":2.6170149618533998},{"$f":"Composite!G167","v":"CMGC"}]
[165,{"$f":"Composite!B184","v":"JAK1 [JH1]"},{"$f":"Composite!F184","v":"JAK1(JH1)"},{"$f":"Composite!AN184","v":2.560639315662101},{"$f":"Composite!G184","v":"TK"}]
[296,{"$f":"Composite!B315","v":"PRKAA1-B1-G3 (AMPKα1β1γ3)"},{"$f":"Composite!F315","v":"AMPK113"},{"$f":"Composite!AN315","v":2.4833832057834258},{"$f":"Composite!G315","v":"CAMK"}]
[179,{"$f":"Composite!B198","v":"LRRK2"},{"$f":"Composite!F198","v":"LRRK2"},{"$f":"Composite!AN198","v":2.4359785270601151},{"$f":"Composite!G198","v":"TKL"}]
[189,{"$f":"Composite!B208","v":"MAP3K10 (MLK2)"},{"$f":"Composite!F208","v":"MAP3K10"},{"$f":"Composite!AN208","v":2.4037635332531124},{"$f":"Composite!G208","v":"TKL"}]
[184,{"$f":"Composite!B203","v":"MAP2K1 (MEK1)"},{"$f":"Composite!F203","v":"MEK1"},{"$f":"Composite!AN203","v":2.3812940432743517},{"$f":"Composite!G203","v":"STE"}]
[87,{"$f":"Composite!B106","v":"CSNK2A1 (CK2A1, CK2α1)"},{"$f":"Composite!F106","v":"CK2A1"},{"$f":"Composite!AN106","v":2.3535492763611359},{"$f":"Composite!G106","v":"Other"}]
[365,{"$f":"Composite!B384","v":"STK24 (MST3)"},{"$f":"Composite!F384","v":"MST3"},{"$f":"Composite!AN384","v":2.2998190875071316},{"$f":"Composite!G384","v":"STE"}]
[250,{"$f":"Composite!B269","v":"NEK3"},{"$f":"Composite!F269","v":"NEK3"},{"$f":"Composite!AN269","v":2.292006732241191},{"$f":"Composite!G269","v":"Other"}]
[242,{"$f":"Composite!B261","v":"MYLK3 (caMLCK)"},{"$f":"Composite!F261","v":"MYLK3"},{"$f":"Composite!AN261","v":2.2313559922044135},{"$f":"Composite!G261","v":"CAMK"}]
[245,{"$f":"Composite!B264","v":"MYO3B"},{"$f":"Composite!F264","v":"MYO3B"},{"$f":"Composite!AN264","v":2.188372004128297},{"$f":"Composite!G264","v":"STE"}]
[201,{"$f":"Composite!B220","v":"MAP3K8 (COT, Tpl2)"},{"$f":"Composite!F220","v":"MAP3K8"},{"$f":"Composite!AN220","v":2.170124382266593},{"$f":"Composite!G220","v":"STE"}]
[317,{"$f":"Composite!B336","v":"PRKCQ (PKCᶿ [theta])"},{"$f":"Composite!F336","v":"PKCQ"},{"$f":"Composite!AN336","v":2.1669097345791357},{"$f":"Composite!G336","v":"AGC"}]
[363,{"$f":"Composite!B382","v":"STK17A (DRAK1)"},{"$f":"Composite!F382","v":"DRAK1"},{"$f":"Composite!AN382","v":2.16442275945559},{"$f":"Composite!G382","v":"CAMK"}]
[398,{"$f":"Composite!B417","v":"ULK1"},{"$f":"Composite!F417","v":"ULK1"},{"$f":"Composite!AN417","v":2.0767409359816185},{"$f":"Composite!G417","v":"Other"}]
[210,{"$f":"Composite!B229","v":"MAPK11 (p38b)"},{"$f":"Composite!F229","v":"P38B"},{"$f":"Composite!AN229","v":1.7705188031841743},{"$f":"Composite!G229","v":"CMGC"}]
[45,{"$f":"Composite!B64","v":"CDK17 (PCTAIRE2, PCTK2)/CycY"},{"$f":"Composite!F64","v":"CDK17"},{"$f":"Composite!AN64","v":1.5660861347373896},{"$f":"Composite!G64","v":"CMGC"}]
[379,{"$f":"Composite!B398","v":"TEK (TIE2)"},{"$f":"Composite!F398","v":"TEK"},{"$f":"Composite!AN398","v":1.5602109581013792},{"$f":"Composite!G398","v":"TK"}]
[275,{"$f":"Composite!B294","v":"PDK2 (PDHK2)"},{"$f":"Composite!F294","v":"PDHK2"},{"$f":"Composite!AN294","v":1.5326816321190222},{"$f":"Composite!G294","v":"Atypical"}]
[358,{"$f":"Composite!B377","v":"SRPK2"},{"$f":"Composite!F377","v":"SRPK2"},{"$f":"Composite!AN377","v":1.502880429205959},{"$f":"Composite!G377","v":"CMGC"}]
[335,{"$f":"Composite!B354","v":"ROCK2"},{"$f":"Composite!F354","v":"ROCK2"},{"$f":"Composite!AN354","v":1.4702226641570917},{"$f":"Composite!G354","v":"AGC"}]
[331,{"$f":"Composite!B350","v":"RIPK1"},{"$f":"Composite!F350","v":"RIPK1"},{"$f":"Composite!AN350","v":1.211970449904257},{"$f":"Composite!G350","v":"TKL"}]
[9,{"$f":"Composite!B28","v":"AURKB (AURB)"},{"$f":"Composite!F28","v":"AURB"},{"$f":"Composite!AN28","v":1.2069799129708656},{"$f":"Composite!G28","v":"Other"}]
[254,{"$f":"Composite!B273","v":"NEK7"},{"$f":"Composite!F273","v":"NEK7"},{"$f":"Composite!AN273","v":1.1926586172745743},{"$f":"Composite!G273","v":"Other"}]
[4,{"$f":"Composite!B23","v":"AKT1 (PKB)"},{"$f":"Composite!F23","v":"AKT1"},{"$f":"Composite!AN23","v":1.0489078000148453},{"$f":"Composite!G23","v":"AGC"}]
[117,{"$f":"Composite!B136","v":"EPHB1"},{"$f":"Composite!F136","v":"EPHB1"},{"$f":"Composite!AN136","v":1.0218481197569247},{"$f":"Composite!G136","v":"TK"}]
[90,{"$f":"Composite!B109","v":"DAPK2 (DRP-1)"},{"$f":"Composite!F109","v":"DAPK2"},{"$f":"Composite!AN109","v":0.99714261702662554},{"$f":"Composite!G109","v":"CAMK"}]
[256,{"$f":"Composite!B275","v":"NEK9"},{"$f":"Composite!F275","v":"NEK9"},{"$f":"Composite!AN275","v":0.99470614020300729},{"$f":"Composite!G275","v":"Other"}]
[131,{"$f":"Composite!B150","v":"FGFR4"},{"$f":"Composite!F150","v":"FGFR4"},{"$f":"Composite!AN150","v":0.89170221549470341},{"$f":"Composite!G150","v":"TK"}]
[282,{"$f":"Composite!B301","v":"PIM2"},{"$f":"Composite!F301","v":"PIM2"},{"$f":"Composite!AN301","v":0.88309287878016107},{"$f":"Composite!G301","v":"CAMK"}]
[192,{"$f":"Composite!B211","v":"MAP3K13 (LZK)"},{"$f":"Composite!F211","v":"MAP3K13"},{"$f":"Composite!AN211","v":0.83858591394903215},{"$f":"Composite!G211","v":"TKL"}]
[134,{"$f":"Composite!B153","v":"FLT3"},{"$f":"Composite!F153","v":"FLT3"},{"$f":"Composite!AN153","v":0.8298104014814669},{"$f":"Composite!G153","v":"TK"}]
[64,{"$f":"Composite!B83","v":"CDK7/CycH/MAT1"},{"$f":"Composite!F83","v":"CDK7"},{"$f":"Composite!AN83","v":0.66936114333012142},{"$f":"Composite!G83","v":"CMGC"}]
[300,{"$f":"Composite!B319","v":"PRKAA2-B1-G1 (AMPKα2β1γ1)"},{"$f":"Composite!F319","v":"AMPK211"},{"$f":"Composite!AN319","v":0.56048708319109153},{"$f":"Composite!G319","v":"CAMK"}]
[372,{"$f":"Composite!B391","v":"STK4 (MST1)"},{"$f":"Composite!F391","v":"MST1"},{"$f":"Composite!AN391","v":0.53701472206213907},{"$f":"Composite!G391","v":"STE"}]
[403,{"$f":"Composite!B422","v":"ZAP70"},{"$f":"Composite!F422","v":"ZAP70"},{"$f":"Composite!AN422","v":0.50672877846784559},{"$f":"Composite!G422","v":"TK"}]
[204,{"$f":"Composite!B223","v":"MAP4K2 (GCK)"},{"$f":"Composite!F223","v":"GCK"},{"$f":"Composite!AN223","v":0.36784436493739747},{"$f":"Composite!G223","v":"STE"}]
[299,{"$f":"Composite!B318","v":"PRKAA1-B2-G3 (AMPKα1β2γ3)"},{"$f":"Composite!F318","v":"AMPK123"},{"$f":"Composite!AN318","v":0.32784374869487465},{"$f":"Composite!G318","v":"CAMK"}]
[286,{"$f":"Composite!B305","v":"PKN1"},{"$f":"Composite!F305","v":"PKN1"},{"$f":"Composite!AN305","v":0.29486815990925663},{"$f":"Composite!G305","v":"AGC"}]
[154,{"$f":"Composite!B173","v":"HIPK4"},{"$f":"Composite!F173","v":"HIPK4"},{"$f":"Composite!AN173","v":0.24480630756113442},{"$f":"Composite!G173","v":"CMGC"}]
[344,{"$f":"Composite!B363","v":"RPS6KB2 (p70S6KB)"},{"$f":"Composite!F363","v":"P70S6KB"},{"$f":"Composite!AN363","v":0.15063910857092822},{"$f":"Composite!G363","v":"AGC"}]
[10,{"$f":"Composite!B29","v":"AURKC (AURC)"},{"$f":"Composite!F29","v":"AURC"},{"$f":"Composite!AN29","v":9.0727635637819048E-2},{"$f":"Composite!G29","v":"Other"}]
[357,{"$f":"Composite!B376","v":"SRPK1"},{"$f":"Composite!F376","v":"SRPK1"},{"$f":"Composite!AN376","v":6.6702241195301326E-2},{"$f":"Composite!G376","v":"CMGC"}]
[212,{"$f":"Composite!B231","v":"MAPK13 (p38δ)"},{"$f":"Composite!F231","v":"P38D"},{"$f":"Composite!AN231","v":5.9188681969118306E-2},{"$f":"Composite!G231","v":"CMGC"}]
[41,{"$f":"Composite!B60","v":"CDK12 (CRK7)/CycK"},{"$f":"Composite!F60","v":"CDK12/K"},{"$f":"Composite!AN60","v":0},{"$f":"Composite!G60","v":"CMGC"}]
[50,{"$f":"Composite!B69","v":"CDK2/CycD1"},{"$f":"Composite!F69","v":"CDK2/D1"},{"$f":"Composite!AN69","v":0},{"$f":"Composite!G69","v":"CMGC"}]
[187,{"$f":"Composite!B206","v":"MAP2K4 (MEK4)"},{"$f":"Composite!F206","v":"MEK4(HIS)"},{"$f":"Composite!AN206","v":0},{"$f":"Composite!G206","v":"STE"}]
[216,{"$f":"Composite!B235","v":"MAPK6 (ERK3)"},{"$f":"Composite!F235","v":"ERK3"},{"$f":"Composite!AN235","v":0},{"$f":"Composite!G235","v":"CMGC"}]
[255,{"$f":"Composite!B274","v":"NEK8"},{"$f":"Composite!F274","v":"NEK8"},{"$f":"Composite!AN274","v":0},{"$f":"Composite!G274","v":"Other"}]
[396,{"$f":"Composite!B415","v":"TYK2 [JH1-JH2]"},{"$f":"Composite!F415","v":"TYK2(JH1JH2)"},{"$f":"Composite!AN415","v":0},{"$f":"Composite!G415","v":"TK"}]
[401,{"$f":"Composite!B420","v":"WEE1"},{"$f":"Composite!F420","v":"WEE1"},{"$f":"Composite!AN420","v":0},{"$f":"Composite!G420","v":"Other"}]
[447,{"$f":"Composite!B466","v":0},{"$f":"Composite!F466","v":0},{"$f":"Composite!AN466","v":0},{"$f":"Composite!G466","v":0}]
[448,{"$f":"Composite!B467","v":0},{"$f":"Composite!F467","v":0},{"$f":"Composite!AN467","v":0},{"$f":"Composite!G467","v":0}]
[449,{"$f":"Composite!B468","v":0},{"$f":"Composite!F468","v":0},{"$f":"Composite!AN468","v":0},{"$f":"Composite!G468","v":0}]
[450,{"$f":"Composite!B469","v":0},{"$f":"Composite!F469","v":0},{"$f":"Composite!AN469","v":0},{"$f":"Composite!G469","v":0}]
[451,{"$f":"Composite!B470","v":0},{"$f":"Composite!F470","v":0},{"$f":"Composite!AN470","v":0},{"$f":"Composite!G470","v":0}]
[452,{"$f":"Composite!B471","v":0},{"$f":"Composite!F471","v":0},{"$f":"Composite!AN471","v":0},{"$f":"Composite!G471","v":0}]
[453,{"$f":"Composite!B472","v":0},{"$f":"Composite!F472","v":0},{"$f":"Composite!AN472","v":0},{"$f":"Composite!G472","v":0}]
[454,{"$f":"Composite!B473","v":0},{"$f":"Composite!F473","v":0},{"$f":"Composite!AN473","v":0},{"$f":"Composite!G473","v":0}]
[455,{"$f":"Composite!B474","v":0},{"$f":"Composite!F474","v":0},{"$f":"Composite!AN474","v":0},{"$f":"Composite!G474","v":0}]
[456,{"$f":"Composite!B475","v":0},{"$f":"Composite!F475","v":0},{"$f":"Composite!AN475","v":0},{"$f":"Composite!G475","v":0}]
[457,{"$f":"Composite!B476","v":0},{"$f":"Composite!F476","v":0},{"$f":"Composite!AN476","v":0},{"$f":"Composite!G476","v":0}]
[458,{"$f":"Composite!B477","v":0},{"$f":"Composite!F477","v":0},{"$f":"Composite!AN477","v":0},{"$f":"Composite!G477","v":0}]
[459,{"$f":"Composite!B478","v":0},{"$f":"Composite!F478","v":0},{"$f":"Composite!AN478","v":0},{"$f":"Composite!G478","v":0}]
[460,{"$f":"Composite!B479","v":0},{"$f":"Composite!F479","v":0},{"$f":"Composite!AN479","v":0},{"$f":"Composite!G479","v":0}]
[461,{"$f":"Composite!B480","v":0},{"$f":"Composite!F480","v":0},{"$f":"Composite!AN480","v":0},{"$f":"Composite!G480","v":0}]
[462,{"$f":"Composite!B481","v":0},{"$f":"Composite!F481","v":0},{"$f":"Composite!AN481","v":0},{"$f":"Composite!G481","v":0}]
[463,{"$f":"Composite!B482","v":0},{"$f":"Composite!F482","v":0},{"$f":"Composite!AN482","v":0},{"$f":"Composite!G482","v":0}]
[464,{"$f":"Composite!B483","v":0},{"$f":"Composite!F483","v":0},{"$f":"Composite!AN483","v":0},{"$f":"Composite!G483","v":0}]
[465,{"$f":"Composite!B484","v":0},{"$f":"Composite!F484","v":0},{"$f":"Composite!AN484","v":0},{"$f":"Composite!G484","v":0}]
[466,{"$f":"Composite!B485","v":0},{"$f":"Composite!F485","v":0},{"$f":"Composite!AN485","v":0},{"$f":"Composite!G485","v":0}]
[467,{"$f":"Composite!B486","v":0},{"$f":"Composite!F486","v":0},{"$f":"Composite!AN486","v":0},{"$f":"Composite!G486","v":0}]
[468,{"$f":"Composite!B487","v":0},{"$f":"Composite!F487","v":0},{"$f":"Composite!AN487","v":0},{"$f":"Composite!G487","v":0}]
[469,{"$f":"Composite!B488","v":0},{"$f":"Composite!F488","v":0},{"$f":"Composite!AN488","v":0},{"$f":"Composite!G488","v":0}]
[470,{"$f":"Composite!B489","v":0},{"$f":"Composite!F489","v":0},{"$f":"Composite!AN489","v":0},{"$f":"Composite!G489","v":0}]
[471,{"$f":"Composite!B490","v":0},{"$f":"Composite!F490","v":0},{"$f":"Composite!AN490","v":0},{"$f":"Composite!G490","v":0}]
[472,{"$f":"Composite!B491","v":0},{"$f":"Composite!F491","v":0},{"$f":"Composite!AN491","v":0},{"$f":"Composite!G491","v":0}]
[473,{"$f":"Composite!B492","v":0},{"$f":"Composite!F492","v":0},{"$f":"Composite!AN492","v":0},{"$f":"Composite!G492","v":0}]
[474,{"$f":"Composite!B493","v":0},{"$f":"Composite!F493","v":0},{"$f":"Composite!AN493","v":0},{"$f":"Composite!G493","v":0}]
[475,{"$f":"Composite!B494","v":0},{"$f":"Composite!F494","v":0},{"$f":"Composite!AN494","v":0},{"$f":"Composite!G494","v":0}]
[476,{"$f":"Composite!B495","v":0},{"$f":"Composite!F495","v":0},{"$f":"Composite!AN495","v":0},{"$f":"Composite!G495","v":0}]
[477,{"$f":"Composite!B496","v":0},{"$f":"Composite!F496","v":0},{"$f":"Composite!AN496","v":0},{"$f":"Composite!G496","v":0}]
[478,{"$f":"Composite!B497","v":0},{"$f":"Composite!F497","v":0},{"$f":"Composite!AN497","v":0},{"$f":"Composite!G497","v":0}]
[479,{"$f":"Composite!B498","v":0},{"$f":"Composite!F498","v":0},{"$f":"Composite!AN498","v":0},{"$f":"Composite!G498","v":0}]
[480,{"$f":"Composite!B499","v":0},{"$f":"Composite!F499","v":0},{"$f":"Composite!AN499","v":0},{"$f":"Composite!G499","v":0}]
[481,{"$f":"Composite!B500","v":0},{"$f":"Composite!F500","v":0},{"$f":"Composite!AN500","v":0},{"$f":"Composite!G500","v":0}]
[482,{"$f":"Composite!B501","v":0},{"$f":"Composite!F501","v":0},{"$f":"Composite!AN501","v":0},{"$f":"Composite!G501","v":0}]
[483,{"$f":"Composite!B502","v":0},{"$f":"Composite!F502","v":0},{"$f":"Composite!AN502","v":0},{"$f":"Composite!G502","v":0}]
[484,{"$f":"Composite!B503","v":0},{"$f":"Composite!F503","v":0},{"$f":"Composite!AN503","v":0},{"$f":"Composite!G503","v":0}]
[485,{"$f":"Composite!B504","v":0},{"$f":"Composite!F504","v":0},{"$f":"Composite!AN504","v":0},{"$f":"Composite!G504","v":0}]
[486,{"$f":"Composite!B505","v":0},{"$f":"Composite!F505","v":0},{"$f":"Composite!AN505","v":0},{"$f":"Composite!G505","v":0}]
[487,{"$f":"Composite!B506","v":0},{"$f":"Composite!F506","v":0},{"$f":"Composite!AN506","v":0},{"$f":"Composite!G506","v":0}]
[488,{"$f":"Composite!B507","v":0},{"$f":"Composite!F507","v":0},{"$f":"Composite!AN507","v":0},{"$f":"Composite!G507","v":0}]
[489,{"$f":"Composite!B508","v":0},{"$f":"Composite!F508","v":0},{"$f":"Composite!AN508","v":0},{"$f":"Composite!G508","v":0}]
[490,{"$f":"Composite!B509","v":0},{"$f":"Composite!F509","v":0},{"$f":"Composite!AN509","v":0},{"$f":"Composite!G509","v":0}]
[491,{"$f":"Composite!B510","v":0},{"$f":"Composite!F510","v":0},{"$f":"Composite!AN510","v":0},{"$f":"Composite!G510","v":0}]
[492,{"$f":"Composite!B511","v":0},{"$f":"Composite!F511","v":0},{"$f":"Composite!AN511","v":0},{"$f":"Composite!G511","v":0}]
[493,{"$f":"Composite!B512","v":0},{"$f":"Composite!F512","v":0},{"$f":"Composite!AN512","v":0},{"$f":"Composite!G512","v":0}]
[494,{"$f":"Composite!B513","v":0},{"$f":"Composite!F513","v":0},{"$f":"Composite!AN513","v":0},{"$f":"Composite!G513","v":0}]
[495,{"$f":"Composite!B514","v":0},{"$f":"Composite!F514","v":0},{"$f":"Composite!AN514","v":0},{"$f":"Composite!G514","v":0}]
[496,{"$f":"Composite!B515","v":0},{"$f":"Composite!F515","v":0},{"$f":"Composite!AN515","v":0},{"$f":"Composite!G515","v":0}]
[497,{"$f":"Composite!B516","v":0},{"$f":"Composite!F516","v":0},{"$f":"Composite!AN516","v":0},{"$f":"Composite!G516","v":0}]
[498,{"$f":"Composite!B517","v":0},{"$f":"Composite!F517","v":0},{"$f":"Composite!AN517","v":0},{"$f":"Composite!G517","v":0}]
[499,{"$f":"Composite!B518","v":0},{"$f":"Composite!F518","v":0},{"$f":"Composite!AN518","v":0},{"$f":"Composite!G518","v":0}]
[500,{"$f":"Composite!B519","v":0},{"$f":"Composite!F519","v":0},{"$f":"Composite!AN519","v":0},{"$f":"Composite!G519","v":0}]
[501,{"$f":"Composite!B520","v":0},{"$f":"Composite!F520","v":0},{"$f":"Composite!AN520","v":0},{"$f":"Composite!G520","v":0}]
[502,{"$f":"Composite!B521","v":0},{"$f":"Composite!F521","v":0},{"$f":"Composite!AN521","v":0},{"$f":"Composite!G521","v":0}]
[503,{"$f":"Composite!B522","v":0},{"$f":"Composite!F522","v":0},{"$f":"Composite!AN522","v":0},{"$f":"Composite!G522","v":0}]
[504,{"$f":"Composite!B523","v":0},{"$f":"Composite!F523","v":0},{"$f":"Composite!AN523","v":0},{"$f":"Composite!G523","v":0}]
[505,{"$f":"Composite!B524","v":0},{"$f":"Composite!F524","v":0},{"$f":"Composite!AN524","v":0},{"$f":"Composite!G524","v":0}]
[506,{"$f":"Composite!B525","v":0},{"$f":"Composite!F525","v":0},{"$f":"Composite!AN525","v":0},{"$f":"Composite!G525","v":0}]
[507,{"$f":"Composite!B526","v":0},{"$f":"Composite!F526","v":0},{"$f":"Composite!AN526","v":0},{"$f":"Composite!G526","v":0}]
[508,{"$f":"Composite!B527","v":0},{"$f":"Composite!F527","v":0},{"$f":"Composite!AN527","v":0},{"$f":"Composite!G527","v":0}]
[509,{"$f":"Composite!B528","v":0},{"$f":"Composite!F528","v":0},{"$f":"Composite!AN528","v":0},{"$f":"Composite!G528","v":0}]
[510,{"$f":"Composite!B529","v":0},{"$f":"Composite!F529","v":0},{"$f":"Composite!AN529","v":0},{"$f":"Composite!G529","v":0}]
[511,{"$f":"Composite!B530","v":0},{"$f":"Composite!F530","v":0},{"$f":"Composite!AN530","v":0},{"$f":"Composite!G530","v":0}]
[512,{"$f":"Composite!B531","v":0},{"$f":"Composite!F531","v":0},{"$f":"Composite!AN531","v":0},{"$f":"Composite!G531","v":0}]
[513,{"$f":"Composite!B532","v":0},{"$f":"Composite!F532","v":0},{"$f":"Composite!AN532","v":0},{"$f":"Composite!G532","v":0}]
[514,{"$f":"Composite!B533","v":0},{"$f":"Composite!F533","v":0},{"$f":"Composite!AN533","v":0},{"$f":"Composite!G533","v":0}]
[515,{"$f":"Composite!B534","v":0},{"$f":"Composite!F534","v":0},{"$f":"Composite!AN534","v":0},{"$f":"Composite!G534","v":0}]
[516,{"$f":"Composite!B535","v":0},{"$f":"Composite!F535","v":0},{"$f":"Composite!AN535","v":0},{"$f":"Composite!G535","v":0}]
[517,{"$f":"Composite!B536","v":0},{"$f":"Composite!F536","v":0},{"$f":"Composite!AN536","v":0},{"$f":"Composite!G536","v":0}]
[518,{"$f":"Composite!B537","v":0},{"$f":"Composite!F537","v":0},{"$f":"Composite!AN537","v":0},{"$f":"Composite!G537","v":0}]
[200,{"$f":"Composite!B219","v":"MAP3K7 (TAK1)"},{"$f":"Composite!F219","v":"MAP3K7"},{"$f":"Composite!AN219","v":-0.12406947890819708},{"$f":"Composite!G219","v":"STE"}]
[290,{"$f":"Composite!B309","v":"PLK2"},{"$f":"Composite!F309","v":"PLK2"},{"$f":"Composite!AN309","v":-0.1750533605638509},{"$f":"Composite!G309","v":"Other"}]
[217,{"$f":"Composite!B236","v":"MAPK7 (BMK, ERK5)"},{"$f":"Composite!F236","v":"ERK5"},{"$f":"Composite!AN236","v":-0.31920594608449449},{"$f":"Composite!G236","v":"CMGC"}]
[247,{"$f":"Composite!B266","v":"NEK10"},{"$f":"Composite!F266","v":"NEK10"},{"$f":"Composite!AN266","v":-0.39892420440116894},{"$f":"Composite!G266","v":"Other"}]
[172,{"$f":"Composite!B191","v":"KSR1"},{"$f":"Composite!F191","v":"KSR1"},{"$f":"Composite!AN191","v":-0.45148375973465704},{"$f":"Composite!G191","v":"TKL"}]
[227,{"$f":"Composite!B246","v":"MAST3"},{"$f":"Composite!F246","v":"MAST3"},{"$f":"Composite!AN246","v":-0.48565563510740617},{"$f":"Composite!G246","v":"AGC"}]
[95,{"$f":"Composite!B114","v":"DDR2"},{"$f":"Composite!F114","v":"DDR2"},{"$f":"Composite!AN114","v":-0.68412998469709407},{"$f":"Composite!G114","v":"TK"}]
[211,{"$f":"Composite!B230","v":"MAPK12 (p38γ)"},{"$f":"Composite!F230","v":"P38G"},{"$f":"Composite!AN230","v":-0.70489166430125749},{"$f":"Composite!G230","v":"CMGC"}]
[389,{"$f":"Composite!B408","v":"TSSK3"},{"$f":"Composite!F408","v":"TSSK3"},{"$f":"Composite!AN408","v":-0.72692872613210113},{"$f":"Composite!G408","v":"CAMK"}]
[193,{"$f":"Composite!B212","v":"MAP3K14 (NIK)"},{"$f":"Composite!F212","v":"MAP3K14"},{"$f":"Composite!AN212","v":-0.79648448228508073},{"$f":"Composite!G212","v":"STE"}]
[221,{"$f":"Composite!B240","v":"MAPKAPK3 (MK3)"},{"$f":"Composite!F240","v":"MK3"},{"$f":"Composite!AN240","v":-0.87004557381574443},{"$f":"Composite!G240","v":"CAMK"}]
[244,{"$f":"Composite!B263","v":"MYO3A"},{"$f":"Composite!F263","v":"MYO3A"},{"$f":"Composite!AN263","v":-1.0234019052878693},{"$f":"Composite!G263","v":"STE"}]
[163,{"$f":"Composite!B182","v":"IRAK4"},{"$f":"Composite!F182","v":"IRAK4"},{"$f":"Composite!AN182","v":-1.030495818967978},{"$f":"Composite!G182","v":"TKL"}]
[162,{"$f":"Composite!B181","v":"IRAK1"},{"$f":"Composite!F181","v":"IRAK1"},{"$f":"Composite!AN181","v":-1.0486590156834836},{"$f":"Composite!G181","v":"TKL"}]
[374,{"$f":"Composite!B393","v":"TAOK1 (TAO1)"},{"$f":"Composite!F393","v":"TAOK1"},{"$f":"Composite!AN393","v":-1.0659439927732706},{"$f":"Composite!G393","v":"STE"}]
[91,{"$f":"Composite!B110","v":"DAPK3 (ZIPK)"},{"$f":"Composite!F110","v":"DAPK3"},{"$f":"Composite!AN110","v":-1.0903794357693499},{"$f":"Composite!G110","v":"CAMK"}]
[43,{"$f":"Composite!B62","v":"CDK14 (PFTAIRE1, PFTK1)/CycY"},{"$f":"Composite!F62","v":"CDK14"},{"$f":"Composite!AN62","v":-1.1073118365074492},{"$f":"Composite!G62","v":"CMGC"}]
[281,{"$f":"Composite!B300","v":"PIM1"},{"$f":"Composite!F300","v":"PIM1"},{"$f":"Composite!AN300","v":-1.1223750905141117},{"$f":"Composite!G300","v":"CAMK"}]
[381,{"$f":"Composite!B400","v":"TLK1"},{"$f":"Composite!F400","v":"TLK1"},{"$f":"Composite!AN400","v":-1.2975901896477637},{"$f":"Composite!G400","v":"Other"}]
[202,{"$f":"Composite!B221","v":"MAP3K9 (MLK1)"},{"$f":"Composite!F221","v":"MAP3K9"},{"$f":"Composite!AN221","v":-1.3420396029091677},{"$f":"Composite!G221","v":"TKL"}]
[397,{"$f":"Composite!B416","v":"TYRO3"},{"$f":"Composite!F416","v":"TYRO3"},{"$f":"Composite!AN416","v":-1.344792407332946},{"$f":"Composite!G416","v":"TK"}]
[330,{"$f":"Composite!B349","v":"RET"},{"$f":"Composite!F349","v":"RET"},{"$f":"Composite!AN349","v":-1.3505121873701142},{"$f":"Composite!G349","v":"TK"}]
[236,{"$f":"Composite!B255","v":"MNK2"},{"$f":"Composite!F255","v":"MNK2"},{"$f":"Composite!AN255","v":-1.4415623601877172},{"$f":"Composite!G255","v":"CAMK"}]
[307,{"$f":"Composite!B326","v":"PRKACB (PKACB, PKACβ)"},{"$f":"Composite!F326","v":"PKACB"},{"$f":"Composite!AN326","v":-1.4974116170619425},{"$f":"Composite!G326","v":"AGC"}]
[337,{"$f":"Composite!B356","v":"RPS6KA1 (RSK1)"},{"$f":"Composite!F356","v":"RSK1"},{"$f":"Composite!AN356","v":-1.5398099297118222},{"$f":"Composite!G356","v":"AGC"}]
[139,{"$f":"Composite!B158","v":"GAK"},{"$f":"Composite!F158","v":"GAK"},{"$f":"Composite!AN158","v":-1.5825619587936899},{"$f":"Composite!G158","v":"Other"}]
[393,{"$f":"Composite!B412","v":"TTK"},{"$f":"Composite!F412","v":"TTK"},{"$f":"Composite!AN412","v":-1.6215652118069386},{"$f":"Composite!G412","v":"Other"}]
[177,{"$f":"Composite!B196","v":"LIMK1"},{"$f":"Composite!F196","v":"LIMK1"},{"$f":"Composite!AN196","v":-1.6652849367408322},{"$f":"Composite!G196","v":"TKL"}]
[343,{"$f":"Composite!B362","v":"RPS6KB1 (p70S6K)"},{"$f":"Composite!F362","v":"P70S6KA"},{"$f":"Composite!AN362","v":-1.6736277440171108},{"$f":"Composite!G362","v":"AGC"}]
[253,{"$f":"Composite!B272","v":"NEK6"},{"$f":"Composite!F272","v":"NEK6"},{"$f":"Composite!AN272","v":-2.0712369698821789},{"$f":"Composite!G272","v":"Other"}]
[318,{"$f":"Composite!B337","v":"PRKCZ (PKCζ [zeta])"},{"$f":"Composite!F337","v":"PKCZ"},{"$f":"Composite!AN337","v":-2.2068978049135097},{"$f":"Composite!G337","v":"AGC"}]
[349,{"$f":"Composite!B368","v":"SIK1 (SIK)"},{"$f":"Composite!F368","v":"SIK1"},{"$f":"Composite!AN368","v":-2.2995836779321053},{"$f":"Composite!G368","v":"CAMK"}]
[97,{"$f":"Composite!B116","v":"DSTYK (RIPK5, SGK496)"},{"$f":"Composite!F116","v":"RIPK5"},{"$f":"Composite!AN116","v":-2.3599306873504418},{"$f":"Composite!G116","v":"TKL"}]
[232,{"$f":"Composite!B251","v":"MET (c-MET, HGFR)"},{"$f":"Composite!F251","v":"MET"},{"$f":"Composite!AN251","v":-2.4301724292181461},{"$f":"Composite!G251","v":"TK"}]
[359,{"$f":"Composite!B378","v":"SRPK3 (MSSK1)"},{"$f":"Composite!F378","v":"MSSK1"},{"$f":"Composite!AN378","v":-2.5740759596782397},{"$f":"Composite!G378","v":"CMGC"}]
[270,{"$f":"Composite!B289","v":"PASK"},{"$f":"Composite!F289","v":"PASK"},{"$f":"Composite!AN289","v":-2.6913005528076752},{"$f":"Composite!G289","v":"CAMK"}]
[25,{"$f":"Composite!B44","v":"CAMK1G (CAMK1γ)"},{"$f":"Composite!F44","v":"CAMK1G"},{"$f":"Composite!AN44","v":-2.8635527996759151},{"$f":"Composite!G44","v":"CAMK"}]
[346,{"$f":"Composite!B365","v":"SGK1 (SGK)"},{"$f":"Composite!F365","v":"SGK"},{"$f":"Composite!AN365","v":-2.9536017331648026},{"$f":"Composite!G365","v":"AGC"}]
[224,{"$f":"Composite!B243","v":"MARK2"},{"$f":"Composite!F243","v":"MARK2"},{"$f":"Composite!AN243","v":-3.1639975041597381},{"$f":"Composite!G243","v":"CAMK"}]
[20,{"$f":"Composite!B39","v":"BRSK2"},{"$f":"Composite!F39","v":"BRSK2"},{"$f":"Composite!AN39","v":-3.2194979871636349},{"$f":"Composite!G39","v":"CAMK"}]
[394,{"$f":"Composite!B413","v":"TXK"},{"$f":"Composite!F413","v":"TXK"},{"$f":"Composite!AN413","v":-3.3240713113531228},{"$f":"Composite!G413","v":"TK"}]
[304,{"$f":"Composite!B323","v":"PRKAA2-B2-G2 (AMPKα2β2γ2)"},{"$f":"Composite!F323","v":"AMPK222"},{"$f":"Composite!AN323","v":-3.3352640216236864},{"$f":"Composite!G323","v":"CAMK"}]
[342,{"$f":"Composite!B361","v":"RPS6KA6 (RSK4)"},{"$f":"Composite!F361","v":"RSK4"},{"$f":"Composite!AN361","v":-3.3838462740197031},{"$f":"Composite!G361","v":"AGC"}]
[31,{"$f":"Composite!B50","v":"CAMKK1"},{"$f":"Composite!F50","v":"CAMKK1"},{"$f":"Composite!AN50","v":-3.4404977319485255},{"$f":"Composite!G50","v":"Other"}]
[243,{"$f":"Composite!B262","v":"MYLK4 (SgK085)"},{"$f":"Composite!F262","v":"MYLK4"},{"$f":"Composite!AN262","v":-3.4900922620547163},{"$f":"Composite!G262","v":"CAMK"}]
[367,{"$f":"Composite!B386","v":"STK26 (MST4)"},{"$f":"Composite!F386","v":"MST4"},{"$f":"Composite!AN386","v":-3.6065389359163191},{"$f":"Composite!G386","v":"STE"}]
[360,{"$f":"Composite!B379","v":"STK10 (LOK)"},{"$f":"Composite!F379","v":"LOK"},{"$f":"Composite!AN379","v":-3.612300181171392},{"$f":"Composite!G379","v":"STE"}]
[402,{"$f":"Composite!B421","v":"YES1 (YES)"},{"$f":"Composite!F421","v":"YES"},{"$f":"Composite!AN421","v":-3.618730707765053},{"$f":"Composite!G421","v":"TK"}]
[220,{"$f":"Composite!B239","v":"MAPKAPK2 (MK2)"},{"$f":"Composite!F239","v":"MK2"},{"$f":"Composite!AN239","v":-3.6379591028750866},{"$f":"Composite!G239","v":"CAMK"}]
[156,{"$f":"Composite!B175","v":"ICK"},{"$f":"Composite!F175","v":"ICK"},{"$f":"Composite!AN175","v":-3.7780033568851223},{"$f":"Composite!G175","v":"CMGC"}]
[288,{"$f":"Composite!B307","v":"PKN3"},{"$f":"Composite!F307","v":"PKN3"},{"$f":"Composite!AN307","v":-3.8209170961790733},{"$f":"Composite!G307","v":"AGC"}]
[173,{"$f":"Composite!B192","v":"KSR2"},{"$f":"Composite!F192","v":"KSR2"},{"$f":"Composite!AN192","v":-3.8496253779082537},{"$f":"Composite!G192","v":"TKL"}]
[19,{"$f":"Composite!B38","v":"BRSK1"},{"$f":"Composite!F38","v":"BRSK1"},{"$f":"Composite!AN38","v":-3.9797015668186191},{"$f":"Composite!G38","v":"CAMK"}]
[352,{"$f":"Composite!B371","v":"SLK"},{"$f":"Composite!F371","v":"SLK"},{"$f":"Composite!AN371","v":-4.0534646061814357},{"$f":"Composite!G371","v":"STE"}]
[89,{"$f":"Composite!B108","v":"DAPK1"},{"$f":"Composite!F108","v":"DAPK1"},{"$f":"Composite!AN108","v":-4.0580097411667566},{"$f":"Composite!G108","v":"CAMK"}]
[8,{"$f":"Composite!B27","v":"AURKA (AURA)"},{"$f":"Composite!F27","v":"AURA"},{"$f":"Composite!AN27","v":-4.0620983909936683},{"$f":"Composite!G27","v":"Other"}]
[149,{"$f":"Composite!B168","v":"HASPIN"},{"$f":"Composite!F168","v":"HASPIN"},{"$f":"Composite!AN168","v":-4.0716984265371394},{"$f":"Composite!G168","v":"Other"}]
[71,{"$f":"Composite!B90","v":"CHEK2 (CHK2)"},{"$f":"Composite!F90","v":"CHK2"},{"$f":"Composite!AN90","v":-4.3203638201111829},{"$f":"Composite!G90","v":"CAMK"}]
[123,{"$f":"Composite!B142","v":"ERN1 (IRE1)"},{"$f":"Composite!F142","v":"ERN1"},{"$f":"Composite!AN142","v":-4.3316979777432323},{"$f":"Composite!G142","v":"Other"}]
[241,{"$f":"Composite!B260","v":"MYLK2 (skMLCK)"},{"$f":"Composite!F260","v":"MYLK2"},{"$f":"Composite!AN260","v":-4.3527605314106381},{"$f":"Composite!G260","v":"CAMK"}]
[315,{"$f":"Composite!B334","v":"PRKCH (PKCη [eta])"},{"$f":"Composite!F334","v":"PKCH"},{"$f":"Composite!AN334","v":-4.3550579409039614},{"$f":"Composite!G334","v":"AGC"}]
[111,{"$f":"Composite!B130","v":"EPHA3"},{"$f":"Composite!F130","v":"EPHA3"},{"$f":"Composite!AN130","v":-4.4188380944414547},{"$f":"Composite!G130","v":"TK"}]
[30,{"$f":"Composite!B49","v":"CAMK4"},{"$f":"Composite!F49","v":"CAMK4"},{"$f":"Composite!AN49","v":-4.4732314266884856},{"$f":"Composite!G49","v":"CAMK"}]
[364,{"$f":"Composite!B383","v":"STK17B (DRAK2)"},{"$f":"Composite!F383","v":"DRAK2"},{"$f":"Composite!AN383","v":-4.5714910163826943},{"$f":"Composite!G383","v":"CAMK"}]
[178,{"$f":"Composite!B197","v":"LIMK2"},{"$f":"Composite!F197","v":"LIMK2"},{"$f":"Composite!AN197","v":-4.576101144564646},{"$f":"Composite!G197","v":"TKL"}]
[99,{"$f":"Composite!B118","v":"DYRK1B"},{"$f":"Composite!F118","v":"DYRK1B"},{"$f":"Composite!AN118","v":-4.6160895463768981},{"$f":"Composite!G118","v":"CMGC"}]
[36,{"$f":"Composite!B55","v":"CDC7/DBF4 (CDC7)"},{"$f":"Composite!F55","v":"CDC7"},{"$f":"Composite!AN55","v":-4.8238030869825081},{"$f":"Composite!G55","v":"Other"}]
[82,{"$f":"Composite!B101","v":"CSNK1D (CK1D, CK1δ)"},{"$f":"Composite!F101","v":"CK1D"},{"$f":"Composite!AN101","v":-4.9046697982868181},{"$f":"Composite!G101","v":"CK1"}]
[12,{"$f":"Composite!B31","v":"BCKDK"},{"$f":"Composite!F31","v":"BCKDK"},{"$f":"Composite!AN31","v":-4.9935331496372868},{"$f":"Composite!G31","v":"Atypical"}]
[101,{"$f":"Composite!B120","v":"DYRK3"},{"$f":"Composite!F120","v":"DYRK3"},{"$f":"Composite!AN120","v":-5.054624175602882},{"$f":"Composite!G120","v":"CMGC"}]
[68,{"$f":"Composite!B87","v":"CDK9 (TAK)/CycT2"},{"$f":"Composite!F87","v":"CDK9/T2"},{"$f":"Composite!AN87","v":-5.2227342549923179},{"$f":"Composite!G87","v":"CMGC"}]
[311,{"$f":"Composite!B330","v":"PRKCB2 (PKCβ2 [beta2])"},{"$f":"Composite!F330","v":"PKCB2"},{"$f":"Composite!AN330","v":-5.5789604697913404},{"$f":"Composite!G330","v":"AGC"}]
[310,{"$f":"Composite!B329","v":"PRKCB1 (PKCβ1 [beta1])"},{"$f":"Composite!F329","v":"PKCB1"},{"$f":"Composite!AN329","v":-5.9583395034305795},{"$f":"Composite!G329","v":"AGC"}]
[15,{"$f":"Composite!B34","v":"BMP2K (BIKE)"},{"$f":"Composite!F34","v":"BIKE"},{"$f":"Composite!AN34","v":-6.0361241187670771},{"$f":"Composite!G34","v":"Other"}]
[294,{"$f":"Composite!B313","v":"PRKAA1-B1-G1 (AMPKα1β1γ1)"},{"$f":"Composite!F313","v":"AMPK111"},{"$f":"Composite!AN313","v":-6.0908707826449984},{"$f":"Composite!G313","v":"CAMK"}]
[109,{"$f":"Composite!B128","v":"EPHA1"},{"$f":"Composite!F128","v":"EPHA1"},{"$f":"Composite!AN128","v":-6.1408163698499152},{"$f":"Composite!G128","v":"TK"}]
[96,{"$f":"Composite!B115","v":"DMPK (DMPK1)"},{"$f":"Composite!F115","v":"DMPK1"},{"$f":"Composite!AN115","v":-6.1460126219162134},{"$f":"Composite!G115","v":"AGC"}]
[277,{"$f":"Composite!B296","v":"PDK4 (PDHK4)"},{"$f":"Composite!F296","v":"PDHK4"},{"$f":"Composite!AN296","v":-6.342619411238104},{"$f":"Composite!G296","v":"Atypical"}]
[237,{"$f":"Composite!B256","v":"MST1R (RON)"},{"$f":"Composite!F256","v":"MST1R"},{"$f":"Composite!AN256","v":-6.4906737095290907},{"$f":"Composite!G256","v":"TK"}]
[230,{"$f":"Composite!B249","v":"MELK"},{"$f":"Composite!F249","v":"MELK"},{"$f":"Composite!AN249","v":-6.5374263039071963},{"$f":"Composite!G249","v":"CAMK"}]
[283,{"$f":"Composite!B302","v":"PIM3"},{"$f":"Composite!F302","v":"PIM3"},{"$f":"Composite!AN302","v":-6.6258713827807867},{"$f":"Composite!G302","v":"CAMK"}]
[85,{"$f":"Composite!B104","v":"CSNK1G2 (CK1G2, CK1γ2)"},{"$f":"Composite!F104","v":"CK1G2"},{"$f":"Composite!AN104","v":-6.6440387865073802},{"$f":"Composite!G104","v":"CK1"}]
[169,{"$f":"Composite!B188","v":"JAK3 [JH1]"},{"$f":"Composite!F188","v":"JAK3(JH1)"},{"$f":"Composite!AN188","v":-6.724665986062405},{"$f":"Composite!G188","v":"TK"}]
[339,{"$f":"Composite!B358","v":"RPS6KA3 (RSK2)"},{"$f":"Composite!F358","v":"RSK2"},{"$f":"Composite!AN358","v":-6.7879914460910697},{"$f":"Composite!G358","v":"AGC"}]
[137,{"$f":"Composite!B156","v":"FYNa (FYN)"},{"$f":"Composite!F156","v":"FYNA"},{"$f":"Composite!AN156","v":-6.9879595030500639},{"$f":"Composite!G156","v":"TK"}]
[292,{"$f":"Composite!B311","v":"PLK4"},{"$f":"Composite!F311","v":"PLK4"},{"$f":"Composite!AN311","v":-7.1637391134162129},{"$f":"Composite!G311","v":"Other"}]
[312,{"$f":"Composite!B331","v":"PRKCD (PKCδ [delta])"},{"$f":"Composite!F331","v":"PKCD"},{"$f":"Composite!AN331","v":-7.192865873194819},{"$f":"Composite!G331","v":"AGC"}]
[375,{"$f":"Composite!B394","v":"TAOK2 (TAO2)"},{"$f":"Composite!F394","v":"TAOK2"},{"$f":"Composite!AN394","v":-7.234292425132125},{"$f":"Composite!G394","v":"STE"}]
[75,{"$f":"Composite!B94","v":"CLK2"},{"$f":"Composite!F94","v":"CLK2"},{"$f":"Composite!AN94","v":-7.2821619100370043},{"$f":"Composite!G94","v":"CMGC"}]
[338,{"$f":"Composite!B357","v":"RPS6KA2 (RSK3)"},{"$f":"Composite!F357","v":"RSK3"},{"$f":"Composite!AN357","v":-8.4594764159014346},{"$f":"Composite!G357","v":"AGC"}]
[94,{"$f":"Composite!B113","v":"DDR1 [SRC treated]"},{"$f":"Composite!F113","v":"DDR1"},{"$f":"Composite!AN113","v":-8.7753762274681293},{"$f":"Composite!G113","v":"TK"}]
[239,{"$f":"Composite!B258","v":"MUSK"},{"$f":"Composite!F258","v":"MUSK"},{"$f":"Composite!AN258","v":-8.7901058697833747},{"$f":"Composite!G258","v":"TK"}]
[222,{"$f":"Composite!B241","v":"MAPKAPK5 (MK5)"},{"$f":"Composite!F241","v":"MK5"},{"$f":"Composite!AN241","v":-9.0325224762527228},{"$f":"Composite!G241","v":"CAMK"}]
[83,{"$f":"Composite!B102","v":"CSNK1E (CK1E, CK1ε)"},{"$f":"Composite!F102","v":"CK1E"},{"$f":"Composite!AN102","v":-9.134485291275297},{"$f":"Composite!G102","v":"CK1"}]
[18,{"$f":"Composite!B37","v":"BRAF, b-[V600E]"},{"$f":"Composite!F37","v":"BRAF(V600E)"},{"$f":"Composite!AN37","v":-9.2739049215244762},{"$f":"Composite!G37","v":"TKL"}]
[17,{"$f":"Composite!B36","v":"BRAF (BRAF1, RAFB1)"},{"$f":"Composite!F36","v":"BRAF"},{"$f":"Composite!AN36","v":-9.3123735980879019},{"$f":"Composite!G36","v":"TKL"}]
[261,{"$f":"Composite!B280","v":"NTRK3 (TRKC)"},{"$f":"Composite!F280","v":"NTRK3"},{"$f":"Composite!AN280","v":-9.338528365832147},{"$f":"Composite!G280","v":"TK"}]
[385,{"$f":"Composite!B404","v":"TNK2 (ACK)"},{"$f":"Composite!F404","v":"TNK2"},{"$f":"Composite!AN404","v":-9.9812858155781186},{"$f":"Composite!G404","v":"TK"}]
[84,{"$f":"Composite!B103","v":"CSNK1G1 (CK1G1, CK1γ1)"},{"$f":"Composite!F103","v":"CK1G1"},{"$f":"Composite!AN103","v":-10.055338281852741},{"$f":"Composite!G103","v":"CK1"}]
[155,{"$f":"Composite!B174","v":"HUNK"},{"$f":"Composite!F174","v":"HUNK"},{"$f":"Composite!AN174","v":-10.132121738130223},{"$f":"Composite!G174","v":"CAMK"}]
[355,{"$f":"Composite!B374","v":"SRC N1"},{"$f":"Composite!F374","v":"SRC N1"},{"$f":"Composite!AN374","v":-10.411473485428473},{"$f":"Composite!G374","v":"TK"}]
[325,{"$f":"Composite!B344","v":"PRKX"},{"$f":"Composite!F344","v":"PRKX"},{"$f":"Composite!AN344","v":-11.147925798209343},{"$f":"Composite!G344","v":"AGC"}]
[380,{"$f":"Composite!B399","v":"TESK2"},{"$f":"Composite!F399","v":"TESK2"},{"$f":"Composite!AN399","v":-11.565377532228368},{"$f":"Composite!G399","v":"TKL"}]
[306,{"$f":"Composite!B325","v":"PRKACA (PKACA, PKACα)"},{"$f":"Composite!F325","v":"PKACA"},{"$f":"Composite!AN325","v":-11.713645983498466},{"$f":"Composite!G325","v":"AGC"}]
[321,{"$f":"Composite!B340","v":"PRKD3 (PKD3)"},{"$f":"Composite!F340","v":"PKD3"},{"$f":"Composite!AN340","v":-12.185518299001146},{"$f":"Composite!G340","v":"CAMK"}]
[362,{"$f":"Composite!B381","v":"STK16 (MPSK1, PKL12, TSF1)"},{"$f":"Composite!F381","v":"STK16"},{"$f":"Composite!AN381","v":-12.187239779531325},{"$f":"Composite!G381","v":"Other"}]
[309,{"$f":"Composite!B328","v":"PRKCA (PKCα [alpha])"},{"$f":"Composite!F328","v":"PKCA"},{"$f":"Composite!AN328","v":-12.708907121948414},{"$f":"Composite!G328","v":"AGC"}]
[314,{"$f":"Composite!B333","v":"PRKCG (PKCγ [gamma])"},{"$f":"Composite!F333","v":"PKCG"},{"$f":"Composite!AN333","v":-13.052848397001853},{"$f":"Composite!G333","v":"AGC"}]
[395,{"$f":"Composite!B414","v":"TYK2 [JH1]"},{"$f":"Composite!F414","v":"TYK2(JH1)"},{"$f":"Composite!AN414","v":-13.354365954119203},{"$f":"Composite!G414","v":"TK"}]
[34,{"$f":"Composite!B53","v":"CDC42BPB (MRCKB)"},{"$f":"Composite!F53","v":"MRCKB"},{"$f":"Composite!AN53","v":-14.1786383510306},{"$f":"Composite!G53","v":"AGC"}]
[69,{"$f":"Composite!B88","v":"CDKL5"},{"$f":"Composite!F88","v":"CDKL5"},{"$f":"Composite!AN88","v":-14.357724620021784},{"$f":"Composite!G88","v":"CMGC"}]
[287,{"$f":"Composite!B306","v":"PKN2"},{"$f":"Composite!F306","v":"PKN2"},{"$f":"Composite!AN306","v":-14.624098867147282},{"$f":"Composite!G306","v":"AGC"}]
[274,{"$f":"Composite!B293","v":"PDK1 (PDHK1)"},{"$f":"Composite!F293","v":"PDHK1"},{"$f":"Composite!AN293","v":-15.716733529647172},{"$f":"Composite!G293","v":"Atypical"}]
[400,{"$f":"Composite!B419","v":"ULK3"},{"$f":"Composite!F419","v":"ULK3"},{"$f":"Composite!AN419","v":-16.307857142857131},{"$f":"Composite!G419","v":"Other"}]
[73,{"$f":"Composite!B92","v":"CIT (CRIK)"},{"$f":"Composite!F92","v":"CRIK"},{"$f":"Composite!AN92","v":-16.543007554243488},{"$f":"Composite!G92","v":"AGC"}]
[369,{"$f":"Composite!B388","v":"STK33"},{"$f":"Composite!F388","v":"STK33"},{"$f":"Composite!AN388","v":-16.92455223589819},{"$f":"Composite!G388","v":"CAMK"}]
[313,{"$f":"Composite!B332","v":"PRKCE (PKCe [epsilon])"},{"$f":"Composite!F332","v":"PKCE"},{"$f":"Composite!AN332","v":-18.341305416002314},{"$f":"Composite!G332","v":"AGC"}]
[248,{"$f":"Composite!B267","v":"NEK11"},{"$f":"Composite!F267","v":"NEK11"},{"$f":"Composite!AN267","v":-18.471230373416049},{"$f":"Composite!G267","v":"Other"}]
[182,{"$f":"Composite!B201","v":"LYNB (LYNb)"},{"$f":"Composite!F201","v":"LYNB"},{"$f":"Composite!AN201","v":-20.130421492375064},{"$f":"Composite!G201","v":"TK"}]
[199,{"$f":"Composite!B218","v":"MAP3K6 (ASK2)"},{"$f":"Composite!F218","v":"MAP3K6"},{"$f":"Composite!AN218","v":-24.462330122707471},{"$f":"Composite!G218","v":"STE"}]
[229,{"$f":"Composite!B248","v":"MATK (CTK)"},{"$f":"Composite!F248","v":"CTK"},{"$f":"Composite!AN248","v":-29.877532157436661},{"$f":"Composite!G248","v":"TK"}]

{"sheet":"Compound 16 Kinome Tree","index":35,"n_rows":6,"n_cols":27,"rows_kept":6,"cut":false,"hidden":false,"merged":[[1,1,3,20]]}
[]
[null,{"$f":"Summary!AC25","v":"Kinome Hit View for Lapatinib  (0.085 µM) with 396 Kinases (Coral Names) at  ATP Km "}]
[null,null,null,null,null,null,null,null,null,null,null,null,null,null,null,null,null,null,null,null,null,null,null,null,null,null,"Kinome Hit View for VVVVVVVVVVVVVVVVVVVVVVVVVVV (VVVVV µM) with VVV Kinases (Coral Names)"]
[null,null,null,null,null,null,null,null,null,null,null,null,null,null,null,null,null,null,null,null,null,null,null,null,null,null,{"$f":"REPLACE(AA3,65,3,Summary!E25)","v":"Kinome Hit View for VVVVVVVVVVVVVVVVVVVVVVVVVVV (VVVVV µM) with 396 Kinases (Coral Names)"}]
[null,null,null,null,null,null,null,null,null,null,null,null,null,null,null,null,null,null,null,null,null,null,null,null,null,null,{"$f":"REPLACE(AA4,50,5,Summary!D26)","v":"Kinome Hit View for VVVVVVVVVVVVVVVVVVVVVVVVVVV (0.005 µM) with 396 Kinases (Coral Names)"}]
[null,null,null,null,null,null,null,null,null,null,null,null,null,null,null,null,null,null,null,null,null,null,null,null,null,null,{"$f":"REPLACE(AA5,21,27,Summary!C26)","v":"Kinome Hit View for Lapatinib  (0.005 µM) with 396 Kinases (Coral Names)"}]

{"sheet":"Compound 17","index":36,"n_rows":520,"n_cols":28,"rows_kept":520,"cut":false,"hidden":false,"merged":[]}
[]
["Panel #","Kinase Target","Kinase Target",{"$f":"Summary!AB26","v":"0.005 µM Lapatinib , % inhibition at  ATP Km "},{"$f":"Composite!G19","v":"Group"}]
[1,{"$f":"Composite!B59","v":"CDK1 (CDC2)/CycE1 "},{"$f":"Composite!F59","v":"CDK1/E1"},{"$f":"Composite!AP59","v":74.807794003986487},{"$f":"Composite!G59","v":"CMGC"},null,null,null,null,null,null,null,null,null,null,null,null,null,null,null,null,null,null,null,null,null,null,"VVVVV μM VVVVVVVVVVVVVVVVVVVVVVVVVVV, % inhibition"]
[2,{"$f":"Composite!B303","v":"PINK1 (PINK)"},{"$f":"Composite!F303","v":"PINK"},{"$f":"Composite!AP303","v":71.595733797125177},{"$f":"Composite!G303","v":"Other"},null,null,null,null,null,null,null,null,null,null,null,null,null,null,null,null,null,null,null,null,null,null,{"$f":"REPLACE(AB3,10,27,Summary!C25)","v":"VVVVV μM Lapatinib , % inhibition"}]
[3,{"$f":"Composite!B76","v":"CDK4/CycD1"},{"$f":"Composite!F76","v":"CDK4/D1"},{"$f":"Composite!AP76","v":33.653557490243159},{"$f":"Composite!G76","v":"CMGC"},null,null,null,null,null,null,null,null,null,null,null,null,null,null,null,null,null,null,null,null,null,null,{"$f":"REPLACE(AB4,1,5,Summary!D25)","v":"0.085 μM Lapatinib , % inhibition"}]
[4,{"$f":"Composite!B248","v":"MATK (CTK)"},{"$f":"Composite!F248","v":"CTK"},{"$f":"Composite!AP248","v":31.587460525302305},{"$f":"Composite!G248","v":"TK"}]
[5,{"$f":"Composite!B123","v":"EGFR (ERBB1)"},{"$f":"Composite!F123","v":"EGFR"},{"$f":"Composite!AP123","v":28.84794974106461},{"$f":"Composite!G123","v":"TK"}]
[6,{"$f":"Composite!B71","v":"CDK2/CycE2"},{"$f":"Composite!F71","v":"CDK2/E2"},{"$f":"Composite!AP71","v":28.76184525669062},{"$f":"Composite!G71","v":"CMGC"}]
[7,{"$f":"Composite!B73","v":"CDK3/CycE1"},{"$f":"Composite!F73","v":"CDK3/E1"},{"$f":"Composite!AP73","v":23.492835901595015},{"$f":"Composite!G73","v":"CMGC"}]
[8,{"$f":"Composite!B317","v":"PRKAA1-B2-G2 (AMPKα1β2γ2)"},{"$f":"Composite!F317","v":"AMPK122"},{"$f":"Composite!AP317","v":23.313177848162013},{"$f":"Composite!G317","v":"CAMK"}]
[9,{"$f":"Composite!B222","v":"MAP4K1 (HPK1)"},{"$f":"Composite!F222","v":"HPK1"},{"$f":"Composite!AP222","v":23.203304268012857},{"$f":"Composite!G222","v":"STE"}]
[10,{"$f":"Composite!B162","v":"GRK4 (GPRK4)"},{"$f":"Composite!F162","v":"GRK4"},{"$f":"Composite!AP162","v":21.108119209529477},{"$f":"Composite!G162","v":"AGC"}]
[11,{"$f":"Composite!B271","v":"NEK5"},{"$f":"Composite!F271","v":"NEK5"},{"$f":"Composite!AP271","v":20.859578542870167},{"$f":"Composite!G271","v":"Other"}]
[12,{"$f":"Composite!B345","v":"PTK2 (FAK)"},{"$f":"Composite!F345","v":"PTK2"},{"$f":"Composite!AP345","v":20.607430118306908},{"$f":"Composite!G345","v":"TK"}]
[13,{"$f":"Composite!B177","v":"IKKB (IKKβ)"},{"$f":"Composite!F177","v":"IKKB"},{"$f":"Composite!AP177","v":20.470380108810247},{"$f":"Composite!G177","v":"Other"}]
[14,{"$f":"Composite!B342","v":"PRKG1 (PKG1, PGK)"},{"$f":"Composite!F342","v":"PGK"},{"$f":"Composite!AP342","v":20.437919122129657},{"$f":"Composite!G342","v":"AGC"}]
[15,{"$f":"Composite!B46","v":"CAMK2B (CAMK2β)"},{"$f":"Composite!F46","v":"CAMK2B"},{"$f":"Composite!AP46","v":20.248421762806615},{"$f":"Composite!G46","v":"CAMK"}]
[16,{"$f":"Composite!B359","v":"RPS6KA4 (MSK2)"},{"$f":"Composite!F359","v":"MSK2"},{"$f":"Composite!AP359","v":19.61562981458853},{"$f":"Composite!G359","v":"AGC"}]
[17,{"$f":"Composite!B284","v":"PAK2"},{"$f":"Composite!F284","v":"PAK2"},{"$f":"Composite!AP284","v":18.914956011730183},{"$f":"Composite!G284","v":"STE"}]
[18,{"$f":"Composite!B233","v":"MAPK15 (ERK7)"},{"$f":"Composite!F233","v":"ERK7"},{"$f":"Composite!AP233","v":18.718091290501931},{"$f":"Composite!G233","v":"CMGC"}]
[19,{"$f":"Composite!B86","v":"CDK9 (TAK)/CycT1"},{"$f":"Composite!F86","v":"CDK9/T1"},{"$f":"Composite!AP86","v":18.109666527811271},{"$f":"Composite!G86","v":"CMGC"}]
[20,{"$f":"Composite!B193","v":"LATS1"},{"$f":"Composite!F193","v":"LATS1"},{"$f":"Composite!AP193","v":18.04181923958798},{"$f":"Composite!G193","v":"AGC"}]
[21,{"$f":"Composite!B205","v":"MAP2K3 (MEK3)"},{"$f":"Composite!F205","v":"MEK3"},{"$f":"Composite!AP205","v":17.304217328718877},{"$f":"Composite!G205","v":"STE"}]
[22,{"$f":"Composite!B125","v":"EIF2AK2 (PKR)"},{"$f":"Composite!F125","v":"PKR"},{"$f":"Composite!AP125","v":17.100917431192656},{"$f":"Composite!G125","v":"Other"}]
[23,{"$f":"Composite!B81","v":"CDK6/CycD2"},{"$f":"Composite!F81","v":"CDK6/D2"},{"$f":"Composite!AP81","v":17.039074036412501},{"$f":"Composite!G81","v":"CMGC"}]
[24,{"$f":"Composite!B278","v":"NTRK1 (TRKA)"},{"$f":"Composite!F278","v":"NTRK1"},{"$f":"Composite!AP278","v":16.300201713212417},{"$f":"Composite!G278","v":"TK"}]
[25,{"$f":"Composite!B390","v":"STK38L (NDR2)"},{"$f":"Composite!F390","v":"NDR2"},{"$f":"Composite!AP390","v":16.285630078733519},{"$f":"Composite!G390","v":"AGC"}]
[26,{"$f":"Composite!B360","v":"RPS6KA5 (MSK1)"},{"$f":"Composite!F360","v":"MSK1"},{"$f":"Composite!AP360","v":16.151723789373094},{"$f":"Composite!G360","v":"AGC"}]
[27,{"$f":"Composite!B56","v":"CDK1 (CDC2)/CycA1 "},{"$f":"Composite!F56","v":"CDK1/A1"},{"$f":"Composite!AP56","v":15.766982969898805},{"$f":"Composite!G56","v":"CMGC"}]
[28,{"$f":"Composite!B164","v":"GRK6 (GPRK6)"},{"$f":"Composite!F164","v":"GRK6"},{"$f":"Composite!AP164","v":15.592665459163484},{"$f":"Composite!G164","v":"AGC"}]
[29,{"$f":"Composite!B100","v":"CSNK1A1L (CK1A1L, CK1a2)"},{"$f":"Composite!F100","v":"CK1A1L"},{"$f":"Composite!AP100","v":15.243934950679815},{"$f":"Composite!G100","v":"CK1"}]
[30,{"$f":"Composite!B410","v":"TTBK1"},{"$f":"Composite!F410","v":"TTBK1"},{"$f":"Composite!AP410","v":15.223648271608567},{"$f":"Composite!G410","v":"CK1"}]
[31,{"$f":"Composite!B200","v":"LYNA (LYNa)"},{"$f":"Composite!F200","v":"LYNA"},{"$f":"Composite!AP200","v":15.179849174317837},{"$f":"Composite!G200","v":"TK"}]
[32,{"$f":"Composite!B47","v":"CAMK2D (CAMK2δ)"},{"$f":"Composite!F47","v":"CAMK2D"},{"$f":"Composite!AP47","v":14.563290594613221},{"$f":"Composite!G47","v":"CAMK"}]
[33,{"$f":"Composite!B44","v":"CAMK1G (CAMK1γ)"},{"$f":"Composite!F44","v":"CAMK1G"},{"$f":"Composite!AP44","v":14.300626304801696},{"$f":"Composite!G44","v":"CAMK"}]
[34,{"$f":"Composite!B161","v":"GRK3 (ADRBK2, BARK2)"},{"$f":"Composite!F161","v":"GRK3"},{"$f":"Composite!AP161","v":14.182680553518153},{"$f":"Composite!G161","v":"AGC"}]
[35,{"$f":"Composite!B402","v":"TNIK (ZC2)"},{"$f":"Composite!F402","v":"TNIK"},{"$f":"Composite!AP402","v":14.001635824557837},{"$f":"Composite!G402","v":"STE"}]
[36,{"$f":"Composite!B87","v":"CDK9 (TAK)/CycT2"},{"$f":"Composite!F87","v":"CDK9/T2"},{"$f":"Composite!AP87","v":13.927291346646186},{"$f":"Composite!G87","v":"CMGC"}]
[37,{"$f":"Composite!B77","v":"CDK4/CycD2"},{"$f":"Composite!F77","v":"CDK4/D2"},{"$f":"Composite!AP77","v":13.922398089300884},{"$f":"Composite!G77","v":"CMGC"}]
[38,{"$f":"Composite!B215","v":"MAP3K20 (MLK7, ZAK)"},{"$f":"Composite!F215","v":"ZAK"},{"$f":"Composite!AP215","v":13.834916522740372},{"$f":"Composite!G215","v":"TKL"}]
[39,{"$f":"Composite!B68","v":"CDK2/CycA2"},{"$f":"Composite!F68","v":"CDK2/A2"},{"$f":"Composite!AP68","v":13.740346694733631},{"$f":"Composite!G68","v":"CMGC"}]
[40,{"$f":"Composite!B195","v":"LCK"},{"$f":"Composite!F195","v":"LCK"},{"$f":"Composite!AP195","v":13.572545469508682},{"$f":"Composite!G195","v":"TK"}]
[41,{"$f":"Composite!B126","v":"EIF2AK3 (PERK/PEK)"},{"$f":"Composite!F126","v":"PEK"},{"$f":"Composite!AP126","v":13.356138100406753},{"$f":"Composite!G126","v":"Other"}]
[42,{"$f":"Composite!B96","v":"CLK4"},{"$f":"Composite!F96","v":"CLK4"},{"$f":"Composite!AP96","v":13.31360946745562},{"$f":"Composite!G96","v":"CMGC"}]
[43,{"$f":"Composite!B74","v":"CDK3/CycE2"},{"$f":"Composite!F74","v":"CDK3/E2"},{"$f":"Composite!AP74","v":13.300263525034879},{"$f":"Composite!G74","v":"CMGC"}]
[44,{"$f":"Composite!B370","v":"SIK3 (QSK)"},{"$f":"Composite!F370","v":"SIK3"},{"$f":"Composite!AP370","v":13.112260419835707},{"$f":"Composite!G370","v":"CAMK"}]
[45,{"$f":"Composite!B199","v":"LTK"},{"$f":"Composite!F199","v":"LTK"},{"$f":"Composite!AP199","v":13.076741354558479},{"$f":"Composite!G199","v":"TK"}]
[46,{"$f":"Composite!B89","v":"CHEK1 (CHK1)"},{"$f":"Composite!F89","v":"CHK1"},{"$f":"Composite!AP89","v":12.927888792354452},{"$f":"Composite!G89","v":"CAMK"}]
[47,{"$f":"Composite!B169","v":"HCK"},{"$f":"Composite!F169","v":"HCK"},{"$f":"Composite!AP169","v":12.887721732236642},{"$f":"Composite!G169","v":"TK"}]
[48,{"$f":"Composite!B212","v":"MAP3K14 (NIK)"},{"$f":"Composite!F212","v":"MAP3K14"},{"$f":"Composite!AP212","v":12.771216698709154},{"$f":"Composite!G212","v":"STE"}]
[49,{"$f":"Composite!B312","v":"PNCK (CAMK1β)"},{"$f":"Composite!F312","v":"CAMK1B"},{"$f":"Composite!AP312","v":12.758107706039851},{"$f":"Composite!G312","v":"CAMK"}]
[50,{"$f":"Composite!B119","v":"DYRK2"},{"$f":"Composite!F119","v":"DYRK2"},{"$f":"Composite!AP119","v":12.476761252446167},{"$f":"Composite!G119","v":"CMGC"}]
[51,{"$f":"Composite!B310","v":"PLK3"},{"$f":"Composite!F310","v":"PLK3"},{"$f":"Composite!AP310","v":12.447526436048662},{"$f":"Composite!G310","v":"Other"}]
[52,{"$f":"Composite!B85","v":"CDK9 (TAK)/CycK"},{"$f":"Composite!F85","v":"CDK9/K"},{"$f":"Composite!AP85","v":12.377473363774726},{"$f":"Composite!G85","v":"CMGC"}]
[53,{"$f":"Composite!B58","v":"CDK1 (CDC2)/CycB1 "},{"$f":"Composite!F58","v":"CDK1/B1"},{"$f":"Composite!AP58","v":12.203898795120907},{"$f":"Composite!G58","v":"CMGC"}]
[54,{"$f":"Composite!B75","v":"CDK4 /CycD3"},{"$f":"Composite!F75","v":"CDK4/D3"},{"$f":"Composite!AP75","v":11.977571502615078},{"$f":"Composite!G75","v":"CMGC"}]
[55,{"$f":"Composite!B202","v":"MAK"},{"$f":"Composite!F202","v":"MAK"},{"$f":"Composite!AP202","v":11.810465193590574},{"$f":"Composite!G202","v":"Atypical"}]
[56,{"$f":"Composite!B40","v":"BTK"},{"$f":"Composite!F40","v":"BTK"},{"$f":"Composite!AP40","v":11.712610047627152},{"$f":"Composite!G40","v":"TK"}]
[57,{"$f":"Composite!B364","v":"SBK1 (SBK)"},{"$f":"Composite!F364","v":"SBK1"},{"$f":"Composite!AP364","v":11.711241677388003},{"$f":"Composite!G364","v":"Other"}]
[58,{"$f":"Composite!B67","v":"CDK2/CycA1"},{"$f":"Composite!F67","v":"CDK2/A1"},{"$f":"Composite!AP67","v":11.667305723723331},{"$f":"Composite!G67","v":"CMGC"}]
[59,{"$f":"Composite!B117","v":"DYRK1A"},{"$f":"Composite!F117","v":"DYRK1A"},{"$f":"Composite!AP117","v":11.602620065797609},{"$f":"Composite!G117","v":"CMGC"}]
[60,{"$f":"Composite!B290","v":"PBK (TOPK)"},{"$f":"Composite!F290","v":"TOPK"},{"$f":"Composite!AP290","v":11.517601705493121},{"$f":"Composite!G290","v":"Other"}]
[61,{"$f":"Composite!B385","v":"STK25 (YSK1)"},{"$f":"Composite!F385","v":"YSK1"},{"$f":"Composite!AP385","v":11.490501704822222},{"$f":"Composite!G385","v":"STE"}]
[62,{"$f":"Composite!B224","v":"MAP4K3 (GLK, KHS2)"},{"$f":"Composite!F224","v":"GLK/KHS2"},{"$f":"Composite!AP224","v":11.484027496967229},{"$f":"Composite!G224","v":"STE"}]
[63,{"$f":"Composite!B396","v":"TBK1"},{"$f":"Composite!F396","v":"TBK1"},{"$f":"Composite!AP396","v":11.19601384453324},{"$f":"Composite!G396","v":"Other"}]
[64,{"$f":"Composite!B57","v":"CDK1 (CDC2)/CycA2 "},{"$f":"Composite!F57","v":"CDK1/A2"},{"$f":"Composite!AP57","v":11.164968100091158},{"$f":"Composite!G57","v":"CMGC"}]
[65,{"$f":"Composite!B389","v":"STK38 (NDR1)"},{"$f":"Composite!F389","v":"NDR1"},{"$f":"Composite!AP389","v":11.096809530329992},{"$f":"Composite!G389","v":"AGC"}]
[66,{"$f":"Composite!B93","v":"CLK1"},{"$f":"Composite!F93","v":"CLK1"},{"$f":"Composite!AP93","v":11.065089857659501},{"$f":"Composite!G93","v":"CMGC"}]
[67,{"$f":"Composite!B292","v":"PDGFRB (PDGFRβ)"},{"$f":"Composite!F292","v":"PDGFRB"},{"$f":"Composite!AP292","v":10.684324996116203},{"$f":"Composite!G292","v":"TK"}]
[68,{"$f":"Composite!B281","v":"NUAK1 (ARK5)"},{"$f":"Composite!F281","v":"NUAK1"},{"$f":"Composite!AP281","v":10.671367457058693},{"$f":"Composite!G281","v":"CAMK"}]
[69,{"$f":"Composite!B392","v":"SYK"},{"$f":"Composite!F392","v":"SYK"},{"$f":"Composite!AP392","v":10.394197888091412},{"$f":"Composite!G392","v":"TK"}]
[70,{"$f":"Composite!B165","v":"GRK7 (GPRK7)"},{"$f":"Composite!F165","v":"GRK7"},{"$f":"Composite!AP165","v":10.376526438536985},{"$f":"Composite!G165","v":"AGC"}]
[71,{"$f":"Composite!B45","v":"CAMK2A (CAMK2α)"},{"$f":"Composite!F45","v":"CAMK2A"},{"$f":"Composite!AP45","v":10.235591495508118},{"$f":"Composite!G45","v":"CAMK"}]
[72,{"$f":"Composite!B321","v":"PRKAA2-B1-G3 (AMPKα2β1γ3)"},{"$f":"Composite!F321","v":"AMPK213"},{"$f":"Composite!AP321","v":10.075542394391704},{"$f":"Composite!G321","v":"CAMK"}]
[73,{"$f":"Composite!B54","v":"CDC42BPG (DMPK2)"},{"$f":"Composite!F54","v":"DMPK2"},{"$f":"Composite!AP54","v":10.030520298420697},{"$f":"Composite!G54","v":"AGC"}]
[74,{"$f":"Composite!B347","v":"PTK6 (BRK)"},{"$f":"Composite!F347","v":"PTK6"},{"$f":"Composite!AP347","v":9.9399633248763308},{"$f":"Composite!G347","v":"TK"}]
[75,{"$f":"Composite!B43","v":"CAMK1D (CAMK1δ)"},{"$f":"Composite!F43","v":"CAMK1D"},{"$f":"Composite!AP43","v":9.7789281760760645},{"$f":"Composite!G43","v":"CAMK"}]
[76,{"$f":"Composite!B214","v":"MAP3K2 (MEKK2)"},{"$f":"Composite!F214","v":"MAP3K2"},{"$f":"Composite!AP214","v":9.7624134136078027},{"$f":"Composite!G214","v":"STE"}]
[77,{"$f":"Composite!B21","v":"ABL1"},{"$f":"Composite!F21","v":"ABL1"},{"$f":"Composite!AP21","v":9.7072511037746949},{"$f":"Composite!G21","v":"TK"}]
[78,{"$f":"Composite!B84","v":"CDK7/CycH1"},{"$f":"Composite!F84","v":"CDK7/H1"},{"$f":"Composite!AP84","v":9.7050452781371348},{"$f":"Composite!G84","v":"CMGC"}]
[79,{"$f":"Composite!B186","v":"JAK2 [JH1]"},{"$f":"Composite!F186","v":"JAK2(JH1)"},{"$f":"Composite!AP186","v":9.6790170796785304},{"$f":"Composite!G186","v":"TK"}]
[80,{"$f":"Composite!B180","v":"INSRR (IRR)"},{"$f":"Composite!F180","v":"INSRR"},{"$f":"Composite!AP180","v":9.6349103478072919},{"$f":"Composite!G180","v":"TK"}]
[81,{"$f":"Composite!B351","v":"RIPK2"},{"$f":"Composite!F351","v":"RIPK2"},{"$f":"Composite!AP351","v":9.5475189234650912},{"$f":"Composite!G351","v":"TKL"}]
[82,{"$f":"Composite!B398","v":"TEK (TIE2)"},{"$f":"Composite!F398","v":"TEK"},{"$f":"Composite!AP398","v":9.4805575321250615},{"$f":"Composite!G398","v":"TK"}]
[83,{"$f":"Composite!B409","v":"TSSK6 (SSTK)"},{"$f":"Composite!F409","v":"TSSK6"},{"$f":"Composite!AP409","v":9.3423597678916934},{"$f":"Composite!G409","v":"CAMK"}]
[84,{"$f":"Composite!B70","v":"CDK2/CycE1"},{"$f":"Composite!F70","v":"CDK2/E1"},{"$f":"Composite!AP70","v":9.0751272074229092},{"$f":"Composite!G70","v":"CMGC"}]
[85,{"$f":"Composite!B152","v":"FLT1"},{"$f":"Composite!F152","v":"FLT1"},{"$f":"Composite!AP152","v":9.0644665391123311},{"$f":"Composite!G152","v":"TK"}]
[86,{"$f":"Composite!B141","v":"ERBB4 (HER4)"},{"$f":"Composite!F141","v":"HER4"},{"$f":"Composite!AP141","v":9.051810847744477},{"$f":"Composite!G141","v":"TK"}]
[87,{"$f":"Composite!B209","v":"MAP3K11 (MLK3)"},{"$f":"Composite!F209","v":"MAP3K11"},{"$f":"Composite!AP209","v":8.9466199400680466},{"$f":"Composite!G209","v":"TKL"}]
[88,{"$f":"Composite!B124","v":"EIF2AK1 (HRI)"},{"$f":"Composite!F124","v":"HRI"},{"$f":"Composite!AP124","v":8.8632514511529479},{"$f":"Composite!G124","v":"Other"}]
[89,{"$f":"Composite!B188","v":"JAK3 [JH1]"},{"$f":"Composite!F188","v":"JAK3(JH1)"},{"$f":"Composite!AP188","v":8.8019885480935756},{"$f":"Composite!G188","v":"TK"}]
[90,{"$f":"Composite!B134","v":"EPHA7"},{"$f":"Composite!F134","v":"EPHA7"},{"$f":"Composite!AP134","v":8.7843203993646171},{"$f":"Composite!G134","v":"TK"}]
[91,{"$f":"Composite!B259","v":"MYLK (smMLCK)"},{"$f":"Composite!F259","v":"MLCK"},{"$f":"Composite!AP259","v":8.5837916922588704},{"$f":"Composite!G259","v":"CAMK"}]
[92,{"$f":"Composite!B234","v":"MAPK3 (ERK1)"},{"$f":"Composite!F234","v":"ERK1"},{"$f":"Composite!AP234","v":8.5659969433779395},{"$f":"Composite!G234","v":"CAMK"}]
[93,{"$f":"Composite!B48","v":"CAMK2G (CAMK2γ)"},{"$f":"Composite!F48","v":"CAMK2G"},{"$f":"Composite!AP48","v":8.5370223439379487},{"$f":"Composite!G48","v":"CAMK"}]
[94,{"$f":"Composite!B42","v":"CAMK1 (CAMK1a)"},{"$f":"Composite!F42","v":"CAMK1A"},{"$f":"Composite!AP42","v":8.4700151840882825},{"$f":"Composite!G42","v":"CAMK"}]
[95,{"$f":"Composite!B65","v":"CDK17 (PCTAIRE2, PCTK2)/p35NCK"},{"$f":"Composite!F65","v":"CDK17/P35"},{"$f":"Composite!AP65","v":8.4638850111162895},{"$f":"Composite!G65","v":"CMGC"}]
[96,{"$f":"Composite!B61","v":"CDK13 (CHED)/CycK"},{"$f":"Composite!F61","v":"CDK13/K"},{"$f":"Composite!AP61","v":8.3838578039659524},{"$f":"Composite!G61","v":"CMGC"}]
[97,{"$f":"Composite!B80","v":"CDK6/CycD1"},{"$f":"Composite!F80","v":"CDK6/D1"},{"$f":"Composite!AP80","v":8.3240193730374159},{"$f":"Composite!G80","v":"CMGC"}]
[98,{"$f":"Composite!B66","v":"CDK18 (PCTAIRE3, PCTK3)/CycY "},{"$f":"Composite!F66","v":"CDK18"},{"$f":"Composite!AP66","v":8.2977937472715695},{"$f":"Composite!G66","v":"CMGC"}]
[99,{"$f":"Composite!B190","v":"KIT (SCFR, CD117)"},{"$f":"Composite!F190","v":"KIT"},{"$f":"Composite!AP190","v":8.2962062913460244},{"$f":"Composite!G190","v":"TK"}]
[100,{"$f":"Composite!B35","v":"BMX"},{"$f":"Composite!F35","v":"BMX"},{"$f":"Composite!AP35","v":8.2547448666482666},{"$f":"Composite!G35","v":"TK"}]
[101,{"$f":"Composite!B287","v":"PAK5 (PAK7)"},{"$f":"Composite!F287","v":"PAK5"},{"$f":"Composite!AP287","v":8.0768184667052907},{"$f":"Composite!G287","v":"STE"}]
[102,{"$f":"Composite!B377","v":"SRPK2"},{"$f":"Composite!F377","v":"SRPK2"},{"$f":"Composite!AP377","v":8.0135299549978782},{"$f":"Composite!G377","v":"CMGC"}]
[103,{"$f":"Composite!B323","v":"PRKAA2-B2-G2 (AMPKα2β2γ2)"},{"$f":"Composite!F323","v":"AMPK222"},{"$f":"Composite!AP323","v":7.8675547832802408},{"$f":"Composite!G323","v":"CAMK"}]
[104,{"$f":"Composite!B300","v":"PIM1"},{"$f":"Composite!F300","v":"PIM1"},{"$f":"Composite!AP300","v":7.8097712654938931},{"$f":"Composite!G300","v":"CAMK"}]
[105,{"$f":"Composite!B373","v":"SRC"},{"$f":"Composite!F373","v":"SRC"},{"$f":"Composite!AP373","v":7.5711150227090087},{"$f":"Composite!G373","v":"TK"}]
[106,{"$f":"Composite!B238","v":"MAPK9 (JNK2)"},{"$f":"Composite!F238","v":"JNK2"},{"$f":"Composite!AP238","v":7.5058389674246939},{"$f":"Composite!G238","v":"CMGC"}]
[107,{"$f":"Composite!B355","v":"ROS1 (ROS)"},{"$f":"Composite!F355","v":"ROS"},{"$f":"Composite!AP355","v":7.3834501250846643},{"$f":"Composite!G355","v":"TK"}]
[108,{"$f":"Composite!B155","v":"FRK"},{"$f":"Composite!F155","v":"FRK"},{"$f":"Composite!AP155","v":6.9898663386516802},{"$f":"Composite!G155","v":"TK"}]
[109,{"$f":"Composite!B78","v":"CDK5/p25"},{"$f":"Composite!F78","v":"CDK5/P25"},{"$f":"Composite!AP78","v":6.9867072389493927},{"$f":"Composite!G78","v":"CMGC"}]
[110,{"$f":"Composite!B22","v":"ABL2 (ARG)"},{"$f":"Composite!F22","v":"ABL2"},{"$f":"Composite!AP22","v":6.890994896980402},{"$f":"Composite!G22","v":"TK"}]
[111,{"$f":"Composite!B252","v":"MINK1 (MAP4K6, MINK, ZC3)"},{"$f":"Composite!F252","v":"MINK"},{"$f":"Composite!AP252","v":6.8579996843268276},{"$f":"Composite!G252","v":"STE"}]
[112,{"$f":"Composite!B397","v":"TEC"},{"$f":"Composite!F397","v":"TEC"},{"$f":"Composite!AP397","v":6.8236334870110937},{"$f":"Composite!G397","v":"TK"}]
[113,{"$f":"Composite!B129","v":"EPHA2"},{"$f":"Composite!F129","v":"EPHA2"},{"$f":"Composite!AP129","v":6.8167985392574479},{"$f":"Composite!G129","v":"TK"}]
[114,{"$f":"Composite!B288","v":"PAK6"},{"$f":"Composite!F288","v":"PAK6"},{"$f":"Composite!AP288","v":6.8165510643386682},{"$f":"Composite!G288","v":"STE"}]
[115,{"$f":"Composite!B140","v":"ERBB2 (HER2)"},{"$f":"Composite!F140","v":"HER2"},{"$f":"Composite!AP140","v":6.7260384225076422},{"$f":"Composite!G140","v":"TK"}]
[116,{"$f":"Composite!B405","v":"TRPM7 (CHAK1)"},{"$f":"Composite!F405","v":"CHAK1"},{"$f":"Composite!AP405","v":6.6968784369727246},{"$f":"Composite!G405","v":"Atypical"}]
[117,{"$f":"Composite!B298","v":"PHKG1"},{"$f":"Composite!F298","v":"PHKG1"},{"$f":"Composite!AP298","v":6.654623977409571},{"$f":"Composite!G298","v":"CAMK"}]
[118,{"$f":"Composite!B163","v":"GRK5 (GPRK5)"},{"$f":"Composite!F163","v":"GRK5"},{"$f":"Composite!AP163","v":6.6451794064144423},{"$f":"Composite!G163","v":"AGC"}]
[119,{"$f":"Composite!B26","v":"ALK"},{"$f":"Composite!F26","v":"ALK"},{"$f":"Composite!AP26","v":6.5421829910032443},{"$f":"Composite!G26","v":"TK"}]
[120,{"$f":"Composite!B314","v":"PRKAA1-B1-G2 (AMPKα1β1γ2)"},{"$f":"Composite!F314","v":"AMPK112"},{"$f":"Composite!AP314","v":6.5408465286921711},{"$f":"Composite!G314","v":"CAMK"}]
[121,{"$f":"Composite!B210","v":"MAP3K12 (DLK)"},{"$f":"Composite!F210","v":"MAP3K12"},{"$f":"Composite!AP210","v":6.4536340852130252},{"$f":"Composite!G210","v":"TKL"}]
[122,{"$f":"Composite!B408","v":"TSSK3"},{"$f":"Composite!F408","v":"TSSK3"},{"$f":"Composite!AP408","v":6.4402897756976785},{"$f":"Composite!G408","v":"CAMK"}]
[123,{"$f":"Composite!B253","v":"MLK4 (MAP3K21)"},{"$f":"Composite!F253","v":"MLK4"},{"$f":"Composite!AP253","v":6.4361598122922601},{"$f":"Composite!G253","v":"STE"}]
[124,{"$f":"Composite!B309","v":"PLK2"},{"$f":"Composite!F309","v":"PLK2"},{"$f":"Composite!AP309","v":6.4109454417026228},{"$f":"Composite!G309","v":"Other"}]
[125,{"$f":"Composite!B30","v":"AXL"},{"$f":"Composite!F30","v":"AXL"},{"$f":"Composite!AP30","v":6.3888389916771473},{"$f":"Composite!G30","v":"TK"}]
[126,{"$f":"Composite!B226","v":"MAP4K5 (KHS1)"},{"$f":"Composite!F226","v":"KHS1"},{"$f":"Composite!AP226","v":6.3355231533408158},{"$f":"Composite!G226","v":"STE"}]
[127,{"$f":"Composite!B112","v":"DCLK2 (DCAMKL2)"},{"$f":"Composite!F112","v":"DCAML2"},{"$f":"Composite!AP112","v":6.3245975219207651},{"$f":"Composite!G112","v":"CAMK"}]
[128,{"$f":"Composite!B236","v":"MAPK7 (BMK, ERK5)"},{"$f":"Composite!F236","v":"ERK5"},{"$f":"Composite!AP236","v":6.2839301940865369},{"$f":"Composite!G236","v":"CMGC"}]
[129,{"$f":"Composite!B225","v":"MAP4K4 (HGK, ZC1)"},{"$f":"Composite!F225","v":"HGK"},{"$f":"Composite!AP225","v":6.2503494157768102},{"$f":"Composite!G225","v":"STE"}]
[130,{"$f":"Composite!B407","v":"TSSK2"},{"$f":"Composite!F407","v":"TSSK2"},{"$f":"Composite!AP407","v":6.1420612813370496},{"$f":"Composite!G407","v":"CAMK"}]
[131,{"$f":"Composite!B95","v":"CLK3"},{"$f":"Composite!F95","v":"CLK3"},{"$f":"Composite!AP95","v":6.122210433562941},{"$f":"Composite!G95","v":"CMGC"}]
[132,{"$f":"Composite!B185","v":"JAK1 [JH1-JH2]"},{"$f":"Composite!F185","v":"JAK1(JH1JH2)"},{"$f":"Composite!AP185","v":6.068900597248188},{"$f":"Composite!G185","v":"TK"}]
[133,{"$f":"Composite!B254","v":"MNK1"},{"$f":"Composite!F254","v":"MNK1"},{"$f":"Composite!AP254","v":5.9782523881277996},{"$f":"Composite!G254","v":"CAMK"}]
[134,{"$f":"Composite!B216","v":"MAP3K3 (MEKK3)"},{"$f":"Composite!F216","v":"MAP3K3"},{"$f":"Composite!AP216","v":5.9780452321121516},{"$f":"Composite!G216","v":"STE"}]
[135,{"$f":"Composite!B146","v":"FES"},{"$f":"Composite!F146","v":"FES"},{"$f":"Composite!AP146","v":5.9345611106550251},{"$f":"Composite!G146","v":"TK"}]
[136,{"$f":"Composite!B315","v":"PRKAA1-B1-G3 (AMPKα1β1γ3)"},{"$f":"Composite!F315","v":"AMPK113"},{"$f":"Composite!AP315","v":5.8162751900007663},{"$f":"Composite!G315","v":"CAMK"}]
[137,{"$f":"Composite!B277","v":"NLK (LAK1)"},{"$f":"Composite!F277","v":"NLK"},{"$f":"Composite!AP277","v":5.7710332515063527},{"$f":"Composite!G277","v":"CMGC"}]
[138,{"$f":"Composite!B147","v":"FGFR1"},{"$f":"Composite!F147","v":"FGFR1"},{"$f":"Composite!AP147","v":5.706120654460932},{"$f":"Composite!G147","v":"TK"}]
[139,{"$f":"Composite!B106","v":"CSNK2A1 (CK2A1, CK2α1)"},{"$f":"Composite!F106","v":"CK2A1"},{"$f":"Composite!AP106","v":5.6857339765678887},{"$f":"Composite!G106","v":"Other"}]
[140,{"$f":"Composite!B105","v":"CSNK1G3 (CK1G3, CK1γ3)"},{"$f":"Composite!F105","v":"CK1G3"},{"$f":"Composite!AP105","v":5.6486205806655505},{"$f":"Composite!G105","v":"CK1"}]
[141,{"$f":"Composite!B341","v":"PRKDC (DNA-PK)"},{"$f":"Composite!F341","v":"DNA-PK"},{"$f":"Composite!AP341","v":5.6073742527152746},{"$f":"Composite!G341","v":"Atypical"}]
[142,{"$f":"Composite!B257","v":"mTOR (FRAP)"},{"$f":"Composite!F257","v":"mTOR"},{"$f":"Composite!AP257","v":5.5913823540007854},{"$f":"Composite!G257","v":"Atypical"}]
[143,{"$f":"Composite!B380","v":"STK11 (LKB1, AMPKK)"},{"$f":"Composite!F380","v":"LKB1"},{"$f":"Composite!AP380","v":5.4851343384148947},{"$f":"Composite!G380","v":"CAMK"}]
[144,{"$f":"Composite!B72","v":"CDK2/CycO"},{"$f":"Composite!F72","v":"CDK2/O"},{"$f":"Composite!AP72","v":5.4063243794627738},{"$f":"Composite!G72","v":"CMGC"}]
[145,{"$f":"Composite!B295","v":"PDK3 (PDHK3)"},{"$f":"Composite!F295","v":"PDHK3"},{"$f":"Composite!AP295","v":5.2163170968213137},{"$f":"Composite!G295","v":"Atypical"}]
[146,{"$f":"Composite!B211","v":"MAP3K13 (LZK)"},{"$f":"Composite!F211","v":"MAP3K13"},{"$f":"Composite!AP211","v":5.2096464784872296},{"$f":"Composite!G211","v":"TKL"}]
[147,{"$f":"Composite!B198","v":"LRRK2"},{"$f":"Composite!F198","v":"LRRK2"},{"$f":"Composite!AP198","v":5.1233396584440101},{"$f":"Composite!G198","v":"TKL"}]
[148,{"$f":"Composite!B291","v":"PDGFRA (PDGFRα)"},{"$f":"Composite!F291","v":"PDGFRA"},{"$f":"Composite!AP291","v":5.0630855038717755},{"$f":"Composite!G291","v":"TK"}]
[149,{"$f":"Composite!B217","v":"MAP3K5 (ASK1)"},{"$f":"Composite!F217","v":"MAP3K5"},{"$f":"Composite!AP217","v":5.0150985848777339},{"$f":"Composite!G217","v":"STE"}]
[150,{"$f":"Composite!B322","v":"PRKAA2-B2-G1 (AMPKα2β2γ1)"},{"$f":"Composite!F322","v":"AMPK221"},{"$f":"Composite!AP322","v":4.9470466984149652},{"$f":"Composite!G322","v":"CAMK"}]
[151,{"$f":"Composite!B166","v":"GSK3A (GSK3α)"},{"$f":"Composite!F166","v":"GSK3A"},{"$f":"Composite!AP166","v":4.7740420413540221},{"$f":"Composite!G166","v":"CMGC"}]
[152,{"$f":"Composite!B145","v":"FER"},{"$f":"Composite!F145","v":"FER"},{"$f":"Composite!AP145","v":4.7617086696315312},{"$f":"Composite!G145","v":"TK"}]
[153,{"$f":"Composite!B339","v":"PRKD2 (PKD2)"},{"$f":"Composite!F339","v":"PKD2"},{"$f":"Composite!AP339","v":4.7200758128007152},{"$f":"Composite!G339","v":"CAMK"}]
[154,{"$f":"Composite!B220","v":"MAP3K8 (COT, Tpl2)"},{"$f":"Composite!F220","v":"MAP3K8"},{"$f":"Composite!AP220","v":4.65060758707952},{"$f":"Composite!G220","v":"STE"}]
[155,{"$f":"Composite!B23","v":"AKT1 (PKB)"},{"$f":"Composite!F23","v":"AKT1"},{"$f":"Composite!AP23","v":4.6038146599708227},{"$f":"Composite!G23","v":"AGC"}]
[156,{"$f":"Composite!B297","v":"PDPK1 (PDK1)"},{"$f":"Composite!F297","v":"PDK1"},{"$f":"Composite!AP297","v":4.5537261698440261},{"$f":"Composite!G297","v":"AGC"}]
[157,{"$f":"Composite!B187","v":"JAK2 [JH1-JH2]"},{"$f":"Composite!F187","v":"JAK2(JH1JH2)"},{"$f":"Composite!AP187","v":4.5356079068507995},{"$f":"Composite!G187","v":"TK"}]
[158,{"$f":"Composite!B121","v":"DYRK4"},{"$f":"Composite!F121","v":"DYRK4"},{"$f":"Composite!AP121","v":4.5263885687946726},{"$f":"Composite!G121","v":"CMGC"}]
[159,{"$f":"Composite!B348","v":"RAF1 [Y340E/Y341E]"},{"$f":"Composite!F348","v":"RAF1"},{"$f":"Composite!AP348","v":4.4552868691905161},{"$f":"Composite!G348","v":"TKL"}]
[160,{"$f":"Composite!B268","v":"NEK2"},{"$f":"Composite!F268","v":"NEK2"},{"$f":"Composite!AP268","v":4.4278256205746374},{"$f":"Composite!G268","v":"Other"}]
[161,{"$f":"Composite!B265","v":"NEK1"},{"$f":"Composite!F265","v":"NEK1"},{"$f":"Composite!AP265","v":4.3875922170930721},{"$f":"Composite!G265","v":"Other"}]
[162,{"$f":"Composite!B272","v":"NEK6"},{"$f":"Composite!F272","v":"NEK6"},{"$f":"Composite!AP272","v":4.2081197016513272},{"$f":"Composite!G272","v":"Other"}]
[163,{"$f":"Composite!B50","v":"CAMKK1"},{"$f":"Composite!F50","v":"CAMKK1"},{"$f":"Composite!AP50","v":4.1076341797656539},{"$f":"Composite!G50","v":"Other"}]
[164,{"$f":"Composite!B213","v":"MAP3K19 (YSK4)"},{"$f":"Composite!F213","v":"YSK4"},{"$f":"Composite!AP213","v":4.0919282511210611},{"$f":"Composite!G213","v":"STE"}]
[165,{"$f":"Composite!B367","v":"SGK3"},{"$f":"Composite!F367","v":"SGK3"},{"$f":"Composite!AP367","v":3.9692281798369606},{"$f":"Composite!G367","v":"AGC"}]
[166,{"$f":"Composite!B308","v":"PLK1"},{"$f":"Composite!F308","v":"PLK1"},{"$f":"Composite!AP308","v":3.9561118508654971},{"$f":"Composite!G308","v":"Other"}]
[167,{"$f":"Composite!B137","v":"EPHB2"},{"$f":"Composite!F137","v":"EPHB2"},{"$f":"Composite!AP137","v":3.9272705318870607},{"$f":"Composite!G137","v":"TK"}]
[168,{"$f":"Composite!B258","v":"MUSK"},{"$f":"Composite!F258","v":"MUSK"},{"$f":"Composite!AP258","v":3.8478971735681853},{"$f":"Composite!G258","v":"TK"}]
[169,{"$f":"Composite!B178","v":"IKKE (IKKe)"},{"$f":"Composite!F178","v":"IKKE"},{"$f":"Composite!AP178","v":3.8425492033739346},{"$f":"Composite!G178","v":"Other"}]
[170,{"$f":"Composite!B204","v":"MAP2K2 (MEK2)"},{"$f":"Composite!F204","v":"MEK2"},{"$f":"Composite!AP204","v":3.8163257604347223},{"$f":"Composite!G204","v":"STE"}]
[171,{"$f":"Composite!B369","v":"SIK2 (QIK)"},{"$f":"Composite!F369","v":"SIK2"},{"$f":"Composite!AP369","v":3.7457326232418211},{"$f":"Composite!G369","v":"CAMK"}]
[172,{"$f":"Composite!B170","v":"HIPK1"},{"$f":"Composite!F170","v":"HIPK1"},{"$f":"Composite!AP170","v":3.6799684929471823},{"$f":"Composite!G170","v":"CMGC"}]
[173,{"$f":"Composite!B229","v":"MAPK11 (p38b)"},{"$f":"Composite!F229","v":"P38B"},{"$f":"Composite!AP229","v":3.6718821484124931},{"$f":"Composite!G229","v":"CMGC"}]
[174,{"$f":"Composite!B49","v":"CAMK4"},{"$f":"Composite!F49","v":"CAMK4"},{"$f":"Composite!AP49","v":3.6387303467218288},{"$f":"Composite!G49","v":"CAMK"}]
[175,{"$f":"Composite!B270","v":"NEK4"},{"$f":"Composite!F270","v":"NEK4"},{"$f":"Composite!AP270","v":3.5493178698490198},{"$f":"Composite!G270","v":"Other"}]
[176,{"$f":"Composite!B243","v":"MARK2"},{"$f":"Composite!F243","v":"MARK2"},{"$f":"Composite!AP243","v":3.5344737936771935},{"$f":"Composite!G243","v":"CAMK"}]
[177,{"$f":"Composite!B372","v":"SNRK"},{"$f":"Composite!F372","v":"SNRK"},{"$f":"Composite!AP372","v":3.5150478612426923},{"$f":"Composite!G372","v":"CAMK"}]
[178,{"$f":"Composite!B138","v":"EPHB3"},{"$f":"Composite!F138","v":"EPHB3"},{"$f":"Composite!AP138","v":3.4526388436248112},{"$f":"Composite!G138","v":"TK"}]
[179,{"$f":"Composite!B25","v":"AKT3 (PKBg)"},{"$f":"Composite!F25","v":"AKT3"},{"$f":"Composite!AP25","v":3.3350487783048663},{"$f":"Composite!G25","v":"AGC"}]
[180,{"$f":"Composite!B362","v":"RPS6KB1 (p70S6K)"},{"$f":"Composite!F362","v":"P70S6KA"},{"$f":"Composite!AP362","v":3.3185534155466172},{"$f":"Composite!G362","v":"AGC"}]
[181,{"$f":"Composite!B107","v":"CSNK2A2 (CK2A2, CK2α2)"},{"$f":"Composite!F107","v":"CK2A2"},{"$f":"Composite!AP107","v":3.3155325492251535},{"$f":"Composite!G107","v":"Other"}]
[182,{"$f":"Composite!B97","v":"CSF1R (FMS)"},{"$f":"Composite!F97","v":"FMS/CSF1R"},{"$f":"Composite!AP97","v":3.2749384441338805},{"$f":"Composite!G97","v":"TK"}]
[183,{"$f":"Composite!B411","v":"TTBK2"},{"$f":"Composite!F411","v":"TTBK2"},{"$f":"Composite!AP411","v":3.2529899767082924},{"$f":"Composite!G411","v":"CK1"}]
[184,{"$f":"Composite!B139","v":"EPHB4"},{"$f":"Composite!F139","v":"EPHB4"},{"$f":"Composite!AP139","v":3.1962881814666844},{"$f":"Composite!G139","v":"TK"}]
[185,{"$f":"Composite!B79","v":"CDK5/p35NCK"},{"$f":"Composite!F79","v":"CDK5/P35"},{"$f":"Composite!AP79","v":3.1422390481341296},{"$f":"Composite!G79","v":"CMGC"}]
[186,{"$f":"Composite!B247","v":"MASTL"},{"$f":"Composite!F247","v":"MASTL"},{"$f":"Composite!AP247","v":3.1345582943504837},{"$f":"Composite!G247","v":"AGC"}]
[187,{"$f":"Composite!B157","v":"FYNb (FYN)"},{"$f":"Composite!F157","v":"FYNB"},{"$f":"Composite!AP157","v":3.0711971510429379},{"$f":"Composite!G157","v":"TK"}]
[188,{"$f":"Composite!B159","v":"GRK1 (RHOK)"},{"$f":"Composite!F159","v":"GRK1"},{"$f":"Composite!AP159","v":3.0693690380913381},{"$f":"Composite!G159","v":"AGC"}]
[189,{"$f":"Composite!B227","v":"MAPK1 (ERK2)"},{"$f":"Composite!F227","v":"ERK2"},{"$f":"Composite!AP227","v":3.0650340559339355},{"$f":"Composite!G227","v":"CMGC"}]
[190,{"$f":"Composite!B133","v":"EPHA6"},{"$f":"Composite!F133","v":"EPHA6"},{"$f":"Composite!AP133","v":3.0399205973663044},{"$f":"Composite!G133","v":"TK"}]
[191,{"$f":"Composite!B403","v":"TNK1"},{"$f":"Composite!F403","v":"TNK1"},{"$f":"Composite!AP403","v":3.0374818220199984},{"$f":"Composite!G403","v":"TK"}]
[192,{"$f":"Composite!B143","v":"ERN2 (IRE2)"},{"$f":"Composite!F143","v":"ERN2"},{"$f":"Composite!AP143","v":2.9097352101585017},{"$f":"Composite!G143","v":"Other"}]
[193,{"$f":"Composite!B111","v":"DCLK1 (DCAMKL1)"},{"$f":"Composite!F111","v":"DCAML1"},{"$f":"Composite!AP111","v":2.9051313947196746},{"$f":"Composite!G111","v":"CAMK"}]
[194,{"$f":"Composite!B320","v":"PRKAA2-B1-G2 (AMPKα2β1γ2)"},{"$f":"Composite!F320","v":"AMPK212"},{"$f":"Composite!AP320","v":2.901229186644585},{"$f":"Composite!G320","v":"CAMK"}]
[195,{"$f":"Composite!B406","v":"TSSK1B (TSSK1)"},{"$f":"Composite!F406","v":"TSSK1"},{"$f":"Composite!AP406","v":2.89893854250289},{"$f":"Composite!G406","v":"CAMK"}]
[196,{"$f":"Composite!B421","v":"YES1 (YES)"},{"$f":"Composite!F421","v":"YES"},{"$f":"Composite!AP421","v":2.8360953611068709},{"$f":"Composite!G421","v":"TK"}]
[197,{"$f":"Composite!B269","v":"NEK3"},{"$f":"Composite!F269","v":"NEK3"},{"$f":"Composite!AP269","v":2.8197603119158998},{"$f":"Composite!G269","v":"Other"}]
[198,{"$f":"Composite!B171","v":"HIPK2"},{"$f":"Composite!F171","v":"HIPK2"},{"$f":"Composite!AP171","v":2.7454811919882616},{"$f":"Composite!G171","v":"CMGC"}]
[199,{"$f":"Composite!B29","v":"AURKC (AURC)"},{"$f":"Composite!F29","v":"AURC"},{"$f":"Composite!AP29","v":2.7399745962620159},{"$f":"Composite!G29","v":"Other"}]
[200,{"$f":"Composite!B136","v":"EPHB1"},{"$f":"Composite!F136","v":"EPHB1"},{"$f":"Composite!AP136","v":2.6613435069033358},{"$f":"Composite!G136","v":"TK"}]
[201,{"$f":"Composite!B207","v":"MAP3K1 (MEKK1)"},{"$f":"Composite!F207","v":"MAP3K1"},{"$f":"Composite!AP207","v":2.6516554329308946},{"$f":"Composite!G207","v":"STE"}]
[202,{"$f":"Composite!B24","v":"AKT2 (PKBb)"},{"$f":"Composite!F24","v":"AKT2"},{"$f":"Composite!AP24","v":2.277836055747045},{"$f":"Composite!G24","v":"AGC"}]
[203,{"$f":"Composite!B282","v":"NUAK2 (SNARK)"},{"$f":"Composite!F282","v":"NUAK2"},{"$f":"Composite!AP282","v":2.2637626479163089},{"$f":"Composite!G282","v":"CAMK"}]
[204,{"$f":"Composite!B82","v":"CDK6/CycD3"},{"$f":"Composite!F82","v":"CDK6/D3"},{"$f":"Composite!AP82","v":2.2513170345889222},{"$f":"Composite!G82","v":"CMGC"}]
[205,{"$f":"Composite!B167","v":"GSK3B (GSK3β)"},{"$f":"Composite!F167","v":"GSK3B"},{"$f":"Composite!AP167","v":2.2311842036348537},{"$f":"Composite!G167","v":"CMGC"}]
[206,{"$f":"Composite!B160","v":"GRK2 (ADRBK1, BARK1)"},{"$f":"Composite!F160","v":"GRK2"},{"$f":"Composite!AP160","v":2.2230498548788944},{"$f":"Composite!G160","v":"AGC"}]
[207,{"$f":"Composite!B267","v":"NEK11"},{"$f":"Composite!F267","v":"NEK11"},{"$f":"Composite!AP267","v":2.1880785784702823},{"$f":"Composite!G267","v":"Other"}]
[208,{"$f":"Composite!B183","v":"ITK"},{"$f":"Composite!F183","v":"ITK"},{"$f":"Composite!AP183","v":2.1626602346947124},{"$f":"Composite!G183","v":"TK"}]
[209,{"$f":"Composite!B104","v":"CSNK1G2 (CK1G2, CK1γ2)"},{"$f":"Composite!F104","v":"CK1G2"},{"$f":"Composite!AP104","v":2.0959799250089191},{"$f":"Composite!G104","v":"CK1"}]
[210,{"$f":"Composite!B263","v":"MYO3A"},{"$f":"Composite!F263","v":"MYO3A"},{"$f":"Composite!AP263","v":2.0856344056330158},{"$f":"Composite!G263","v":"STE"}]
[211,{"$f":"Composite!B41","v":"BUB1"},{"$f":"Composite!F41","v":"BUB1"},{"$f":"Composite!AP41","v":2.0830616768809591},{"$f":"Composite!G41","v":"Other"}]
[212,{"$f":"Composite!B382","v":"STK17A (DRAK1)"},{"$f":"Composite!F382","v":"DRAK1"},{"$f":"Composite!AP382","v":1.909461095418024},{"$f":"Composite!G382","v":"CAMK"}]
[213,{"$f":"Composite!B255","v":"MNK2"},{"$f":"Composite!F255","v":"MNK2"},{"$f":"Composite!AP255","v":1.8504645670110449},{"$f":"Composite!G255","v":"CAMK"}]
[214,{"$f":"Composite!B64","v":"CDK17 (PCTAIRE2, PCTK2)/CycY"},{"$f":"Composite!F64","v":"CDK17"},{"$f":"Composite!AP64","v":1.822600243013369},{"$f":"Composite!G64","v":"CMGC"}]
[215,{"$f":"Composite!B356","v":"RPS6KA1 (RSK1)"},{"$f":"Composite!F356","v":"RSK1"},{"$f":"Composite!AP356","v":1.7889979205691589},{"$f":"Composite!G356","v":"AGC"}]
[216,{"$f":"Composite!B318","v":"PRKAA1-B2-G3 (AMPKα1β2γ3)"},{"$f":"Composite!F318","v":"AMPK123"},{"$f":"Composite!AP318","v":1.7707738783010569},{"$f":"Composite!G318","v":"CAMK"}]
[217,{"$f":"Composite!B239","v":"MAPKAPK2 (MK2)"},{"$f":"Composite!F239","v":"MK2"},{"$f":"Composite!AP239","v":1.7544222490759722},{"$f":"Composite!G239","v":"CAMK"}]
[218,{"$f":"Composite!B148","v":"FGFR2"},{"$f":"Composite!F148","v":"FGFR2"},{"$f":"Composite!AP148","v":1.7505470459518904},{"$f":"Composite!G148","v":"TK"}]
[219,{"$f":"Composite!B412","v":"TTK"},{"$f":"Composite!F412","v":"TTK"},{"$f":"Composite!AP412","v":1.6729415353493096},{"$f":"Composite!G412","v":"Other"}]
[220,{"$f":"Composite!B393","v":"TAOK1 (TAO1)"},{"$f":"Composite!F393","v":"TAOK1"},{"$f":"Composite!AP393","v":1.6389211511162785},{"$f":"Composite!G393","v":"STE"}]
[221,{"$f":"Composite!B276","v":"NIM1 (NIM1K)"},{"$f":"Composite!F276","v":"NIM1"},{"$f":"Composite!AP276","v":1.6030296514408917},{"$f":"Composite!G276","v":"CAMK"}]
[222,{"$f":"Composite!B240","v":"MAPKAPK3 (MK3)"},{"$f":"Composite!F240","v":"MK3"},{"$f":"Composite!AP240","v":1.5283340238457157},{"$f":"Composite!G240","v":"CAMK"}]
[223,{"$f":"Composite!B346","v":"PTK2B (PYK2)"},{"$f":"Composite!F346","v":"PTK2B"},{"$f":"Composite!AP346","v":1.4532673588174418},{"$f":"Composite!G346","v":"TK"}]
[224,{"$f":"Composite!B273","v":"NEK7"},{"$f":"Composite!F273","v":"NEK7"},{"$f":"Composite!AP273","v":1.4223402237815037},{"$f":"Composite!G273","v":"Other"}]
[225,{"$f":"Composite!B109","v":"DAPK2 (DRP-1)"},{"$f":"Composite!F109","v":"DAPK2"},{"$f":"Composite!AP109","v":1.4062806398296743},{"$f":"Composite!G109","v":"CAMK"}]
[226,{"$f":"Composite!B289","v":"PASK"},{"$f":"Composite!F289","v":"PASK"},{"$f":"Composite!AP289","v":1.3723208224226511},{"$f":"Composite!G289","v":"CAMK"}]
[227,{"$f":"Composite!B221","v":"MAP3K9 (MLK1)"},{"$f":"Composite!F221","v":"MAP3K9"},{"$f":"Composite!AP221","v":1.3452248234856796},{"$f":"Composite!G221","v":"TKL"}]
[228,{"$f":"Composite!B33","v":"BLK"},{"$f":"Composite!F33","v":"BLK"},{"$f":"Composite!AP33","v":1.3440603514133187},{"$f":"Composite!G33","v":"TK"}]
[229,{"$f":"Composite!B150","v":"FGFR4"},{"$f":"Composite!F150","v":"FGFR4"},{"$f":"Composite!AP150","v":1.2852621439383682},{"$f":"Composite!G150","v":"TK"}]
[230,{"$f":"Composite!B352","v":"RIPK3"},{"$f":"Composite!F352","v":"RIPK3"},{"$f":"Composite!AP352","v":1.213592233009706},{"$f":"Composite!G352","v":"TKL"}]
[231,{"$f":"Composite!B173","v":"HIPK4"},{"$f":"Composite!F173","v":"HIPK4"},{"$f":"Composite!AP173","v":1.1792910746997052},{"$f":"Composite!G173","v":"CMGC"}]
[232,{"$f":"Composite!B181","v":"IRAK1"},{"$f":"Composite!F181","v":"IRAK1"},{"$f":"Composite!AP181","v":1.1677545086151184},{"$f":"Composite!G181","v":"TKL"}]
[233,{"$f":"Composite!B325","v":"PRKACA (PKACA, PKACα)"},{"$f":"Composite!F325","v":"PKACA"},{"$f":"Composite!AP325","v":1.1379320921387546},{"$f":"Composite!G325","v":"AGC"}]
[234,{"$f":"Composite!B192","v":"KSR2"},{"$f":"Composite!F192","v":"KSR2"},{"$f":"Composite!AP192","v":1.1190465758226225},{"$f":"Composite!G192","v":"TKL"}]
[235,{"$f":"Composite!B387","v":"STK3 (CLIK1, MST2)"},{"$f":"Composite!F387","v":"MST2"},{"$f":"Composite!AP387","v":1.0875396244818347},{"$f":"Composite!G387","v":"STE"}]
[236,{"$f":"Composite!B237","v":"MAPK8 (JNK1)"},{"$f":"Composite!F237","v":"JNK1"},{"$f":"Composite!AP237","v":1.0856548594478852},{"$f":"Composite!G237","v":"CMGC"}]
[237,{"$f":"Composite!B151","v":"FGR"},{"$f":"Composite!F151","v":"FGR"},{"$f":"Composite!AP151","v":1.0577833912220171},{"$f":"Composite!G151","v":"TK"}]
[238,{"$f":"Composite!B338","v":"PRKD1 (PKD1)"},{"$f":"Composite!F338","v":"PKD1"},{"$f":"Composite!AP338","v":1.0417578569552717},{"$f":"Composite!G338","v":"CAMK"}]
[239,{"$f":"Composite!B153","v":"FLT3"},{"$f":"Composite!F153","v":"FLT3"},{"$f":"Composite!AP153","v":1.0294767389924004},{"$f":"Composite!G153","v":"TK"}]
[240,{"$f":"Composite!B354","v":"ROCK2"},{"$f":"Composite!F354","v":"ROCK2"},{"$f":"Composite!AP354","v":0.66408608260233848},{"$f":"Composite!G354","v":"AGC"}]
[241,{"$f":"Composite!B250","v":"MERTK (MER)"},{"$f":"Composite!F250","v":"MERTK"},{"$f":"Composite!AP250","v":0.62396713361235356},{"$f":"Composite!G250","v":"TK"}]
[242,{"$f":"Composite!B208","v":"MAP3K10 (MLK2)"},{"$f":"Composite!F208","v":"MAP3K10"},{"$f":"Composite!AP208","v":0.54133012545109693},{"$f":"Composite!G208","v":"TKL"}]
[243,{"$f":"Composite!B343","v":"PRKG2 (PKG2, PGK2, CGK2)"},{"$f":"Composite!F343","v":"PGK2"},{"$f":"Composite!AP343","v":0.52853271805329882},{"$f":"Composite!G343","v":"AGC"}]
[244,{"$f":"Composite!B404","v":"TNK2 (ACK)"},{"$f":"Composite!F404","v":"TNK2"},{"$f":"Composite!AP404","v":0.48819611535375884},{"$f":"Composite!G404","v":"TK"}]
[245,{"$f":"Composite!B114","v":"DDR2"},{"$f":"Composite!F114","v":"DDR2"},{"$f":"Composite!AP114","v":0.43508266570648857},{"$f":"Composite!G114","v":"TK"}]
[246,{"$f":"Composite!B231","v":"MAPK13 (p38δ)"},{"$f":"Composite!F231","v":"P38D"},{"$f":"Composite!AP231","v":0.43260670805067036},{"$f":"Composite!G231","v":"CMGC"}]
[247,{"$f":"Composite!B62","v":"CDK14 (PFTAIRE1, PFTK1)/CycY"},{"$f":"Composite!F62","v":"CDK14"},{"$f":"Composite!AP62","v":0.42940638543200293},{"$f":"Composite!G62","v":"CMGC"}]
[248,{"$f":"Composite!B184","v":"JAK1 [JH1]"},{"$f":"Composite!F184","v":"JAK1(JH1)"},{"$f":"Composite!AP184","v":0.33016301799013092},{"$f":"Composite!G184","v":"TK"}]
[249,{"$f":"Composite!B135","v":"EPHA8"},{"$f":"Composite!F135","v":"EPHA8"},{"$f":"Composite!AP135","v":0.26873076393036399},{"$f":"Composite!G135","v":"TK"}]
[250,{"$f":"Composite!B63","v":"CDK16 (PCTAIRE1, PCTK1)/CycY "},{"$f":"Composite!F63","v":"CDK16"},{"$f":"Composite!AP63","v":0.17227973350001946},{"$f":"Composite!G63","v":"CMGC"}]
[251,{"$f":"Composite!B83","v":"CDK7/CycH/MAT1"},{"$f":"Composite!F83","v":"CDK7"},{"$f":"Composite!AP83","v":0.16708480448006924},{"$f":"Composite!G83","v":"CMGC"}]
[252,{"$f":"Composite!B219","v":"MAP3K7 (TAK1)"},{"$f":"Composite!F219","v":"MAP3K7"},{"$f":"Composite!AP219","v":0.15508684863522149},{"$f":"Composite!G219","v":"STE"}]
[253,{"$f":"Composite!B275","v":"NEK9"},{"$f":"Composite!F275","v":"NEK9"},{"$f":"Composite!AP275","v":0.11127221229391182},{"$f":"Composite!G275","v":"Other"}]
[254,{"$f":"Composite!B391","v":"STK4 (MST1)"},{"$f":"Composite!F391","v":"MST1"},{"$f":"Composite!AP391","v":2.881542411066107E-2},{"$f":"Composite!G391","v":"STE"}]
[255,{"$f":"Composite!B376","v":"SRPK1"},{"$f":"Composite!F376","v":"SRPK1"},{"$f":"Composite!AP376","v":1.7787264318741336E-2},{"$f":"Composite!G376","v":"CMGC"}]
[256,{"$f":"Composite!B60","v":"CDK12 (CRK7)/CycK"},{"$f":"Composite!F60","v":"CDK12/K"},{"$f":"Composite!AP60","v":0},{"$f":"Composite!G60","v":"CMGC"}]
[257,{"$f":"Composite!B69","v":"CDK2/CycD1"},{"$f":"Composite!F69","v":"CDK2/D1"},{"$f":"Composite!AP69","v":0},{"$f":"Composite!G69","v":"CMGC"}]
[258,{"$f":"Composite!B206","v":"MAP2K4 (MEK4)"},{"$f":"Composite!F206","v":"MEK4(HIS)"},{"$f":"Composite!AP206","v":0},{"$f":"Composite!G206","v":"STE"}]
[259,{"$f":"Composite!B235","v":"MAPK6 (ERK3)"},{"$f":"Composite!F235","v":"ERK3"},{"$f":"Composite!AP235","v":0},{"$f":"Composite!G235","v":"CMGC"}]
[260,{"$f":"Composite!B274","v":"NEK8"},{"$f":"Composite!F274","v":"NEK8"},{"$f":"Composite!AP274","v":0},{"$f":"Composite!G274","v":"Other"}]
[261,{"$f":"Composite!B415","v":"TYK2 [JH1-JH2]"},{"$f":"Composite!F415","v":"TYK2(JH1JH2)"},{"$f":"Composite!AP415","v":0},{"$f":"Composite!G415","v":"TK"}]
[262,{"$f":"Composite!B420","v":"WEE1"},{"$f":"Composite!F420","v":"WEE1"},{"$f":"Composite!AP420","v":0},{"$f":"Composite!G420","v":"Other"}]
[263,{"$f":"Composite!B423","v":0},{"$f":"Composite!F423","v":0},{"$f":"Composite!AP423","v":0},{"$f":"Composite!G423","v":0}]
[264,{"$f":"Composite!B424","v":0},{"$f":"Composite!F424","v":0},{"$f":"Composite!AP424","v":0},{"$f":"Composite!G424","v":0}]
[265,{"$f":"Composite!B425","v":0},{"$f":"Composite!F425","v":0},{"$f":"Composite!AP425","v":0},{"$f":"Composite!G425","v":0}]
[266,{"$f":"Composite!B426","v":0},{"$f":"Composite!F426","v":0},{"$f":"Composite!AP426","v":0},{"$f":"Composite!G426","v":0}]
[267,{"$f":"Composite!B427","v":0},{"$f":"Composite!F427","v":0},{"$f":"Composite!AP427","v":0},{"$f":"Composite!G427","v":0}]
[268,{"$f":"Composite!B428","v":0},{"$f":"Composite!F428","v":0},{"$f":"Composite!AP428","v":0},{"$f":"Composite!G428","v":0}]
[269,{"$f":"Composite!B429","v":0},{"$f":"Composite!F429","v":0},{"$f":"Composite!AP429","v":0},{"$f":"Composite!G429","v":0}]
[270,{"$f":"Composite!B430","v":0},{"$f":"Composite!F430","v":0},{"$f":"Composite!AP430","v":0},{"$f":"Composite!G430","v":0}]
[271,{"$f":"Composite!B431","v":0},{"$f":"Composite!F431","v":0},{"$f":"Composite!AP431","v":0},{"$f":"Composite!G431","v":0}]
[272,{"$f":"Composite!B432","v":0},{"$f":"Composite!F432","v":0},{"$f":"Composite!AP432","v":0},{"$f":"Composite!G432","v":0}]
[273,{"$f":"Composite!B433","v":0},{"$f":"Composite!F433","v":0},{"$f":"Composite!AP433","v":0},{"$f":"Composite!G433","v":0}]
[274,{"$f":"Composite!B434","v":0},{"$f":"Composite!F434","v":0},{"$f":"Composite!AP434","v":0},{"$f":"Composite!G434","v":0}]
[275,{"$f":"Composite!B435","v":0},{"$f":"Composite!F435","v":0},{"$f":"Composite!AP435","v":0},{"$f":"Composite!G435","v":0}]
[276,{"$f":"Composite!B436","v":0},{"$f":"Composite!F436","v":0},{"$f":"Composite!AP436","v":0},{"$f":"Composite!G436","v":0}]
[277,{"$f":"Composite!B437","v":0},{"$f":"Composite!F437","v":0},{"$f":"Composite!AP437","v":0},{"$f":"Composite!G437","v":0}]
[278,{"$f":"Composite!B438","v":0},{"$f":"Composite!F438","v":0},{"$f":"Composite!AP438","v":0},{"$f":"Composite!G438","v":0}]
[279,{"$f":"Composite!B439","v":0},{"$f":"Composite!F439","v":0},{"$f":"Composite!AP439","v":0},{"$f":"Composite!G439","v":0}]
[280,{"$f":"Composite!B440","v":0},{"$f":"Composite!F440","v":0},{"$f":"Composite!AP440","v":0},{"$f":"Composite!G440","v":0}]
[281,{"$f":"Composite!B441","v":0},{"$f":"Composite!F441","v":0},{"$f":"Composite!AP441","v":0},{"$f":"Composite!G441","v":0}]
[282,{"$f":"Composite!B442","v":0},{"$f":"Composite!F442","v":0},{"$f":"Composite!AP442","v":0},{"$f":"Composite!G442","v":0}]
[283,{"$f":"Composite!B443","v":0},{"$f":"Composite!F443","v":0},{"$f":"Composite!AP443","v":0},{"$f":"Composite!G443","v":0}]
[284,{"$f":"Composite!B444","v":0},{"$f":"Composite!F444","v":0},{"$f":"Composite!AP444","v":0},{"$f":"Composite!G444","v":0}]
[285,{"$f":"Composite!B445","v":0},{"$f":"Composite!F445","v":0},{"$f":"Composite!AP445","v":0},{"$f":"Composite!G445","v":0}]
[286,{"$f":"Composite!B446","v":0},{"$f":"Composite!F446","v":0},{"$f":"Composite!AP446","v":0},{"$f":"Composite!G446","v":0}]
[287,{"$f":"Composite!B447","v":0},{"$f":"Composite!F447","v":0},{"$f":"Composite!AP447","v":0},{"$f":"Composite!G447","v":0}]
[288,{"$f":"Composite!B448","v":0},{"$f":"Composite!F448","v":0},{"$f":"Composite!AP448","v":0},{"$f":"Composite!G448","v":0}]
[289,{"$f":"Composite!B449","v":0},{"$f":"Composite!F449","v":0},{"$f":"Composite!AP449","v":0},{"$f":"Composite!G449","v":0}]
[290,{"$f":"Composite!B450","v":0},{"$f":"Composite!F450","v":0},{"$f":"Composite!AP450","v":0},{"$f":"Composite!G450","v":0}]
[291,{"$f":"Composite!B451","v":0},{"$f":"Composite!F451","v":0},{"$f":"Composite!AP451","v":0},{"$f":"Composite!G451","v":0}]
[292,{"$f":"Composite!B452","v":0},{"$f":"Composite!F452","v":0},{"$f":"Composite!AP452","v":0},{"$f":"Composite!G452","v":0}]
[293,{"$f":"Composite!B453","v":0},{"$f":"Composite!F453","v":0},{"$f":"Composite!AP453","v":0},{"$f":"Composite!G453","v":0}]
[294,{"$f":"Composite!B454","v":0},{"$f":"Composite!F454","v":0},{"$f":"Composite!AP454","v":0},{"$f":"Composite!G454","v":0}]
[295,{"$f":"Composite!B455","v":0},{"$f":"Composite!F455","v":0},{"$f":"Composite!AP455","v":0},{"$f":"Composite!G455","v":0}]
[296,{"$f":"Composite!B456","v":0},{"$f":"Composite!F456","v":0},{"$f":"Composite!AP456","v":0},{"$f":"Composite!G456","v":0}]
[297,{"$f":"Composite!B457","v":0},{"$f":"Composite!F457","v":0},{"$f":"Composite!AP457","v":0},{"$f":"Composite!G457","v":0}]
[298,{"$f":"Composite!B458","v":0},{"$f":"Composite!F458","v":0},{"$f":"Composite!AP458","v":0},{"$f":"Composite!G458","v":0}]
[299,{"$f":"Composite!B459","v":0},{"$f":"Composite!F459","v":0},{"$f":"Composite!AP459","v":0},{"$f":"Composite!G459","v":0}]
[300,{"$f":"Composite!B460","v":0},{"$f":"Composite!F460","v":0},{"$f":"Composite!AP460","v":0},{"$f":"Composite!G460","v":0}]
[301,{"$f":"Composite!B461","v":0},{"$f":"Composite!F461","v":0},{"$f":"Composite!AP461","v":0},{"$f":"Composite!G461","v":0}]
[302,{"$f":"Composite!B462","v":0},{"$f":"Composite!F462","v":0},{"$f":"Composite!AP462","v":0},{"$f":"Composite!G462","v":0}]
[303,{"$f":"Composite!B463","v":0},{"$f":"Composite!F463","v":0},{"$f":"Composite!AP463","v":0},{"$f":"Composite!G463","v":0}]
[304,{"$f":"Composite!B464","v":0},{"$f":"Composite!F464","v":0},{"$f":"Composite!AP464","v":0},{"$f":"Composite!G464","v":0}]
[305,{"$f":"Composite!B465","v":0},{"$f":"Composite!F465","v":0},{"$f":"Composite!AP465","v":0},{"$f":"Composite!G465","v":0}]
[306,{"$f":"Composite!B466","v":0},{"$f":"Composite!F466","v":0},{"$f":"Composite!AP466","v":0},{"$f":"Composite!G466","v":0}]
[307,{"$f":"Composite!B467","v":0},{"$f":"Composite!F467","v":0},{"$f":"Composite!AP467","v":0},{"$f":"Composite!G467","v":0}]
[308,{"$f":"Composite!B468","v":0},{"$f":"Composite!F468","v":0},{"$f":"Composite!AP468","v":0},{"$f":"Composite!G468","v":0}]
[309,{"$f":"Composite!B469","v":0},{"$f":"Composite!F469","v":0},{"$f":"Composite!AP469","v":0},{"$f":"Composite!G469","v":0}]
[310,{"$f":"Composite!B470","v":0},{"$f":"Composite!F470","v":0},{"$f":"Composite!AP470","v":0},{"$f":"Composite!G470","v":0}]
[311,{"$f":"Composite!B471","v":0},{"$f":"Composite!F471","v":0},{"$f":"Composite!AP471","v":0},{"$f":"Composite!G471","v":0}]
[312,{"$f":"Composite!B472","v":0},{"$f":"Composite!F472","v":0},{"$f":"Composite!AP472","v":0},{"$f":"Composite!G472","v":0}]
[313,{"$f":"Composite!B473","v":0},{"$f":"Composite!F473","v":0},{"$f":"Composite!AP473","v":0},{"$f":"Composite!G473","v":0}]
[314,{"$f":"Composite!B474","v":0},{"$f":"Composite!F474","v":0},{"$f":"Composite!AP474","v":0},{"$f":"Composite!G474","v":0}]
[315,{"$f":"Composite!B475","v":0},{"$f":"Composite!F475","v":0},{"$f":"Composite!AP475","v":0},{"$f":"Composite!G475","v":0}]
[316,{"$f":"Composite!B476","v":0},{"$f":"Composite!F476","v":0},{"$f":"Composite!AP476","v":0},{"$f":"Composite!G476","v":0}]
[317,{"$f":"Composite!B477","v":0},{"$f":"Composite!F477","v":0},{"$f":"Composite!AP477","v":0},{"$f":"Composite!G477","v":0}]
[318,{"$f":"Composite!B478","v":0},{"$f":"Composite!F478","v":0},{"$f":"Composite!AP478","v":0},{"$f":"Composite!G478","v":0}]
[319,{"$f":"Composite!B479","v":0},{"$f":"Composite!F479","v":0},{"$f":"Composite!AP479","v":0},{"$f":"Composite!G479","v":0}]
[320,{"$f":"Composite!B480","v":0},{"$f":"Composite!F480","v":0},{"$f":"Composite!AP480","v":0},{"$f":"Composite!G480","v":0}]
[321,{"$f":"Composite!B481","v":0},{"$f":"Composite!F481","v":0},{"$f":"Composite!AP481","v":0},{"$f":"Composite!G481","v":0}]
[322,{"$f":"Composite!B482","v":0},{"$f":"Composite!F482","v":0},{"$f":"Composite!AP482","v":0},{"$f":"Composite!G482","v":0}]
[323,{"$f":"Composite!B483","v":0},{"$f":"Composite!F483","v":0},{"$f":"Composite!AP483","v":0},{"$f":"Composite!G483","v":0}]
[324,{"$f":"Composite!B484","v":0},{"$f":"Composite!F484","v":0},{"$f":"Composite!AP484","v":0},{"$f":"Composite!G484","v":0}]
[325,{"$f":"Composite!B485","v":0},{"$f":"Composite!F485","v":0},{"$f":"Composite!AP485","v":0},{"$f":"Composite!G485","v":0}]
[326,{"$f":"Composite!B486","v":0},{"$f":"Composite!F486","v":0},{"$f":"Composite!AP486","v":0},{"$f":"Composite!G486","v":0}]
[327,{"$f":"Composite!B487","v":0},{"$f":"Composite!F487","v":0},{"$f":"Composite!AP487","v":0},{"$f":"Composite!G487","v":0}]
[328,{"$f":"Composite!B488","v":0},{"$f":"Composite!F488","v":0},{"$f":"Composite!AP488","v":0},{"$f":"Composite!G488","v":0}]
[329,{"$f":"Composite!B489","v":0},{"$f":"Composite!F489","v":0},{"$f":"Composite!AP489","v":0},{"$f":"Composite!G489","v":0}]
[330,{"$f":"Composite!B490","v":0},{"$f":"Composite!F490","v":0},{"$f":"Composite!AP490","v":0},{"$f":"Composite!G490","v":0}]
[331,{"$f":"Composite!B491","v":0},{"$f":"Composite!F491","v":0},{"$f":"Composite!AP491","v":0},{"$f":"Composite!G491","v":0}]
[332,{"$f":"Composite!B492","v":0},{"$f":"Composite!F492","v":0},{"$f":"Composite!AP492","v":0},{"$f":"Composite!G492","v":0}]
[333,{"$f":"Composite!B493","v":0},{"$f":"Composite!F493","v":0},{"$f":"Composite!AP493","v":0},{"$f":"Composite!G493","v":0}]
[334,{"$f":"Composite!B494","v":0},{"$f":"Composite!F494","v":0},{"$f":"Composite!AP494","v":0},{"$f":"Composite!G494","v":0}]
[335,{"$f":"Composite!B495","v":0},{"$f":"Composite!F495","v":0},{"$f":"Composite!AP495","v":0},{"$f":"Composite!G495","v":0}]
[336,{"$f":"Composite!B496","v":0},{"$f":"Composite!F496","v":0},{"$f":"Composite!AP496","v":0},{"$f":"Composite!G496","v":0}]
[337,{"$f":"Composite!B497","v":0},{"$f":"Composite!F497","v":0},{"$f":"Composite!AP497","v":0},{"$f":"Composite!G497","v":0}]
[338,{"$f":"Composite!B498","v":0},{"$f":"Composite!F498","v":0},{"$f":"Composite!AP498","v":0},{"$f":"Composite!G498","v":0}]
[339,{"$f":"Composite!B499","v":0},{"$f":"Composite!F499","v":0},{"$f":"Composite!AP499","v":0},{"$f":"Composite!G499","v":0}]
[340,{"$f":"Composite!B500","v":0},{"$f":"Composite!F500","v":0},{"$f":"Composite!AP500","v":0},{"$f":"Composite!G500","v":0}]
[341,{"$f":"Composite!B501","v":0},{"$f":"Composite!F501","v":0},{"$f":"Composite!AP501","v":0},{"$f":"Composite!G501","v":0}]
[342,{"$f":"Composite!B502","v":0},{"$f":"Composite!F502","v":0},{"$f":"Composite!AP502","v":0},{"$f":"Composite!G502","v":0}]
[343,{"$f":"Composite!B503","v":0},{"$f":"Composite!F503","v":0},{"$f":"Composite!AP503","v":0},{"$f":"Composite!G503","v":0}]
[344,{"$f":"Composite!B504","v":0},{"$f":"Composite!F504","v":0},{"$f":"Composite!AP504","v":0},{"$f":"Composite!G504","v":0}]
[345,{"$f":"Composite!B505","v":0},{"$f":"Composite!F505","v":0},{"$f":"Composite!AP505","v":0},{"$f":"Composite!G505","v":0}]
[346,{"$f":"Composite!B506","v":0},{"$f":"Composite!F506","v":0},{"$f":"Composite!AP506","v":0},{"$f":"Composite!G506","v":0}]
[347,{"$f":"Composite!B507","v":0},{"$f":"Composite!F507","v":0},{"$f":"Composite!AP507","v":0},{"$f":"Composite!G507","v":0}]
[348,{"$f":"Composite!B508","v":0},{"$f":"Composite!F508","v":0},{"$f":"Composite!AP508","v":0},{"$f":"Composite!G508","v":0}]
[349,{"$f":"Composite!B509","v":0},{"$f":"Composite!F509","v":0},{"$f":"Composite!AP509","v":0},{"$f":"Composite!G509","v":0}]
[350,{"$f":"Composite!B510","v":0},{"$f":"Composite!F510","v":0},{"$f":"Composite!AP510","v":0},{"$f":"Composite!G510","v":0}]
[351,{"$f":"Composite!B511","v":0},{"$f":"Composite!F511","v":0},{"$f":"Composite!AP511","v":0},{"$f":"Composite!G511","v":0}]
[352,{"$f":"Composite!B512","v":0},{"$f":"Composite!F512","v":0},{"$f":"Composite!AP512","v":0},{"$f":"Composite!G512","v":0}]
[353,{"$f":"Composite!B513","v":0},{"$f":"Composite!F513","v":0},{"$f":"Composite!AP513","v":0},{"$f":"Composite!G513","v":0}]
[354,{"$f":"Composite!B514","v":0},{"$f":"Composite!F514","v":0},{"$f":"Composite!AP514","v":0},{"$f":"Composite!G514","v":0}]
[355,{"$f":"Composite!B515","v":0},{"$f":"Composite!F515","v":0},{"$f":"Composite!AP515","v":0},{"$f":"Composite!G515","v":0}]
[356,{"$f":"Composite!B516","v":0},{"$f":"Composite!F516","v":0},{"$f":"Composite!AP516","v":0},{"$f":"Composite!G516","v":0}]
[357,{"$f":"Composite!B517","v":0},{"$f":"Composite!F517","v":0},{"$f":"Composite!AP517","v":0},{"$f":"Composite!G517","v":0}]
[358,{"$f":"Composite!B518","v":0},{"$f":"Composite!F518","v":0},{"$f":"Composite!AP518","v":0},{"$f":"Composite!G518","v":0}]
[359,{"$f":"Composite!B519","v":0},{"$f":"Composite!F519","v":0},{"$f":"Composite!AP519","v":0},{"$f":"Composite!G519","v":0}]
[360,{"$f":"Composite!B520","v":0},{"$f":"Composite!F520","v":0},{"$f":"Composite!AP520","v":0},{"$f":"Composite!G520","v":0}]
[361,{"$f":"Composite!B521","v":0},{"$f":"Composite!F521","v":0},{"$f":"Composite!AP521","v":0},{"$f":"Composite!G521","v":0}]
[362,{"$f":"Composite!B522","v":0},{"$f":"Composite!F522","v":0},{"$f":"Composite!AP522","v":0},{"$f":"Composite!G522","v":0}]
[363,{"$f":"Composite!B523","v":0},{"$f":"Composite!F523","v":0},{"$f":"Composite!AP523","v":0},{"$f":"Composite!G523","v":0}]
[364,{"$f":"Composite!B524","v":0},{"$f":"Composite!F524","v":0},{"$f":"Composite!AP524","v":0},{"$f":"Composite!G524","v":0}]
[365,{"$f":"Composite!B525","v":0},{"$f":"Composite!F525","v":0},{"$f":"Composite!AP525","v":0},{"$f":"Composite!G525","v":0}]
[366,{"$f":"Composite!B526","v":0},{"$f":"Composite!F526","v":0},{"$f":"Composite!AP526","v":0},{"$f":"Composite!G526","v":0}]
[367,{"$f":"Composite!B527","v":0},{"$f":"Composite!F527","v":0},{"$f":"Composite!AP527","v":0},{"$f":"Composite!G527","v":0}]
[368,{"$f":"Composite!B528","v":0},{"$f":"Composite!F528","v":0},{"$f":"Composite!AP528","v":0},{"$f":"Composite!G528","v":0}]
[369,{"$f":"Composite!B529","v":0},{"$f":"Composite!F529","v":0},{"$f":"Composite!AP529","v":0},{"$f":"Composite!G529","v":0}]
[370,{"$f":"Composite!B530","v":0},{"$f":"Composite!F530","v":0},{"$f":"Composite!AP530","v":0},{"$f":"Composite!G530","v":0}]
[371,{"$f":"Composite!B531","v":0},{"$f":"Composite!F531","v":0},{"$f":"Composite!AP531","v":0},{"$f":"Composite!G531","v":0}]
[372,{"$f":"Composite!B532","v":0},{"$f":"Composite!F532","v":0},{"$f":"Composite!AP532","v":0},{"$f":"Composite!G532","v":0}]
[373,{"$f":"Composite!B533","v":0},{"$f":"Composite!F533","v":0},{"$f":"Composite!AP533","v":0},{"$f":"Composite!G533","v":0}]
[374,{"$f":"Composite!B534","v":0},{"$f":"Composite!F534","v":0},{"$f":"Composite!AP534","v":0},{"$f":"Composite!G534","v":0}]
[375,{"$f":"Composite!B535","v":0},{"$f":"Composite!F535","v":0},{"$f":"Composite!AP535","v":0},{"$f":"Composite!G535","v":0}]
[376,{"$f":"Composite!B536","v":0},{"$f":"Composite!F536","v":0},{"$f":"Composite!AP536","v":0},{"$f":"Composite!G536","v":0}]
[377,{"$f":"Composite!B537","v":0},{"$f":"Composite!F537","v":0},{"$f":"Composite!AP537","v":0},{"$f":"Composite!G537","v":0}]
[378,{"$f":"Composite!B122","v":"EEF2K (eEF2K)"},{"$f":"Composite!F122","v":"EEF2K"},{"$f":"Composite!AP122","v":-6.913079546507106E-3},{"$f":"Composite!G122","v":"Atypical"}]
[379,{"$f":"Composite!B299","v":"PHKG2"},{"$f":"Composite!F299","v":"PHKG2"},{"$f":"Composite!AP299","v":-3.0627294102146152E-2},{"$f":"Composite!G299","v":"CAMK"}]
[380,{"$f":"Composite!B191","v":"KSR1"},{"$f":"Composite!F191","v":"KSR1"},{"$f":"Composite!AP191","v":-0.12200289300272971},{"$f":"Composite!G191","v":"TKL"}]
[381,{"$f":"Composite!B98","v":"CSK"},{"$f":"Composite!F98","v":"CSK"},{"$f":"Composite!AP98","v":-0.15170056331476189},{"$f":"Composite!G98","v":"TK"}]
[382,{"$f":"Composite!B350","v":"RIPK1"},{"$f":"Composite!F350","v":"RIPK1"},{"$f":"Composite!AP350","v":-0.20132015110583268},{"$f":"Composite!G350","v":"TKL"}]
[383,{"$f":"Composite!B120","v":"DYRK3"},{"$f":"Composite!F120","v":"DYRK3"},{"$f":"Composite!AP120","v":-0.3574485223782915},{"$f":"Composite!G120","v":"CMGC"}]
[384,{"$f":"Composite!B149","v":"FGFR3"},{"$f":"Composite!F149","v":"FGFR3"},{"$f":"Composite!AP149","v":-0.36772462850768761},{"$f":"Composite!G149","v":"TK"}]
[385,{"$f":"Composite!B413","v":"TXK"},{"$f":"Composite!F413","v":"TXK"},{"$f":"Composite!AP413","v":-0.46154706847678995},{"$f":"Composite!G413","v":"TK"}]
[386,{"$f":"Composite!B241","v":"MAPKAPK5 (MK5)"},{"$f":"Composite!F241","v":"MK5"},{"$f":"Composite!AP241","v":-0.60023137700441964},{"$f":"Composite!G241","v":"CAMK"}]
[387,{"$f":"Composite!B296","v":"PDK4 (PDHK4)"},{"$f":"Composite!F296","v":"PDHK4"},{"$f":"Composite!AP296","v":-0.62404550002632675},{"$f":"Composite!G296","v":"Atypical"}]
[388,{"$f":"Composite!B154","v":"FLT4"},{"$f":"Composite!F154","v":"FLT4"},{"$f":"Composite!AP154","v":-0.6921863430024473},{"$f":"Composite!G154","v":"TK"}]
[389,{"$f":"Composite!B316","v":"PRKAA1-B2-G1 (AMPKα1β2γ1)"},{"$f":"Composite!F316","v":"AMPK121"},{"$f":"Composite!AP316","v":-0.69882482267647106},{"$f":"Composite!G316","v":"CAMK"}]
[390,{"$f":"Composite!B366","v":"SGK2"},{"$f":"Composite!F366","v":"SGK2"},{"$f":"Composite!AP366","v":-0.80837714273478412},{"$f":"Composite!G366","v":"AGC"}]
[391,{"$f":"Composite!B283","v":"PAK1"},{"$f":"Composite!F283","v":"PAK1"},{"$f":"Composite!AP283","v":-0.90156637687748287},{"$f":"Composite!G283","v":"STE"}]
[392,{"$f":"Composite!B319","v":"PRKAA2-B1-G1 (AMPKα2β1γ1)"},{"$f":"Composite!F319","v":"AMPK211"},{"$f":"Composite!AP319","v":-0.94173210424492027},{"$f":"Composite!G319","v":"CAMK"}]
[393,{"$f":"Composite!B172","v":"HIPK3"},{"$f":"Composite!F172","v":"HIPK3"},{"$f":"Composite!AP172","v":-1.0203269819801903},{"$f":"Composite!G172","v":"CMGC"}]
[394,{"$f":"Composite!B194","v":"LATS2"},{"$f":"Composite!F194","v":"LATS2"},{"$f":"Composite!AP194","v":-1.0234150391275705},{"$f":"Composite!G194","v":"AGC"}]
[395,{"$f":"Composite!B110","v":"DAPK3 (ZIPK)"},{"$f":"Composite!F110","v":"DAPK3"},{"$f":"Composite!AP110","v":-1.0553896479050877},{"$f":"Composite!G110","v":"CAMK"}]
[396,{"$f":"Composite!B394","v":"TAOK2 (TAO2)"},{"$f":"Composite!F394","v":"TAOK2"},{"$f":"Composite!AP394","v":-1.074574280681162},{"$f":"Composite!G394","v":"STE"}]
[397,{"$f":"Composite!B249","v":"MELK"},{"$f":"Composite!F249","v":"MELK"},{"$f":"Composite!AP249","v":-1.0951112424341574},{"$f":"Composite!G249","v":"CAMK"}]
[398,{"$f":"Composite!B127","v":"EIF2AK4 (GCN2)"},{"$f":"Composite!F127","v":"GCN2"},{"$f":"Composite!AP127","v":-1.1565079738869883},{"$f":"Composite!G127","v":"Other"}]
[399,{"$f":"Composite!B189","v":"KDR (VEGFR2)"},{"$f":"Composite!F189","v":"KDR"},{"$f":"Composite!AP189","v":-1.1724216179418505},{"$f":"Composite!G189","v":"TK"}]
[400,{"$f":"Composite!B384","v":"STK24 (MST3)"},{"$f":"Composite!F384","v":"MST3"},{"$f":"Composite!AP384","v":-1.2688657034522208},{"$f":"Composite!G384","v":"STE"}]
[401,{"$f":"Composite!B128","v":"EPHA1"},{"$f":"Composite!F128","v":"EPHA1"},{"$f":"Composite!AP128","v":-1.3139181932032642},{"$f":"Composite!G128","v":"TK"}]
[402,{"$f":"Composite!B386","v":"STK26 (MST4)"},{"$f":"Composite!F386","v":"MST4"},{"$f":"Composite!AP386","v":-1.4374731327513217},{"$f":"Composite!G386","v":"STE"}]
[403,{"$f":"Composite!B179","v":"INSR (IR)"},{"$f":"Composite!F179","v":"INSR"},{"$f":"Composite!AP179","v":-1.4871865581972514},{"$f":"Composite!G179","v":"TK"}]
[404,{"$f":"Composite!B262","v":"MYLK4 (SgK085)"},{"$f":"Composite!F262","v":"MYLK4"},{"$f":"Composite!AP262","v":-1.5678476881514314},{"$f":"Composite!G262","v":"CAMK"}]
[405,{"$f":"Composite!B353","v":"ROCK1"},{"$f":"Composite!F353","v":"ROCK1"},{"$f":"Composite!AP353","v":-1.583323387834696},{"$f":"Composite!G353","v":"AGC"}]
[406,{"$f":"Composite!B244","v":"MARK3"},{"$f":"Composite!F244","v":"MARK3"},{"$f":"Composite!AP244","v":-1.5976921742148278},{"$f":"Composite!G244","v":"CAMK"}]
[407,{"$f":"Composite!B375","v":"SRMS (SRM)"},{"$f":"Composite!F375","v":"SRM"},{"$f":"Composite!AP375","v":-1.6603580800223199},{"$f":"Composite!G375","v":"TK"}]
[408,{"$f":"Composite!B326","v":"PRKACB (PKACB, PKACβ)"},{"$f":"Composite!F326","v":"PKACB"},{"$f":"Composite!AP326","v":-1.7327191568859632},{"$f":"Composite!G326","v":"AGC"}]
[409,{"$f":"Composite!B116","v":"DSTYK (RIPK5, SGK496)"},{"$f":"Composite!F116","v":"RIPK5"},{"$f":"Composite!AP116","v":-1.7479439997799773},{"$f":"Composite!G116","v":"TKL"}]
[410,{"$f":"Composite!B344","v":"PRKX"},{"$f":"Composite!F344","v":"PRKX"},{"$f":"Composite!AP344","v":-1.7549872937396458},{"$f":"Composite!G344","v":"AGC"}]
[411,{"$f":"Composite!B245","v":"MARK4"},{"$f":"Composite!F245","v":"MARK4"},{"$f":"Composite!AP245","v":-1.7848085824896174},{"$f":"Composite!G245","v":"CAMK"}]
[412,{"$f":"Composite!B301","v":"PIM2"},{"$f":"Composite!F301","v":"PIM2"},{"$f":"Composite!AP301","v":-1.8123941058684352},{"$f":"Composite!G301","v":"CAMK"}]
[413,{"$f":"Composite!B368","v":"SIK1 (SIK)"},{"$f":"Composite!F368","v":"SIK1"},{"$f":"Composite!AP368","v":-1.9344257699154639},{"$f":"Composite!G368","v":"CAMK"}]
[414,{"$f":"Composite!B401","v":"TLK2"},{"$f":"Composite!F401","v":"TLK2"},{"$f":"Composite!AP401","v":-2.0404153802975173},{"$f":"Composite!G401","v":"Other"}]
[415,{"$f":"Composite!B279","v":"NTRK2 (TRKB)"},{"$f":"Composite!F279","v":"NTRK2"},{"$f":"Composite!AP279","v":-2.0720462956980725},{"$f":"Composite!G279","v":"TK"}]
[416,{"$f":"Composite!B304","v":"PKMYT1 (MYT1)"},{"$f":"Composite!F304","v":"MYT1"},{"$f":"Composite!AP304","v":-2.1010916704052391},{"$f":"Composite!G304","v":"Other"}]
[417,{"$f":"Composite!B422","v":"ZAP70"},{"$f":"Composite!F422","v":"ZAP70"},{"$f":"Composite!AP422","v":-2.1045548654244612},{"$f":"Composite!G422","v":"TK"}]
[418,{"$f":"Composite!B156","v":"FYNa (FYN)"},{"$f":"Composite!F156","v":"FYNA"},{"$f":"Composite!AP156","v":-2.1110791734534189},{"$f":"Composite!G156","v":"TK"}]
[419,{"$f":"Composite!B371","v":"SLK"},{"$f":"Composite!F371","v":"SLK"},{"$f":"Composite!AP371","v":-2.2121136590229327},{"$f":"Composite!G371","v":"STE"}]
[420,{"$f":"Composite!B142","v":"ERN1 (IRE1)"},{"$f":"Composite!F142","v":"ERN1"},{"$f":"Composite!AP142","v":-2.2508077061146423},{"$f":"Composite!G142","v":"Other"}]
[421,{"$f":"Composite!B242","v":"MARK1"},{"$f":"Composite!F242","v":"MARK1"},{"$f":"Composite!AP242","v":-2.3162766555646925},{"$f":"Composite!G242","v":"CAMK"}]
[422,{"$f":"Composite!B168","v":"HASPIN"},{"$f":"Composite!F168","v":"HASPIN"},{"$f":"Composite!AP168","v":-2.5065387968613493},{"$f":"Composite!G168","v":"Other"}]
[423,{"$f":"Composite!B280","v":"NTRK3 (TRKC)"},{"$f":"Composite!F280","v":"NTRK3"},{"$f":"Composite!AP280","v":-2.5215398935535376},{"$f":"Composite!G280","v":"TK"}]
[424,{"$f":"Composite!B305","v":"PKN1"},{"$f":"Composite!F305","v":"PKN1"},{"$f":"Composite!AP305","v":-2.5233909838389366},{"$f":"Composite!G305","v":"AGC"}]
[425,{"$f":"Composite!B51","v":"CAMKK2"},{"$f":"Composite!F51","v":"CAMKK2"},{"$f":"Composite!AP51","v":-2.5521710582660262},{"$f":"Composite!G51","v":"Other"}]
[426,{"$f":"Composite!B251","v":"MET (c-MET, HGFR)"},{"$f":"Composite!F251","v":"MET"},{"$f":"Composite!AP251","v":-2.6192421703059097},{"$f":"Composite!G251","v":"TK"}]
[427,{"$f":"Composite!B327","v":"PRKACG (PKACG, PKACg)"},{"$f":"Composite!F327","v":"PKACG"},{"$f":"Composite!AP327","v":-2.6305274374001328},{"$f":"Composite!G327","v":"AGC"}]
[428,{"$f":"Composite!B118","v":"DYRK1B"},{"$f":"Composite!F118","v":"DYRK1B"},{"$f":"Composite!AP118","v":-2.6565425148916688},{"$f":"Composite!G118","v":"CMGC"}]
[429,{"$f":"Composite!B246","v":"MAST3"},{"$f":"Composite!F246","v":"MAST3"},{"$f":"Composite!AP246","v":-2.668602613528293},{"$f":"Composite!G246","v":"AGC"}]
[430,{"$f":"Composite!B130","v":"EPHA3"},{"$f":"Composite!F130","v":"EPHA3"},{"$f":"Composite!AP130","v":-2.6715881048977508},{"$f":"Composite!G130","v":"TK"}]
[431,{"$f":"Composite!B365","v":"SGK1 (SGK)"},{"$f":"Composite!F365","v":"SGK"},{"$f":"Composite!AP365","v":-2.7263495215742921},{"$f":"Composite!G365","v":"AGC"}]
[432,{"$f":"Composite!B38","v":"BRSK1"},{"$f":"Composite!F38","v":"BRSK1"},{"$f":"Composite!AP38","v":-2.7505976662134231},{"$f":"Composite!G38","v":"CAMK"}]
[433,{"$f":"Composite!B331","v":"PRKCD (PKCδ [delta])"},{"$f":"Composite!F331","v":"PKCD"},{"$f":"Composite!AP331","v":-2.8176952925680325},{"$f":"Composite!G331","v":"AGC"}]
[434,{"$f":"Composite!B27","v":"AURKA (AURA)"},{"$f":"Composite!F27","v":"AURA"},{"$f":"Composite!AP27","v":-2.8180743330077576},{"$f":"Composite!G27","v":"Other"}]
[435,{"$f":"Composite!B378","v":"SRPK3 (MSSK1)"},{"$f":"Composite!F378","v":"MSSK1"},{"$f":"Composite!AP378","v":-2.8313477921461043},{"$f":"Composite!G378","v":"CMGC"}]
[436,{"$f":"Composite!B131","v":"EPHA4"},{"$f":"Composite!F131","v":"EPHA4"},{"$f":"Composite!AP131","v":-2.8549232860749356},{"$f":"Composite!G131","v":"TK"}]
[437,{"$f":"Composite!B286","v":"PAK4"},{"$f":"Composite!F286","v":"PAK4"},{"$f":"Composite!AP286","v":-2.9343828218686525},{"$f":"Composite!G286","v":"STE"}]
[438,{"$f":"Composite!B132","v":"EPHA5"},{"$f":"Composite!F132","v":"EPHA5"},{"$f":"Composite!AP132","v":-2.9500950814616971},{"$f":"Composite!G132","v":"TK"}]
[439,{"$f":"Composite!B176","v":"IGF1R"},{"$f":"Composite!F176","v":"IGF1R"},{"$f":"Composite!AP176","v":-2.9636429771534409},{"$f":"Composite!G176","v":"TK"}]
[440,{"$f":"Composite!B307","v":"PKN3"},{"$f":"Composite!F307","v":"PKN3"},{"$f":"Composite!AP307","v":-3.0321472969678496},{"$f":"Composite!G307","v":"AGC"}]
[441,{"$f":"Composite!B197","v":"LIMK2"},{"$f":"Composite!F197","v":"LIMK2"},{"$f":"Composite!AP197","v":-3.3481123492882148},{"$f":"Composite!G197","v":"TKL"}]
[442,{"$f":"Composite!B91","v":"CHUK (IKKA, IKKa)"},{"$f":"Composite!F91","v":"IKKA"},{"$f":"Composite!AP91","v":-3.3615949695280847},{"$f":"Composite!G91","v":"Other"}]
[443,{"$f":"Composite!B144","v":"FAM20C"},{"$f":"Composite!F144","v":"FAM20C"},{"$f":"Composite!AP144","v":-3.3625134356840505},{"$f":"Composite!G144","v":"Other"}]
[444,{"$f":"Composite!B28","v":"AURKB (AURB)"},{"$f":"Composite!F28","v":"AURB"},{"$f":"Composite!AP28","v":-3.405564590567451},{"$f":"Composite!G28","v":"Other"}]
[445,{"$f":"Composite!B99","v":"CSNK1A1 (CK1A1, CK1α)"},{"$f":"Composite!F99","v":"CK1A1"},{"$f":"Composite!AP99","v":-3.4470864442046008},{"$f":"Composite!G99","v":"CK1"}]
[446,{"$f":"Composite!B52","v":"CDC42BPA (MRCKA)"},{"$f":"Composite!F52","v":"MRCKA"},{"$f":"Composite!AP52","v":-3.5252410150668254},{"$f":"Composite!G52","v":"AGC"}]
[447,{"$f":"Composite!B260","v":"MYLK2 (skMLCK)"},{"$f":"Composite!F260","v":"MYLK2"},{"$f":"Composite!AP260","v":-3.5583149742973603},{"$f":"Composite!G260","v":"CAMK"}]
[448,{"$f":"Composite!B90","v":"CHEK2 (CHK2)"},{"$f":"Composite!F90","v":"CHK2"},{"$f":"Composite!AP90","v":-3.5813542193027246},{"$f":"Composite!G90","v":"CAMK"}]
[449,{"$f":"Composite!B256","v":"MST1R (RON)"},{"$f":"Composite!F256","v":"MST1R"},{"$f":"Composite!AP256","v":-3.6344235621477452},{"$f":"Composite!G256","v":"TK"}]
[450,{"$f":"Composite!B361","v":"RPS6KA6 (RSK4)"},{"$f":"Composite!F361","v":"RSK4"},{"$f":"Composite!AP361","v":-3.7212935478831355},{"$f":"Composite!G361","v":"AGC"}]
[451,{"$f":"Composite!B266","v":"NEK10"},{"$f":"Composite!F266","v":"NEK10"},{"$f":"Composite!AP266","v":-3.8362711084893988},{"$f":"Composite!G266","v":"Other"}]
[452,{"$f":"Composite!B113","v":"DDR1 [SRC treated]"},{"$f":"Composite!F113","v":"DDR1"},{"$f":"Composite!AP113","v":-4.1376103555722779},{"$f":"Composite!G113","v":"TK"}]
[453,{"$f":"Composite!B55","v":"CDC7/DBF4 (CDC7)"},{"$f":"Composite!F55","v":"CDC7"},{"$f":"Composite!AP55","v":-4.1510798151582833},{"$f":"Composite!G55","v":"Other"}]
[454,{"$f":"Composite!B101","v":"CSNK1D (CK1D, CK1δ)"},{"$f":"Composite!F101","v":"CK1D"},{"$f":"Composite!AP101","v":-4.1710417242332198},{"$f":"Composite!G101","v":"CK1"}]
[455,{"$f":"Composite!B357","v":"RPS6KA2 (RSK3)"},{"$f":"Composite!F357","v":"RSK3"},{"$f":"Composite!AP357","v":-4.1898134945531069},{"$f":"Composite!G357","v":"AGC"}]
[456,{"$f":"Composite!B395","v":"TAOK3 (TAO3)"},{"$f":"Composite!F395","v":"TAOK3"},{"$f":"Composite!AP395","v":-4.2147516307074824},{"$f":"Composite!G395","v":"STE"}]
[457,{"$f":"Composite!B363","v":"RPS6KB2 (p70S6KB)"},{"$f":"Composite!F363","v":"P70S6KB"},{"$f":"Composite!AP363","v":-4.2334020070446314},{"$f":"Composite!G363","v":"AGC"}]
[458,{"$f":"Composite!B358","v":"RPS6KA3 (RSK2)"},{"$f":"Composite!F358","v":"RSK2"},{"$f":"Composite!AP358","v":-4.2875877740539323},{"$f":"Composite!G358","v":"AGC"}]
[459,{"$f":"Composite!B324","v":"PRKAA2-B2-G3 (AMPKα2β2γ3)"},{"$f":"Composite!F324","v":"AMPK223"},{"$f":"Composite!AP324","v":-4.3555911693003395},{"$f":"Composite!G324","v":"CAMK"}]
[460,{"$f":"Composite!B311","v":"PLK4"},{"$f":"Composite!F311","v":"PLK4"},{"$f":"Composite!AP311","v":-4.4414815539681314},{"$f":"Composite!G311","v":"Other"}]
[461,{"$f":"Composite!B230","v":"MAPK12 (p38γ)"},{"$f":"Composite!F230","v":"P38G"},{"$f":"Composite!AP230","v":-4.5179297946825443},{"$f":"Composite!G230","v":"CMGC"}]
[462,{"$f":"Composite!B294","v":"PDK2 (PDHK2)"},{"$f":"Composite!F294","v":"PDHK2"},{"$f":"Composite!AP294","v":-4.5606624175248953},{"$f":"Composite!G294","v":"Atypical"}]
[463,{"$f":"Composite!B417","v":"ULK1"},{"$f":"Composite!F417","v":"ULK1"},{"$f":"Composite!AP417","v":-4.8109716801471336},{"$f":"Composite!G417","v":"Other"}]
[464,{"$f":"Composite!B264","v":"MYO3B"},{"$f":"Composite!F264","v":"MYO3B"},{"$f":"Composite!AP264","v":-4.8679331829822843},{"$f":"Composite!G264","v":"STE"}]
[465,{"$f":"Composite!B313","v":"PRKAA1-B1-G1 (AMPKα1β1γ1)"},{"$f":"Composite!F313","v":"AMPK111"},{"$f":"Composite!AP313","v":-4.8806518562860077},{"$f":"Composite!G313","v":"CAMK"}]
[466,{"$f":"Composite!B39","v":"BRSK2"},{"$f":"Composite!F39","v":"BRSK2"},{"$f":"Composite!AP39","v":-4.9525137049712527},{"$f":"Composite!G39","v":"CAMK"}]
[467,{"$f":"Composite!B228","v":"MAPK10 (JNK3)"},{"$f":"Composite!F228","v":"JNK3"},{"$f":"Composite!AP228","v":-5.0462597314678987},{"$f":"Composite!G228","v":"CMGC"}]
[468,{"$f":"Composite!B182","v":"IRAK4"},{"$f":"Composite!F182","v":"IRAK4"},{"$f":"Composite!AP182","v":-5.1258119202270507},{"$f":"Composite!G182","v":"TKL"}]
[469,{"$f":"Composite!B223","v":"MAP4K2 (GCK)"},{"$f":"Composite!F223","v":"GCK"},{"$f":"Composite!AP223","v":-5.1934257602862459},{"$f":"Composite!G223","v":"STE"}]
[470,{"$f":"Composite!B158","v":"GAK"},{"$f":"Composite!F158","v":"GAK"},{"$f":"Composite!AP158","v":-5.2627650044789647},{"$f":"Composite!G158","v":"Other"}]
[471,{"$f":"Composite!B379","v":"STK10 (LOK)"},{"$f":"Composite!F379","v":"LOK"},{"$f":"Composite!AP379","v":-5.3683760297385419},{"$f":"Composite!G379","v":"STE"}]
[472,{"$f":"Composite!B285","v":"PAK3"},{"$f":"Composite!F285","v":"PAK3"},{"$f":"Composite!AP285","v":-5.5364227557149945},{"$f":"Composite!G285","v":"STE"}]
[473,{"$f":"Composite!B37","v":"BRAF, b-[V600E]"},{"$f":"Composite!F37","v":"BRAF(V600E)"},{"$f":"Composite!AP37","v":-5.6652525358333889},{"$f":"Composite!G37","v":"TKL"}]
[474,{"$f":"Composite!B329","v":"PRKCB1 (PKCβ1 [beta1])"},{"$f":"Composite!F329","v":"PKCB1"},{"$f":"Composite!AP329","v":-5.9183572733106331},{"$f":"Composite!G329","v":"AGC"}]
[475,{"$f":"Composite!B108","v":"DAPK1"},{"$f":"Composite!F108","v":"DAPK1"},{"$f":"Composite!AP108","v":-5.9467272351847953},{"$f":"Composite!G108","v":"CAMK"}]
[476,{"$f":"Composite!B20","v":"AAK1"},{"$f":"Composite!F20","v":"AAK1"},{"$f":"Composite!AP20","v":-6.1162852977058435},{"$f":"Composite!G20","v":"Other"}]
[477,{"$f":"Composite!B261","v":"MYLK3 (caMLCK)"},{"$f":"Composite!F261","v":"MYLK3"},{"$f":"Composite!AP261","v":-6.2290158259333879},{"$f":"Composite!G261","v":"CAMK"}]
[478,{"$f":"Composite!B53","v":"CDC42BPB (MRCKB)"},{"$f":"Composite!F53","v":"MRCKB"},{"$f":"Composite!AP53","v":-6.5012938342107702},{"$f":"Composite!G53","v":"AGC"}]
[479,{"$f":"Composite!B32","v":"BCR RET (fusion)"},{"$f":"Composite!F32","v":"BCR RET"},{"$f":"Composite!AP32","v":-6.681019937097588},{"$f":"Composite!G32","v":"TK"}]
[480,{"$f":"Composite!B418","v":"ULK2"},{"$f":"Composite!F418","v":"ULK2"},{"$f":"Composite!AP418","v":-6.7016799323800882},{"$f":"Composite!G418","v":"Other"}]
[481,{"$f":"Composite!B94","v":"CLK2"},{"$f":"Composite!F94","v":"CLK2"},{"$f":"Composite!AP94","v":-7.1801300177826874},{"$f":"Composite!G94","v":"CMGC"}]
[482,{"$f":"Composite!B201","v":"LYNB (LYNb)"},{"$f":"Composite!F201","v":"LYNB"},{"$f":"Composite!AP201","v":-7.2071460109363983},{"$f":"Composite!G201","v":"TK"}]
[483,{"$f":"Composite!B400","v":"TLK1"},{"$f":"Composite!F400","v":"TLK1"},{"$f":"Composite!AP400","v":-7.2436902894624353},{"$f":"Composite!G400","v":"Other"}]
[484,{"$f":"Composite!B328","v":"PRKCA (PKCα [alpha])"},{"$f":"Composite!F328","v":"PKCA"},{"$f":"Composite!AP328","v":-7.448076636529251},{"$f":"Composite!G328","v":"AGC"}]
[485,{"$f":"Composite!B399","v":"TESK2"},{"$f":"Composite!F399","v":"TESK2"},{"$f":"Composite!AP399","v":-7.6979742173112555},{"$f":"Composite!G399","v":"TKL"}]
[486,{"$f":"Composite!B333","v":"PRKCG (PKCγ [gamma])"},{"$f":"Composite!F333","v":"PKCG"},{"$f":"Composite!AP333","v":-7.8595540976102569},{"$f":"Composite!G333","v":"AGC"}]
[487,{"$f":"Composite!B416","v":"TYRO3"},{"$f":"Composite!F416","v":"TYRO3"},{"$f":"Composite!AP416","v":-8.0981234735833283},{"$f":"Composite!G416","v":"TK"}]
[488,{"$f":"Composite!B175","v":"ICK"},{"$f":"Composite!F175","v":"ICK"},{"$f":"Composite!AP175","v":-8.3118083962330616},{"$f":"Composite!G175","v":"CMGC"}]
[489,{"$f":"Composite!B330","v":"PRKCB2 (PKCβ2 [beta2])"},{"$f":"Composite!F330","v":"PKCB2"},{"$f":"Composite!AP330","v":-8.3371363699795467},{"$f":"Composite!G330","v":"AGC"}]
[490,{"$f":"Composite!B203","v":"MAP2K1 (MEK1)"},{"$f":"Composite!F203","v":"MEK1"},{"$f":"Composite!AP203","v":-9.5817997773839352},{"$f":"Composite!G203","v":"STE"}]
[491,{"$f":"Composite!B332","v":"PRKCE (PKCe [epsilon])"},{"$f":"Composite!F332","v":"PKCE"},{"$f":"Composite!AP332","v":-9.8427644575473892},{"$f":"Composite!G332","v":"AGC"}]
[492,{"$f":"Composite!B196","v":"LIMK1"},{"$f":"Composite!F196","v":"LIMK1"},{"$f":"Composite!AP196","v":-9.9059222146127013},{"$f":"Composite!G196","v":"TKL"}]
[493,{"$f":"Composite!B34","v":"BMP2K (BIKE)"},{"$f":"Composite!F34","v":"BIKE"},{"$f":"Composite!AP34","v":-9.9264138321412076},{"$f":"Composite!G34","v":"Other"}]
[494,{"$f":"Composite!B232","v":"MAPK14 (p38a)"},{"$f":"Composite!F232","v":"P38A"},{"$f":"Composite!AP232","v":-10.182643285338116},{"$f":"Composite!G232","v":"CMGC"}]
[495,{"$f":"Composite!B174","v":"HUNK"},{"$f":"Composite!F174","v":"HUNK"},{"$f":"Composite!AP174","v":-10.949843932177174},{"$f":"Composite!G174","v":"CAMK"}]
[496,{"$f":"Composite!B92","v":"CIT (CRIK)"},{"$f":"Composite!F92","v":"CRIK"},{"$f":"Composite!AP92","v":-11.792701680342105},{"$f":"Composite!G92","v":"AGC"}]
[497,{"$f":"Composite!B293","v":"PDK1 (PDHK1)"},{"$f":"Composite!F293","v":"PDHK1"},{"$f":"Composite!AP293","v":-12.515518709664221},{"$f":"Composite!G293","v":"Atypical"}]
[498,{"$f":"Composite!B388","v":"STK33"},{"$f":"Composite!F388","v":"STK33"},{"$f":"Composite!AP388","v":-12.946735878708637},{"$f":"Composite!G388","v":"CAMK"}]
[499,{"$f":"Composite!B103","v":"CSNK1G1 (CK1G1, CK1γ1)"},{"$f":"Composite!F103","v":"CK1G1"},{"$f":"Composite!AP103","v":-13.001170617500705},{"$f":"Composite!G103","v":"CK1"}]
[500,{"$f":"Composite!B383","v":"STK17B (DRAK2)"},{"$f":"Composite!F383","v":"DRAK2"},{"$f":"Composite!AP383","v":-14.175264773110186},{"$f":"Composite!G383","v":"CAMK"}]
[501,{"$f":"Composite!B419","v":"ULK3"},{"$f":"Composite!F419","v":"ULK3"},{"$f":"Composite!AP419","v":-14.189999999999998},{"$f":"Composite!G419","v":"Other"}]
[502,{"$f":"Composite!B349","v":"RET"},{"$f":"Composite!F349","v":"RET"},{"$f":"Composite!AP349","v":-16.530816810502898},{"$f":"Composite!G349","v":"TK"}]
[503,{"$f":"Composite!B306","v":"PKN2"},{"$f":"Composite!F306","v":"PKN2"},{"$f":"Composite!AP306","v":-16.634956099774826},{"$f":"Composite!G306","v":"AGC"}]
[504,{"$f":"Composite!B302","v":"PIM3"},{"$f":"Composite!F302","v":"PIM3"},{"$f":"Composite!AP302","v":-16.737273888776812},{"$f":"Composite!G302","v":"CAMK"}]
[505,{"$f":"Composite!B115","v":"DMPK (DMPK1)"},{"$f":"Composite!F115","v":"DMPK1"},{"$f":"Composite!AP115","v":-16.845955249569727},{"$f":"Composite!G115","v":"AGC"}]
[506,{"$f":"Composite!B102","v":"CSNK1E (CK1E, CK1ε)"},{"$f":"Composite!F102","v":"CK1E"},{"$f":"Composite!AP102","v":-17.696857242259071},{"$f":"Composite!G102","v":"CK1"}]
[507,{"$f":"Composite!B374","v":"SRC N1"},{"$f":"Composite!F374","v":"SRC N1"},{"$f":"Composite!AP374","v":-18.717296993824291},{"$f":"Composite!G374","v":"TK"}]
[508,{"$f":"Composite!B36","v":"BRAF (BRAF1, RAFB1)"},{"$f":"Composite!F36","v":"BRAF"},{"$f":"Composite!AP36","v":-19.891830606116315},{"$f":"Composite!G36","v":"TKL"}]
[509,{"$f":"Composite!B336","v":"PRKCQ (PKCᶿ [theta])"},{"$f":"Composite!F336","v":"PKCQ"},{"$f":"Composite!AP336","v":-21.56372915023924},{"$f":"Composite!G336","v":"AGC"}]
[510,{"$f":"Composite!B414","v":"TYK2 [JH1]"},{"$f":"Composite!F414","v":"TYK2(JH1)"},{"$f":"Composite!AP414","v":-21.743819982337996},{"$f":"Composite!G414","v":"TK"}]
[511,{"$f":"Composite!B88","v":"CDKL5"},{"$f":"Composite!F88","v":"CDKL5"},{"$f":"Composite!AP88","v":-22.584493041749511},{"$f":"Composite!G88","v":"CMGC"}]
[512,{"$f":"Composite!B31","v":"BCKDK"},{"$f":"Composite!F31","v":"BCKDK"},{"$f":"Composite!AP31","v":-24.658381600404866},{"$f":"Composite!G31","v":"Atypical"}]
[513,{"$f":"Composite!B337","v":"PRKCZ (PKCζ [zeta])"},{"$f":"Composite!F337","v":"PKCZ"},{"$f":"Composite!AP337","v":-25.168992586131694},{"$f":"Composite!G337","v":"AGC"}]
[514,{"$f":"Composite!B218","v":"MAP3K6 (ASK2)"},{"$f":"Composite!F218","v":"MAP3K6"},{"$f":"Composite!AP218","v":-28.367858556537811},{"$f":"Composite!G218","v":"STE"}]
[515,{"$f":"Composite!B335","v":"PRKCI (PKCι [iota])"},{"$f":"Composite!F335","v":"PKCI"},{"$f":"Composite!AP335","v":-29.157237709198483},{"$f":"Composite!G335","v":"AGC"}]
[516,{"$f":"Composite!B334","v":"PRKCH (PKCη [eta])"},{"$f":"Composite!F334","v":"PKCH"},{"$f":"Composite!AP334","v":-29.702519684396577},{"$f":"Composite!G334","v":"AGC"}]
[517,{"$f":"Composite!B340","v":"PRKD3 (PKD3)"},{"$f":"Composite!F340","v":"PKD3"},{"$f":"Composite!AP340","v":-30.21925643469973},{"$f":"Composite!G340","v":"CAMK"}]
[518,{"$f":"Composite!B381","v":"STK16 (MPSK1, PKL12, TSF1)"},{"$f":"Composite!F381","v":"STK16"},{"$f":"Composite!AP381","v":-42.98743011221697},{"$f":"Composite!G381","v":"Other"}]

{"sheet":"Compound 17 Kinome Tree","index":37,"n_rows":6,"n_cols":27,"rows_kept":6,"cut":false,"hidden":false,"merged":[[1,1,3,20]]}
[]
[null,{"$f":"Summary!AC26","v":"Kinome Hit View for Lapatinib  (0.005 µM) with 396 Kinases (Coral Names) at  ATP Km "}]
[null,null,null,null,null,null,null,null,null,null,null,null,null,null,null,null,null,null,null,null,null,null,null,null,null,null,"Kinome Hit View for VVVVVVVVVVVVVVVVVVVVVVVVVVV (VVVVV µM) with VVV Kinases (Coral Names)"]
[null,null,null,null,null,null,null,null,null,null,null,null,null,null,null,null,null,null,null,null,null,null,null,null,null,null,{"$f":"REPLACE(AA3,65,3,Summary!E26)","v":"Kinome Hit View for VVVVVVVVVVVVVVVVVVVVVVVVVVV (VVVVV µM) with 396 Kinases (Coral Names)"}]
[null,null,null,null,null,null,null,null,null,null,null,null,null,null,null,null,null,null,null,null,null,null,null,null,null,null,{"$f":"REPLACE(AA4,50,5,Summary!D25)","v":"Kinome Hit View for VVVVVVVVVVVVVVVVVVVVVVVVVVV (0.085 µM) with 396 Kinases (Coral Names)"}]
[null,null,null,null,null,null,null,null,null,null,null,null,null,null,null,null,null,null,null,null,null,null,null,null,null,null,{"$f":"REPLACE(AA5,21,27,Summary!C25)","v":"Kinome Hit View for Lapatinib  (0.085 µM) with 396 Kinases (Coral Names)"}]

{"sheet":"Compound 18","index":38,"n_rows":520,"n_cols":28,"rows_kept":520,"cut":false,"hidden":false,"merged":[]}
[]
["Panel #","Kinase Target","Kinase Target",{"$f":"Summary!AB27","v":"0.1 µM Staurosporine, % inhibition at 1 mM"},{"$f":"Composite!G19","v":"Group"}]
[1,{"$f":"Composite!B65","v":"CDK17 (PCTAIRE2, PCTK2)/p35NCK"},{"$f":"Composite!F65","v":"CDK17/P35"},{"$f":"Composite!AR65","v":101.24488865581502},{"$f":"Composite!G65","v":"CMGC"},null,null,null,null,null,null,null,null,null,null,null,null,null,null,null,null,null,null,null,null,null,null,"VVVVV μM VVVVVVVVVVVVVVVVVVVVVVVVVVV, % inhibition"]
[2,{"$f":"Composite!B244","v":"MARK3"},{"$f":"Composite!F244","v":"MARK3"},{"$f":"Composite!AR244","v":100},{"$f":"Composite!G244","v":"CAMK"},null,null,null,null,null,null,null,null,null,null,null,null,null,null,null,null,null,null,null,null,null,null,{"$f":"REPLACE(AB3,10,27,Summary!C27)","v":"VVVVV μM Staurosporine, % inhibition"}]
[3,{"$f":"Composite!B245","v":"MARK4"},{"$f":"Composite!F245","v":"MARK4"},{"$f":"Composite!AR245","v":100},{"$f":"Composite!G245","v":"CAMK"},null,null,null,null,null,null,null,null,null,null,null,null,null,null,null,null,null,null,null,null,null,null,{"$f":"REPLACE(AB4,1,5,Summary!D27)","v":"0.1 μM Staurosporine, % inhibition"}]
[4,{"$f":"Composite!B291","v":"PDGFRA (PDGFRα)"},{"$f":"Composite!F291","v":"PDGFRA"},{"$f":"Composite!AR291","v":100},{"$f":"Composite!G291","v":"TK"}]
[5,{"$f":"Composite!B292","v":"PDGFRB (PDGFRβ)"},{"$f":"Composite!F292","v":"PDGFRB"},{"$f":"Composite!AR292","v":100},{"$f":"Composite!G292","v":"TK"}]
[6,{"$f":"Composite!B314","v":"PRKAA1-B1-G2 (AMPKα1β1γ2)"},{"$f":"Composite!F314","v":"AMPK112"},{"$f":"Composite!AR314","v":100},{"$f":"Composite!G314","v":"CAMK"}]
[7,{"$f":"Composite!B317","v":"PRKAA1-B2-G2 (AMPKα1β2γ2)"},{"$f":"Composite!F317","v":"AMPK122"},{"$f":"Composite!AR317","v":100},{"$f":"Composite!G317","v":"CAMK"}]
[8,{"$f":"Composite!B324","v":"PRKAA2-B2-G3 (AMPKα2β2γ3)"},{"$f":"Composite!F324","v":"AMPK223"},{"$f":"Composite!AR324","v":100},{"$f":"Composite!G324","v":"CAMK"}]
[9,{"$f":"Composite!B360","v":"RPS6KA5 (MSK1)"},{"$f":"Composite!F360","v":"MSK1"},{"$f":"Composite!AR360","v":100},{"$f":"Composite!G360","v":"AGC"}]
[10,{"$f":"Composite!B415","v":"TYK2 [JH1-JH2]"},{"$f":"Composite!F415","v":"TYK2(JH1JH2)"},{"$f":"Composite!AR415","v":100},{"$f":"Composite!G415","v":"TK"}]
[11,{"$f":"Composite!B422","v":"ZAP70"},{"$f":"Composite!F422","v":"ZAP70"},{"$f":"Composite!AR422","v":100},{"$f":"Composite!G422","v":"TK"}]
[12,{"$f":"Composite!B47","v":"CAMK2D (CAMK2δ)"},{"$f":"Composite!F47","v":"CAMK2D"},{"$f":"Composite!AR47","v":99.972456156818339},{"$f":"Composite!G47","v":"CAMK"}]
[13,{"$f":"Composite!B48","v":"CAMK2G (CAMK2γ)"},{"$f":"Composite!F48","v":"CAMK2G"},{"$f":"Composite!AR48","v":99.880701067632245},{"$f":"Composite!G48","v":"CAMK"}]
[14,{"$f":"Composite!B379","v":"STK10 (LOK)"},{"$f":"Composite!F379","v":"LOK"},{"$f":"Composite!AR379","v":99.867346015858175},{"$f":"Composite!G379","v":"STE"}]
[15,{"$f":"Composite!B343","v":"PRKG2 (PKG2, PGK2, CGK2)"},{"$f":"Composite!F343","v":"PGK2"},{"$f":"Composite!AR343","v":99.725443531480337},{"$f":"Composite!G343","v":"AGC"}]
[16,{"$f":"Composite!B45","v":"CAMK2A (CAMK2α)"},{"$f":"Composite!F45","v":"CAMK2A"},{"$f":"Composite!AR45","v":99.723307526982495},{"$f":"Composite!G45","v":"CAMK"}]
[17,{"$f":"Composite!B279","v":"NTRK2 (TRKB)"},{"$f":"Composite!F279","v":"NTRK2"},{"$f":"Composite!AR279","v":99.589552850190884},{"$f":"Composite!G279","v":"TK"}]
[18,{"$f":"Composite!B313","v":"PRKAA1-B1-G1 (AMPKα1β1γ1)"},{"$f":"Composite!F313","v":"AMPK111"},{"$f":"Composite!AR313","v":99.510571848179069},{"$f":"Composite!G313","v":"CAMK"}]
[19,{"$f":"Composite!B298","v":"PHKG1"},{"$f":"Composite!F298","v":"PHKG1"},{"$f":"Composite!AR298","v":99.488020249086773},{"$f":"Composite!G298","v":"CAMK"}]
[20,{"$f":"Composite!B281","v":"NUAK1 (ARK5)"},{"$f":"Composite!F281","v":"NUAK1"},{"$f":"Composite!AR281","v":99.420025776632144},{"$f":"Composite!G281","v":"CAMK"}]
[21,{"$f":"Composite!B414","v":"TYK2 [JH1]"},{"$f":"Composite!F414","v":"TYK2(JH1)"},{"$f":"Composite!AR414","v":99.389235552223667},{"$f":"Composite!G414","v":"TK"}]
[22,{"$f":"Composite!B153","v":"FLT3"},{"$f":"Composite!F153","v":"FLT3"},{"$f":"Composite!AR153","v":99.359341288362472},{"$f":"Composite!G153","v":"TK"}]
[23,{"$f":"Composite!B188","v":"JAK3 [JH1]"},{"$f":"Composite!F188","v":"JAK3(JH1)"},{"$f":"Composite!AR188","v":99.309697848001775},{"$f":"Composite!G188","v":"TK"}]
[24,{"$f":"Composite!B369","v":"SIK2 (QIK)"},{"$f":"Composite!F369","v":"SIK2"},{"$f":"Composite!AR369","v":99.219874622707223},{"$f":"Composite!G369","v":"CAMK"}]
[25,{"$f":"Composite!B368","v":"SIK1 (SIK)"},{"$f":"Composite!F368","v":"SIK1"},{"$f":"Composite!AR368","v":99.054060229401813},{"$f":"Composite!G368","v":"CAMK"}]
[26,{"$f":"Composite!B322","v":"PRKAA2-B2-G1 (AMPKα2β2γ1)"},{"$f":"Composite!F322","v":"AMPK221"},{"$f":"Composite!AR322","v":98.994715330621446},{"$f":"Composite!G322","v":"CAMK"}]
[27,{"$f":"Composite!B307","v":"PKN3"},{"$f":"Composite!F307","v":"PKN3"},{"$f":"Composite!AR307","v":98.840311361781431},{"$f":"Composite!G307","v":"AGC"}]
[28,{"$f":"Composite!B223","v":"MAP4K2 (GCK)"},{"$f":"Composite!F223","v":"GCK"},{"$f":"Composite!AR223","v":98.820304062474037},{"$f":"Composite!G223","v":"STE"}]
[29,{"$f":"Composite!B243","v":"MARK2"},{"$f":"Composite!F243","v":"MARK2"},{"$f":"Composite!AR243","v":98.71565706719629},{"$f":"Composite!G243","v":"CAMK"}]
[30,{"$f":"Composite!B278","v":"NTRK1 (TRKA)"},{"$f":"Composite!F278","v":"NTRK1"},{"$f":"Composite!AR278","v":98.655562165377745},{"$f":"Composite!G278","v":"TK"}]
[31,{"$f":"Composite!B282","v":"NUAK2 (SNARK)"},{"$f":"Composite!F282","v":"NUAK2"},{"$f":"Composite!AR282","v":98.598475196110172},{"$f":"Composite!G282","v":"CAMK"}]
[32,{"$f":"Composite!B370","v":"SIK3 (QSK)"},{"$f":"Composite!F370","v":"SIK3"},{"$f":"Composite!AR370","v":98.534175834749973},{"$f":"Composite!G370","v":"CAMK"}]
[33,{"$f":"Composite!B316","v":"PRKAA1-B2-G1 (AMPKα1β2γ1)"},{"$f":"Composite!F316","v":"AMPK121"},{"$f":"Composite!AR316","v":98.520576039991951},{"$f":"Composite!G316","v":"CAMK"}]
[34,{"$f":"Composite!B319","v":"PRKAA2-B1-G1 (AMPKα2β1γ1)"},{"$f":"Composite!F319","v":"AMPK211"},{"$f":"Composite!AR319","v":98.492098272040863},{"$f":"Composite!G319","v":"CAMK"}]
[35,{"$f":"Composite!B97","v":"CSF1R (FMS)"},{"$f":"Composite!F97","v":"FMS/CSF1R"},{"$f":"Composite!AR97","v":98.469026039970103},{"$f":"Composite!G97","v":"TK"}]
[36,{"$f":"Composite!B222","v":"MAP4K1 (HPK1)"},{"$f":"Composite!F222","v":"HPK1"},{"$f":"Composite!AR222","v":98.443453210668153},{"$f":"Composite!G222","v":"STE"}]
[37,{"$f":"Composite!B114","v":"DDR2"},{"$f":"Composite!F114","v":"DDR2"},{"$f":"Composite!AR114","v":98.370490539368433},{"$f":"Composite!G114","v":"TK"}]
[38,{"$f":"Composite!B113","v":"DDR1 [SRC treated]"},{"$f":"Composite!F113","v":"DDR1"},{"$f":"Composite!AR113","v":98.300779901994616},{"$f":"Composite!G113","v":"TK"}]
[39,{"$f":"Composite!B258","v":"MUSK"},{"$f":"Composite!F258","v":"MUSK"},{"$f":"Composite!AR258","v":98.264929575024695},{"$f":"Composite!G258","v":"TK"}]
[40,{"$f":"Composite!B194","v":"LATS2"},{"$f":"Composite!F194","v":"LATS2"},{"$f":"Composite!AR194","v":98.236789442371133},{"$f":"Composite!G194","v":"AGC"}]
[41,{"$f":"Composite!B280","v":"NTRK3 (TRKC)"},{"$f":"Composite!F280","v":"NTRK3"},{"$f":"Composite!AR280","v":98.045315662076902},{"$f":"Composite!G280","v":"TK"}]
[42,{"$f":"Composite!B320","v":"PRKAA2-B1-G2 (AMPKα2β1γ2)"},{"$f":"Composite!F320","v":"AMPK212"},{"$f":"Composite!AR320","v":97.862121678816294},{"$f":"Composite!G320","v":"CAMK"}]
[43,{"$f":"Composite!B315","v":"PRKAA1-B1-G3 (AMPKα1β1γ3)"},{"$f":"Composite!F315","v":"AMPK113"},{"$f":"Composite!AR315","v":97.774564736627298},{"$f":"Composite!G315","v":"CAMK"}]
[44,{"$f":"Composite!B392","v":"SYK"},{"$f":"Composite!F392","v":"SYK"},{"$f":"Composite!AR392","v":97.744099221666772},{"$f":"Composite!G392","v":"TK"}]
[45,{"$f":"Composite!B323","v":"PRKAA2-B2-G2 (AMPKα2β2γ2)"},{"$f":"Composite!F323","v":"AMPK222"},{"$f":"Composite!AR323","v":97.727307793189638},{"$f":"Composite!G323","v":"CAMK"}]
[46,{"$f":"Composite!B198","v":"LRRK2"},{"$f":"Composite!F198","v":"LRRK2"},{"$f":"Composite!AR198","v":97.723721699702821},{"$f":"Composite!G198","v":"TKL"}]
[47,{"$f":"Composite!B318","v":"PRKAA1-B2-G3 (AMPKα1β2γ3)"},{"$f":"Composite!F318","v":"AMPK123"},{"$f":"Composite!AR318","v":97.69919390772472},{"$f":"Composite!G318","v":"CAMK"}]
[48,{"$f":"Composite!B371","v":"SLK"},{"$f":"Composite!F371","v":"SLK"},{"$f":"Composite!AR371","v":97.611326499448637},{"$f":"Composite!G371","v":"STE"}]
[49,{"$f":"Composite!B209","v":"MAP3K11 (MLK3)"},{"$f":"Composite!F209","v":"MAP3K11"},{"$f":"Composite!AR209","v":97.465275798514128},{"$f":"Composite!G209","v":"TKL"}]
[50,{"$f":"Composite!B306","v":"PKN2"},{"$f":"Composite!F306","v":"PKN2"},{"$f":"Composite!AR306","v":97.397861010426453},{"$f":"Composite!G306","v":"AGC"}]
[51,{"$f":"Composite!B46","v":"CAMK2B (CAMK2β)"},{"$f":"Composite!F46","v":"CAMK2B"},{"$f":"Composite!AR46","v":97.342503837046294},{"$f":"Composite!G46","v":"CAMK"}]
[52,{"$f":"Composite!B387","v":"STK3 (CLIK1, MST2)"},{"$f":"Composite!F387","v":"MST2"},{"$f":"Composite!AR387","v":97.230368198110128},{"$f":"Composite!G387","v":"STE"}]
[53,{"$f":"Composite!B355","v":"ROS1 (ROS)"},{"$f":"Composite!F355","v":"ROS"},{"$f":"Composite!AR355","v":97.074469216017278},{"$f":"Composite!G355","v":"TK"}]
[54,{"$f":"Composite!B388","v":"STK33"},{"$f":"Composite!F388","v":"STK33"},{"$f":"Composite!AR388","v":97.073064970730655},{"$f":"Composite!G388","v":"CAMK"}]
[55,{"$f":"Composite!B356","v":"RPS6KA1 (RSK1)"},{"$f":"Composite!F356","v":"RSK1"},{"$f":"Composite!AR356","v":97.070316335146387},{"$f":"Composite!G356","v":"AGC"}]
[56,{"$f":"Composite!B221","v":"MAP3K9 (MLK1)"},{"$f":"Composite!F221","v":"MAP3K9"},{"$f":"Composite!AR221","v":96.895459197263463},{"$f":"Composite!G221","v":"TKL"}]
[57,{"$f":"Composite!B406","v":"TSSK1B (TSSK1)"},{"$f":"Composite!F406","v":"TSSK1"},{"$f":"Composite!AR406","v":96.885389995031915},{"$f":"Composite!G406","v":"CAMK"}]
[58,{"$f":"Composite!B224","v":"MAP4K3 (GLK, KHS2)"},{"$f":"Composite!F224","v":"GLK/KHS2"},{"$f":"Composite!AR224","v":96.867727063846189},{"$f":"Composite!G224","v":"STE"}]
[59,{"$f":"Composite!B38","v":"BRSK1"},{"$f":"Composite!F38","v":"BRSK1"},{"$f":"Composite!AR38","v":96.765053128689487},{"$f":"Composite!G38","v":"CAMK"}]
[60,{"$f":"Composite!B391","v":"STK4 (MST1)"},{"$f":"Composite!F391","v":"MST1"},{"$f":"Composite!AR391","v":96.627313626619156},{"$f":"Composite!G391","v":"STE"}]
[61,{"$f":"Composite!B242","v":"MARK1"},{"$f":"Composite!F242","v":"MARK1"},{"$f":"Composite!AR242","v":96.494242479049859},{"$f":"Composite!G242","v":"CAMK"}]
[62,{"$f":"Composite!B190","v":"KIT (SCFR, CD117)"},{"$f":"Composite!F190","v":"KIT"},{"$f":"Composite!AR190","v":96.239972744448224},{"$f":"Composite!G190","v":"TK"}]
[63,{"$f":"Composite!B361","v":"RPS6KA6 (RSK4)"},{"$f":"Composite!F361","v":"RSK4"},{"$f":"Composite!AR361","v":96.117349060527019},{"$f":"Composite!G361","v":"AGC"}]
[64,{"$f":"Composite!B344","v":"PRKX"},{"$f":"Composite!F344","v":"PRKX"},{"$f":"Composite!AR344","v":95.987205583018323},{"$f":"Composite!G344","v":"AGC"}]
[65,{"$f":"Composite!B305","v":"PKN1"},{"$f":"Composite!F305","v":"PKN1"},{"$f":"Composite!AR305","v":95.983707726487282},{"$f":"Composite!G305","v":"AGC"}]
[66,{"$f":"Composite!B154","v":"FLT4"},{"$f":"Composite!F154","v":"FLT4"},{"$f":"Composite!AR154","v":95.883477936374661},{"$f":"Composite!G154","v":"TK"}]
[67,{"$f":"Composite!B321","v":"PRKAA2-B1-G3 (AMPKα2β1γ3)"},{"$f":"Composite!F321","v":"AMPK213"},{"$f":"Composite!AR321","v":95.747635738377085},{"$f":"Composite!G321","v":"CAMK"}]
[68,{"$f":"Composite!B358","v":"RPS6KA3 (RSK2)"},{"$f":"Composite!F358","v":"RSK2"},{"$f":"Composite!AR358","v":95.595588738954717},{"$f":"Composite!G358","v":"AGC"}]
[69,{"$f":"Composite!B357","v":"RPS6KA2 (RSK3)"},{"$f":"Composite!F357","v":"RSK3"},{"$f":"Composite!AR357","v":95.569501550890863},{"$f":"Composite!G357","v":"AGC"}]
[70,{"$f":"Composite!B185","v":"JAK1 [JH1-JH2]"},{"$f":"Composite!F185","v":"JAK1(JH1JH2)"},{"$f":"Composite!AR185","v":95.316159250585486},{"$f":"Composite!G185","v":"TK"}]
[71,{"$f":"Composite!B199","v":"LTK"},{"$f":"Composite!F199","v":"LTK"},{"$f":"Composite!AR199","v":95.117445236210088},{"$f":"Composite!G199","v":"TK"}]
[72,{"$f":"Composite!B152","v":"FLT1"},{"$f":"Composite!F152","v":"FLT1"},{"$f":"Composite!AR152","v":95.080285088327457},{"$f":"Composite!G152","v":"TK"}]
[73,{"$f":"Composite!B302","v":"PIM3"},{"$f":"Composite!F302","v":"PIM3"},{"$f":"Composite!AR302","v":94.82912332838039},{"$f":"Composite!G302","v":"CAMK"}]
[74,{"$f":"Composite!B403","v":"TNK1"},{"$f":"Composite!F403","v":"TNK1"},{"$f":"Composite!AR403","v":94.710045945610332},{"$f":"Composite!G403","v":"TK"}]
[75,{"$f":"Composite!B297","v":"PDPK1 (PDK1)"},{"$f":"Composite!F297","v":"PDK1"},{"$f":"Composite!AR297","v":94.642181503702503},{"$f":"Composite!G297","v":"AGC"}]
[76,{"$f":"Composite!B89","v":"CHEK1 (CHK1)"},{"$f":"Composite!F89","v":"CHK1"},{"$f":"Composite!AR89","v":94.541679689244091},{"$f":"Composite!G89","v":"CAMK"}]
[77,{"$f":"Composite!B226","v":"MAP4K5 (KHS1)"},{"$f":"Composite!F226","v":"KHS1"},{"$f":"Composite!AR226","v":94.206070617385919},{"$f":"Composite!G226","v":"STE"}]
[78,{"$f":"Composite!B73","v":"CDK3/CycE1"},{"$f":"Composite!F73","v":"CDK3/E1"},{"$f":"Composite!AR73","v":93.628994634942856},{"$f":"Composite!G73","v":"CMGC"}]
[79,{"$f":"Composite!B178","v":"IKKE (IKKe)"},{"$f":"Composite!F178","v":"IKKE"},{"$f":"Composite!AR178","v":93.065000517794886},{"$f":"Composite!G178","v":"Other"}]
[80,{"$f":"Composite!B362","v":"RPS6KB1 (p70S6K)"},{"$f":"Composite!F362","v":"P70S6KA"},{"$f":"Composite!AR362","v":93.064477345333387},{"$f":"Composite!G362","v":"AGC"}]
[81,{"$f":"Composite!B39","v":"BRSK2"},{"$f":"Composite!F39","v":"BRSK2"},{"$f":"Composite!AR39","v":92.931144230558175},{"$f":"Composite!G39","v":"CAMK"}]
[82,{"$f":"Composite!B145","v":"FER"},{"$f":"Composite!F145","v":"FER"},{"$f":"Composite!AR145","v":92.642642642642642},{"$f":"Composite!G145","v":"TK"}]
[83,{"$f":"Composite!B148","v":"FGFR2"},{"$f":"Composite!F148","v":"FGFR2"},{"$f":"Composite!AR148","v":92.476649902494103},{"$f":"Composite!G148","v":"TK"}]
[84,{"$f":"Composite!B346","v":"PTK2B (PYK2)"},{"$f":"Composite!F346","v":"PTK2B"},{"$f":"Composite!AR346","v":92.435899163287033},{"$f":"Composite!G346","v":"TK"}]
[85,{"$f":"Composite!B184","v":"JAK1 [JH1]"},{"$f":"Composite!F184","v":"JAK1(JH1)"},{"$f":"Composite!AR184","v":92.192809892112066},{"$f":"Composite!G184","v":"TK"}]
[86,{"$f":"Composite!B404","v":"TNK2 (ACK)"},{"$f":"Composite!F404","v":"TNK2"},{"$f":"Composite!AR404","v":91.950919406658002},{"$f":"Composite!G404","v":"TK"}]
[87,{"$f":"Composite!B50","v":"CAMKK1"},{"$f":"Composite!F50","v":"CAMKK1"},{"$f":"Composite!AR50","v":91.929188096987502},{"$f":"Composite!G50","v":"Other"}]
[88,{"$f":"Composite!B396","v":"TBK1"},{"$f":"Composite!F396","v":"TBK1"},{"$f":"Composite!AR396","v":91.803187250996018},{"$f":"Composite!G396","v":"Other"}]
[89,{"$f":"Composite!B30","v":"AXL"},{"$f":"Composite!F30","v":"AXL"},{"$f":"Composite!AR30","v":91.504884739400353},{"$f":"Composite!G30","v":"TK"}]
[90,{"$f":"Composite!B74","v":"CDK3/CycE2"},{"$f":"Composite!F74","v":"CDK3/E2"},{"$f":"Composite!AR74","v":90.7817182540999},{"$f":"Composite!G74","v":"CMGC"}]
[91,{"$f":"Composite!B67","v":"CDK2/CycA1"},{"$f":"Composite!F67","v":"CDK2/A1"},{"$f":"Composite!AR67","v":90.751135651030111},{"$f":"Composite!G67","v":"CMGC"}]
[92,{"$f":"Composite!B250","v":"MERTK (MER)"},{"$f":"Composite!F250","v":"MERTK"},{"$f":"Composite!AR250","v":90.329018826937002},{"$f":"Composite!G250","v":"TK"}]
[93,{"$f":"Composite!B331","v":"PRKCD (PKCδ [delta])"},{"$f":"Composite!F331","v":"PKCD"},{"$f":"Composite!AR331","v":90.190546129169405},{"$f":"Composite!G331","v":"AGC"}]
[94,{"$f":"Composite!B187","v":"JAK2 [JH1-JH2]"},{"$f":"Composite!F187","v":"JAK2(JH1JH2)"},{"$f":"Composite!AR187","v":90.053499777084269},{"$f":"Composite!G187","v":"TK"}]
[95,{"$f":"Composite!B51","v":"CAMKK2"},{"$f":"Composite!F51","v":"CAMKK2"},{"$f":"Composite!AR51","v":89.744128397966477},{"$f":"Composite!G51","v":"Other"}]
[96,{"$f":"Composite!B43","v":"CAMK1D (CAMK1δ)"},{"$f":"Composite!F43","v":"CAMK1D"},{"$f":"Composite!AR43","v":88.688180136105629},{"$f":"Composite!G43","v":"CAMK"}]
[97,{"$f":"Composite!B71","v":"CDK2/CycE2"},{"$f":"Composite!F71","v":"CDK2/E2"},{"$f":"Composite!AR71","v":88.249924736719194},{"$f":"Composite!G71","v":"CMGC"}]
[98,{"$f":"Composite!B393","v":"TAOK1 (TAO1)"},{"$f":"Composite!F393","v":"TAOK1"},{"$f":"Composite!AR393","v":88.228794280142992},{"$f":"Composite!G393","v":"STE"}]
[99,{"$f":"Composite!B68","v":"CDK2/CycA2"},{"$f":"Composite!F68","v":"CDK2/A2"},{"$f":"Composite!AR68","v":87.806767026477559},{"$f":"Composite!G68","v":"CMGC"}]
[100,{"$f":"Composite!B80","v":"CDK6/CycD1"},{"$f":"Composite!F80","v":"CDK6/D1"},{"$f":"Composite!AR80","v":87.14341709855843},{"$f":"Composite!G80","v":"CMGC"}]
[101,{"$f":"Composite!B252","v":"MINK1 (MAP4K6, MINK, ZC3)"},{"$f":"Composite!F252","v":"MINK"},{"$f":"Composite!AR252","v":86.986935014915233},{"$f":"Composite!G252","v":"STE"}]
[102,{"$f":"Composite!B193","v":"LATS1"},{"$f":"Composite!F193","v":"LATS1"},{"$f":"Composite!AR193","v":86.865497575059379},{"$f":"Composite!G193","v":"AGC"}]
[103,{"$f":"Composite!B208","v":"MAP3K10 (MLK2)"},{"$f":"Composite!F208","v":"MAP3K10"},{"$f":"Composite!AR208","v":86.605562154046126},{"$f":"Composite!G208","v":"TKL"}]
[104,{"$f":"Composite!B384","v":"STK24 (MST3)"},{"$f":"Composite!F384","v":"MST3"},{"$f":"Composite!AR384","v":86.089207816619179},{"$f":"Composite!G384","v":"STE"}]
[105,{"$f":"Composite!B385","v":"STK25 (YSK1)"},{"$f":"Composite!F385","v":"YSK1"},{"$f":"Composite!AR385","v":85.888879954973063},{"$f":"Composite!G385","v":"STE"}]
[106,{"$f":"Composite!B26","v":"ALK"},{"$f":"Composite!F26","v":"ALK"},{"$f":"Composite!AR26","v":84.979248962448125},{"$f":"Composite!G26","v":"TK"}]
[107,{"$f":"Composite!B147","v":"FGFR1"},{"$f":"Composite!F147","v":"FGFR1"},{"$f":"Composite!AR147","v":84.307160364145659},{"$f":"Composite!G147","v":"TK"}]
[108,{"$f":"Composite!B359","v":"RPS6KA4 (MSK2)"},{"$f":"Composite!F359","v":"MSK2"},{"$f":"Composite!AR359","v":84.006828492586877},{"$f":"Composite!G359","v":"AGC"}]
[109,{"$f":"Composite!B44","v":"CAMK1G (CAMK1γ)"},{"$f":"Composite!F44","v":"CAMK1G"},{"$f":"Composite!AR44","v":83.029066116443886},{"$f":"Composite!G44","v":"CAMK"}]
[110,{"$f":"Composite!B312","v":"PNCK (CAMK1β)"},{"$f":"Composite!F312","v":"CAMK1B"},{"$f":"Composite!AR312","v":82.54152999682573},{"$f":"Composite!G312","v":"CAMK"}]
[111,{"$f":"Composite!B389","v":"STK38 (NDR1)"},{"$f":"Composite!F389","v":"NDR1"},{"$f":"Composite!AR389","v":82.398225595356919},{"$f":"Composite!G389","v":"AGC"}]
[112,{"$f":"Composite!B70","v":"CDK2/CycE1"},{"$f":"Composite!F70","v":"CDK2/E1"},{"$f":"Composite!AR70","v":82.172391857506369},{"$f":"Composite!G70","v":"CMGC"}]
[113,{"$f":"Composite!B72","v":"CDK2/CycO"},{"$f":"Composite!F72","v":"CDK2/O"},{"$f":"Composite!AR72","v":82.113293553441707},{"$f":"Composite!G72","v":"CMGC"}]
[114,{"$f":"Composite!B354","v":"ROCK2"},{"$f":"Composite!F354","v":"ROCK2"},{"$f":"Composite!AR354","v":80.684052813933889},{"$f":"Composite!G354","v":"AGC"}]
[115,{"$f":"Composite!B29","v":"AURKC (AURC)"},{"$f":"Composite!F29","v":"AURC"},{"$f":"Composite!AR29","v":80.274561523705131},{"$f":"Composite!G29","v":"Other"}]
[116,{"$f":"Composite!B149","v":"FGFR3"},{"$f":"Composite!F149","v":"FGFR3"},{"$f":"Composite!AR149","v":80.130486358244369},{"$f":"Composite!G149","v":"TK"}]
[117,{"$f":"Composite!B299","v":"PHKG2"},{"$f":"Composite!F299","v":"PHKG2"},{"$f":"Composite!AR299","v":79.428772287736663},{"$f":"Composite!G299","v":"CAMK"}]
[118,{"$f":"Composite!B249","v":"MELK"},{"$f":"Composite!F249","v":"MELK"},{"$f":"Composite!AR249","v":79.40810399668095},{"$f":"Composite!G249","v":"CAMK"}]
[119,{"$f":"Composite!B402","v":"TNIK (ZC2)"},{"$f":"Composite!F402","v":"TNIK"},{"$f":"Composite!AR402","v":78.245745277725831},{"$f":"Composite!G402","v":"STE"}]
[120,{"$f":"Composite!B146","v":"FES"},{"$f":"Composite!F146","v":"FES"},{"$f":"Composite!AR146","v":78.0436427850656},{"$f":"Composite!G146","v":"TK"}]
[121,{"$f":"Composite!B58","v":"CDK1 (CDC2)/CycB1 "},{"$f":"Composite!F58","v":"CDK1/B1"},{"$f":"Composite!AR58","v":77.088063378580742},{"$f":"Composite!G58","v":"CMGC"}]
[122,{"$f":"Composite!B416","v":"TYRO3"},{"$f":"Composite!F416","v":"TYRO3"},{"$f":"Composite!AR416","v":76.821435125711133},{"$f":"Composite!G416","v":"TK"}]
[123,{"$f":"Composite!B340","v":"PRKD3 (PKD3)"},{"$f":"Composite!F340","v":"PKD3"},{"$f":"Composite!AR340","v":76.514088575626019},{"$f":"Composite!G340","v":"CAMK"}]
[124,{"$f":"Composite!B56","v":"CDK1 (CDC2)/CycA1 "},{"$f":"Composite!F56","v":"CDK1/A1"},{"$f":"Composite!AR56","v":76.404468448506677},{"$f":"Composite!G56","v":"CMGC"}]
[125,{"$f":"Composite!B33","v":"BLK"},{"$f":"Composite!F33","v":"BLK"},{"$f":"Composite!AR33","v":75.951498146106829},{"$f":"Composite!G33","v":"TK"}]
[126,{"$f":"Composite!B27","v":"AURKA (AURA)"},{"$f":"Composite!F27","v":"AURA"},{"$f":"Composite!AR27","v":75.733637303501837},{"$f":"Composite!G27","v":"Other"}]
[127,{"$f":"Composite!B195","v":"LCK"},{"$f":"Composite!F195","v":"LCK"},{"$f":"Composite!AR195","v":75.650431466339171},{"$f":"Composite!G195","v":"TK"}]
[128,{"$f":"Composite!B96","v":"CLK4"},{"$f":"Composite!F96","v":"CLK4"},{"$f":"Composite!AR96","v":75.575968222442896},{"$f":"Composite!G96","v":"CMGC"}]
[129,{"$f":"Composite!B186","v":"JAK2 [JH1]"},{"$f":"Composite!F186","v":"JAK2(JH1)"},{"$f":"Composite!AR186","v":75.276165888257736},{"$f":"Composite!G186","v":"TK"}]
[130,{"$f":"Composite!B189","v":"KDR (VEGFR2)"},{"$f":"Composite!F189","v":"KDR"},{"$f":"Composite!AR189","v":73.163281189197605},{"$f":"Composite!G189","v":"TK"}]
[131,{"$f":"Composite!B169","v":"HCK"},{"$f":"Composite!F169","v":"HCK"},{"$f":"Composite!AR169","v":71.011630458635068},{"$f":"Composite!G169","v":"TK"}]
[132,{"$f":"Composite!B201","v":"LYNB (LYNb)"},{"$f":"Composite!F201","v":"LYNB"},{"$f":"Composite!AR201","v":70.872856314006995},{"$f":"Composite!G201","v":"TK"}]
[133,{"$f":"Composite!B419","v":"ULK3"},{"$f":"Composite!F419","v":"ULK3"},{"$f":"Composite!AR419","v":70.567735360033311},{"$f":"Composite!G419","v":"Other"}]
[134,{"$f":"Composite!B253","v":"MLK4 (MAP3K21)"},{"$f":"Composite!F253","v":"MLK4"},{"$f":"Composite!AR253","v":70.42655347574977},{"$f":"Composite!G253","v":"STE"}]
[135,{"$f":"Composite!B285","v":"PAK3"},{"$f":"Composite!F285","v":"PAK3"},{"$f":"Composite!AR285","v":70.221222347206592},{"$f":"Composite!G285","v":"STE"}]
[136,{"$f":"Composite!B214","v":"MAP3K2 (MEKK2)"},{"$f":"Composite!F214","v":"MAP3K2"},{"$f":"Composite!AR214","v":69.688842325825036},{"$f":"Composite!G214","v":"STE"}]
[137,{"$f":"Composite!B287","v":"PAK5 (PAK7)"},{"$f":"Composite!F287","v":"PAK5"},{"$f":"Composite!AR287","v":69.529027596110751},{"$f":"Composite!G287","v":"STE"}]
[138,{"$f":"Composite!B200","v":"LYNA (LYNa)"},{"$f":"Composite!F200","v":"LYNA"},{"$f":"Composite!AR200","v":67.983942614589836},{"$f":"Composite!G200","v":"TK"}]
[139,{"$f":"Composite!B204","v":"MAP2K2 (MEK2)"},{"$f":"Composite!F204","v":"MEK2"},{"$f":"Composite!AR204","v":67.89718482252141},{"$f":"Composite!G204","v":"STE"}]
[140,{"$f":"Composite!B24","v":"AKT2 (PKBb)"},{"$f":"Composite!F24","v":"AKT2"},{"$f":"Composite!AR24","v":67.865585950692335},{"$f":"Composite!G24","v":"AGC"}]
[141,{"$f":"Composite!B395","v":"TAOK3 (TAO3)"},{"$f":"Composite!F395","v":"TAOK3"},{"$f":"Composite!AR395","v":66.278554003104901},{"$f":"Composite!G395","v":"STE"}]
[142,{"$f":"Composite!B311","v":"PLK4"},{"$f":"Composite!F311","v":"PLK4"},{"$f":"Composite!AR311","v":66.033517227984674},{"$f":"Composite!G311","v":"Other"}]
[143,{"$f":"Composite!B59","v":"CDK1 (CDC2)/CycE1 "},{"$f":"Composite!F59","v":"CDK1/E1"},{"$f":"Composite!AR59","v":65.872931749043389},{"$f":"Composite!G59","v":"CMGC"}]
[144,{"$f":"Composite!B57","v":"CDK1 (CDC2)/CycA2 "},{"$f":"Composite!F57","v":"CDK1/A2"},{"$f":"Composite!AR57","v":65.834144231808835},{"$f":"Composite!G57","v":"CMGC"}]
[145,{"$f":"Composite!B342","v":"PRKG1 (PKG1, PGK)"},{"$f":"Composite!F342","v":"PGK"},{"$f":"Composite!AR342","v":63.950473946155064},{"$f":"Composite!G342","v":"AGC"}]
[146,{"$f":"Composite!B390","v":"STK38L (NDR2)"},{"$f":"Composite!F390","v":"NDR2"},{"$f":"Composite!AR390","v":63.072616471175394},{"$f":"Composite!G390","v":"AGC"}]
[147,{"$f":"Composite!B23","v":"AKT1 (PKB)"},{"$f":"Composite!F23","v":"AKT1"},{"$f":"Composite!AR23","v":62.304339819532252},{"$f":"Composite!G23","v":"AGC"}]
[148,{"$f":"Composite!B334","v":"PRKCH (PKCη [eta])"},{"$f":"Composite!F334","v":"PKCH"},{"$f":"Composite!AR334","v":61.87325731925911},{"$f":"Composite!G334","v":"AGC"}]
[149,{"$f":"Composite!B75","v":"CDK4 /CycD3"},{"$f":"Composite!F75","v":"CDK4/D3"},{"$f":"Composite!AR75","v":61.192715330646365},{"$f":"Composite!G75","v":"CMGC"}]
[150,{"$f":"Composite!B155","v":"FRK"},{"$f":"Composite!F155","v":"FRK"},{"$f":"Composite!AR155","v":61.117168069231042},{"$f":"Composite!G155","v":"TK"}]
[151,{"$f":"Composite!B182","v":"IRAK4"},{"$f":"Composite!F182","v":"IRAK4"},{"$f":"Composite!AR182","v":60.890015248813384},{"$f":"Composite!G182","v":"TKL"}]
[152,{"$f":"Composite!B115","v":"DMPK (DMPK1)"},{"$f":"Composite!F115","v":"DMPK1"},{"$f":"Composite!AR115","v":60.801845517460819},{"$f":"Composite!G115","v":"AGC"}]
[153,{"$f":"Composite!B332","v":"PRKCE (PKCe [epsilon])"},{"$f":"Composite!F332","v":"PKCE"},{"$f":"Composite!AR332","v":60.800888230940053},{"$f":"Composite!G332","v":"AGC"}]
[154,{"$f":"Composite!B143","v":"ERN2 (IRE2)"},{"$f":"Composite!F143","v":"ERN2"},{"$f":"Composite!AR143","v":60.7731059872118},{"$f":"Composite!G143","v":"Other"}]
[155,{"$f":"Composite!B196","v":"LIMK1"},{"$f":"Composite!F196","v":"LIMK1"},{"$f":"Composite!AR196","v":60.032341377804002},{"$f":"Composite!G196","v":"TKL"}]
[156,{"$f":"Composite!B77","v":"CDK4/CycD2"},{"$f":"Composite!F77","v":"CDK4/D2"},{"$f":"Composite!AR77","v":59.926234384295064},{"$f":"Composite!G77","v":"CMGC"}]
[157,{"$f":"Composite!B386","v":"STK26 (MST4)"},{"$f":"Composite!F386","v":"MST4"},{"$f":"Composite!AR386","v":59.85686943496713},{"$f":"Composite!G386","v":"STE"}]
[158,{"$f":"Composite!B374","v":"SRC N1"},{"$f":"Composite!F374","v":"SRC N1"},{"$f":"Composite!AR374","v":59.490699395269324},{"$f":"Composite!G374","v":"TK"}]
[159,{"$f":"Composite!B151","v":"FGR"},{"$f":"Composite!F151","v":"FGR"},{"$f":"Composite!AR151","v":59.138861831569571},{"$f":"Composite!G151","v":"TK"}]
[160,{"$f":"Composite!B283","v":"PAK1"},{"$f":"Composite!F283","v":"PAK1"},{"$f":"Composite!AR283","v":59.073558905350325},{"$f":"Composite!G283","v":"STE"}]
[161,{"$f":"Composite!B85","v":"CDK9 (TAK)/CycK"},{"$f":"Composite!F85","v":"CDK9/K"},{"$f":"Composite!AR85","v":58.311873053246025},{"$f":"Composite!G85","v":"CMGC"}]
[162,{"$f":"Composite!B349","v":"RET"},{"$f":"Composite!F349","v":"RET"},{"$f":"Composite!AR349","v":57.659881102504052},{"$f":"Composite!G349","v":"TK"}]
[163,{"$f":"Composite!B284","v":"PAK2"},{"$f":"Composite!F284","v":"PAK2"},{"$f":"Composite!AR284","v":57.656764755151045},{"$f":"Composite!G284","v":"STE"}]
[164,{"$f":"Composite!B165","v":"GRK7 (GPRK7)"},{"$f":"Composite!F165","v":"GRK7"},{"$f":"Composite!AR165","v":57.583363212621016},{"$f":"Composite!G165","v":"AGC"}]
[165,{"$f":"Composite!B217","v":"MAP3K5 (ASK1)"},{"$f":"Composite!F217","v":"MAP3K5"},{"$f":"Composite!AR217","v":57.162389566680694},{"$f":"Composite!G217","v":"STE"}]
[166,{"$f":"Composite!B28","v":"AURKB (AURB)"},{"$f":"Composite!F28","v":"AURB"},{"$f":"Composite!AR28","v":56.007460753328843},{"$f":"Composite!G28","v":"Other"}]
[167,{"$f":"Composite!B353","v":"ROCK1"},{"$f":"Composite!F353","v":"ROCK1"},{"$f":"Composite!AR353","v":55.680942419905307},{"$f":"Composite!G353","v":"AGC"}]
[168,{"$f":"Composite!B82","v":"CDK6/CycD3"},{"$f":"Composite!F82","v":"CDK6/D3"},{"$f":"Composite!AR82","v":54.381117545045704},{"$f":"Composite!G82","v":"CMGC"}]
[169,{"$f":"Composite!B203","v":"MAP2K1 (MEK1)"},{"$f":"Composite!F203","v":"MEK1"},{"$f":"Composite!AR203","v":53.734888313629213},{"$f":"Composite!G203","v":"STE"}]
[170,{"$f":"Composite!B158","v":"GAK"},{"$f":"Composite!F158","v":"GAK"},{"$f":"Composite!AR158","v":53.39505748863278},{"$f":"Composite!G158","v":"Other"}]
[171,{"$f":"Composite!B225","v":"MAP4K4 (HGK, ZC1)"},{"$f":"Composite!F225","v":"HGK"},{"$f":"Composite!AR225","v":53.09671694764863},{"$f":"Composite!G225","v":"STE"}]
[172,{"$f":"Composite!B25","v":"AKT3 (PKBg)"},{"$f":"Composite!F25","v":"AKT3"},{"$f":"Composite!AR25","v":53.012905192561739},{"$f":"Composite!G25","v":"AGC"}]
[173,{"$f":"Composite!B94","v":"CLK2"},{"$f":"Composite!F94","v":"CLK2"},{"$f":"Composite!AR94","v":52.638404333455753},{"$f":"Composite!G94","v":"CMGC"}]
[174,{"$f":"Composite!B159","v":"GRK1 (RHOK)"},{"$f":"Composite!F159","v":"GRK1"},{"$f":"Composite!AR159","v":52.61080166107314},{"$f":"Composite!G159","v":"AGC"}]
[175,{"$f":"Composite!B339","v":"PRKD2 (PKD2)"},{"$f":"Composite!F339","v":"PKD2"},{"$f":"Composite!AR339","v":52.243604359523914},{"$f":"Composite!G339","v":"CAMK"}]
[176,{"$f":"Composite!B40","v":"BTK"},{"$f":"Composite!F40","v":"BTK"},{"$f":"Composite!AR40","v":51.73601190923717},{"$f":"Composite!G40","v":"TK"}]
[177,{"$f":"Composite!B32","v":"BCR RET (fusion)"},{"$f":"Composite!F32","v":"BCR RET"},{"$f":"Composite!AR32","v":51.554756756962156},{"$f":"Composite!G32","v":"TK"}]
[178,{"$f":"Composite!B118","v":"DYRK1B"},{"$f":"Composite!F118","v":"DYRK1B"},{"$f":"Composite!AR118","v":51.54361313732371},{"$f":"Composite!G118","v":"CMGC"}]
[179,{"$f":"Composite!B90","v":"CHEK2 (CHK2)"},{"$f":"Composite!F90","v":"CHK2"},{"$f":"Composite!AR90","v":50.963414634146339},{"$f":"Composite!G90","v":"CAMK"}]
[180,{"$f":"Composite!B363","v":"RPS6KB2 (p70S6KB)"},{"$f":"Composite!F363","v":"P70S6KB"},{"$f":"Composite!AR363","v":50.743131661912621},{"$f":"Composite!G363","v":"AGC"}]
[181,{"$f":"Composite!B175","v":"ICK"},{"$f":"Composite!F175","v":"ICK"},{"$f":"Composite!AR175","v":50.39234449760766},{"$f":"Composite!G175","v":"CMGC"}]
[182,{"$f":"Composite!B35","v":"BMX"},{"$f":"Composite!F35","v":"BMX"},{"$f":"Composite!AR35","v":49.665551839464875},{"$f":"Composite!G35","v":"TK"}]
[183,{"$f":"Composite!B259","v":"MYLK (smMLCK)"},{"$f":"Composite!F259","v":"MLCK"},{"$f":"Composite!AR259","v":48.220869796988147},{"$f":"Composite!G259","v":"CAMK"}]
[184,{"$f":"Composite!B180","v":"INSRR (IRR)"},{"$f":"Composite!F180","v":"INSRR"},{"$f":"Composite!AR180","v":47.178673017133036},{"$f":"Composite!G180","v":"TK"}]
[185,{"$f":"Composite!B328","v":"PRKCA (PKCα [alpha])"},{"$f":"Composite!F328","v":"PKCA"},{"$f":"Composite!AR328","v":46.974205053491708},{"$f":"Composite!G328","v":"AGC"}]
[186,{"$f":"Composite!B300","v":"PIM1"},{"$f":"Composite!F300","v":"PIM1"},{"$f":"Composite!AR300","v":46.205547377392122},{"$f":"Composite!G300","v":"CAMK"}]
[187,{"$f":"Composite!B216","v":"MAP3K3 (MEKK3)"},{"$f":"Composite!F216","v":"MAP3K3"},{"$f":"Composite!AR216","v":45.866706966903429},{"$f":"Composite!G216","v":"STE"}]
[188,{"$f":"Composite!B42","v":"CAMK1 (CAMK1a)"},{"$f":"Composite!F42","v":"CAMK1A"},{"$f":"Composite!AR42","v":45.103800173153793},{"$f":"Composite!G42","v":"CAMK"}]
[189,{"$f":"Composite!B421","v":"YES1 (YES)"},{"$f":"Composite!F421","v":"YES"},{"$f":"Composite!AR421","v":44.383288777061381},{"$f":"Composite!G421","v":"TK"}]
[190,{"$f":"Composite!B333","v":"PRKCG (PKCγ [gamma])"},{"$f":"Composite!F333","v":"PKCG"},{"$f":"Composite!AR333","v":44.19981408092373},{"$f":"Composite!G333","v":"AGC"}]
[191,{"$f":"Composite!B330","v":"PRKCB2 (PKCβ2 [beta2])"},{"$f":"Composite!F330","v":"PKCB2"},{"$f":"Composite!AR330","v":43.721249736468067},{"$f":"Composite!G330","v":"AGC"}]
[192,{"$f":"Composite!B81","v":"CDK6/CycD2"},{"$f":"Composite!F81","v":"CDK6/D2"},{"$f":"Composite!AR81","v":42.793280377774344},{"$f":"Composite!G81","v":"CMGC"}]
[193,{"$f":"Composite!B373","v":"SRC"},{"$f":"Composite!F373","v":"SRC"},{"$f":"Composite!AR373","v":41.605038745975001},{"$f":"Composite!G373","v":"TK"}]
[194,{"$f":"Composite!B336","v":"PRKCQ (PKCᶿ [theta])"},{"$f":"Composite!F336","v":"PKCQ"},{"$f":"Composite!AR336","v":41.594011878237531},{"$f":"Composite!G336","v":"AGC"}]
[195,{"$f":"Composite!B183","v":"ITK"},{"$f":"Composite!F183","v":"ITK"},{"$f":"Composite!AR183","v":40.905950853646495},{"$f":"Composite!G183","v":"TK"}]
[196,{"$f":"Composite!B157","v":"FYNb (FYN)"},{"$f":"Composite!F157","v":"FYNB"},{"$f":"Composite!AR157","v":40.785082596362429},{"$f":"Composite!G157","v":"TK"}]
[197,{"$f":"Composite!B20","v":"AAK1"},{"$f":"Composite!F20","v":"AAK1"},{"$f":"Composite!AR20","v":40.500891911194749},{"$f":"Composite!G20","v":"Other"}]
[198,{"$f":"Composite!B168","v":"HASPIN"},{"$f":"Composite!F168","v":"HASPIN"},{"$f":"Composite!AR168","v":40.391059758298084},{"$f":"Composite!G168","v":"Other"}]
[199,{"$f":"Composite!B127","v":"EIF2AK4 (GCN2)"},{"$f":"Composite!F127","v":"GCN2"},{"$f":"Composite!AR127","v":40.173100683325352},{"$f":"Composite!G127","v":"Other"}]
[200,{"$f":"Composite!B79","v":"CDK5/p35NCK"},{"$f":"Composite!F79","v":"CDK5/P35"},{"$f":"Composite!AR79","v":39.523987369707662},{"$f":"Composite!G79","v":"CMGC"}]
[201,{"$f":"Composite!B326","v":"PRKACB (PKACB, PKACβ)"},{"$f":"Composite!F326","v":"PKACB"},{"$f":"Composite!AR326","v":38.939085786683556},{"$f":"Composite!G326","v":"AGC"}]
[202,{"$f":"Composite!B233","v":"MAPK15 (ERK7)"},{"$f":"Composite!F233","v":"ERK7"},{"$f":"Composite!AR233","v":38.795303726391012},{"$f":"Composite!G233","v":"CMGC"}]
[203,{"$f":"Composite!B87","v":"CDK9 (TAK)/CycT2"},{"$f":"Composite!F87","v":"CDK9/T2"},{"$f":"Composite!AR87","v":38.701956919611447},{"$f":"Composite!G87","v":"CMGC"}]
[204,{"$f":"Composite!B408","v":"TSSK3"},{"$f":"Composite!F408","v":"TSSK3"},{"$f":"Composite!AR408","v":37.551344790798318},{"$f":"Composite!G408","v":"CAMK"}]
[205,{"$f":"Composite!B288","v":"PAK6"},{"$f":"Composite!F288","v":"PAK6"},{"$f":"Composite!AR288","v":36.931219409381505},{"$f":"Composite!G288","v":"STE"}]
[206,{"$f":"Composite!B133","v":"EPHA6"},{"$f":"Composite!F133","v":"EPHA6"},{"$f":"Composite!AR133","v":36.00456852058003},{"$f":"Composite!G133","v":"TK"}]
[207,{"$f":"Composite!B78","v":"CDK5/p25"},{"$f":"Composite!F78","v":"CDK5/P25"},{"$f":"Composite!AR78","v":35.077539550374681},{"$f":"Composite!G78","v":"CMGC"}]
[208,{"$f":"Composite!B93","v":"CLK1"},{"$f":"Composite!F93","v":"CLK1"},{"$f":"Composite!AR93","v":34.685287928065819},{"$f":"Composite!G93","v":"CMGC"}]
[209,{"$f":"Composite!B286","v":"PAK4"},{"$f":"Composite!F286","v":"PAK4"},{"$f":"Composite!AR286","v":33.659892978967605},{"$f":"Composite!G286","v":"STE"}]
[210,{"$f":"Composite!B394","v":"TAOK2 (TAO2)"},{"$f":"Composite!F394","v":"TAOK2"},{"$f":"Composite!AR394","v":33.027210884353735},{"$f":"Composite!G394","v":"STE"}]
[211,{"$f":"Composite!B179","v":"INSR (IR)"},{"$f":"Composite!F179","v":"INSR"},{"$f":"Composite!AR179","v":31.90992277240575},{"$f":"Composite!G179","v":"TK"}]
[212,{"$f":"Composite!B130","v":"EPHA3"},{"$f":"Composite!F130","v":"EPHA3"},{"$f":"Composite!AR130","v":31.788130408181118},{"$f":"Composite!G130","v":"TK"}]
[213,{"$f":"Composite!B382","v":"STK17A (DRAK1)"},{"$f":"Composite!F382","v":"DRAK1"},{"$f":"Composite!AR382","v":31.376535732825744},{"$f":"Composite!G382","v":"CAMK"}]
[214,{"$f":"Composite!B417","v":"ULK1"},{"$f":"Composite!F417","v":"ULK1"},{"$f":"Composite!AR417","v":31.298853569567456},{"$f":"Composite!G417","v":"Other"}]
[215,{"$f":"Composite!B86","v":"CDK9 (TAK)/CycT1"},{"$f":"Composite!F86","v":"CDK9/T1"},{"$f":"Composite!AR86","v":31.035061231337039},{"$f":"Composite!G86","v":"CMGC"}]
[216,{"$f":"Composite!B132","v":"EPHA5"},{"$f":"Composite!F132","v":"EPHA5"},{"$f":"Composite!AR132","v":30.37273816998686},{"$f":"Composite!G132","v":"TK"}]
[217,{"$f":"Composite!B329","v":"PRKCB1 (PKCβ1 [beta1])"},{"$f":"Composite!F329","v":"PKCB1"},{"$f":"Composite!AR329","v":30.118747327741474},{"$f":"Composite!G329","v":"AGC"}]
[218,{"$f":"Composite!B366","v":"SGK2"},{"$f":"Composite!F366","v":"SGK2"},{"$f":"Composite!AR366","v":29.89723099471324},{"$f":"Composite!G366","v":"AGC"}]
[219,{"$f":"Composite!B84","v":"CDK7/CycH1"},{"$f":"Composite!F84","v":"CDK7/H1"},{"$f":"Composite!AR84","v":29.86541385806045},{"$f":"Composite!G84","v":"CMGC"}]
[220,{"$f":"Composite!B76","v":"CDK4/CycD1"},{"$f":"Composite!F76","v":"CDK4/D1"},{"$f":"Composite!AR76","v":29.585305634622344},{"$f":"Composite!G76","v":"CMGC"}]
[221,{"$f":"Composite!B211","v":"MAP3K13 (LZK)"},{"$f":"Composite!F211","v":"MAP3K13"},{"$f":"Composite!AR211","v":28.599525810971016},{"$f":"Composite!G211","v":"TKL"}]
[222,{"$f":"Composite!B398","v":"TEK (TIE2)"},{"$f":"Composite!F398","v":"TEK"},{"$f":"Composite!AR398","v":27.657191870577293},{"$f":"Composite!G398","v":"TK"}]
[223,{"$f":"Composite!B277","v":"NLK (LAK1)"},{"$f":"Composite!F277","v":"NLK"},{"$f":"Composite!AR277","v":27.595488336324024},{"$f":"Composite!G277","v":"CMGC"}]
[224,{"$f":"Composite!B407","v":"TSSK2"},{"$f":"Composite!F407","v":"TSSK2"},{"$f":"Composite!AR407","v":27.54083885209711},{"$f":"Composite!G407","v":"CAMK"}]
[225,{"$f":"Composite!B383","v":"STK17B (DRAK2)"},{"$f":"Composite!F383","v":"DRAK2"},{"$f":"Composite!AR383","v":26.885259390299069},{"$f":"Composite!G383","v":"CAMK"}]
[226,{"$f":"Composite!B54","v":"CDC42BPG (DMPK2)"},{"$f":"Composite!F54","v":"DMPK2"},{"$f":"Composite!AR54","v":26.317397281197486},{"$f":"Composite!G54","v":"AGC"}]
[227,{"$f":"Composite!B140","v":"ERBB2 (HER2)"},{"$f":"Composite!F140","v":"HER2"},{"$f":"Composite!AR140","v":26.127009052111688},{"$f":"Composite!G140","v":"TK"}]
[228,{"$f":"Composite!B397","v":"TEC"},{"$f":"Composite!F397","v":"TEC"},{"$f":"Composite!AR397","v":25.913368844155428},{"$f":"Composite!G397","v":"TK"}]
[229,{"$f":"Composite!B365","v":"SGK1 (SGK)"},{"$f":"Composite!F365","v":"SGK"},{"$f":"Composite!AR365","v":25.804014990848628},{"$f":"Composite!G365","v":"AGC"}]
[230,{"$f":"Composite!B135","v":"EPHA8"},{"$f":"Composite!F135","v":"EPHA8"},{"$f":"Composite!AR135","v":25.620266666666666},{"$f":"Composite!G135","v":"TK"}]
[231,{"$f":"Composite!B162","v":"GRK4 (GPRK4)"},{"$f":"Composite!F162","v":"GRK4"},{"$f":"Composite!AR162","v":25.510155430533047},{"$f":"Composite!G162","v":"AGC"}]
[232,{"$f":"Composite!B345","v":"PTK2 (FAK)"},{"$f":"Composite!F345","v":"PTK2"},{"$f":"Composite!AR345","v":25.36489002536419},{"$f":"Composite!G345","v":"TK"}]
[233,{"$f":"Composite!B63","v":"CDK16 (PCTAIRE1, PCTK1)/CycY "},{"$f":"Composite!F63","v":"CDK16"},{"$f":"Composite!AR63","v":24.955644784760494},{"$f":"Composite!G63","v":"CMGC"}]
[234,{"$f":"Composite!B55","v":"CDC7/DBF4 (CDC7)"},{"$f":"Composite!F55","v":"CDC7"},{"$f":"Composite!AR55","v":24.897102158170384},{"$f":"Composite!G55","v":"Other"}]
[235,{"$f":"Composite!B150","v":"FGFR4"},{"$f":"Composite!F150","v":"FGFR4"},{"$f":"Composite!AR150","v":24.595209392079269},{"$f":"Composite!G150","v":"TK"}]
[236,{"$f":"Composite!B264","v":"MYO3B"},{"$f":"Composite!F264","v":"MYO3B"},{"$f":"Composite!AR264","v":24.42134472658401},{"$f":"Composite!G264","v":"STE"}]
[237,{"$f":"Composite!B219","v":"MAP3K7 (TAK1)"},{"$f":"Composite!F219","v":"MAP3K7"},{"$f":"Composite!AR219","v":24.079961847229953},{"$f":"Composite!G219","v":"STE"}]
[238,{"$f":"Composite!B271","v":"NEK5"},{"$f":"Composite!F271","v":"NEK5"},{"$f":"Composite!AR271","v":23.986846152026303},{"$f":"Composite!G271","v":"Other"}]
[239,{"$f":"Composite!B167","v":"GSK3B (GSK3β)"},{"$f":"Composite!F167","v":"GSK3B"},{"$f":"Composite!AR167","v":23.947638142160997},{"$f":"Composite!G167","v":"CMGC"}]
[240,{"$f":"Composite!B88","v":"CDKL5"},{"$f":"Composite!F88","v":"CDKL5"},{"$f":"Composite!AR88","v":23.477406679764243},{"$f":"Composite!G88","v":"CMGC"}]
[241,{"$f":"Composite!B293","v":"PDK1 (PDHK1)"},{"$f":"Composite!F293","v":"PDHK1"},{"$f":"Composite!AR293","v":23.261677757641323},{"$f":"Composite!G293","v":"Atypical"}]
[242,{"$f":"Composite!B325","v":"PRKACA (PKACA, PKACα)"},{"$f":"Composite!F325","v":"PKACA"},{"$f":"Composite!AR325","v":22.579593964871123},{"$f":"Composite!G325","v":"AGC"}]
[243,{"$f":"Composite!B22","v":"ABL2 (ARG)"},{"$f":"Composite!F22","v":"ABL2"},{"$f":"Composite!AR22","v":22.082523009079765},{"$f":"Composite!G22","v":"TK"}]
[244,{"$f":"Composite!B170","v":"HIPK1"},{"$f":"Composite!F170","v":"HIPK1"},{"$f":"Composite!AR170","v":21.705894186280403},{"$f":"Composite!G170","v":"CMGC"}]
[245,{"$f":"Composite!B112","v":"DCLK2 (DCAMKL2)"},{"$f":"Composite!F112","v":"DCAML2"},{"$f":"Composite!AR112","v":21.429082667302879},{"$f":"Composite!G112","v":"CAMK"}]
[246,{"$f":"Composite!B131","v":"EPHA4"},{"$f":"Composite!F131","v":"EPHA4"},{"$f":"Composite!AR131","v":21.329561527581319},{"$f":"Composite!G131","v":"TK"}]
[247,{"$f":"Composite!B347","v":"PTK6 (BRK)"},{"$f":"Composite!F347","v":"PTK6"},{"$f":"Composite!AR347","v":20.900028872174545},{"$f":"Composite!G347","v":"TK"}]
[248,{"$f":"Composite!B413","v":"TXK"},{"$f":"Composite!F413","v":"TXK"},{"$f":"Composite!AR413","v":20.657038040783959},{"$f":"Composite!G413","v":"TK"}]
[249,{"$f":"Composite!B338","v":"PRKD1 (PKD1)"},{"$f":"Composite!F338","v":"PKD1"},{"$f":"Composite!AR338","v":20.503436330111228},{"$f":"Composite!G338","v":"CAMK"}]
[250,{"$f":"Composite!B263","v":"MYO3A"},{"$f":"Composite!F263","v":"MYO3A"},{"$f":"Composite!AR263","v":20.252067743205984},{"$f":"Composite!G263","v":"STE"}]
[251,{"$f":"Composite!B260","v":"MYLK2 (skMLCK)"},{"$f":"Composite!F260","v":"MYLK2"},{"$f":"Composite!AR260","v":19.622821675817619},{"$f":"Composite!G260","v":"CAMK"}]
[252,{"$f":"Composite!B156","v":"FYNa (FYN)"},{"$f":"Composite!F156","v":"FYNA"},{"$f":"Composite!AR156","v":19.375170102707912},{"$f":"Composite!G156","v":"TK"}]
[253,{"$f":"Composite!B265","v":"NEK1"},{"$f":"Composite!F265","v":"NEK1"},{"$f":"Composite!AR265","v":18.910031263267598},{"$f":"Composite!G265","v":"Other"}]
[254,{"$f":"Composite!B117","v":"DYRK1A"},{"$f":"Composite!F117","v":"DYRK1A"},{"$f":"Composite!AR117","v":18.823235352929416},{"$f":"Composite!G117","v":"CMGC"}]
[255,{"$f":"Composite!B52","v":"CDC42BPA (MRCKA)"},{"$f":"Composite!F52","v":"MRCKA"},{"$f":"Composite!AR52","v":18.408218238399201},{"$f":"Composite!G52","v":"AGC"}]
[256,{"$f":"Composite!B399","v":"TESK2"},{"$f":"Composite!F399","v":"TESK2"},{"$f":"Composite!AR399","v":18.169797807283345},{"$f":"Composite!G399","v":"TKL"}]
[257,{"$f":"Composite!B31","v":"BCKDK"},{"$f":"Composite!F31","v":"BCKDK"},{"$f":"Composite!AR31","v":17.767663448041134},{"$f":"Composite!G31","v":"Atypical"}]
[258,{"$f":"Composite!B410","v":"TTBK1"},{"$f":"Composite!F410","v":"TTBK1"},{"$f":"Composite!AR410","v":17.569786535303777},{"$f":"Composite!G410","v":"CK1"}]
[259,{"$f":"Composite!B83","v":"CDK7/CycH/MAT1"},{"$f":"Composite!F83","v":"CDK7"},{"$f":"Composite!AR83","v":17.373239198729863},{"$f":"Composite!G83","v":"CMGC"}]
[260,{"$f":"Composite!B248","v":"MATK (CTK)"},{"$f":"Composite!F248","v":"CTK"},{"$f":"Composite!AR248","v":17.270355591329789},{"$f":"Composite!G248","v":"TK"}]
[261,{"$f":"Composite!B246","v":"MAST3"},{"$f":"Composite!F246","v":"MAST3"},{"$f":"Composite!AR246","v":17.219824850869387},{"$f":"Composite!G246","v":"AGC"}]
[262,{"$f":"Composite!B327","v":"PRKACG (PKACG, PKACg)"},{"$f":"Composite!F327","v":"PKACG"},{"$f":"Composite!AR327","v":17.108634765508626},{"$f":"Composite!G327","v":"AGC"}]
[263,{"$f":"Composite!B418","v":"ULK2"},{"$f":"Composite!F418","v":"ULK2"},{"$f":"Composite!AR418","v":16.976490088375854},{"$f":"Composite!G418","v":"Other"}]
[264,{"$f":"Composite!B166","v":"GSK3A (GSK3α)"},{"$f":"Composite!F166","v":"GSK3A"},{"$f":"Composite!AR166","v":16.974061713215065},{"$f":"Composite!G166","v":"CMGC"}]
[265,{"$f":"Composite!B49","v":"CAMK4"},{"$f":"Composite!F49","v":"CAMK4"},{"$f":"Composite!AR49","v":16.85022085975811},{"$f":"Composite!G49","v":"CAMK"}]
[266,{"$f":"Composite!B301","v":"PIM2"},{"$f":"Composite!F301","v":"PIM2"},{"$f":"Composite!AR301","v":16.59908016418575},{"$f":"Composite!G301","v":"CAMK"}]
[267,{"$f":"Composite!B142","v":"ERN1 (IRE1)"},{"$f":"Composite!F142","v":"ERN1"},{"$f":"Composite!AR142","v":16.267207138582108},{"$f":"Composite!G142","v":"Other"}]
[268,{"$f":"Composite!B267","v":"NEK11"},{"$f":"Composite!F267","v":"NEK11"},{"$f":"Composite!AR267","v":15.327532964645926},{"$f":"Composite!G267","v":"Other"}]
[269,{"$f":"Composite!B98","v":"CSK"},{"$f":"Composite!F98","v":"CSK"},{"$f":"Composite!AR98","v":14.749523446435376},{"$f":"Composite!G98","v":"TK"}]
[270,{"$f":"Composite!B409","v":"TSSK6 (SSTK)"},{"$f":"Composite!F409","v":"TSSK6"},{"$f":"Composite!AR409","v":14.555989121437861},{"$f":"Composite!G409","v":"CAMK"}]
[271,{"$f":"Composite!B176","v":"IGF1R"},{"$f":"Composite!F176","v":"IGF1R"},{"$f":"Composite!AR176","v":14.139683290002367},{"$f":"Composite!G176","v":"TK"}]
[272,{"$f":"Composite!B34","v":"BMP2K (BIKE)"},{"$f":"Composite!F34","v":"BIKE"},{"$f":"Composite!AR34","v":14.063797973085229},{"$f":"Composite!G34","v":"Other"}]
[273,{"$f":"Composite!B53","v":"CDC42BPB (MRCKB)"},{"$f":"Composite!F53","v":"MRCKB"},{"$f":"Composite!AR53","v":14.031643143873438},{"$f":"Composite!G53","v":"AGC"}]
[274,{"$f":"Composite!B64","v":"CDK17 (PCTAIRE2, PCTK2)/CycY"},{"$f":"Composite!F64","v":"CDK17"},{"$f":"Composite!AR64","v":13.776306750765002},{"$f":"Composite!G64","v":"CMGC"}]
[275,{"$f":"Composite!B137","v":"EPHB2"},{"$f":"Composite!F137","v":"EPHB2"},{"$f":"Composite!AR137","v":13.714106737362542},{"$f":"Composite!G137","v":"TK"}]
[276,{"$f":"Composite!B273","v":"NEK7"},{"$f":"Composite!F273","v":"NEK7"},{"$f":"Composite!AR273","v":13.517720927819013},{"$f":"Composite!G273","v":"Other"}]
[277,{"$f":"Composite!B212","v":"MAP3K14 (NIK)"},{"$f":"Composite!F212","v":"MAP3K14"},{"$f":"Composite!AR212","v":13.498930133035628},{"$f":"Composite!G212","v":"STE"}]
[278,{"$f":"Composite!B276","v":"NIM1 (NIM1K)"},{"$f":"Composite!F276","v":"NIM1"},{"$f":"Composite!AR276","v":13.426690548745029},{"$f":"Composite!G276","v":"CAMK"}]
[279,{"$f":"Composite!B294","v":"PDK2 (PDHK2)"},{"$f":"Composite!F294","v":"PDHK2"},{"$f":"Composite!AR294","v":13.320783966338141},{"$f":"Composite!G294","v":"Atypical"}]
[280,{"$f":"Composite!B164","v":"GRK6 (GPRK6)"},{"$f":"Composite!F164","v":"GRK6"},{"$f":"Composite!AR164","v":13.155613175059756},{"$f":"Composite!G164","v":"AGC"}]
[281,{"$f":"Composite!B412","v":"TTK"},{"$f":"Composite!F412","v":"TTK"},{"$f":"Composite!AR412","v":12.973440005316974},{"$f":"Composite!G412","v":"Other"}]
[282,{"$f":"Composite!B174","v":"HUNK"},{"$f":"Composite!F174","v":"HUNK"},{"$f":"Composite!AR174","v":12.511889867267655},{"$f":"Composite!G174","v":"CAMK"}]
[283,{"$f":"Composite!B350","v":"RIPK1"},{"$f":"Composite!F350","v":"RIPK1"},{"$f":"Composite!AR350","v":12.203880251330787},{"$f":"Composite!G350","v":"TKL"}]
[284,{"$f":"Composite!B380","v":"STK11 (LKB1, AMPKK)"},{"$f":"Composite!F380","v":"LKB1"},{"$f":"Composite!AR380","v":12.132568886024245},{"$f":"Composite!G380","v":"CAMK"}]
[285,{"$f":"Composite!B136","v":"EPHB1"},{"$f":"Composite!F136","v":"EPHB1"},{"$f":"Composite!AR136","v":11.908531870236047},{"$f":"Composite!G136","v":"TK"}]
[286,{"$f":"Composite!B236","v":"MAPK7 (BMK, ERK5)"},{"$f":"Composite!F236","v":"ERK5"},{"$f":"Composite!AR236","v":11.861507299308371},{"$f":"Composite!G236","v":"CMGC"}]
[287,{"$f":"Composite!B238","v":"MAPK9 (JNK2)"},{"$f":"Composite!F238","v":"JNK2"},{"$f":"Composite!AR238","v":11.295272325131307},{"$f":"Composite!G238","v":"CMGC"}]
[288,{"$f":"Composite!B36","v":"BRAF (BRAF1, RAFB1)"},{"$f":"Composite!F36","v":"BRAF"},{"$f":"Composite!AR36","v":10.958213470150355},{"$f":"Composite!G36","v":"TKL"}]
[289,{"$f":"Composite!B256","v":"MST1R (RON)"},{"$f":"Composite!F256","v":"MST1R"},{"$f":"Composite!AR256","v":10.61821063919065},{"$f":"Composite!G256","v":"TK"}]
[290,{"$f":"Composite!B202","v":"MAK"},{"$f":"Composite!F202","v":"MAK"},{"$f":"Composite!AR202","v":10.508926964831971},{"$f":"Composite!G202","v":"Atypical"}]
[291,{"$f":"Composite!B367","v":"SGK3"},{"$f":"Composite!F367","v":"SGK3"},{"$f":"Composite!AR367","v":10.023717790489272},{"$f":"Composite!G367","v":"AGC"}]
[292,{"$f":"Composite!B261","v":"MYLK3 (caMLCK)"},{"$f":"Composite!F261","v":"MYLK3"},{"$f":"Composite!AR261","v":10.008175828403793},{"$f":"Composite!G261","v":"CAMK"}]
[293,{"$f":"Composite!B218","v":"MAP3K6 (ASK2)"},{"$f":"Composite!F218","v":"MAP3K6"},{"$f":"Composite!AR218","v":9.9089279982882204},{"$f":"Composite!G218","v":"STE"}]
[294,{"$f":"Composite!B116","v":"DSTYK (RIPK5, SGK496)"},{"$f":"Composite!F116","v":"RIPK5"},{"$f":"Composite!AR116","v":9.7438841578157991},{"$f":"Composite!G116","v":"TKL"}]
[295,{"$f":"Composite!B262","v":"MYLK4 (SgK085)"},{"$f":"Composite!F262","v":"MYLK4"},{"$f":"Composite!AR262","v":9.699756559372446},{"$f":"Composite!G262","v":"CAMK"}]
[296,{"$f":"Composite!B420","v":"WEE1"},{"$f":"Composite!F420","v":"WEE1"},{"$f":"Composite!AR420","v":9.2522522522522763},{"$f":"Composite!G420","v":"Other"}]
[297,{"$f":"Composite!B144","v":"FAM20C"},{"$f":"Composite!F144","v":"FAM20C"},{"$f":"Composite!AR144","v":8.9920352694075234},{"$f":"Composite!G144","v":"Other"}]
[298,{"$f":"Composite!B381","v":"STK16 (MPSK1, PKL12, TSF1)"},{"$f":"Composite!F381","v":"STK16"},{"$f":"Composite!AR381","v":8.9498453983266444},{"$f":"Composite!G381","v":"Other"}]
[299,{"$f":"Composite!B62","v":"CDK14 (PFTAIRE1, PFTK1)/CycY"},{"$f":"Composite!F62","v":"CDK14"},{"$f":"Composite!AR62","v":8.8125146290083336},{"$f":"Composite!G62","v":"CMGC"}]
[300,{"$f":"Composite!B237","v":"MAPK8 (JNK1)"},{"$f":"Composite!F237","v":"JNK1"},{"$f":"Composite!AR237","v":8.675067375628231},{"$f":"Composite!G237","v":"CMGC"}]
[301,{"$f":"Composite!B375","v":"SRMS (SRM)"},{"$f":"Composite!F375","v":"SRM"},{"$f":"Composite!AR375","v":8.4749015953377693},{"$f":"Composite!G375","v":"TK"}]
[302,{"$f":"Composite!B232","v":"MAPK14 (p38a)"},{"$f":"Composite!F232","v":"P38A"},{"$f":"Composite!AR232","v":8.3431257344300462},{"$f":"Composite!G232","v":"CMGC"}]
[303,{"$f":"Composite!B272","v":"NEK6"},{"$f":"Composite!F272","v":"NEK6"},{"$f":"Composite!AR272","v":8.3315728319425375},{"$f":"Composite!G272","v":"Other"}]
[304,{"$f":"Composite!B172","v":"HIPK3"},{"$f":"Composite!F172","v":"HIPK3"},{"$f":"Composite!AR172","v":8.1794526130984053},{"$f":"Composite!G172","v":"CMGC"}]
[305,{"$f":"Composite!B364","v":"SBK1 (SBK)"},{"$f":"Composite!F364","v":"SBK1"},{"$f":"Composite!AR364","v":8.0920787433835244},{"$f":"Composite!G364","v":"Other"}]
[306,{"$f":"Composite!B21","v":"ABL1"},{"$f":"Composite!F21","v":"ABL1"},{"$f":"Composite!AR21","v":7.7890277794781895},{"$f":"Composite!G21","v":"TK"}]
[307,{"$f":"Composite!B400","v":"TLK1"},{"$f":"Composite!F400","v":"TLK1"},{"$f":"Composite!AR400","v":7.711138890467339},{"$f":"Composite!G400","v":"Other"}]
[308,{"$f":"Composite!B128","v":"EPHA1"},{"$f":"Composite!F128","v":"EPHA1"},{"$f":"Composite!AR128","v":7.6632821075740907},{"$f":"Composite!G128","v":"TK"}]
[309,{"$f":"Composite!B134","v":"EPHA7"},{"$f":"Composite!F134","v":"EPHA7"},{"$f":"Composite!AR134","v":7.646939951649955},{"$f":"Composite!G134","v":"TK"}]
[310,{"$f":"Composite!B108","v":"DAPK1"},{"$f":"Composite!F108","v":"DAPK1"},{"$f":"Composite!AR108","v":6.9769221571206401},{"$f":"Composite!G108","v":"CAMK"}]
[311,{"$f":"Composite!B251","v":"MET (c-MET, HGFR)"},{"$f":"Composite!F251","v":"MET"},{"$f":"Composite!AR251","v":6.6636061868776011},{"$f":"Composite!G251","v":"TK"}]
[312,{"$f":"Composite!B303","v":"PINK1 (PINK)"},{"$f":"Composite!F303","v":"PINK"},{"$f":"Composite!AR303","v":6.5764740144555276},{"$f":"Composite!G303","v":"Other"}]
[313,{"$f":"Composite!B124","v":"EIF2AK1 (HRI)"},{"$f":"Composite!F124","v":"HRI"},{"$f":"Composite!AR124","v":6.4949273920827437},{"$f":"Composite!G124","v":"Other"}]
[314,{"$f":"Composite!B126","v":"EIF2AK3 (PERK/PEK)"},{"$f":"Composite!F126","v":"PEK"},{"$f":"Composite!AR126","v":6.4141196728368612},{"$f":"Composite!G126","v":"Other"}]
[315,{"$f":"Composite!B110","v":"DAPK3 (ZIPK)"},{"$f":"Composite!F110","v":"DAPK3"},{"$f":"Composite!AR110","v":6.2056354839938592},{"$f":"Composite!G110","v":"CAMK"}]
[316,{"$f":"Composite!B268","v":"NEK2"},{"$f":"Composite!F268","v":"NEK2"},{"$f":"Composite!AR268","v":6.0716454159077244},{"$f":"Composite!G268","v":"Other"}]
[317,{"$f":"Composite!B230","v":"MAPK12 (p38γ)"},{"$f":"Composite!F230","v":"P38G"},{"$f":"Composite!AR230","v":5.8443975679364826},{"$f":"Composite!G230","v":"CMGC"}]
[318,{"$f":"Composite!B215","v":"MAP3K20 (MLK7, ZAK)"},{"$f":"Composite!F215","v":"ZAK"},{"$f":"Composite!AR215","v":5.8414704192992559},{"$f":"Composite!G215","v":"TKL"}]
[319,{"$f":"Composite!B192","v":"KSR2"},{"$f":"Composite!F192","v":"KSR2"},{"$f":"Composite!AR192","v":5.5701537580976606},{"$f":"Composite!G192","v":"TKL"}]
[320,{"$f":"Composite!B66","v":"CDK18 (PCTAIRE3, PCTK3)/CycY "},{"$f":"Composite!F66","v":"CDK18"},{"$f":"Composite!AR66","v":5.4309026007139209},{"$f":"Composite!G66","v":"CMGC"}]
[321,{"$f":"Composite!B228","v":"MAPK10 (JNK3)"},{"$f":"Composite!F228","v":"JNK3"},{"$f":"Composite!AR228","v":5.1116324596429479},{"$f":"Composite!G228","v":"CMGC"}]
[322,{"$f":"Composite!B351","v":"RIPK2"},{"$f":"Composite!F351","v":"RIPK2"},{"$f":"Composite!AR351","v":5.1100378808190214},{"$f":"Composite!G351","v":"TKL"}]
[323,{"$f":"Composite!B289","v":"PASK"},{"$f":"Composite!F289","v":"PASK"},{"$f":"Composite!AR289","v":4.9735996750729186},{"$f":"Composite!G289","v":"CAMK"}]
[324,{"$f":"Composite!B109","v":"DAPK2 (DRP-1)"},{"$f":"Composite!F109","v":"DAPK2"},{"$f":"Composite!AR109","v":4.9310767222795704},{"$f":"Composite!G109","v":"CAMK"}]
[325,{"$f":"Composite!B107","v":"CSNK2A2 (CK2A2, CK2α2)"},{"$f":"Composite!F107","v":"CK2A2"},{"$f":"Composite!AR107","v":4.8005489834360162},{"$f":"Composite!G107","v":"Other"}]
[326,{"$f":"Composite!B227","v":"MAPK1 (ERK2)"},{"$f":"Composite!F227","v":"ERK2"},{"$f":"Composite!AR227","v":4.641134374472486},{"$f":"Composite!G227","v":"CMGC"}]
[327,{"$f":"Composite!B234","v":"MAPK3 (ERK1)"},{"$f":"Composite!F234","v":"ERK1"},{"$f":"Composite!AR234","v":4.6197154778062668},{"$f":"Composite!G234","v":"CAMK"}]
[328,{"$f":"Composite!B141","v":"ERBB4 (HER4)"},{"$f":"Composite!F141","v":"HER4"},{"$f":"Composite!AR141","v":4.5787329635402614},{"$f":"Composite!G141","v":"TK"}]
[329,{"$f":"Composite!B270","v":"NEK4"},{"$f":"Composite!F270","v":"NEK4"},{"$f":"Composite!AR270","v":4.237919845654659},{"$f":"Composite!G270","v":"Other"}]
[330,{"$f":"Composite!B100","v":"CSNK1A1L (CK1A1L, CK1a2)"},{"$f":"Composite!F100","v":"CK1A1L"},{"$f":"Composite!AR100","v":4.1959631644498074},{"$f":"Composite!G100","v":"CK1"}]
[331,{"$f":"Composite!B229","v":"MAPK11 (p38b)"},{"$f":"Composite!F229","v":"P38B"},{"$f":"Composite!AR229","v":3.9439443298571604},{"$f":"Composite!G229","v":"CMGC"}]
[332,{"$f":"Composite!B266","v":"NEK10"},{"$f":"Composite!F266","v":"NEK10"},{"$f":"Composite!AR266","v":3.7495736068695606},{"$f":"Composite!G266","v":"Other"}]
[333,{"$f":"Composite!B91","v":"CHUK (IKKA, IKKa)"},{"$f":"Composite!F91","v":"IKKA"},{"$f":"Composite!AR91","v":3.1017872417053098},{"$f":"Composite!G91","v":"Other"}]
[334,{"$f":"Composite!B376","v":"SRPK1"},{"$f":"Composite!F376","v":"SRPK1"},{"$f":"Composite!AR376","v":3.053140773976466},{"$f":"Composite!G376","v":"CMGC"}]
[335,{"$f":"Composite!B181","v":"IRAK1"},{"$f":"Composite!F181","v":"IRAK1"},{"$f":"Composite!AR181","v":2.9417016337826993},{"$f":"Composite!G181","v":"TKL"}]
[336,{"$f":"Composite!B163","v":"GRK5 (GPRK5)"},{"$f":"Composite!F163","v":"GRK5"},{"$f":"Composite!AR163","v":2.8841548724794848},{"$f":"Composite!G163","v":"AGC"}]
[337,{"$f":"Composite!B254","v":"MNK1"},{"$f":"Composite!F254","v":"MNK1"},{"$f":"Composite!AR254","v":2.8143003709257357},{"$f":"Composite!G254","v":"CAMK"}]
[338,{"$f":"Composite!B125","v":"EIF2AK2 (PKR)"},{"$f":"Composite!F125","v":"PKR"},{"$f":"Composite!AR125","v":2.6487408447877812},{"$f":"Composite!G125","v":"Other"}]
[339,{"$f":"Composite!B205","v":"MAP2K3 (MEK3)"},{"$f":"Composite!F205","v":"MEK3"},{"$f":"Composite!AR205","v":2.3120686651060822},{"$f":"Composite!G205","v":"STE"}]
[340,{"$f":"Composite!B139","v":"EPHB4"},{"$f":"Composite!F139","v":"EPHB4"},{"$f":"Composite!AR139","v":2.0686519663560006},{"$f":"Composite!G139","v":"TK"}]
[341,{"$f":"Composite!B310","v":"PLK3"},{"$f":"Composite!F310","v":"PLK3"},{"$f":"Composite!AR310","v":2.0166687287000826},{"$f":"Composite!G310","v":"Other"}]
[342,{"$f":"Composite!B61","v":"CDK13 (CHED)/CycK"},{"$f":"Composite!F61","v":"CDK13/K"},{"$f":"Composite!AR61","v":1.9958900317297861},{"$f":"Composite!G61","v":"CMGC"}]
[343,{"$f":"Composite!B239","v":"MAPKAPK2 (MK2)"},{"$f":"Composite!F239","v":"MK2"},{"$f":"Composite!AR239","v":0.98559877517820382},{"$f":"Composite!G239","v":"CAMK"}]
[344,{"$f":"Composite!B95","v":"CLK3"},{"$f":"Composite!F95","v":"CLK3"},{"$f":"Composite!AR95","v":0.93760953382405887},{"$f":"Composite!G95","v":"CMGC"}]
[345,{"$f":"Composite!B123","v":"EGFR (ERBB1)"},{"$f":"Composite!F123","v":"EGFR"},{"$f":"Composite!AR123","v":0.87537663683048095},{"$f":"Composite!G123","v":"TK"}]
[346,{"$f":"Composite!B231","v":"MAPK13 (p38δ)"},{"$f":"Composite!F231","v":"P38D"},{"$f":"Composite!AR231","v":0.7095023997875245},{"$f":"Composite!G231","v":"CMGC"}]
[347,{"$f":"Composite!B160","v":"GRK2 (ADRBK1, BARK1)"},{"$f":"Composite!F160","v":"GRK2"},{"$f":"Composite!AR160","v":0.57867551875727941},{"$f":"Composite!G160","v":"AGC"}]
[348,{"$f":"Composite!B41","v":"BUB1"},{"$f":"Composite!F41","v":"BUB1"},{"$f":"Composite!AR41","v":0.26362431301292588},{"$f":"Composite!G41","v":"Other"}]
[349,{"$f":"Composite!B121","v":"DYRK4"},{"$f":"Composite!F121","v":"DYRK4"},{"$f":"Composite!AR121","v":0.24138956427434266},{"$f":"Composite!G121","v":"CMGC"}]
[350,{"$f":"Composite!B411","v":"TTBK2"},{"$f":"Composite!F411","v":"TTBK2"},{"$f":"Composite!AR411","v":0.16510016921972692},{"$f":"Composite!G411","v":"CK1"}]
[351,{"$f":"Composite!B60","v":"CDK12 (CRK7)/CycK"},{"$f":"Composite!F60","v":"CDK12/K"},{"$f":"Composite!AR60","v":0},{"$f":"Composite!G60","v":"CMGC"}]
[352,{"$f":"Composite!B69","v":"CDK2/CycD1"},{"$f":"Composite!F69","v":"CDK2/D1"},{"$f":"Composite!AR69","v":0},{"$f":"Composite!G69","v":"CMGC"}]
[353,{"$f":"Composite!B206","v":"MAP2K4 (MEK4)"},{"$f":"Composite!F206","v":"MEK4(HIS)"},{"$f":"Composite!AR206","v":0},{"$f":"Composite!G206","v":"STE"}]
[354,{"$f":"Composite!B235","v":"MAPK6 (ERK3)"},{"$f":"Composite!F235","v":"ERK3"},{"$f":"Composite!AR235","v":0},{"$f":"Composite!G235","v":"CMGC"}]
[355,{"$f":"Composite!B274","v":"NEK8"},{"$f":"Composite!F274","v":"NEK8"},{"$f":"Composite!AR274","v":0},{"$f":"Composite!G274","v":"Other"}]
[356,{"$f":"Composite!B423","v":0},{"$f":"Composite!F423","v":0},{"$f":"Composite!AR423","v":0},{"$f":"Composite!G423","v":0}]
[357,{"$f":"Composite!B424","v":0},{"$f":"Composite!F424","v":0},{"$f":"Composite!AR424","v":0},{"$f":"Composite!G424","v":0}]
[358,{"$f":"Composite!B425","v":0},{"$f":"Composite!F425","v":0},{"$f":"Composite!AR425","v":0},{"$f":"Composite!G425","v":0}]
[359,{"$f":"Composite!B426","v":0},{"$f":"Composite!F426","v":0},{"$f":"Composite!AR426","v":0},{"$f":"Composite!G426","v":0}]
[360,{"$f":"Composite!B427","v":0},{"$f":"Composite!F427","v":0},{"$f":"Composite!AR427","v":0},{"$f":"Composite!G427","v":0}]
[361,{"$f":"Composite!B428","v":0},{"$f":"Composite!F428","v":0},{"$f":"Composite!AR428","v":0},{"$f":"Composite!G428","v":0}]
[362,{"$f":"Composite!B429","v":0},{"$f":"Composite!F429","v":0},{"$f":"Composite!AR429","v":0},{"$f":"Composite!G429","v":0}]
[363,{"$f":"Composite!B430","v":0},{"$f":"Composite!F430","v":0},{"$f":"Composite!AR430","v":0},{"$f":"Composite!G430","v":0}]
[364,{"$f":"Composite!B431","v":0},{"$f":"Composite!F431","v":0},{"$f":"Composite!AR431","v":0},{"$f":"Composite!G431","v":0}]
[365,{"$f":"Composite!B432","v":0},{"$f":"Composite!F432","v":0},{"$f":"Composite!AR432","v":0},{"$f":"Composite!G432","v":0}]
[366,{"$f":"Composite!B433","v":0},{"$f":"Composite!F433","v":0},{"$f":"Composite!AR433","v":0},{"$f":"Composite!G433","v":0}]
[367,{"$f":"Composite!B434","v":0},{"$f":"Composite!F434","v":0},{"$f":"Composite!AR434","v":0},{"$f":"Composite!G434","v":0}]
[368,{"$f":"Composite!B435","v":0},{"$f":"Composite!F435","v":0},{"$f":"Composite!AR435","v":0},{"$f":"Composite!G435","v":0}]
[369,{"$f":"Composite!B436","v":0},{"$f":"Composite!F436","v":0},{"$f":"Composite!AR436","v":0},{"$f":"Composite!G436","v":0}]
[370,{"$f":"Composite!B437","v":0},{"$f":"Composite!F437","v":0},{"$f":"Composite!AR437","v":0},{"$f":"Composite!G437","v":0}]
[371,{"$f":"Composite!B438","v":0},{"$f":"Composite!F438","v":0},{"$f":"Composite!AR438","v":0},{"$f":"Composite!G438","v":0}]
[372,{"$f":"Composite!B439","v":0},{"$f":"Composite!F439","v":0},{"$f":"Composite!AR439","v":0},{"$f":"Composite!G439","v":0}]
[373,{"$f":"Composite!B440","v":0},{"$f":"Composite!F440","v":0},{"$f":"Composite!AR440","v":0},{"$f":"Composite!G440","v":0}]
[374,{"$f":"Composite!B441","v":0},{"$f":"Composite!F441","v":0},{"$f":"Composite!AR441","v":0},{"$f":"Composite!G441","v":0}]
[375,{"$f":"Composite!B442","v":0},{"$f":"Composite!F442","v":0},{"$f":"Composite!AR442","v":0},{"$f":"Composite!G442","v":0}]
[376,{"$f":"Composite!B443","v":0},{"$f":"Composite!F443","v":0},{"$f":"Composite!AR443","v":0},{"$f":"Composite!G443","v":0}]
[377,{"$f":"Composite!B444","v":0},{"$f":"Composite!F444","v":0},{"$f":"Composite!AR444","v":0},{"$f":"Composite!G444","v":0}]
[378,{"$f":"Composite!B445","v":0},{"$f":"Composite!F445","v":0},{"$f":"Composite!AR445","v":0},{"$f":"Composite!G445","v":0}]
[379,{"$f":"Composite!B446","v":0},{"$f":"Composite!F446","v":0},{"$f":"Composite!AR446","v":0},{"$f":"Composite!G446","v":0}]
[380,{"$f":"Composite!B447","v":0},{"$f":"Composite!F447","v":0},{"$f":"Composite!AR447","v":0},{"$f":"Composite!G447","v":0}]
[381,{"$f":"Composite!B448","v":0},{"$f":"Composite!F448","v":0},{"$f":"Composite!AR448","v":0},{"$f":"Composite!G448","v":0}]
[382,{"$f":"Composite!B449","v":0},{"$f":"Composite!F449","v":0},{"$f":"Composite!AR449","v":0},{"$f":"Composite!G449","v":0}]
[383,{"$f":"Composite!B450","v":0},{"$f":"Composite!F450","v":0},{"$f":"Composite!AR450","v":0},{"$f":"Composite!G450","v":0}]
[384,{"$f":"Composite!B451","v":0},{"$f":"Composite!F451","v":0},{"$f":"Composite!AR451","v":0},{"$f":"Composite!G451","v":0}]
[385,{"$f":"Composite!B452","v":0},{"$f":"Composite!F452","v":0},{"$f":"Composite!AR452","v":0},{"$f":"Composite!G452","v":0}]
[386,{"$f":"Composite!B453","v":0},{"$f":"Composite!F453","v":0},{"$f":"Composite!AR453","v":0},{"$f":"Composite!G453","v":0}]
[387,{"$f":"Composite!B454","v":0},{"$f":"Composite!F454","v":0},{"$f":"Composite!AR454","v":0},{"$f":"Composite!G454","v":0}]
[388,{"$f":"Composite!B455","v":0},{"$f":"Composite!F455","v":0},{"$f":"Composite!AR455","v":0},{"$f":"Composite!G455","v":0}]
[389,{"$f":"Composite!B456","v":0},{"$f":"Composite!F456","v":0},{"$f":"Composite!AR456","v":0},{"$f":"Composite!G456","v":0}]
[390,{"$f":"Composite!B457","v":0},{"$f":"Composite!F457","v":0},{"$f":"Composite!AR457","v":0},{"$f":"Composite!G457","v":0}]
[391,{"$f":"Composite!B458","v":0},{"$f":"Composite!F458","v":0},{"$f":"Composite!AR458","v":0},{"$f":"Composite!G458","v":0}]
[392,{"$f":"Composite!B459","v":0},{"$f":"Composite!F459","v":0},{"$f":"Composite!AR459","v":0},{"$f":"Composite!G459","v":0}]
[393,{"$f":"Composite!B460","v":0},{"$f":"Composite!F460","v":0},{"$f":"Composite!AR460","v":0},{"$f":"Composite!G460","v":0}]
[394,{"$f":"Composite!B461","v":0},{"$f":"Composite!F461","v":0},{"$f":"Composite!AR461","v":0},{"$f":"Composite!G461","v":0}]
[395,{"$f":"Composite!B462","v":0},{"$f":"Composite!F462","v":0},{"$f":"Composite!AR462","v":0},{"$f":"Composite!G462","v":0}]
[396,{"$f":"Composite!B463","v":0},{"$f":"Composite!F463","v":0},{"$f":"Composite!AR463","v":0},{"$f":"Composite!G463","v":0}]
[397,{"$f":"Composite!B464","v":0},{"$f":"Composite!F464","v":0},{"$f":"Composite!AR464","v":0},{"$f":"Composite!G464","v":0}]
[398,{"$f":"Composite!B465","v":0},{"$f":"Composite!F465","v":0},{"$f":"Composite!AR465","v":0},{"$f":"Composite!G465","v":0}]
[399,{"$f":"Composite!B466","v":0},{"$f":"Composite!F466","v":0},{"$f":"Composite!AR466","v":0},{"$f":"Composite!G466","v":0}]
[400,{"$f":"Composite!B467","v":0},{"$f":"Composite!F467","v":0},{"$f":"Composite!AR467","v":0},{"$f":"Composite!G467","v":0}]
[401,{"$f":"Composite!B468","v":0},{"$f":"Composite!F468","v":0},{"$f":"Composite!AR468","v":0},{"$f":"Composite!G468","v":0}]
[402,{"$f":"Composite!B469","v":0},{"$f":"Composite!F469","v":0},{"$f":"Composite!AR469","v":0},{"$f":"Composite!G469","v":0}]
[403,{"$f":"Composite!B470","v":0},{"$f":"Composite!F470","v":0},{"$f":"Composite!AR470","v":0},{"$f":"Composite!G470","v":0}]
[404,{"$f":"Composite!B471","v":0},{"$f":"Composite!F471","v":0},{"$f":"Composite!AR471","v":0},{"$f":"Composite!G471","v":0}]
[405,{"$f":"Composite!B472","v":0},{"$f":"Composite!F472","v":0},{"$f":"Composite!AR472","v":0},{"$f":"Composite!G472","v":0}]
[406,{"$f":"Composite!B473","v":0},{"$f":"Composite!F473","v":0},{"$f":"Composite!AR473","v":0},{"$f":"Composite!G473","v":0}]
[407,{"$f":"Composite!B474","v":0},{"$f":"Composite!F474","v":0},{"$f":"Composite!AR474","v":0},{"$f":"Composite!G474","v":0}]
[408,{"$f":"Composite!B475","v":0},{"$f":"Composite!F475","v":0},{"$f":"Composite!AR475","v":0},{"$f":"Composite!G475","v":0}]
[409,{"$f":"Composite!B476","v":0},{"$f":"Composite!F476","v":0},{"$f":"Composite!AR476","v":0},{"$f":"Composite!G476","v":0}]
[410,{"$f":"Composite!B477","v":0},{"$f":"Composite!F477","v":0},{"$f":"Composite!AR477","v":0},{"$f":"Composite!G477","v":0}]
[411,{"$f":"Composite!B478","v":0},{"$f":"Composite!F478","v":0},{"$f":"Composite!AR478","v":0},{"$f":"Composite!G478","v":0}]
[412,{"$f":"Composite!B479","v":0},{"$f":"Composite!F479","v":0},{"$f":"Composite!AR479","v":0},{"$f":"Composite!G479","v":0}]
[413,{"$f":"Composite!B480","v":0},{"$f":"Composite!F480","v":0},{"$f":"Composite!AR480","v":0},{"$f":"Composite!G480","v":0}]
[414,{"$f":"Composite!B481","v":0},{"$f":"Composite!F481","v":0},{"$f":"Composite!AR481","v":0},{"$f":"Composite!G481","v":0}]
[415,{"$f":"Composite!B482","v":0},{"$f":"Composite!F482","v":0},{"$f":"Composite!AR482","v":0},{"$f":"Composite!G482","v":0}]
[416,{"$f":"Composite!B483","v":0},{"$f":"Composite!F483","v":0},{"$f":"Composite!AR483","v":0},{"$f":"Composite!G483","v":0}]
[417,{"$f":"Composite!B484","v":0},{"$f":"Composite!F484","v":0},{"$f":"Composite!AR484","v":0},{"$f":"Composite!G484","v":0}]
[418,{"$f":"Composite!B485","v":0},{"$f":"Composite!F485","v":0},{"$f":"Composite!AR485","v":0},{"$f":"Composite!G485","v":0}]
[419,{"$f":"Composite!B486","v":0},{"$f":"Composite!F486","v":0},{"$f":"Composite!AR486","v":0},{"$f":"Composite!G486","v":0}]
[420,{"$f":"Composite!B487","v":0},{"$f":"Composite!F487","v":0},{"$f":"Composite!AR487","v":0},{"$f":"Composite!G487","v":0}]
[421,{"$f":"Composite!B488","v":0},{"$f":"Composite!F488","v":0},{"$f":"Composite!AR488","v":0},{"$f":"Composite!G488","v":0}]
[422,{"$f":"Composite!B489","v":0},{"$f":"Composite!F489","v":0},{"$f":"Composite!AR489","v":0},{"$f":"Composite!G489","v":0}]
[423,{"$f":"Composite!B490","v":0},{"$f":"Composite!F490","v":0},{"$f":"Composite!AR490","v":0},{"$f":"Composite!G490","v":0}]
[424,{"$f":"Composite!B491","v":0},{"$f":"Composite!F491","v":0},{"$f":"Composite!AR491","v":0},{"$f":"Composite!G491","v":0}]
[425,{"$f":"Composite!B492","v":0},{"$f":"Composite!F492","v":0},{"$f":"Composite!AR492","v":0},{"$f":"Composite!G492","v":0}]
[426,{"$f":"Composite!B493","v":0},{"$f":"Composite!F493","v":0},{"$f":"Composite!AR493","v":0},{"$f":"Composite!G493","v":0}]
[427,{"$f":"Composite!B494","v":0},{"$f":"Composite!F494","v":0},{"$f":"Composite!AR494","v":0},{"$f":"Composite!G494","v":0}]
[428,{"$f":"Composite!B495","v":0},{"$f":"Composite!F495","v":0},{"$f":"Composite!AR495","v":0},{"$f":"Composite!G495","v":0}]
[429,{"$f":"Composite!B496","v":0},{"$f":"Composite!F496","v":0},{"$f":"Composite!AR496","v":0},{"$f":"Composite!G496","v":0}]
[430,{"$f":"Composite!B497","v":0},{"$f":"Composite!F497","v":0},{"$f":"Composite!AR497","v":0},{"$f":"Composite!G497","v":0}]
[431,{"$f":"Composite!B498","v":0},{"$f":"Composite!F498","v":0},{"$f":"Composite!AR498","v":0},{"$f":"Composite!G498","v":0}]
[432,{"$f":"Composite!B499","v":0},{"$f":"Composite!F499","v":0},{"$f":"Composite!AR499","v":0},{"$f":"Composite!G499","v":0}]
[433,{"$f":"Composite!B500","v":0},{"$f":"Composite!F500","v":0},{"$f":"Composite!AR500","v":0},{"$f":"Composite!G500","v":0}]
[434,{"$f":"Composite!B501","v":0},{"$f":"Composite!F501","v":0},{"$f":"Composite!AR501","v":0},{"$f":"Composite!G501","v":0}]
[435,{"$f":"Composite!B502","v":0},{"$f":"Composite!F502","v":0},{"$f":"Composite!AR502","v":0},{"$f":"Composite!G502","v":0}]
[436,{"$f":"Composite!B503","v":0},{"$f":"Composite!F503","v":0},{"$f":"Composite!AR503","v":0},{"$f":"Composite!G503","v":0}]
[437,{"$f":"Composite!B504","v":0},{"$f":"Composite!F504","v":0},{"$f":"Composite!AR504","v":0},{"$f":"Composite!G504","v":0}]
[438,{"$f":"Composite!B505","v":0},{"$f":"Composite!F505","v":0},{"$f":"Composite!AR505","v":0},{"$f":"Composite!G505","v":0}]
[439,{"$f":"Composite!B506","v":0},{"$f":"Composite!F506","v":0},{"$f":"Composite!AR506","v":0},{"$f":"Composite!G506","v":0}]
[440,{"$f":"Composite!B507","v":0},{"$f":"Composite!F507","v":0},{"$f":"Composite!AR507","v":0},{"$f":"Composite!G507","v":0}]
[441,{"$f":"Composite!B508","v":0},{"$f":"Composite!F508","v":0},{"$f":"Composite!AR508","v":0},{"$f":"Composite!G508","v":0}]
[442,{"$f":"Composite!B509","v":0},{"$f":"Composite!F509","v":0},{"$f":"Composite!AR509","v":0},{"$f":"Composite!G509","v":0}]
[443,{"$f":"Composite!B510","v":0},{"$f":"Composite!F510","v":0},{"$f":"Composite!AR510","v":0},{"$f":"Composite!G510","v":0}]
[444,{"$f":"Composite!B511","v":0},{"$f":"Composite!F511","v":0},{"$f":"Composite!AR511","v":0},{"$f":"Composite!G511","v":0}]
[445,{"$f":"Composite!B512","v":0},{"$f":"Composite!F512","v":0},{"$f":"Composite!AR512","v":0},{"$f":"Composite!G512","v":0}]
[446,{"$f":"Composite!B513","v":0},{"$f":"Composite!F513","v":0},{"$f":"Composite!AR513","v":0},{"$f":"Composite!G513","v":0}]
[447,{"$f":"Composite!B514","v":0},{"$f":"Composite!F514","v":0},{"$f":"Composite!AR514","v":0},{"$f":"Composite!G514","v":0}]
[448,{"$f":"Composite!B515","v":0},{"$f":"Composite!F515","v":0},{"$f":"Composite!AR515","v":0},{"$f":"Composite!G515","v":0}]
[449,{"$f":"Composite!B516","v":0},{"$f":"Composite!F516","v":0},{"$f":"Composite!AR516","v":0},{"$f":"Composite!G516","v":0}]
[450,{"$f":"Composite!B517","v":0},{"$f":"Composite!F517","v":0},{"$f":"Composite!AR517","v":0},{"$f":"Composite!G517","v":0}]
[451,{"$f":"Composite!B518","v":0},{"$f":"Composite!F518","v":0},{"$f":"Composite!AR518","v":0},{"$f":"Composite!G518","v":0}]
[452,{"$f":"Composite!B519","v":0},{"$f":"Composite!F519","v":0},{"$f":"Composite!AR519","v":0},{"$f":"Composite!G519","v":0}]
[453,{"$f":"Composite!B520","v":0},{"$f":"Composite!F520","v":0},{"$f":"Composite!AR520","v":0},{"$f":"Composite!G520","v":0}]
[454,{"$f":"Composite!B521","v":0},{"$f":"Composite!F521","v":0},{"$f":"Composite!AR521","v":0},{"$f":"Composite!G521","v":0}]
[455,{"$f":"Composite!B522","v":0},{"$f":"Composite!F522","v":0},{"$f":"Composite!AR522","v":0},{"$f":"Composite!G522","v":0}]
[456,{"$f":"Composite!B523","v":0},{"$f":"Composite!F523","v":0},{"$f":"Composite!AR523","v":0},{"$f":"Composite!G523","v":0}]
[457,{"$f":"Composite!B524","v":0},{"$f":"Composite!F524","v":0},{"$f":"Composite!AR524","v":0},{"$f":"Composite!G524","v":0}]
[458,{"$f":"Composite!B525","v":0},{"$f":"Composite!F525","v":0},{"$f":"Composite!AR525","v":0},{"$f":"Composite!G525","v":0}]
[459,{"$f":"Composite!B526","v":0},{"$f":"Composite!F526","v":0},{"$f":"Composite!AR526","v":0},{"$f":"Composite!G526","v":0}]
[460,{"$f":"Composite!B527","v":0},{"$f":"Composite!F527","v":0},{"$f":"Composite!AR527","v":0},{"$f":"Composite!G527","v":0}]
[461,{"$f":"Composite!B528","v":0},{"$f":"Composite!F528","v":0},{"$f":"Composite!AR528","v":0},{"$f":"Composite!G528","v":0}]
[462,{"$f":"Composite!B529","v":0},{"$f":"Composite!F529","v":0},{"$f":"Composite!AR529","v":0},{"$f":"Composite!G529","v":0}]
[463,{"$f":"Composite!B530","v":0},{"$f":"Composite!F530","v":0},{"$f":"Composite!AR530","v":0},{"$f":"Composite!G530","v":0}]
[464,{"$f":"Composite!B531","v":0},{"$f":"Composite!F531","v":0},{"$f":"Composite!AR531","v":0},{"$f":"Composite!G531","v":0}]
[465,{"$f":"Composite!B532","v":0},{"$f":"Composite!F532","v":0},{"$f":"Composite!AR532","v":0},{"$f":"Composite!G532","v":0}]
[466,{"$f":"Composite!B533","v":0},{"$f":"Composite!F533","v":0},{"$f":"Composite!AR533","v":0},{"$f":"Composite!G533","v":0}]
[467,{"$f":"Composite!B534","v":0},{"$f":"Composite!F534","v":0},{"$f":"Composite!AR534","v":0},{"$f":"Composite!G534","v":0}]
[468,{"$f":"Composite!B535","v":0},{"$f":"Composite!F535","v":0},{"$f":"Composite!AR535","v":0},{"$f":"Composite!G535","v":0}]
[469,{"$f":"Composite!B536","v":0},{"$f":"Composite!F536","v":0},{"$f":"Composite!AR536","v":0},{"$f":"Composite!G536","v":0}]
[470,{"$f":"Composite!B537","v":0},{"$f":"Composite!F537","v":0},{"$f":"Composite!AR537","v":0},{"$f":"Composite!G537","v":0}]
[471,{"$f":"Composite!B213","v":"MAP3K19 (YSK4)"},{"$f":"Composite!F213","v":"YSK4"},{"$f":"Composite!AR213","v":-0.74163970400911694},{"$f":"Composite!G213","v":"STE"}]
[472,{"$f":"Composite!B309","v":"PLK2"},{"$f":"Composite!F309","v":"PLK2"},{"$f":"Composite!AR309","v":-0.95512851857283465},{"$f":"Composite!G309","v":"Other"}]
[473,{"$f":"Composite!B372","v":"SNRK"},{"$f":"Composite!F372","v":"SNRK"},{"$f":"Composite!AR372","v":-0.99151152007989651},{"$f":"Composite!G372","v":"CAMK"}]
[474,{"$f":"Composite!B295","v":"PDK3 (PDHK3)"},{"$f":"Composite!F295","v":"PDHK3"},{"$f":"Composite!AR295","v":-1.1635726177832879},{"$f":"Composite!G295","v":"Atypical"}]
[475,{"$f":"Composite!B119","v":"DYRK2"},{"$f":"Composite!F119","v":"DYRK2"},{"$f":"Composite!AR119","v":-1.3597793665385893},{"$f":"Composite!G119","v":"CMGC"}]
[476,{"$f":"Composite!B269","v":"NEK3"},{"$f":"Composite!F269","v":"NEK3"},{"$f":"Composite!AR269","v":-1.871976979121996},{"$f":"Composite!G269","v":"Other"}]
[477,{"$f":"Composite!B405","v":"TRPM7 (CHAK1)"},{"$f":"Composite!F405","v":"CHAK1"},{"$f":"Composite!AR405","v":-1.9018428590178473},{"$f":"Composite!G405","v":"Atypical"}]
[478,{"$f":"Composite!B210","v":"MAP3K12 (DLK)"},{"$f":"Composite!F210","v":"MAP3K12"},{"$f":"Composite!AR210","v":-2.165363229510433},{"$f":"Composite!G210","v":"TKL"}]
[479,{"$f":"Composite!B247","v":"MASTL"},{"$f":"Composite!F247","v":"MASTL"},{"$f":"Composite!AR247","v":-2.186140746093173},{"$f":"Composite!G247","v":"AGC"}]
[480,{"$f":"Composite!B138","v":"EPHB3"},{"$f":"Composite!F138","v":"EPHB3"},{"$f":"Composite!AR138","v":-2.1879805228088287},{"$f":"Composite!G138","v":"TK"}]
[481,{"$f":"Composite!B255","v":"MNK2"},{"$f":"Composite!F255","v":"MNK2"},{"$f":"Composite!AR255","v":-2.3374485596707473},{"$f":"Composite!G255","v":"CAMK"}]
[482,{"$f":"Composite!B348","v":"RAF1 [Y340E/Y341E]"},{"$f":"Composite!F348","v":"RAF1"},{"$f":"Composite!AR348","v":-2.568766637089638},{"$f":"Composite!G348","v":"TKL"}]
[483,{"$f":"Composite!B173","v":"HIPK4"},{"$f":"Composite!F173","v":"HIPK4"},{"$f":"Composite!AR173","v":-2.7151527594215565},{"$f":"Composite!G173","v":"CMGC"}]
[484,{"$f":"Composite!B296","v":"PDK4 (PDHK4)"},{"$f":"Composite!F296","v":"PDHK4"},{"$f":"Composite!AR296","v":-2.9968025035716153},{"$f":"Composite!G296","v":"Atypical"}]
[485,{"$f":"Composite!B240","v":"MAPKAPK3 (MK3)"},{"$f":"Composite!F240","v":"MK3"},{"$f":"Composite!AR240","v":-3.1870340899572795},{"$f":"Composite!G240","v":"CAMK"}]
[486,{"$f":"Composite!B197","v":"LIMK2"},{"$f":"Composite!F197","v":"LIMK2"},{"$f":"Composite!AR197","v":-3.2258064516128968},{"$f":"Composite!G197","v":"TKL"}]
[487,{"$f":"Composite!B377","v":"SRPK2"},{"$f":"Composite!F377","v":"SRPK2"},{"$f":"Composite!AR377","v":-3.4382250106198597},{"$f":"Composite!G377","v":"CMGC"}]
[488,{"$f":"Composite!B120","v":"DYRK3"},{"$f":"Composite!F120","v":"DYRK3"},{"$f":"Composite!AR120","v":-4.1113983586621288},{"$f":"Composite!G120","v":"CMGC"}]
[489,{"$f":"Composite!B275","v":"NEK9"},{"$f":"Composite!F275","v":"NEK9"},{"$f":"Composite!AR275","v":-4.1292027101887925},{"$f":"Composite!G275","v":"Other"}]
[490,{"$f":"Composite!B335","v":"PRKCI (PKCι [iota])"},{"$f":"Composite!F335","v":"PKCI"},{"$f":"Composite!AR335","v":-4.2234510643358192},{"$f":"Composite!G335","v":"AGC"}]
[491,{"$f":"Composite!B171","v":"HIPK2"},{"$f":"Composite!F171","v":"HIPK2"},{"$f":"Composite!AR171","v":-4.2700597717804669},{"$f":"Composite!G171","v":"CMGC"}]
[492,{"$f":"Composite!B341","v":"PRKDC (DNA-PK)"},{"$f":"Composite!F341","v":"DNA-PK"},{"$f":"Composite!AR341","v":-4.5342804941476373},{"$f":"Composite!G341","v":"Atypical"}]
[493,{"$f":"Composite!B99","v":"CSNK1A1 (CK1A1, CK1α)"},{"$f":"Composite!F99","v":"CK1A1"},{"$f":"Composite!AR99","v":-4.7123786217390773},{"$f":"Composite!G99","v":"CK1"}]
[494,{"$f":"Composite!B220","v":"MAP3K8 (COT, Tpl2)"},{"$f":"Composite!F220","v":"MAP3K8"},{"$f":"Composite!AR220","v":-4.7547759730796884},{"$f":"Composite!G220","v":"STE"}]
[495,{"$f":"Composite!B129","v":"EPHA2"},{"$f":"Composite!F129","v":"EPHA2"},{"$f":"Composite!AR129","v":-4.8506842484348311},{"$f":"Composite!G129","v":"TK"}]
[496,{"$f":"Composite!B103","v":"CSNK1G1 (CK1G1, CK1γ1)"},{"$f":"Composite!F103","v":"CK1G1"},{"$f":"Composite!AR103","v":-5.2441036729352106},{"$f":"Composite!G103","v":"CK1"}]
[497,{"$f":"Composite!B401","v":"TLK2"},{"$f":"Composite!F401","v":"TLK2"},{"$f":"Composite!AR401","v":-5.5810946703060011},{"$f":"Composite!G401","v":"Other"}]
[498,{"$f":"Composite!B111","v":"DCLK1 (DCAMKL1)"},{"$f":"Composite!F111","v":"DCAML1"},{"$f":"Composite!AR111","v":-5.9932356257046138},{"$f":"Composite!G111","v":"CAMK"}]
[499,{"$f":"Composite!B378","v":"SRPK3 (MSSK1)"},{"$f":"Composite!F378","v":"MSSK1"},{"$f":"Composite!AR378","v":-6.2890132755033079},{"$f":"Composite!G378","v":"CMGC"}]
[500,{"$f":"Composite!B177","v":"IKKB (IKKβ)"},{"$f":"Composite!F177","v":"IKKB"},{"$f":"Composite!AR177","v":-6.3732554051914718},{"$f":"Composite!G177","v":"Other"}]
[501,{"$f":"Composite!B257","v":"mTOR (FRAP)"},{"$f":"Composite!F257","v":"mTOR"},{"$f":"Composite!AR257","v":-6.4913538213421589},{"$f":"Composite!G257","v":"Atypical"}]
[502,{"$f":"Composite!B241","v":"MAPKAPK5 (MK5)"},{"$f":"Composite!F241","v":"MK5"},{"$f":"Composite!AR241","v":-6.6257559962690635},{"$f":"Composite!G241","v":"CAMK"}]
[503,{"$f":"Composite!B308","v":"PLK1"},{"$f":"Composite!F308","v":"PLK1"},{"$f":"Composite!AR308","v":-6.6421388275692976},{"$f":"Composite!G308","v":"Other"}]
[504,{"$f":"Composite!B122","v":"EEF2K (eEF2K)"},{"$f":"Composite!F122","v":"EEF2K"},{"$f":"Composite!AR122","v":-7.2074421839679843},{"$f":"Composite!G122","v":"Atypical"}]
[505,{"$f":"Composite!B207","v":"MAP3K1 (MEKK1)"},{"$f":"Composite!F207","v":"MAP3K1"},{"$f":"Composite!AR207","v":-7.430123133105468},{"$f":"Composite!G207","v":"STE"}]
[506,{"$f":"Composite!B352","v":"RIPK3"},{"$f":"Composite!F352","v":"RIPK3"},{"$f":"Composite!AR352","v":-7.5770868892469139},{"$f":"Composite!G352","v":"TKL"}]
[507,{"$f":"Composite!B290","v":"PBK (TOPK)"},{"$f":"Composite!F290","v":"TOPK"},{"$f":"Composite!AR290","v":-7.9021726549148497},{"$f":"Composite!G290","v":"Other"}]
[508,{"$f":"Composite!B304","v":"PKMYT1 (MYT1)"},{"$f":"Composite!F304","v":"MYT1"},{"$f":"Composite!AR304","v":-7.9086521741060949},{"$f":"Composite!G304","v":"Other"}]
[509,{"$f":"Composite!B105","v":"CSNK1G3 (CK1G3, CK1γ3)"},{"$f":"Composite!F105","v":"CK1G3"},{"$f":"Composite!AR105","v":-8.4196345878588659},{"$f":"Composite!G105","v":"CK1"}]
[510,{"$f":"Composite!B104","v":"CSNK1G2 (CK1G2, CK1γ2)"},{"$f":"Composite!F104","v":"CK1G2"},{"$f":"Composite!AR104","v":-8.7004608294930819},{"$f":"Composite!G104","v":"CK1"}]
[511,{"$f":"Composite!B37","v":"BRAF, b-[V600E]"},{"$f":"Composite!F37","v":"BRAF(V600E)"},{"$f":"Composite!AR37","v":-9.1235041209430534},{"$f":"Composite!G37","v":"TKL"}]
[512,{"$f":"Composite!B102","v":"CSNK1E (CK1E, CK1ε)"},{"$f":"Composite!F102","v":"CK1E"},{"$f":"Composite!AR102","v":-10.752143676996823},{"$f":"Composite!G102","v":"CK1"}]
[513,{"$f":"Composite!B106","v":"CSNK2A1 (CK2A1, CK2α1)"},{"$f":"Composite!F106","v":"CK2A1"},{"$f":"Composite!AR106","v":-11.185103281901817},{"$f":"Composite!G106","v":"Other"}]
[514,{"$f":"Composite!B337","v":"PRKCZ (PKCζ [zeta])"},{"$f":"Composite!F337","v":"PKCZ"},{"$f":"Composite!AR337","v":-11.617606455669517},{"$f":"Composite!G337","v":"AGC"}]
[515,{"$f":"Composite!B92","v":"CIT (CRIK)"},{"$f":"Composite!F92","v":"CRIK"},{"$f":"Composite!AR92","v":-12.079783007753633},{"$f":"Composite!G92","v":"AGC"}]
[516,{"$f":"Composite!B191","v":"KSR1"},{"$f":"Composite!F191","v":"KSR1"},{"$f":"Composite!AR191","v":-13.295850903222444},{"$f":"Composite!G191","v":"TKL"}]
[517,{"$f":"Composite!B101","v":"CSNK1D (CK1D, CK1δ)"},{"$f":"Composite!F101","v":"CK1D"},{"$f":"Composite!AR101","v":-14.916914801652126},{"$f":"Composite!G101","v":"CK1"}]
[518,{"$f":"Composite!B161","v":"GRK3 (ADRBK2, BARK2)"},{"$f":"Composite!F161","v":"GRK3"},{"$f":"Composite!AR161","v":-22.432280963945473},{"$f":"Composite!G161","v":"AGC"}]

{"sheet":"Compound 18 Kinome Tree","index":39,"n_rows":6,"n_cols":27,"rows_kept":6,"cut":false,"hidden":false,"merged":[[1,1,3,20]]}
[]
[null,{"$f":"Summary!AC27","v":"Kinome Hit View for Staurosporine (0.1 µM) with 398 Kinases (Coral Names) at 1 mM"}]
[null,null,null,null,null,null,null,null,null,null,null,null,null,null,null,null,null,null,null,null,null,null,null,null,null,null,"Kinome Hit View for VVVVVVVVVVVVVVVVVVVVVVVVVVV (VVVVV µM) with VVV Kinases (Coral Names)"]
[null,null,null,null,null,null,null,null,null,null,null,null,null,null,null,null,null,null,null,null,null,null,null,null,null,null,{"$f":"REPLACE(AA3,65,3,Summary!E27)","v":"Kinome Hit View for VVVVVVVVVVVVVVVVVVVVVVVVVVV (VVVVV µM) with 398 Kinases (Coral Names)"}]
[null,null,null,null,null,null,null,null,null,null,null,null,null,null,null,null,null,null,null,null,null,null,null,null,null,null,{"$f":"REPLACE(AA4,50,5,Summary!D27)","v":"Kinome Hit View for VVVVVVVVVVVVVVVVVVVVVVVVVVV (0.1 µM) with 398 Kinases (Coral Names)"}]
[null,null,null,null,null,null,null,null,null,null,null,null,null,null,null,null,null,null,null,null,null,null,null,null,null,null,{"$f":"REPLACE(AA5,21,27,Summary!C27)","v":"Kinome Hit View for Staurosporine (0.1 µM) with 398 Kinases (Coral Names)"}]

{"sheet":"Compound 19","index":40,"n_rows":520,"n_cols":28,"rows_kept":520,"cut":false,"hidden":false,"merged":[]}
[]
["Panel #","Kinase Target","Kinase Target",{"$f":"Summary!AB28","v":"0.1 µM Staurosporine, % inhibition at  ATP Km "},{"$f":"Composite!G19","v":"Group"}]
[1,{"$f":"Composite!B32","v":"BCR RET (fusion)"},{"$f":"Composite!F32","v":"BCR RET"},{"$f":"Composite!AT32","v":100},{"$f":"Composite!G32","v":"TK"},null,null,null,null,null,null,null,null,null,null,null,null,null,null,null,null,null,null,null,null,null,null,"VVVVV μM VVVVVVVVVVVVVVVVVVVVVVVVVVV, % inhibition"]
[2,{"$f":"Composite!B39","v":"BRSK2"},{"$f":"Composite!F39","v":"BRSK2"},{"$f":"Composite!AT39","v":100},{"$f":"Composite!G39","v":"CAMK"},null,null,null,null,null,null,null,null,null,null,null,null,null,null,null,null,null,null,null,null,null,null,{"$f":"REPLACE(AB3,10,27,Summary!C28)","v":"VVVVV μM Staurosporine, % inhibition"}]
[3,{"$f":"Composite!B44","v":"CAMK1G (CAMK1γ)"},{"$f":"Composite!F44","v":"CAMK1G"},{"$f":"Composite!AT44","v":100},{"$f":"Composite!G44","v":"CAMK"},null,null,null,null,null,null,null,null,null,null,null,null,null,null,null,null,null,null,null,null,null,null,{"$f":"REPLACE(AB4,1,5,Summary!D28)","v":"0.1 μM Staurosporine, % inhibition"}]
[4,{"$f":"Composite!B45","v":"CAMK2A (CAMK2α)"},{"$f":"Composite!F45","v":"CAMK2A"},{"$f":"Composite!AT45","v":100},{"$f":"Composite!G45","v":"CAMK"}]
[5,{"$f":"Composite!B46","v":"CAMK2B (CAMK2β)"},{"$f":"Composite!F46","v":"CAMK2B"},{"$f":"Composite!AT46","v":100},{"$f":"Composite!G46","v":"CAMK"}]
[6,{"$f":"Composite!B48","v":"CAMK2G (CAMK2γ)"},{"$f":"Composite!F48","v":"CAMK2G"},{"$f":"Composite!AT48","v":100},{"$f":"Composite!G48","v":"CAMK"}]
[7,{"$f":"Composite!B50","v":"CAMKK1"},{"$f":"Composite!F50","v":"CAMKK1"},{"$f":"Composite!AT50","v":100},{"$f":"Composite!G50","v":"Other"}]
[8,{"$f":"Composite!B51","v":"CAMKK2"},{"$f":"Composite!F51","v":"CAMKK2"},{"$f":"Composite!AT51","v":100},{"$f":"Composite!G51","v":"Other"}]
[9,{"$f":"Composite!B54","v":"CDC42BPG (DMPK2)"},{"$f":"Composite!F54","v":"DMPK2"},{"$f":"Composite!AT54","v":100},{"$f":"Composite!G54","v":"AGC"}]
[10,{"$f":"Composite!B55","v":"CDC7/DBF4 (CDC7)"},{"$f":"Composite!F55","v":"CDC7"},{"$f":"Composite!AT55","v":100},{"$f":"Composite!G55","v":"Other"}]
[11,{"$f":"Composite!B65","v":"CDK17 (PCTAIRE2, PCTK2)/p35NCK"},{"$f":"Composite!F65","v":"CDK17/P35"},{"$f":"Composite!AT65","v":100},{"$f":"Composite!G65","v":"CMGC"}]
[12,{"$f":"Composite!B115","v":"DMPK (DMPK1)"},{"$f":"Composite!F115","v":"DMPK1"},{"$f":"Composite!AT115","v":100},{"$f":"Composite!G115","v":"AGC"}]
[13,{"$f":"Composite!B145","v":"FER"},{"$f":"Composite!F145","v":"FER"},{"$f":"Composite!AT145","v":100},{"$f":"Composite!G145","v":"TK"}]
[14,{"$f":"Composite!B153","v":"FLT3"},{"$f":"Composite!F153","v":"FLT3"},{"$f":"Composite!AT153","v":100},{"$f":"Composite!G153","v":"TK"}]
[15,{"$f":"Composite!B187","v":"JAK2 [JH1-JH2]"},{"$f":"Composite!F187","v":"JAK2(JH1JH2)"},{"$f":"Composite!AT187","v":100},{"$f":"Composite!G187","v":"TK"}]
[16,{"$f":"Composite!B188","v":"JAK3 [JH1]"},{"$f":"Composite!F188","v":"JAK3(JH1)"},{"$f":"Composite!AT188","v":100},{"$f":"Composite!G188","v":"TK"}]
[17,{"$f":"Composite!B209","v":"MAP3K11 (MLK3)"},{"$f":"Composite!F209","v":"MAP3K11"},{"$f":"Composite!AT209","v":100},{"$f":"Composite!G209","v":"TKL"}]
[18,{"$f":"Composite!B214","v":"MAP3K2 (MEKK2)"},{"$f":"Composite!F214","v":"MAP3K2"},{"$f":"Composite!AT214","v":100},{"$f":"Composite!G214","v":"STE"}]
[19,{"$f":"Composite!B223","v":"MAP4K2 (GCK)"},{"$f":"Composite!F223","v":"GCK"},{"$f":"Composite!AT223","v":100},{"$f":"Composite!G223","v":"STE"}]
[20,{"$f":"Composite!B226","v":"MAP4K5 (KHS1)"},{"$f":"Composite!F226","v":"KHS1"},{"$f":"Composite!AT226","v":100},{"$f":"Composite!G226","v":"STE"}]
[21,{"$f":"Composite!B243","v":"MARK2"},{"$f":"Composite!F243","v":"MARK2"},{"$f":"Composite!AT243","v":100},{"$f":"Composite!G243","v":"CAMK"}]
[22,{"$f":"Composite!B253","v":"MLK4 (MAP3K21)"},{"$f":"Composite!F253","v":"MLK4"},{"$f":"Composite!AT253","v":100},{"$f":"Composite!G253","v":"STE"}]
[23,{"$f":"Composite!B258","v":"MUSK"},{"$f":"Composite!F258","v":"MUSK"},{"$f":"Composite!AT258","v":100},{"$f":"Composite!G258","v":"TK"}]
[24,{"$f":"Composite!B280","v":"NTRK3 (TRKC)"},{"$f":"Composite!F280","v":"NTRK3"},{"$f":"Composite!AT280","v":100},{"$f":"Composite!G280","v":"TK"}]
[25,{"$f":"Composite!B281","v":"NUAK1 (ARK5)"},{"$f":"Composite!F281","v":"NUAK1"},{"$f":"Composite!AT281","v":100},{"$f":"Composite!G281","v":"CAMK"}]
[26,{"$f":"Composite!B291","v":"PDGFRA (PDGFRα)"},{"$f":"Composite!F291","v":"PDGFRA"},{"$f":"Composite!AT291","v":100},{"$f":"Composite!G291","v":"TK"}]
[27,{"$f":"Composite!B297","v":"PDPK1 (PDK1)"},{"$f":"Composite!F297","v":"PDK1"},{"$f":"Composite!AT297","v":100},{"$f":"Composite!G297","v":"AGC"}]
[28,{"$f":"Composite!B302","v":"PIM3"},{"$f":"Composite!F302","v":"PIM3"},{"$f":"Composite!AT302","v":100},{"$f":"Composite!G302","v":"CAMK"}]
[29,{"$f":"Composite!B311","v":"PLK4"},{"$f":"Composite!F311","v":"PLK4"},{"$f":"Composite!AT311","v":100},{"$f":"Composite!G311","v":"Other"}]
[30,{"$f":"Composite!B312","v":"PNCK (CAMK1β)"},{"$f":"Composite!F312","v":"CAMK1B"},{"$f":"Composite!AT312","v":100},{"$f":"Composite!G312","v":"CAMK"}]
[31,{"$f":"Composite!B314","v":"PRKAA1-B1-G2 (AMPKα1β1γ2)"},{"$f":"Composite!F314","v":"AMPK112"},{"$f":"Composite!AT314","v":100},{"$f":"Composite!G314","v":"CAMK"}]
[32,{"$f":"Composite!B315","v":"PRKAA1-B1-G3 (AMPKα1β1γ3)"},{"$f":"Composite!F315","v":"AMPK113"},{"$f":"Composite!AT315","v":100},{"$f":"Composite!G315","v":"CAMK"}]
[33,{"$f":"Composite!B316","v":"PRKAA1-B2-G1 (AMPKα1β2γ1)"},{"$f":"Composite!F316","v":"AMPK121"},{"$f":"Composite!AT316","v":100},{"$f":"Composite!G316","v":"CAMK"}]
[34,{"$f":"Composite!B317","v":"PRKAA1-B2-G2 (AMPKα1β2γ2)"},{"$f":"Composite!F317","v":"AMPK122"},{"$f":"Composite!AT317","v":100},{"$f":"Composite!G317","v":"CAMK"}]
[35,{"$f":"Composite!B318","v":"PRKAA1-B2-G3 (AMPKα1β2γ3)"},{"$f":"Composite!F318","v":"AMPK123"},{"$f":"Composite!AT318","v":100},{"$f":"Composite!G318","v":"CAMK"}]
[36,{"$f":"Composite!B319","v":"PRKAA2-B1-G1 (AMPKα2β1γ1)"},{"$f":"Composite!F319","v":"AMPK211"},{"$f":"Composite!AT319","v":100},{"$f":"Composite!G319","v":"CAMK"}]
[37,{"$f":"Composite!B320","v":"PRKAA2-B1-G2 (AMPKα2β1γ2)"},{"$f":"Composite!F320","v":"AMPK212"},{"$f":"Composite!AT320","v":100},{"$f":"Composite!G320","v":"CAMK"}]
[38,{"$f":"Composite!B321","v":"PRKAA2-B1-G3 (AMPKα2β1γ3)"},{"$f":"Composite!F321","v":"AMPK213"},{"$f":"Composite!AT321","v":100},{"$f":"Composite!G321","v":"CAMK"}]
[39,{"$f":"Composite!B331","v":"PRKCD (PKCδ [delta])"},{"$f":"Composite!F331","v":"PKCD"},{"$f":"Composite!AT331","v":100},{"$f":"Composite!G331","v":"AGC"}]
[40,{"$f":"Composite!B357","v":"RPS6KA2 (RSK3)"},{"$f":"Composite!F357","v":"RSK3"},{"$f":"Composite!AT357","v":100},{"$f":"Composite!G357","v":"AGC"}]
[41,{"$f":"Composite!B360","v":"RPS6KA5 (MSK1)"},{"$f":"Composite!F360","v":"MSK1"},{"$f":"Composite!AT360","v":100},{"$f":"Composite!G360","v":"AGC"}]
[42,{"$f":"Composite!B361","v":"RPS6KA6 (RSK4)"},{"$f":"Composite!F361","v":"RSK4"},{"$f":"Composite!AT361","v":100},{"$f":"Composite!G361","v":"AGC"}]
[43,{"$f":"Composite!B370","v":"SIK3 (QSK)"},{"$f":"Composite!F370","v":"SIK3"},{"$f":"Composite!AT370","v":100},{"$f":"Composite!G370","v":"CAMK"}]
[44,{"$f":"Composite!B387","v":"STK3 (CLIK1, MST2)"},{"$f":"Composite!F387","v":"MST2"},{"$f":"Composite!AT387","v":100},{"$f":"Composite!G387","v":"STE"}]
[45,{"$f":"Composite!B388","v":"STK33"},{"$f":"Composite!F388","v":"STK33"},{"$f":"Composite!AT388","v":100},{"$f":"Composite!G388","v":"CAMK"}]
[46,{"$f":"Composite!B391","v":"STK4 (MST1)"},{"$f":"Composite!F391","v":"MST1"},{"$f":"Composite!AT391","v":100},{"$f":"Composite!G391","v":"STE"}]
[47,{"$f":"Composite!B403","v":"TNK1"},{"$f":"Composite!F403","v":"TNK1"},{"$f":"Composite!AT403","v":100},{"$f":"Composite!G403","v":"TK"}]
[48,{"$f":"Composite!B406","v":"TSSK1B (TSSK1)"},{"$f":"Composite!F406","v":"TSSK1"},{"$f":"Composite!AT406","v":100},{"$f":"Composite!G406","v":"CAMK"}]
[49,{"$f":"Composite!B221","v":"MAP3K9 (MLK1)"},{"$f":"Composite!F221","v":"MAP3K9"},{"$f":"Composite!AT221","v":99.984073897117369},{"$f":"Composite!G221","v":"TKL"}]
[50,{"$f":"Composite!B313","v":"PRKAA1-B1-G1 (AMPKα1β1γ1)"},{"$f":"Composite!F313","v":"AMPK111"},{"$f":"Composite!AT313","v":99.967706491389052},{"$f":"Composite!G313","v":"CAMK"}]
[51,{"$f":"Composite!B96","v":"CLK4"},{"$f":"Composite!F96","v":"CLK4"},{"$f":"Composite!AT96","v":99.93425378040763},{"$f":"Composite!G96","v":"CMGC"}]
[52,{"$f":"Composite!B113","v":"DDR1 [SRC treated]"},{"$f":"Composite!F113","v":"DDR1"},{"$f":"Composite!AT113","v":99.893172489193645},{"$f":"Composite!G113","v":"TK"}]
[53,{"$f":"Composite!B389","v":"STK38 (NDR1)"},{"$f":"Composite!F389","v":"NDR1"},{"$f":"Composite!AT389","v":99.874024373545112},{"$f":"Composite!G389","v":"AGC"}]
[54,{"$f":"Composite!B392","v":"SYK"},{"$f":"Composite!F392","v":"SYK"},{"$f":"Composite!AT392","v":99.842170530983424},{"$f":"Composite!G392","v":"TK"}]
[55,{"$f":"Composite!B368","v":"SIK1 (SIK)"},{"$f":"Composite!F368","v":"SIK1"},{"$f":"Composite!AT368","v":99.831088184583464},{"$f":"Composite!G368","v":"CAMK"}]
[56,{"$f":"Composite!B369","v":"SIK2 (QIK)"},{"$f":"Composite!F369","v":"SIK2"},{"$f":"Composite!AT369","v":99.743274614229136},{"$f":"Composite!G369","v":"CAMK"}]
[57,{"$f":"Composite!B307","v":"PKN3"},{"$f":"Composite!F307","v":"PKN3"},{"$f":"Composite!AT307","v":99.701747500298254},{"$f":"Composite!G307","v":"AGC"}]
[58,{"$f":"Composite!B245","v":"MARK4"},{"$f":"Composite!F245","v":"MARK4"},{"$f":"Composite!AT245","v":99.673855122336434},{"$f":"Composite!G245","v":"CAMK"}]
[59,{"$f":"Composite!B47","v":"CAMK2D (CAMK2δ)"},{"$f":"Composite!F47","v":"CAMK2D"},{"$f":"Composite!AT47","v":99.666121676275708},{"$f":"Composite!G47","v":"CAMK"}]
[60,{"$f":"Composite!B224","v":"MAP4K3 (GLK, KHS2)"},{"$f":"Composite!F224","v":"GLK/KHS2"},{"$f":"Composite!AT224","v":99.661608530018938},{"$f":"Composite!G224","v":"STE"}]
[61,{"$f":"Composite!B343","v":"PRKG2 (PKG2, PGK2, CGK2)"},{"$f":"Composite!F343","v":"PGK2"},{"$f":"Composite!AT343","v":99.626692626987747},{"$f":"Composite!G343","v":"AGC"}]
[62,{"$f":"Composite!B114","v":"DDR2"},{"$f":"Composite!F114","v":"DDR2"},{"$f":"Composite!AT114","v":99.567917904401838},{"$f":"Composite!G114","v":"TK"}]
[63,{"$f":"Composite!B282","v":"NUAK2 (SNARK)"},{"$f":"Composite!F282","v":"NUAK2"},{"$f":"Composite!AT282","v":99.563341820244588},{"$f":"Composite!G282","v":"CAMK"}]
[64,{"$f":"Composite!B259","v":"MYLK (smMLCK)"},{"$f":"Composite!F259","v":"MLCK"},{"$f":"Composite!AT259","v":99.551417864611011},{"$f":"Composite!G259","v":"CAMK"}]
[65,{"$f":"Composite!B194","v":"LATS2"},{"$f":"Composite!F194","v":"LATS2"},{"$f":"Composite!AT194","v":99.443450809968681},{"$f":"Composite!G194","v":"AGC"}]
[66,{"$f":"Composite!B29","v":"AURKC (AURC)"},{"$f":"Composite!F29","v":"AURC"},{"$f":"Composite!AT29","v":99.435472489364699},{"$f":"Composite!G29","v":"Other"}]
[67,{"$f":"Composite!B359","v":"RPS6KA4 (MSK2)"},{"$f":"Composite!F359","v":"MSK2"},{"$f":"Composite!AT359","v":99.407639589863464},{"$f":"Composite!G359","v":"AGC"}]
[68,{"$f":"Composite!B184","v":"JAK1 [JH1]"},{"$f":"Composite!F184","v":"JAK1(JH1)"},{"$f":"Composite!AT184","v":99.391261935580687},{"$f":"Composite!G184","v":"TK"}]
[69,{"$f":"Composite!B186","v":"JAK2 [JH1]"},{"$f":"Composite!F186","v":"JAK2(JH1)"},{"$f":"Composite!AT186","v":99.279426097237533},{"$f":"Composite!G186","v":"TK"}]
[70,{"$f":"Composite!B342","v":"PRKG1 (PKG1, PGK)"},{"$f":"Composite!F342","v":"PGK"},{"$f":"Composite!AT342","v":99.268441373704533},{"$f":"Composite!G342","v":"AGC"}]
[71,{"$f":"Composite!B414","v":"TYK2 [JH1]"},{"$f":"Composite!F414","v":"TYK2(JH1)"},{"$f":"Composite!AT414","v":99.221388557445351},{"$f":"Composite!G414","v":"TK"}]
[72,{"$f":"Composite!B27","v":"AURKA (AURA)"},{"$f":"Composite!F27","v":"AURA"},{"$f":"Composite!AT27","v":99.088058397162385},{"$f":"Composite!G27","v":"Other"}]
[73,{"$f":"Composite!B402","v":"TNIK (ZC2)"},{"$f":"Composite!F402","v":"TNIK"},{"$f":"Composite!AT402","v":99.059400879255705},{"$f":"Composite!G402","v":"STE"}]
[74,{"$f":"Composite!B154","v":"FLT4"},{"$f":"Composite!F154","v":"FLT4"},{"$f":"Composite!AT154","v":99.050255947973341},{"$f":"Composite!G154","v":"TK"}]
[75,{"$f":"Composite!B358","v":"RPS6KA3 (RSK2)"},{"$f":"Composite!F358","v":"RSK2"},{"$f":"Composite!AT358","v":99.029611805339499},{"$f":"Composite!G358","v":"AGC"}]
[76,{"$f":"Composite!B390","v":"STK38L (NDR2)"},{"$f":"Composite!F390","v":"NDR2"},{"$f":"Composite!AT390","v":99.023199023199027},{"$f":"Composite!G390","v":"AGC"}]
[77,{"$f":"Composite!B97","v":"CSF1R (FMS)"},{"$f":"Composite!F97","v":"FMS/CSF1R"},{"$f":"Composite!AT97","v":98.988487389365815},{"$f":"Composite!G97","v":"TK"}]
[78,{"$f":"Composite!B292","v":"PDGFRB (PDGFRβ)"},{"$f":"Composite!F292","v":"PDGFRB"},{"$f":"Composite!AT292","v":98.940500233027805},{"$f":"Composite!G292","v":"TK"}]
[79,{"$f":"Composite!B252","v":"MINK1 (MAP4K6, MINK, ZC3)"},{"$f":"Composite!F252","v":"MINK"},{"$f":"Composite!AT252","v":98.926711211658869},{"$f":"Composite!G252","v":"STE"}]
[80,{"$f":"Composite!B278","v":"NTRK1 (TRKA)"},{"$f":"Composite!F278","v":"NTRK1"},{"$f":"Composite!AT278","v":98.906968940793504},{"$f":"Composite!G278","v":"TK"}]
[81,{"$f":"Composite!B344","v":"PRKX"},{"$f":"Composite!F344","v":"PRKX"},{"$f":"Composite!AT344","v":98.874439989751906},{"$f":"Composite!G344","v":"AGC"}]
[82,{"$f":"Composite!B322","v":"PRKAA2-B2-G1 (AMPKα2β2γ1)"},{"$f":"Composite!F322","v":"AMPK221"},{"$f":"Composite!AT322","v":98.808254554931651},{"$f":"Composite!G322","v":"CAMK"}]
[83,{"$f":"Composite!B225","v":"MAP4K4 (HGK, ZC1)"},{"$f":"Composite!F225","v":"HGK"},{"$f":"Composite!AT225","v":98.792419075306086},{"$f":"Composite!G225","v":"STE"}]
[84,{"$f":"Composite!B43","v":"CAMK1D (CAMK1δ)"},{"$f":"Composite!F43","v":"CAMK1D"},{"$f":"Composite!AT43","v":98.76277918864362},{"$f":"Composite!G43","v":"CAMK"}]
[85,{"$f":"Composite!B298","v":"PHKG1"},{"$f":"Composite!F298","v":"PHKG1"},{"$f":"Composite!AT298","v":98.632739504173415},{"$f":"Composite!G298","v":"CAMK"}]
[86,{"$f":"Composite!B244","v":"MARK3"},{"$f":"Composite!F244","v":"MARK3"},{"$f":"Composite!AT244","v":98.576262363352427},{"$f":"Composite!G244","v":"CAMK"}]
[87,{"$f":"Composite!B87","v":"CDK9 (TAK)/CycT2"},{"$f":"Composite!F87","v":"CDK9/T2"},{"$f":"Composite!AT87","v":98.566308243727605},{"$f":"Composite!G87","v":"CMGC"}]
[88,{"$f":"Composite!B199","v":"LTK"},{"$f":"Composite!F199","v":"LTK"},{"$f":"Composite!AT199","v":98.518356987527781},{"$f":"Composite!G199","v":"TK"}]
[89,{"$f":"Composite!B148","v":"FGFR2"},{"$f":"Composite!F148","v":"FGFR2"},{"$f":"Composite!AT148","v":98.328838227062235},{"$f":"Composite!G148","v":"TK"}]
[90,{"$f":"Composite!B326","v":"PRKACB (PKACB, PKACβ)"},{"$f":"Composite!F326","v":"PKACB"},{"$f":"Composite!AT326","v":98.320046776286702},{"$f":"Composite!G326","v":"AGC"}]
[91,{"$f":"Composite!B336","v":"PRKCQ (PKCᶿ [theta])"},{"$f":"Composite!F336","v":"PKCQ"},{"$f":"Composite!AT336","v":98.23037255681858},{"$f":"Composite!G336","v":"AGC"}]
[92,{"$f":"Composite!B287","v":"PAK5 (PAK7)"},{"$f":"Composite!F287","v":"PAK5"},{"$f":"Composite!AT287","v":98.190698059434979},{"$f":"Composite!G287","v":"STE"}]
[93,{"$f":"Composite!B346","v":"PTK2B (PYK2)"},{"$f":"Composite!F346","v":"PTK2B"},{"$f":"Composite!AT346","v":98.162435240694805},{"$f":"Composite!G346","v":"TK"}]
[94,{"$f":"Composite!B279","v":"NTRK2 (TRKB)"},{"$f":"Composite!F279","v":"NTRK2"},{"$f":"Composite!AT279","v":98.12639020923514},{"$f":"Composite!G279","v":"TK"}]
[95,{"$f":"Composite!B67","v":"CDK2/CycA1"},{"$f":"Composite!F67","v":"CDK2/A1"},{"$f":"Composite!AT67","v":98.074034466868113},{"$f":"Composite!G67","v":"CMGC"}]
[96,{"$f":"Composite!B72","v":"CDK2/CycO"},{"$f":"Composite!F72","v":"CDK2/O"},{"$f":"Composite!AT72","v":98.073217726396919},{"$f":"Composite!G72","v":"CMGC"}]
[97,{"$f":"Composite!B198","v":"LRRK2"},{"$f":"Composite!F198","v":"LRRK2"},{"$f":"Composite!AT198","v":98.061921211826331},{"$f":"Composite!G198","v":"TKL"}]
[98,{"$f":"Composite!B28","v":"AURKB (AURB)"},{"$f":"Composite!F28","v":"AURB"},{"$f":"Composite!AT28","v":97.929761329172351},{"$f":"Composite!G28","v":"Other"}]
[99,{"$f":"Composite!B362","v":"RPS6KB1 (p70S6K)"},{"$f":"Composite!F362","v":"P70S6KA"},{"$f":"Composite!AT362","v":97.827550030681522},{"$f":"Composite!G362","v":"AGC"}]
[100,{"$f":"Composite!B379","v":"STK10 (LOK)"},{"$f":"Composite!F379","v":"LOK"},{"$f":"Composite!AT379","v":97.805426795978761},{"$f":"Composite!G379","v":"STE"}]
[101,{"$f":"Composite!B299","v":"PHKG2"},{"$f":"Composite!F299","v":"PHKG2"},{"$f":"Composite!AT299","v":97.787295798406433},{"$f":"Composite!G299","v":"CAMK"}]
[102,{"$f":"Composite!B332","v":"PRKCE (PKCe [epsilon])"},{"$f":"Composite!F332","v":"PKCE"},{"$f":"Composite!AT332","v":97.61439186546734},{"$f":"Composite!G332","v":"AGC"}]
[103,{"$f":"Composite!B355","v":"ROS1 (ROS)"},{"$f":"Composite!F355","v":"ROS"},{"$f":"Composite!AT355","v":97.570178712111783},{"$f":"Composite!G355","v":"TK"}]
[104,{"$f":"Composite!B195","v":"LCK"},{"$f":"Composite!F195","v":"LCK"},{"$f":"Composite!AT195","v":97.563986503168465},{"$f":"Composite!G195","v":"TK"}]
[105,{"$f":"Composite!B178","v":"IKKE (IKKe)"},{"$f":"Composite!F178","v":"IKKE"},{"$f":"Composite!AT178","v":97.490367593460377},{"$f":"Composite!G178","v":"Other"}]
[106,{"$f":"Composite!B146","v":"FES"},{"$f":"Composite!F146","v":"FES"},{"$f":"Composite!AT146","v":97.434073101095507},{"$f":"Composite!G146","v":"TK"}]
[107,{"$f":"Composite!B334","v":"PRKCH (PKCη [eta])"},{"$f":"Composite!F334","v":"PKCH"},{"$f":"Composite!AT334","v":97.419292953618708},{"$f":"Composite!G334","v":"AGC"}]
[108,{"$f":"Composite!B68","v":"CDK2/CycA2"},{"$f":"Composite!F68","v":"CDK2/A2"},{"$f":"Composite!AT68","v":97.381402249584696},{"$f":"Composite!G68","v":"CMGC"}]
[109,{"$f":"Composite!B325","v":"PRKACA (PKACA, PKACα)"},{"$f":"Composite!F325","v":"PKACA"},{"$f":"Composite!AT325","v":97.371407539183508},{"$f":"Composite!G325","v":"AGC"}]
[110,{"$f":"Composite!B71","v":"CDK2/CycE2"},{"$f":"Composite!F71","v":"CDK2/E2"},{"$f":"Composite!AT71","v":97.297719462667914},{"$f":"Composite!G71","v":"CMGC"}]
[111,{"$f":"Composite!B249","v":"MELK"},{"$f":"Composite!F249","v":"MELK"},{"$f":"Composite!AT249","v":97.277457421317735},{"$f":"Composite!G249","v":"CAMK"}]
[112,{"$f":"Composite!B222","v":"MAP4K1 (HPK1)"},{"$f":"Composite!F222","v":"HPK1"},{"$f":"Composite!AT222","v":97.186782927948599},{"$f":"Composite!G222","v":"STE"}]
[113,{"$f":"Composite!B38","v":"BRSK1"},{"$f":"Composite!F38","v":"BRSK1"},{"$f":"Composite!AT38","v":97.090765279370075},{"$f":"Composite!G38","v":"CAMK"}]
[114,{"$f":"Composite!B242","v":"MARK1"},{"$f":"Composite!F242","v":"MARK1"},{"$f":"Composite!AT242","v":96.784030451144076},{"$f":"Composite!G242","v":"CAMK"}]
[115,{"$f":"Composite!B216","v":"MAP3K3 (MEKK3)"},{"$f":"Composite!F216","v":"MAP3K3"},{"$f":"Composite!AT216","v":96.779526517656393},{"$f":"Composite!G216","v":"STE"}]
[116,{"$f":"Composite!B204","v":"MAP2K2 (MEK2)"},{"$f":"Composite!F204","v":"MEK2"},{"$f":"Composite!AT204","v":96.77475658540267},{"$f":"Composite!G204","v":"STE"}]
[117,{"$f":"Composite!B70","v":"CDK2/CycE1"},{"$f":"Composite!F70","v":"CDK2/E1"},{"$f":"Composite!AT70","v":96.767434899730617},{"$f":"Composite!G70","v":"CMGC"}]
[118,{"$f":"Composite!B324","v":"PRKAA2-B2-G3 (AMPKα2β2γ3)"},{"$f":"Composite!F324","v":"AMPK223"},{"$f":"Composite!AT324","v":96.748585824975038},{"$f":"Composite!G324","v":"CAMK"}]
[119,{"$f":"Composite!B203","v":"MAP2K1 (MEK1)"},{"$f":"Composite!F203","v":"MEK1"},{"$f":"Composite!AT203","v":96.668515336852266},{"$f":"Composite!G203","v":"STE"}]
[120,{"$f":"Composite!B385","v":"STK25 (YSK1)"},{"$f":"Composite!F385","v":"YSK1"},{"$f":"Composite!AT385","v":96.658548465660004},{"$f":"Composite!G385","v":"STE"}]
[121,{"$f":"Composite!B30","v":"AXL"},{"$f":"Composite!F30","v":"AXL"},{"$f":"Composite!AT30","v":96.639722172325008},{"$f":"Composite!G30","v":"TK"}]
[122,{"$f":"Composite!B190","v":"KIT (SCFR, CD117)"},{"$f":"Composite!F190","v":"KIT"},{"$f":"Composite!AT190","v":96.626501957607672},{"$f":"Composite!G190","v":"TK"}]
[123,{"$f":"Composite!B168","v":"HASPIN"},{"$f":"Composite!F168","v":"HASPIN"},{"$f":"Composite!AT168","v":96.594290142677238},{"$f":"Composite!G168","v":"Other"}]
[124,{"$f":"Composite!B26","v":"ALK"},{"$f":"Composite!F26","v":"ALK"},{"$f":"Composite!AT26","v":96.498047869631648},{"$f":"Composite!G26","v":"TK"}]
[125,{"$f":"Composite!B151","v":"FGR"},{"$f":"Composite!F151","v":"FGR"},{"$f":"Composite!AT151","v":96.398123505796377},{"$f":"Composite!G151","v":"TK"}]
[126,{"$f":"Composite!B354","v":"ROCK2"},{"$f":"Composite!F354","v":"ROCK2"},{"$f":"Composite!AT354","v":96.33154586455484},{"$f":"Composite!G354","v":"AGC"}]
[127,{"$f":"Composite!B250","v":"MERTK (MER)"},{"$f":"Composite!F250","v":"MERTK"},{"$f":"Composite!AT250","v":96.191329327999753},{"$f":"Composite!G250","v":"TK"}]
[128,{"$f":"Composite!B189","v":"KDR (VEGFR2)"},{"$f":"Composite!F189","v":"KDR"},{"$f":"Composite!AT189","v":96.017548504216933},{"$f":"Composite!G189","v":"TK"}]
[129,{"$f":"Composite!B386","v":"STK26 (MST4)"},{"$f":"Composite!F386","v":"MST4"},{"$f":"Composite!AT386","v":95.793643460059698},{"$f":"Composite!G386","v":"STE"}]
[130,{"$f":"Composite!B363","v":"RPS6KB2 (p70S6KB)"},{"$f":"Composite!F363","v":"P70S6KB"},{"$f":"Composite!AT363","v":95.737799339846262},{"$f":"Composite!G363","v":"AGC"}]
[131,{"$f":"Composite!B330","v":"PRKCB2 (PKCβ2 [beta2])"},{"$f":"Composite!F330","v":"PKCB2"},{"$f":"Composite!AT330","v":95.692448112122321},{"$f":"Composite!G330","v":"AGC"}]
[132,{"$f":"Composite!B329","v":"PRKCB1 (PKCβ1 [beta1])"},{"$f":"Composite!F329","v":"PKCB1"},{"$f":"Composite!AT329","v":95.675502245915396},{"$f":"Composite!G329","v":"AGC"}]
[133,{"$f":"Composite!B356","v":"RPS6KA1 (RSK1)"},{"$f":"Composite!F356","v":"RSK1"},{"$f":"Composite!AT356","v":95.50946055096324},{"$f":"Composite!G356","v":"AGC"}]
[134,{"$f":"Composite!B396","v":"TBK1"},{"$f":"Composite!F396","v":"TBK1"},{"$f":"Composite!AT396","v":95.482970220877149},{"$f":"Composite!G396","v":"Other"}]
[135,{"$f":"Composite!B169","v":"HCK"},{"$f":"Composite!F169","v":"HCK"},{"$f":"Composite!AT169","v":95.36715885442473},{"$f":"Composite!G169","v":"TK"}]
[136,{"$f":"Composite!B353","v":"ROCK1"},{"$f":"Composite!F353","v":"ROCK1"},{"$f":"Composite!AT353","v":95.325615626367508},{"$f":"Composite!G353","v":"AGC"}]
[137,{"$f":"Composite!B371","v":"SLK"},{"$f":"Composite!F371","v":"SLK"},{"$f":"Composite!AT371","v":95.248629112662016},{"$f":"Composite!G371","v":"STE"}]
[138,{"$f":"Composite!B149","v":"FGFR3"},{"$f":"Composite!F149","v":"FGFR3"},{"$f":"Composite!AT149","v":95.225608101998375},{"$f":"Composite!G149","v":"TK"}]
[139,{"$f":"Composite!B328","v":"PRKCA (PKCα [alpha])"},{"$f":"Composite!F328","v":"PKCA"},{"$f":"Composite!AT328","v":95.174167375641076},{"$f":"Composite!G328","v":"AGC"}]
[140,{"$f":"Composite!B89","v":"CHEK1 (CHK1)"},{"$f":"Composite!F89","v":"CHK1"},{"$f":"Composite!AT89","v":95.123081378511444},{"$f":"Composite!G89","v":"CAMK"}]
[141,{"$f":"Composite!B208","v":"MAP3K10 (MLK2)"},{"$f":"Composite!F208","v":"MAP3K10"},{"$f":"Composite!AT208","v":95.081843959443205},{"$f":"Composite!G208","v":"TKL"}]
[142,{"$f":"Composite!B422","v":"ZAP70"},{"$f":"Composite!F422","v":"ZAP70"},{"$f":"Composite!AT422","v":95.040372670807457},{"$f":"Composite!G422","v":"TK"}]
[143,{"$f":"Composite!B339","v":"PRKD2 (PKD2)"},{"$f":"Composite!F339","v":"PKD2"},{"$f":"Composite!AT339","v":94.914224619721054},{"$f":"Composite!G339","v":"CAMK"}]
[144,{"$f":"Composite!B323","v":"PRKAA2-B2-G2 (AMPKα2β2γ2)"},{"$f":"Composite!F323","v":"AMPK222"},{"$f":"Composite!AT323","v":94.869195868327054},{"$f":"Composite!G323","v":"CAMK"}]
[145,{"$f":"Composite!B57","v":"CDK1 (CDC2)/CycA2 "},{"$f":"Composite!F57","v":"CDK1/A2"},{"$f":"Composite!AT57","v":94.253873560361257},{"$f":"Composite!G57","v":"CMGC"}]
[146,{"$f":"Composite!B109","v":"DAPK2 (DRP-1)"},{"$f":"Composite!F109","v":"DAPK2"},{"$f":"Composite!AT109","v":94.115471888393984},{"$f":"Composite!G109","v":"CAMK"}]
[147,{"$f":"Composite!B58","v":"CDK1 (CDC2)/CycB1 "},{"$f":"Composite!F58","v":"CDK1/B1"},{"$f":"Composite!AT58","v":93.975604611051139},{"$f":"Composite!G58","v":"CMGC"}]
[148,{"$f":"Composite!B305","v":"PKN1"},{"$f":"Composite!F305","v":"PKN1"},{"$f":"Composite!AT305","v":93.972214346470082},{"$f":"Composite!G305","v":"AGC"}]
[149,{"$f":"Composite!B349","v":"RET"},{"$f":"Composite!F349","v":"RET"},{"$f":"Composite!AT349","v":93.952032858225564},{"$f":"Composite!G349","v":"TK"}]
[150,{"$f":"Composite!B418","v":"ULK2"},{"$f":"Composite!F418","v":"ULK2"},{"$f":"Composite!AT418","v":93.452842149749941},{"$f":"Composite!G418","v":"Other"}]
[151,{"$f":"Composite!B384","v":"STK24 (MST3)"},{"$f":"Composite!F384","v":"MST3"},{"$f":"Composite!AT384","v":93.41280265668756},{"$f":"Composite!G384","v":"STE"}]
[152,{"$f":"Composite!B340","v":"PRKD3 (PKD3)"},{"$f":"Composite!F340","v":"PKD3"},{"$f":"Composite!AT340","v":93.362208314336641},{"$f":"Composite!G340","v":"CAMK"}]
[153,{"$f":"Composite!B185","v":"JAK1 [JH1-JH2]"},{"$f":"Composite!F185","v":"JAK1(JH1JH2)"},{"$f":"Composite!AT185","v":93.28495638306137},{"$f":"Composite!G185","v":"TK"}]
[154,{"$f":"Composite!B118","v":"DYRK1B"},{"$f":"Composite!F118","v":"DYRK1B"},{"$f":"Composite!AT118","v":93.264646200170191},{"$f":"Composite!G118","v":"CMGC"}]
[155,{"$f":"Composite!B147","v":"FGFR1"},{"$f":"Composite!F147","v":"FGFR1"},{"$f":"Composite!AT147","v":93.031435480325342},{"$f":"Composite!G147","v":"TK"}]
[156,{"$f":"Composite!B152","v":"FLT1"},{"$f":"Composite!F152","v":"FLT1"},{"$f":"Composite!AT152","v":92.949490704387358},{"$f":"Composite!G152","v":"TK"}]
[157,{"$f":"Composite!B56","v":"CDK1 (CDC2)/CycA1 "},{"$f":"Composite!F56","v":"CDK1/A1"},{"$f":"Composite!AT56","v":92.942876893106259},{"$f":"Composite!G56","v":"CMGC"}]
[158,{"$f":"Composite!B306","v":"PKN2"},{"$f":"Composite!F306","v":"PKN2"},{"$f":"Composite!AT306","v":92.930580041543749},{"$f":"Composite!G306","v":"AGC"}]
[159,{"$f":"Composite!B327","v":"PRKACG (PKACG, PKACg)"},{"$f":"Composite!F327","v":"PKACG"},{"$f":"Composite!AT327","v":92.725537204759362},{"$f":"Composite!G327","v":"AGC"}]
[160,{"$f":"Composite!B85","v":"CDK9 (TAK)/CycK"},{"$f":"Composite!F85","v":"CDK9/K"},{"$f":"Composite!AT85","v":92.68797564687975},{"$f":"Composite!G85","v":"CMGC"}]
[161,{"$f":"Composite!B93","v":"CLK1"},{"$f":"Composite!F93","v":"CLK1"},{"$f":"Composite!AT93","v":92.464600823733946},{"$f":"Composite!G93","v":"CMGC"}]
[162,{"$f":"Composite!B217","v":"MAP3K5 (ASK1)"},{"$f":"Composite!F217","v":"MAP3K5"},{"$f":"Composite!AT217","v":92.33228728758364},{"$f":"Composite!G217","v":"STE"}]
[163,{"$f":"Composite!B159","v":"GRK1 (RHOK)"},{"$f":"Composite!F159","v":"GRK1"},{"$f":"Composite!AT159","v":92.28872401635266},{"$f":"Composite!G159","v":"AGC"}]
[164,{"$f":"Composite!B33","v":"BLK"},{"$f":"Composite!F33","v":"BLK"},{"$f":"Composite!AT33","v":92.164820473643999},{"$f":"Composite!G33","v":"TK"}]
[165,{"$f":"Composite!B23","v":"AKT1 (PKB)"},{"$f":"Composite!F23","v":"AKT1"},{"$f":"Composite!AT23","v":92.061450164510305},{"$f":"Composite!G23","v":"AGC"}]
[166,{"$f":"Composite!B59","v":"CDK1 (CDC2)/CycE1 "},{"$f":"Composite!F59","v":"CDK1/E1"},{"$f":"Composite!AT59","v":91.730057356709921},{"$f":"Composite!G59","v":"CMGC"}]
[167,{"$f":"Composite!B201","v":"LYNB (LYNb)"},{"$f":"Composite!F201","v":"LYNB"},{"$f":"Composite!AT201","v":91.532792174710465},{"$f":"Composite!G201","v":"TK"}]
[168,{"$f":"Composite!B416","v":"TYRO3"},{"$f":"Composite!F416","v":"TYRO3"},{"$f":"Composite!AT416","v":91.125915850001547},{"$f":"Composite!G416","v":"TK"}]
[169,{"$f":"Composite!B200","v":"LYNA (LYNa)"},{"$f":"Composite!F200","v":"LYNA"},{"$f":"Composite!AT200","v":90.980608126577806},{"$f":"Composite!G200","v":"TK"}]
[170,{"$f":"Composite!B421","v":"YES1 (YES)"},{"$f":"Composite!F421","v":"YES"},{"$f":"Composite!AT421","v":90.942227281683046},{"$f":"Composite!G421","v":"TK"}]
[171,{"$f":"Composite!B79","v":"CDK5/p35NCK"},{"$f":"Composite!F79","v":"CDK5/P35"},{"$f":"Composite!AT79","v":90.922120064899943},{"$f":"Composite!G79","v":"CMGC"}]
[172,{"$f":"Composite!B86","v":"CDK9 (TAK)/CycT1"},{"$f":"Composite!F86","v":"CDK9/T1"},{"$f":"Composite!AT86","v":90.638223235622988},{"$f":"Composite!G86","v":"CMGC"}]
[173,{"$f":"Composite!B73","v":"CDK3/CycE1"},{"$f":"Composite!F73","v":"CDK3/E1"},{"$f":"Composite!AT73","v":90.483914571505807},{"$f":"Composite!G73","v":"CMGC"}]
[174,{"$f":"Composite!B157","v":"FYNb (FYN)"},{"$f":"Composite!F157","v":"FYNB"},{"$f":"Composite!AT157","v":90.317830080059977},{"$f":"Composite!G157","v":"TK"}]
[175,{"$f":"Composite!B383","v":"STK17B (DRAK2)"},{"$f":"Composite!F383","v":"DRAK2"},{"$f":"Composite!AT383","v":90.22957627195818},{"$f":"Composite!G383","v":"CAMK"}]
[176,{"$f":"Composite!B24","v":"AKT2 (PKBb)"},{"$f":"Composite!F24","v":"AKT2"},{"$f":"Composite!AT24","v":89.589889604875367},{"$f":"Composite!G24","v":"AGC"}]
[177,{"$f":"Composite!B286","v":"PAK4"},{"$f":"Composite!F286","v":"PAK4"},{"$f":"Composite!AT286","v":89.23308464318194},{"$f":"Composite!G286","v":"STE"}]
[178,{"$f":"Composite!B110","v":"DAPK3 (ZIPK)"},{"$f":"Composite!F110","v":"DAPK3"},{"$f":"Composite!AT110","v":89.00913803064455},{"$f":"Composite!G110","v":"CAMK"}]
[179,{"$f":"Composite!B165","v":"GRK7 (GPRK7)"},{"$f":"Composite!F165","v":"GRK7"},{"$f":"Composite!AT165","v":88.83798294058802},{"$f":"Composite!G165","v":"AGC"}]
[180,{"$f":"Composite!B78","v":"CDK5/p25"},{"$f":"Composite!F78","v":"CDK5/P25"},{"$f":"Composite!AT78","v":88.757206918641899},{"$f":"Composite!G78","v":"CMGC"}]
[181,{"$f":"Composite!B155","v":"FRK"},{"$f":"Composite!F155","v":"FRK"},{"$f":"Composite!AT155","v":88.639858114438141},{"$f":"Composite!G155","v":"TK"}]
[182,{"$f":"Composite!B74","v":"CDK3/CycE2"},{"$f":"Composite!F74","v":"CDK3/E2"},{"$f":"Composite!AT74","v":88.482405828553709},{"$f":"Composite!G74","v":"CMGC"}]
[183,{"$f":"Composite!B407","v":"TSSK2"},{"$f":"Composite!F407","v":"TSSK2"},{"$f":"Composite!AT407","v":88.32033426183844},{"$f":"Composite!G407","v":"CAMK"}]
[184,{"$f":"Composite!B80","v":"CDK6/CycD1"},{"$f":"Composite!F80","v":"CDK6/D1"},{"$f":"Composite!AT80","v":88.275054553196014},{"$f":"Composite!G80","v":"CMGC"}]
[185,{"$f":"Composite!B25","v":"AKT3 (PKBg)"},{"$f":"Composite!F25","v":"AKT3"},{"$f":"Composite!AT25","v":88.219368119573971},{"$f":"Composite!G25","v":"AGC"}]
[186,{"$f":"Composite!B94","v":"CLK2"},{"$f":"Composite!F94","v":"CLK2"},{"$f":"Composite!AT94","v":87.796985686383124},{"$f":"Composite!G94","v":"CMGC"}]
[187,{"$f":"Composite!B182","v":"IRAK4"},{"$f":"Composite!F182","v":"IRAK4"},{"$f":"Composite!AT182","v":87.38071201356216},{"$f":"Composite!G182","v":"TKL"}]
[188,{"$f":"Composite!B374","v":"SRC N1"},{"$f":"Composite!F374","v":"SRC N1"},{"$f":"Composite!AT374","v":87.237891083550252},{"$f":"Composite!G374","v":"TK"}]
[189,{"$f":"Composite!B248","v":"MATK (CTK)"},{"$f":"Composite!F248","v":"CTK"},{"$f":"Composite!AT248","v":86.636370638527296},{"$f":"Composite!G248","v":"TK"}]
[190,{"$f":"Composite!B404","v":"TNK2 (ACK)"},{"$f":"Composite!F404","v":"TNK2"},{"$f":"Composite!AT404","v":86.619939324197091},{"$f":"Composite!G404","v":"TK"}]
[191,{"$f":"Composite!B42","v":"CAMK1 (CAMK1a)"},{"$f":"Composite!F42","v":"CAMK1A"},{"$f":"Composite!AT42","v":86.55381331088293},{"$f":"Composite!G42","v":"CAMK"}]
[192,{"$f":"Composite!B283","v":"PAK1"},{"$f":"Composite!F283","v":"PAK1"},{"$f":"Composite!AT283","v":86.046555675511868},{"$f":"Composite!G283","v":"STE"}]
[193,{"$f":"Composite!B373","v":"SRC"},{"$f":"Composite!F373","v":"SRC"},{"$f":"Composite!AT373","v":85.656387856661667},{"$f":"Composite!G373","v":"TK"}]
[194,{"$f":"Composite!B288","v":"PAK6"},{"$f":"Composite!F288","v":"PAK6"},{"$f":"Composite!AT288","v":85.4614412136536},{"$f":"Composite!G288","v":"STE"}]
[195,{"$f":"Composite!B284","v":"PAK2"},{"$f":"Composite!F284","v":"PAK2"},{"$f":"Composite!AT284","v":85.43499511241447},{"$f":"Composite!G284","v":"STE"}]
[196,{"$f":"Composite!B408","v":"TSSK3"},{"$f":"Composite!F408","v":"TSSK3"},{"$f":"Composite!AT408","v":84.809181209390331},{"$f":"Composite!G408","v":"CAMK"}]
[197,{"$f":"Composite!B338","v":"PRKD1 (PKD1)"},{"$f":"Composite!F338","v":"PKD1"},{"$f":"Composite!AT338","v":84.539963232075635},{"$f":"Composite!G338","v":"CAMK"}]
[198,{"$f":"Composite!B193","v":"LATS1"},{"$f":"Composite!F193","v":"LATS1"},{"$f":"Composite!AT193","v":84.227096950823039},{"$f":"Composite!G193","v":"AGC"}]
[199,{"$f":"Composite!B52","v":"CDC42BPA (MRCKA)"},{"$f":"Composite!F52","v":"MRCKA"},{"$f":"Composite!AT52","v":83.844303362454099},{"$f":"Composite!G52","v":"AGC"}]
[200,{"$f":"Composite!B345","v":"PTK2 (FAK)"},{"$f":"Composite!F345","v":"PTK2"},{"$f":"Composite!AT345","v":83.737797557478132},{"$f":"Composite!G345","v":"TK"}]
[201,{"$f":"Composite!B117","v":"DYRK1A"},{"$f":"Composite!F117","v":"DYRK1A"},{"$f":"Composite!AT117","v":83.29412112871961},{"$f":"Composite!G117","v":"CMGC"}]
[202,{"$f":"Composite!B417","v":"ULK1"},{"$f":"Composite!F417","v":"ULK1"},{"$f":"Composite!AT417","v":82.47224857169752},{"$f":"Composite!G417","v":"Other"}]
[203,{"$f":"Composite!B156","v":"FYNa (FYN)"},{"$f":"Composite!F156","v":"FYNA"},{"$f":"Composite!AT156","v":82.280987512375845},{"$f":"Composite!G156","v":"TK"}]
[204,{"$f":"Composite!B333","v":"PRKCG (PKCγ [gamma])"},{"$f":"Composite!F333","v":"PKCG"},{"$f":"Composite!AT333","v":82.129574886045049},{"$f":"Composite!G333","v":"AGC"}]
[205,{"$f":"Composite!B108","v":"DAPK1"},{"$f":"Composite!F108","v":"DAPK1"},{"$f":"Composite!AT108","v":82.100302437720913},{"$f":"Composite!G108","v":"CAMK"}]
[206,{"$f":"Composite!B213","v":"MAP3K19 (YSK4)"},{"$f":"Composite!F213","v":"YSK4"},{"$f":"Composite!AT213","v":81.782511210762323},{"$f":"Composite!G213","v":"STE"}]
[207,{"$f":"Composite!B395","v":"TAOK3 (TAO3)"},{"$f":"Composite!F395","v":"TAOK3"},{"$f":"Composite!AT395","v":81.033617661816351},{"$f":"Composite!G395","v":"STE"}]
[208,{"$f":"Composite!B393","v":"TAOK1 (TAO1)"},{"$f":"Composite!F393","v":"TAOK1"},{"$f":"Composite!AT393","v":80.862046715705247},{"$f":"Composite!G393","v":"STE"}]
[209,{"$f":"Composite!B365","v":"SGK1 (SGK)"},{"$f":"Composite!F365","v":"SGK"},{"$f":"Composite!AT365","v":80.394475537100561},{"$f":"Composite!G365","v":"AGC"}]
[210,{"$f":"Composite!B300","v":"PIM1"},{"$f":"Composite!F300","v":"PIM1"},{"$f":"Composite!AT300","v":80.372279252033906},{"$f":"Composite!G300","v":"CAMK"}]
[211,{"$f":"Composite!B20","v":"AAK1"},{"$f":"Composite!F20","v":"AAK1"},{"$f":"Composite!AT20","v":79.934239890499015},{"$f":"Composite!G20","v":"Other"}]
[212,{"$f":"Composite!B166","v":"GSK3A (GSK3α)"},{"$f":"Composite!F166","v":"GSK3A"},{"$f":"Composite!AT166","v":79.902915401798495},{"$f":"Composite!G166","v":"CMGC"}]
[213,{"$f":"Composite!B183","v":"ITK"},{"$f":"Composite!F183","v":"ITK"},{"$f":"Composite!AT183","v":79.639014607441936},{"$f":"Composite!G183","v":"TK"}]
[214,{"$f":"Composite!B90","v":"CHEK2 (CHK2)"},{"$f":"Composite!F90","v":"CHK2"},{"$f":"Composite!AT90","v":78.875063163213738},{"$f":"Composite!G90","v":"CAMK"}]
[215,{"$f":"Composite!B35","v":"BMX"},{"$f":"Composite!F35","v":"BMX"},{"$f":"Composite!AT35","v":77.539650813848084},{"$f":"Composite!G35","v":"TK"}]
[216,{"$f":"Composite!B419","v":"ULK3"},{"$f":"Composite!F419","v":"ULK3"},{"$f":"Composite!AT419","v":77.311428571428564},{"$f":"Composite!G419","v":"Other"}]
[217,{"$f":"Composite!B167","v":"GSK3B (GSK3β)"},{"$f":"Composite!F167","v":"GSK3B"},{"$f":"Composite!AT167","v":77.197576773337531},{"$f":"Composite!G167","v":"CMGC"}]
[218,{"$f":"Composite!B382","v":"STK17A (DRAK1)"},{"$f":"Composite!F382","v":"DRAK1"},{"$f":"Composite!AT382","v":76.956234638101179},{"$f":"Composite!G382","v":"CAMK"}]
[219,{"$f":"Composite!B179","v":"INSR (IR)"},{"$f":"Composite!F179","v":"INSR"},{"$f":"Composite!AT179","v":76.608820690606109},{"$f":"Composite!G179","v":"TK"}]
[220,{"$f":"Composite!B34","v":"BMP2K (BIKE)"},{"$f":"Composite!F34","v":"BIKE"},{"$f":"Composite!AT34","v":76.442134513456494},{"$f":"Composite!G34","v":"Other"}]
[221,{"$f":"Composite!B143","v":"ERN2 (IRE2)"},{"$f":"Composite!F143","v":"ERN2"},{"$f":"Composite!AT143","v":76.214194310463625},{"$f":"Composite!G143","v":"Other"}]
[222,{"$f":"Composite!B63","v":"CDK16 (PCTAIRE1, PCTK1)/CycY "},{"$f":"Composite!F63","v":"CDK16"},{"$f":"Composite!AT63","v":76.213199981704804},{"$f":"Composite!G63","v":"CMGC"}]
[223,{"$f":"Composite!B77","v":"CDK4/CycD2"},{"$f":"Composite!F77","v":"CDK4/D2"},{"$f":"Composite!AT77","v":76.082864429421534},{"$f":"Composite!G77","v":"CMGC"}]
[224,{"$f":"Composite!B233","v":"MAPK15 (ERK7)"},{"$f":"Composite!F233","v":"ERK7"},{"$f":"Composite!AT233","v":75.583413368380263},{"$f":"Composite!G233","v":"CMGC"}]
[225,{"$f":"Composite!B175","v":"ICK"},{"$f":"Composite!F175","v":"ICK"},{"$f":"Composite!AT175","v":75.33995999879393},{"$f":"Composite!G175","v":"CMGC"}]
[226,{"$f":"Composite!B196","v":"LIMK1"},{"$f":"Composite!F196","v":"LIMK1"},{"$f":"Composite!AT196","v":73.488807987600481},{"$f":"Composite!G196","v":"TKL"}]
[227,{"$f":"Composite!B84","v":"CDK7/CycH1"},{"$f":"Composite!F84","v":"CDK7/H1"},{"$f":"Composite!AT84","v":73.327296248382922},{"$f":"Composite!G84","v":"CMGC"}]
[228,{"$f":"Composite!B264","v":"MYO3B"},{"$f":"Composite!F264","v":"MYO3B"},{"$f":"Composite!AT264","v":72.55647719888384},{"$f":"Composite!G264","v":"STE"}]
[229,{"$f":"Composite!B164","v":"GRK6 (GPRK6)"},{"$f":"Composite!F164","v":"GRK6"},{"$f":"Composite!AT164","v":70.653509045864297},{"$f":"Composite!G164","v":"AGC"}]
[230,{"$f":"Composite!B263","v":"MYO3A"},{"$f":"Composite!F263","v":"MYO3A"},{"$f":"Composite!AT263","v":68.138202402319479},{"$f":"Composite!G263","v":"STE"}]
[231,{"$f":"Composite!B75","v":"CDK4 /CycD3"},{"$f":"Composite!F75","v":"CDK4/D3"},{"$f":"Composite!AT75","v":66.826870219416037},{"$f":"Composite!G75","v":"CMGC"}]
[232,{"$f":"Composite!B364","v":"SBK1 (SBK)"},{"$f":"Composite!F364","v":"SBK1"},{"$f":"Composite!AT364","v":65.012717366171216},{"$f":"Composite!G364","v":"Other"}]
[233,{"$f":"Composite!B53","v":"CDC42BPB (MRCKB)"},{"$f":"Composite!F53","v":"MRCKB"},{"$f":"Composite!AT53","v":62.600160613902027},{"$f":"Composite!G53","v":"AGC"}]
[234,{"$f":"Composite!B64","v":"CDK17 (PCTAIRE2, PCTK2)/CycY"},{"$f":"Composite!F64","v":"CDK17"},{"$f":"Composite!AT64","v":62.589442419333054},{"$f":"Composite!G64","v":"CMGC"}]
[235,{"$f":"Composite!B180","v":"INSRR (IRR)"},{"$f":"Composite!F180","v":"INSRR"},{"$f":"Composite!AT180","v":62.206860132978079},{"$f":"Composite!G180","v":"TK"}]
[236,{"$f":"Composite!B372","v":"SNRK"},{"$f":"Composite!F372","v":"SNRK"},{"$f":"Composite!AT372","v":61.045694279036859},{"$f":"Composite!G372","v":"CAMK"}]
[237,{"$f":"Composite!B101","v":"CSNK1D (CK1D, CK1δ)"},{"$f":"Composite!F101","v":"CK1D"},{"$f":"Composite!AT101","v":60.367504835589948},{"$f":"Composite!G101","v":"CK1"}]
[238,{"$f":"Composite!B260","v":"MYLK2 (skMLCK)"},{"$f":"Composite!F260","v":"MYLK2"},{"$f":"Composite!AT260","v":60.364510314440224},{"$f":"Composite!G260","v":"CAMK"}]
[239,{"$f":"Composite!B367","v":"SGK3"},{"$f":"Composite!F367","v":"SGK3"},{"$f":"Composite!AT367","v":60.077016607612862},{"$f":"Composite!G367","v":"AGC"}]
[240,{"$f":"Composite!B91","v":"CHUK (IKKA, IKKa)"},{"$f":"Composite!F91","v":"IKKA"},{"$f":"Composite!AT91","v":59.961854241480538},{"$f":"Composite!G91","v":"Other"}]
[241,{"$f":"Composite!B133","v":"EPHA6"},{"$f":"Composite!F133","v":"EPHA6"},{"$f":"Composite!AT133","v":59.792029729823312},{"$f":"Composite!G133","v":"TK"}]
[242,{"$f":"Composite!B132","v":"EPHA5"},{"$f":"Composite!F132","v":"EPHA5"},{"$f":"Composite!AT132","v":59.603227630158827},{"$f":"Composite!G132","v":"TK"}]
[243,{"$f":"Composite!B397","v":"TEC"},{"$f":"Composite!F397","v":"TEC"},{"$f":"Composite!AT397","v":57.820270722398945},{"$f":"Composite!G397","v":"TK"}]
[244,{"$f":"Composite!B66","v":"CDK18 (PCTAIRE3, PCTK3)/CycY "},{"$f":"Composite!F66","v":"CDK18"},{"$f":"Composite!AT66","v":57.649686020349918},{"$f":"Composite!G66","v":"CMGC"}]
[245,{"$f":"Composite!B128","v":"EPHA1"},{"$f":"Composite!F128","v":"EPHA1"},{"$f":"Composite!AT128","v":57.472777058436471},{"$f":"Composite!G128","v":"TK"}]
[246,{"$f":"Composite!B40","v":"BTK"},{"$f":"Composite!F40","v":"BTK"},{"$f":"Composite!AT40","v":56.424419748874918},{"$f":"Composite!G40","v":"TK"}]
[247,{"$f":"Composite!B81","v":"CDK6/CycD2"},{"$f":"Composite!F81","v":"CDK6/D2"},{"$f":"Composite!AT81","v":55.828389024961758},{"$f":"Composite!G81","v":"CMGC"}]
[248,{"$f":"Composite!B163","v":"GRK5 (GPRK5)"},{"$f":"Composite!F163","v":"GRK5"},{"$f":"Composite!AT163","v":54.902391678570126},{"$f":"Composite!G163","v":"AGC"}]
[249,{"$f":"Composite!B285","v":"PAK3"},{"$f":"Composite!F285","v":"PAK3"},{"$f":"Composite!AT285","v":54.386368240513335},{"$f":"Composite!G285","v":"STE"}]
[250,{"$f":"Composite!B401","v":"TLK2"},{"$f":"Composite!F401","v":"TLK2"},{"$f":"Composite!AT401","v":54.291327532977817},{"$f":"Composite!G401","v":"Other"}]
[251,{"$f":"Composite!B127","v":"EIF2AK4 (GCN2)"},{"$f":"Composite!F127","v":"GCN2"},{"$f":"Composite!AT127","v":53.102555045331442},{"$f":"Composite!G127","v":"Other"}]
[252,{"$f":"Composite!B123","v":"EGFR (ERBB1)"},{"$f":"Composite!F123","v":"EGFR"},{"$f":"Composite!AT123","v":52.644536887681475},{"$f":"Composite!G123","v":"TK"}]
[253,{"$f":"Composite!B22","v":"ABL2 (ARG)"},{"$f":"Composite!F22","v":"ABL2"},{"$f":"Composite!AT22","v":52.148639834247795},{"$f":"Composite!G22","v":"TK"}]
[254,{"$f":"Composite!B76","v":"CDK4/CycD1"},{"$f":"Composite!F76","v":"CDK4/D1"},{"$f":"Composite!AT76","v":51.749558023950094},{"$f":"Composite!G76","v":"CMGC"}]
[255,{"$f":"Composite!B219","v":"MAP3K7 (TAK1)"},{"$f":"Composite!F219","v":"MAP3K7"},{"$f":"Composite!AT219","v":51.488833746898251},{"$f":"Composite!G219","v":"STE"}]
[256,{"$f":"Composite!B82","v":"CDK6/CycD3"},{"$f":"Composite!F82","v":"CDK6/D3"},{"$f":"Composite!AT82","v":50.513867114858591},{"$f":"Composite!G82","v":"CMGC"}]
[257,{"$f":"Composite!B112","v":"DCLK2 (DCAMKL2)"},{"$f":"Composite!F112","v":"DCAML2"},{"$f":"Composite!AT112","v":50.499053868581136},{"$f":"Composite!G112","v":"CAMK"}]
[258,{"$f":"Composite!B394","v":"TAOK2 (TAO2)"},{"$f":"Composite!F394","v":"TAOK2"},{"$f":"Composite!AT394","v":49.518496770405164},{"$f":"Composite!G394","v":"STE"}]
[259,{"$f":"Composite!B366","v":"SGK2"},{"$f":"Composite!F366","v":"SGK2"},{"$f":"Composite!AT366","v":48.639677933980757},{"$f":"Composite!G366","v":"AGC"}]
[260,{"$f":"Composite!B158","v":"GAK"},{"$f":"Composite!F158","v":"GAK"},{"$f":"Composite!AT158","v":48.245744998507007},{"$f":"Composite!G158","v":"Other"}]
[261,{"$f":"Composite!B176","v":"IGF1R"},{"$f":"Composite!F176","v":"IGF1R"},{"$f":"Composite!AT176","v":47.856511873625124},{"$f":"Composite!G176","v":"TK"}]
[262,{"$f":"Composite!B83","v":"CDK7/CycH/MAT1"},{"$f":"Composite!F83","v":"CDK7"},{"$f":"Composite!AT83","v":47.606906171918503},{"$f":"Composite!G83","v":"CMGC"}]
[263,{"$f":"Composite!B256","v":"MST1R (RON)"},{"$f":"Composite!F256","v":"MST1R"},{"$f":"Composite!AT256","v":47.440281085669817},{"$f":"Composite!G256","v":"TK"}]
[264,{"$f":"Composite!B335","v":"PRKCI (PKCι [iota])"},{"$f":"Composite!F335","v":"PKCI"},{"$f":"Composite!AT335","v":45.699152015517377},{"$f":"Composite!G335","v":"AGC"}]
[265,{"$f":"Composite!B247","v":"MASTL"},{"$f":"Composite!F247","v":"MASTL"},{"$f":"Composite!AT247","v":45.46262144656351},{"$f":"Composite!G247","v":"AGC"}]
[266,{"$f":"Composite!B265","v":"NEK1"},{"$f":"Composite!F265","v":"NEK1"},{"$f":"Composite!AT265","v":44.272833167953749},{"$f":"Composite!G265","v":"Other"}]
[267,{"$f":"Composite!B289","v":"PASK"},{"$f":"Composite!F289","v":"PASK"},{"$f":"Composite!AT289","v":44.239162059935985},{"$f":"Composite!G289","v":"CAMK"}]
[268,{"$f":"Composite!B202","v":"MAK"},{"$f":"Composite!F202","v":"MAK"},{"$f":"Composite!AT202","v":43.709137652091016},{"$f":"Composite!G202","v":"Atypical"}]
[269,{"$f":"Composite!B181","v":"IRAK1"},{"$f":"Composite!F181","v":"IRAK1"},{"$f":"Composite!AT181","v":43.44046772048133},{"$f":"Composite!G181","v":"TKL"}]
[270,{"$f":"Composite!B380","v":"STK11 (LKB1, AMPKK)"},{"$f":"Composite!F380","v":"LKB1"},{"$f":"Composite!AT380","v":43.373620820348691},{"$f":"Composite!G380","v":"CAMK"}]
[271,{"$f":"Composite!B413","v":"TXK"},{"$f":"Composite!F413","v":"TXK"},{"$f":"Composite!AT413","v":43.110361032373568},{"$f":"Composite!G413","v":"TK"}]
[272,{"$f":"Composite!B131","v":"EPHA4"},{"$f":"Composite!F131","v":"EPHA4"},{"$f":"Composite!AT131","v":42.875639282708619},{"$f":"Composite!G131","v":"TK"}]
[273,{"$f":"Composite!B205","v":"MAP2K3 (MEK3)"},{"$f":"Composite!F205","v":"MEK3"},{"$f":"Composite!AT205","v":42.387675722029954},{"$f":"Composite!G205","v":"STE"}]
[274,{"$f":"Composite!B303","v":"PINK1 (PINK)"},{"$f":"Composite!F303","v":"PINK"},{"$f":"Composite!AT303","v":41.952273773594555},{"$f":"Composite!G303","v":"Other"}]
[275,{"$f":"Composite!B98","v":"CSK"},{"$f":"Composite!F98","v":"CSK"},{"$f":"Composite!AT98","v":41.757097058020406},{"$f":"Composite!G98","v":"TK"}]
[276,{"$f":"Composite!B162","v":"GRK4 (GPRK4)"},{"$f":"Composite!F162","v":"GRK4"},{"$f":"Composite!AT162","v":41.709643558030216},{"$f":"Composite!G162","v":"AGC"}]
[277,{"$f":"Composite!B62","v":"CDK14 (PFTAIRE1, PFTK1)/CycY"},{"$f":"Composite!F62","v":"CDK14"},{"$f":"Composite!AT62","v":41.054033636833537},{"$f":"Composite!G62","v":"CMGC"}]
[278,{"$f":"Composite!B271","v":"NEK5"},{"$f":"Composite!F271","v":"NEK5"},{"$f":"Composite!AT271","v":39.896034771145956},{"$f":"Composite!G271","v":"Other"}]
[279,{"$f":"Composite!B412","v":"TTK"},{"$f":"Composite!F412","v":"TTK"},{"$f":"Composite!AT412","v":39.156786089860404},{"$f":"Composite!G412","v":"Other"}]
[280,{"$f":"Composite!B125","v":"EIF2AK2 (PKR)"},{"$f":"Composite!F125","v":"PKR"},{"$f":"Composite!AT125","v":39.026111503175727},{"$f":"Composite!G125","v":"Other"}]
[281,{"$f":"Composite!B239","v":"MAPKAPK2 (MK2)"},{"$f":"Composite!F239","v":"MK2"},{"$f":"Composite!AT239","v":38.653426264333334},{"$f":"Composite!G239","v":"CAMK"}]
[282,{"$f":"Composite!B137","v":"EPHB2"},{"$f":"Composite!F137","v":"EPHB2"},{"$f":"Composite!AT137","v":37.54100340101828},{"$f":"Composite!G137","v":"TK"}]
[283,{"$f":"Composite!B211","v":"MAP3K13 (LZK)"},{"$f":"Composite!F211","v":"MAP3K13"},{"$f":"Composite!AT211","v":36.144149081940249},{"$f":"Composite!G211","v":"TKL"}]
[284,{"$f":"Composite!B134","v":"EPHA7"},{"$f":"Composite!F134","v":"EPHA7"},{"$f":"Composite!AT134","v":35.730088495575203},{"$f":"Composite!G134","v":"TK"}]
[285,{"$f":"Composite!B251","v":"MET (c-MET, HGFR)"},{"$f":"Composite!F251","v":"MET"},{"$f":"Composite!AT251","v":35.64292658487561},{"$f":"Composite!G251","v":"TK"}]
[286,{"$f":"Composite!B130","v":"EPHA3"},{"$f":"Composite!F130","v":"EPHA3"},{"$f":"Composite!AT130","v":35.485591199966535},{"$f":"Composite!G130","v":"TK"}]
[287,{"$f":"Composite!B290","v":"PBK (TOPK)"},{"$f":"Composite!F290","v":"TOPK"},{"$f":"Composite!AT290","v":35.226607460427914},{"$f":"Composite!G290","v":"Other"}]
[288,{"$f":"Composite!B398","v":"TEK (TIE2)"},{"$f":"Composite!F398","v":"TEK"},{"$f":"Composite!AT398","v":32.340630362898168},{"$f":"Composite!G398","v":"TK"}]
[289,{"$f":"Composite!B21","v":"ABL1"},{"$f":"Composite!F21","v":"ABL1"},{"$f":"Composite!AT21","v":31.912016228471416},{"$f":"Composite!G21","v":"TK"}]
[290,{"$f":"Composite!B136","v":"EPHB1"},{"$f":"Composite!F136","v":"EPHB1"},{"$f":"Composite!AT136","v":30.195221920450436},{"$f":"Composite!G136","v":"TK"}]
[291,{"$f":"Composite!B141","v":"ERBB4 (HER4)"},{"$f":"Composite!F141","v":"HER4"},{"$f":"Composite!AT141","v":29.37294931291143},{"$f":"Composite!G141","v":"TK"}]
[292,{"$f":"Composite!B310","v":"PLK3"},{"$f":"Composite!F310","v":"PLK3"},{"$f":"Composite!AT310","v":28.978691747701788},{"$f":"Composite!G310","v":"Other"}]
[293,{"$f":"Composite!B120","v":"DYRK3"},{"$f":"Composite!F120","v":"DYRK3"},{"$f":"Composite!AT120","v":28.945778583295564},{"$f":"Composite!G120","v":"CMGC"}]
[294,{"$f":"Composite!B142","v":"ERN1 (IRE1)"},{"$f":"Composite!F142","v":"ERN1"},{"$f":"Composite!AT142","v":28.711260021538834},{"$f":"Composite!G142","v":"Other"}]
[295,{"$f":"Composite!B301","v":"PIM2"},{"$f":"Composite!F301","v":"PIM2"},{"$f":"Composite!AT301","v":27.683934897571532},{"$f":"Composite!G301","v":"CAMK"}]
[296,{"$f":"Composite!B267","v":"NEK11"},{"$f":"Composite!F267","v":"NEK11"},{"$f":"Composite!AT267","v":25.749597249272654},{"$f":"Composite!G267","v":"Other"}]
[297,{"$f":"Composite!B375","v":"SRMS (SRM)"},{"$f":"Composite!F375","v":"SRM"},{"$f":"Composite!AT375","v":25.294336205094851},{"$f":"Composite!G375","v":"TK"}]
[298,{"$f":"Composite!B177","v":"IKKB (IKKβ)"},{"$f":"Composite!F177","v":"IKKB"},{"$f":"Composite!AT177","v":25.083304050697322},{"$f":"Composite!G177","v":"Other"}]
[299,{"$f":"Composite!B135","v":"EPHA8"},{"$f":"Composite!F135","v":"EPHA8"},{"$f":"Composite!AT135","v":24.803619826358585},{"$f":"Composite!G135","v":"TK"}]
[300,{"$f":"Composite!B212","v":"MAP3K14 (NIK)"},{"$f":"Composite!F212","v":"MAP3K14"},{"$f":"Composite!AT212","v":24.667477537568175},{"$f":"Composite!G212","v":"STE"}]
[301,{"$f":"Composite!B352","v":"RIPK3"},{"$f":"Composite!F352","v":"RIPK3"},{"$f":"Composite!AT352","v":24.660194174757279},{"$f":"Composite!G352","v":"TKL"}]
[302,{"$f":"Composite!B61","v":"CDK13 (CHED)/CycK"},{"$f":"Composite!F61","v":"CDK13/K"},{"$f":"Composite!AT61","v":24.624078983354678},{"$f":"Composite!G61","v":"CMGC"}]
[303,{"$f":"Composite!B351","v":"RIPK2"},{"$f":"Composite!F351","v":"RIPK2"},{"$f":"Composite!AT351","v":24.423885618166523},{"$f":"Composite!G351","v":"TKL"}]
[304,{"$f":"Composite!B337","v":"PRKCZ (PKCζ [zeta])"},{"$f":"Composite!F337","v":"PKCZ"},{"$f":"Composite!AT337","v":24.304949847361556},{"$f":"Composite!G337","v":"AGC"}]
[305,{"$f":"Composite!B161","v":"GRK3 (ADRBK2, BARK2)"},{"$f":"Composite!F161","v":"GRK3"},{"$f":"Composite!AT161","v":24.261649797075933},{"$f":"Composite!G161","v":"AGC"}]
[306,{"$f":"Composite!B105","v":"CSNK1G3 (CK1G3, CK1γ3)"},{"$f":"Composite!F105","v":"CK1G3"},{"$f":"Composite!AT105","v":22.655438659863634},{"$f":"Composite!G105","v":"CK1"}]
[307,{"$f":"Composite!B277","v":"NLK (LAK1)"},{"$f":"Composite!F277","v":"NLK"},{"$f":"Composite!AT277","v":22.6378040615934},{"$f":"Composite!G277","v":"CMGC"}]
[308,{"$f":"Composite!B150","v":"FGFR4"},{"$f":"Composite!F150","v":"FGFR4"},{"$f":"Composite!AT150","v":22.614558965185097},{"$f":"Composite!G150","v":"TK"}]
[309,{"$f":"Composite!B95","v":"CLK3"},{"$f":"Composite!F95","v":"CLK3"},{"$f":"Composite!AT95","v":22.216727508137168},{"$f":"Composite!G95","v":"CMGC"}]
[310,{"$f":"Composite!B129","v":"EPHA2"},{"$f":"Composite!F129","v":"EPHA2"},{"$f":"Composite!AT129","v":22.113294496130763},{"$f":"Composite!G129","v":"TK"}]
[311,{"$f":"Composite!B111","v":"DCLK1 (DCAMKL1)"},{"$f":"Composite!F111","v":"DCAML1"},{"$f":"Composite!AT111","v":21.719036754820991},{"$f":"Composite!G111","v":"CAMK"}]
[312,{"$f":"Composite!B100","v":"CSNK1A1L (CK1A1L, CK1a2)"},{"$f":"Composite!F100","v":"CK1A1L"},{"$f":"Composite!AT100","v":21.65289256198345},{"$f":"Composite!G100","v":"CK1"}]
[313,{"$f":"Composite!B104","v":"CSNK1G2 (CK1G2, CK1γ2)"},{"$f":"Composite!F104","v":"CK1G2"},{"$f":"Composite!AT104","v":21.122255825591267},{"$f":"Composite!G104","v":"CK1"}]
[314,{"$f":"Composite!B210","v":"MAP3K12 (DLK)"},{"$f":"Composite!F210","v":"MAP3K12"},{"$f":"Composite!AT210","v":20.593149540517956},{"$f":"Composite!G210","v":"TKL"}]
[315,{"$f":"Composite!B261","v":"MYLK3 (caMLCK)"},{"$f":"Composite!F261","v":"MYLK3"},{"$f":"Composite!AT261","v":20.188405743095956},{"$f":"Composite!G261","v":"CAMK"}]
[316,{"$f":"Composite!B381","v":"STK16 (MPSK1, PKL12, TSF1)"},{"$f":"Composite!F381","v":"STK16"},{"$f":"Composite!AT381","v":19.73710297791348},{"$f":"Composite!G381","v":"Other"}]
[317,{"$f":"Composite!B270","v":"NEK4"},{"$f":"Composite!F270","v":"NEK4"},{"$f":"Composite!AT270","v":19.418998795416982},{"$f":"Composite!G270","v":"Other"}]
[318,{"$f":"Composite!B268","v":"NEK2"},{"$f":"Composite!F268","v":"NEK2"},{"$f":"Composite!AT268","v":18.91590288801325},{"$f":"Composite!G268","v":"Other"}]
[319,{"$f":"Composite!B119","v":"DYRK2"},{"$f":"Composite!F119","v":"DYRK2"},{"$f":"Composite!AT119","v":18.594667318982388},{"$f":"Composite!G119","v":"CMGC"}]
[320,{"$f":"Composite!B230","v":"MAPK12 (p38γ)"},{"$f":"Composite!F230","v":"P38G"},{"$f":"Composite!AT230","v":18.57791654839626},{"$f":"Composite!G230","v":"CMGC"}]
[321,{"$f":"Composite!B227","v":"MAPK1 (ERK2)"},{"$f":"Composite!F227","v":"ERK2"},{"$f":"Composite!AT227","v":16.980188668762977},{"$f":"Composite!G227","v":"CMGC"}]
[322,{"$f":"Composite!B220","v":"MAP3K8 (COT, Tpl2)"},{"$f":"Composite!F220","v":"MAP3K8"},{"$f":"Composite!AT220","v":16.914460333755102},{"$f":"Composite!G220","v":"STE"}]
[323,{"$f":"Composite!B126","v":"EIF2AK3 (PERK/PEK)"},{"$f":"Composite!F126","v":"PEK"},{"$f":"Composite!AT126","v":16.839346994265924},{"$f":"Composite!G126","v":"Other"}]
[324,{"$f":"Composite!B308","v":"PLK1"},{"$f":"Composite!F308","v":"PLK1"},{"$f":"Composite!AT308","v":16.366657789613853},{"$f":"Composite!G308","v":"Other"}]
[325,{"$f":"Composite!B350","v":"RIPK1"},{"$f":"Composite!F350","v":"RIPK1"},{"$f":"Composite!AT350","v":15.53057694421463},{"$f":"Composite!G350","v":"TKL"}]
[326,{"$f":"Composite!B266","v":"NEK10"},{"$f":"Composite!F266","v":"NEK10"},{"$f":"Composite!AT266","v":15.381077595256912},{"$f":"Composite!G266","v":"Other"}]
[327,{"$f":"Composite!B215","v":"MAP3K20 (MLK7, ZAK)"},{"$f":"Composite!F215","v":"ZAK"},{"$f":"Composite!AT215","v":15.139248704663231},{"$f":"Composite!G215","v":"TKL"}]
[328,{"$f":"Composite!B409","v":"TSSK6 (SSTK)"},{"$f":"Composite!F409","v":"TSSK6"},{"$f":"Composite!AT409","v":15.029013539651842},{"$f":"Composite!G409","v":"CAMK"}]
[329,{"$f":"Composite!B144","v":"FAM20C"},{"$f":"Composite!F144","v":"FAM20C"},{"$f":"Composite!AT144","v":14.948527678946064},{"$f":"Composite!G144","v":"Other"}]
[330,{"$f":"Composite!B236","v":"MAPK7 (BMK, ERK5)"},{"$f":"Composite!F236","v":"ERK5"},{"$f":"Composite!AT236","v":14.837251566905096},{"$f":"Composite!G236","v":"CMGC"}]
[331,{"$f":"Composite!B376","v":"SRPK1"},{"$f":"Composite!F376","v":"SRPK1"},{"$f":"Composite!AT376","v":13.963002490217008},{"$f":"Composite!G376","v":"CMGC"}]
[332,{"$f":"Composite!B49","v":"CAMK4"},{"$f":"Composite!F49","v":"CAMK4"},{"$f":"Composite!AT49","v":13.899300443584536},{"$f":"Composite!G49","v":"CAMK"}]
[333,{"$f":"Composite!B237","v":"MAPK8 (JNK1)"},{"$f":"Composite!F237","v":"JNK1"},{"$f":"Composite!AT237","v":12.895499810916434},{"$f":"Composite!G237","v":"CMGC"}]
[334,{"$f":"Composite!B232","v":"MAPK14 (p38a)"},{"$f":"Composite!F232","v":"P38A"},{"$f":"Composite!AT232","v":12.787831251050491},{"$f":"Composite!G232","v":"CMGC"}]
[335,{"$f":"Composite!B116","v":"DSTYK (RIPK5, SGK496)"},{"$f":"Composite!F116","v":"RIPK5"},{"$f":"Composite!AT116","v":11.768022664136197},{"$f":"Composite!G116","v":"TKL"}]
[336,{"$f":"Composite!B139","v":"EPHB4"},{"$f":"Composite!F139","v":"EPHB4"},{"$f":"Composite!AT139","v":11.534991622631793},{"$f":"Composite!G139","v":"TK"}]
[337,{"$f":"Composite!B92","v":"CIT (CRIK)"},{"$f":"Composite!F92","v":"CRIK"},{"$f":"Composite!AT92","v":11.469429446957548},{"$f":"Composite!G92","v":"AGC"}]
[338,{"$f":"Composite!B262","v":"MYLK4 (SgK085)"},{"$f":"Composite!F262","v":"MYLK4"},{"$f":"Composite!AT262","v":11.391217727337931},{"$f":"Composite!G262","v":"CAMK"}]
[339,{"$f":"Composite!B138","v":"EPHB3"},{"$f":"Composite!F138","v":"EPHB3"},{"$f":"Composite!AT138","v":11.295362613346612},{"$f":"Composite!G138","v":"TK"}]
[340,{"$f":"Composite!B410","v":"TTBK1"},{"$f":"Composite!F410","v":"TTBK1"},{"$f":"Composite!AT410","v":11.038503333431223},{"$f":"Composite!G410","v":"CK1"}]
[341,{"$f":"Composite!B172","v":"HIPK3"},{"$f":"Composite!F172","v":"HIPK3"},{"$f":"Composite!AT172","v":10.898404868928779},{"$f":"Composite!G172","v":"CMGC"}]
[342,{"$f":"Composite!B275","v":"NEK9"},{"$f":"Composite!F275","v":"NEK9"},{"$f":"Composite!AT275","v":10.769801395960485},{"$f":"Composite!G275","v":"Other"}]
[343,{"$f":"Composite!B341","v":"PRKDC (DNA-PK)"},{"$f":"Composite!F341","v":"DNA-PK"},{"$f":"Composite!AT341","v":10.596575792669555},{"$f":"Composite!G341","v":"Atypical"}]
[344,{"$f":"Composite!B377","v":"SRPK2"},{"$f":"Composite!F377","v":"SRPK2"},{"$f":"Composite!AT377","v":10.480218121051323},{"$f":"Composite!G377","v":"CMGC"}]
[345,{"$f":"Composite!B140","v":"ERBB2 (HER2)"},{"$f":"Composite!F140","v":"HER2"},{"$f":"Composite!AT140","v":10.447562725268597},{"$f":"Composite!G140","v":"TK"}]
[346,{"$f":"Composite!B171","v":"HIPK2"},{"$f":"Composite!F171","v":"HIPK2"},{"$f":"Composite!AT171","v":9.7280573196547806},{"$f":"Composite!G171","v":"CMGC"}]
[347,{"$f":"Composite!B347","v":"PTK6 (BRK)"},{"$f":"Composite!F347","v":"PTK6"},{"$f":"Composite!AT347","v":9.6611319048456465},{"$f":"Composite!G347","v":"TK"}]
[348,{"$f":"Composite!B238","v":"MAPK9 (JNK2)"},{"$f":"Composite!F238","v":"JNK2"},{"$f":"Composite!AT238","v":8.2458512599877025},{"$f":"Composite!G238","v":"CMGC"}]
[349,{"$f":"Composite!B411","v":"TTBK2"},{"$f":"Composite!F411","v":"TTBK2"},{"$f":"Composite!AT411","v":8.1965926042239374},{"$f":"Composite!G411","v":"CK1"}]
[350,{"$f":"Composite!B174","v":"HUNK"},{"$f":"Composite!F174","v":"HUNK"},{"$f":"Composite!AT174","v":7.9733142322352109},{"$f":"Composite!G174","v":"CAMK"}]
[351,{"$f":"Composite!B254","v":"MNK1"},{"$f":"Composite!F254","v":"MNK1"},{"$f":"Composite!AT254","v":7.6165193070311545},{"$f":"Composite!G254","v":"CAMK"}]
[352,{"$f":"Composite!B241","v":"MAPKAPK5 (MK5)"},{"$f":"Composite!F241","v":"MK5"},{"$f":"Composite!AT241","v":7.5700745490482859},{"$f":"Composite!G241","v":"CAMK"}]
[353,{"$f":"Composite!B309","v":"PLK2"},{"$f":"Composite!F309","v":"PLK2"},{"$f":"Composite!AT309","v":7.1050166607803646},{"$f":"Composite!G309","v":"Other"}]
[354,{"$f":"Composite!B234","v":"MAPK3 (ERK1)"},{"$f":"Composite!F234","v":"ERK1"},{"$f":"Composite!AT234","v":6.7432064710925488},{"$f":"Composite!G234","v":"CAMK"}]
[355,{"$f":"Composite!B405","v":"TRPM7 (CHAK1)"},{"$f":"Composite!F405","v":"CHAK1"},{"$f":"Composite!AT405","v":6.2828581793473433},{"$f":"Composite!G405","v":"Atypical"}]
[356,{"$f":"Composite!B231","v":"MAPK13 (p38δ)"},{"$f":"Composite!F231","v":"P38D"},{"$f":"Composite!AT231","v":6.0877724844810501},{"$f":"Composite!G231","v":"CMGC"}]
[357,{"$f":"Composite!B122","v":"EEF2K (eEF2K)"},{"$f":"Composite!F122","v":"EEF2K"},{"$f":"Composite!AT122","v":6.036270624020645},{"$f":"Composite!G122","v":"Atypical"}]
[358,{"$f":"Composite!B255","v":"MNK2"},{"$f":"Composite!F255","v":"MNK2"},{"$f":"Composite!AT255","v":5.5498330055872742},{"$f":"Composite!G255","v":"CAMK"}]
[359,{"$f":"Composite!B191","v":"KSR1"},{"$f":"Composite!F191","v":"KSR1"},{"$f":"Composite!AT191","v":5.5317718911179128},{"$f":"Composite!G191","v":"TKL"}]
[360,{"$f":"Composite!B124","v":"EIF2AK1 (HRI)"},{"$f":"Composite!F124","v":"HRI"},{"$f":"Composite!AT124","v":5.4441758464455745},{"$f":"Composite!G124","v":"Other"}]
[361,{"$f":"Composite!B399","v":"TESK2"},{"$f":"Composite!F399","v":"TESK2"},{"$f":"Composite!AT399","v":5.4143646408839601},{"$f":"Composite!G399","v":"TKL"}]
[362,{"$f":"Composite!B41","v":"BUB1"},{"$f":"Composite!F41","v":"BUB1"},{"$f":"Composite!AT41","v":5.3814056591472195},{"$f":"Composite!G41","v":"Other"}]
[363,{"$f":"Composite!B207","v":"MAP3K1 (MEKK1)"},{"$f":"Composite!F207","v":"MAP3K1"},{"$f":"Composite!AT207","v":5.2959040071105932},{"$f":"Composite!G207","v":"STE"}]
[364,{"$f":"Composite!B160","v":"GRK2 (ADRBK1, BARK1)"},{"$f":"Composite!F160","v":"GRK2"},{"$f":"Composite!AT160","v":5.2834356458531317},{"$f":"Composite!G160","v":"AGC"}]
[365,{"$f":"Composite!B257","v":"mTOR (FRAP)"},{"$f":"Composite!F257","v":"mTOR"},{"$f":"Composite!AT257","v":5.1554562812983988},{"$f":"Composite!G257","v":"Atypical"}]
[366,{"$f":"Composite!B197","v":"LIMK2"},{"$f":"Composite!F197","v":"LIMK2"},{"$f":"Composite!AT197","v":4.6793025455147017},{"$f":"Composite!G197","v":"TKL"}]
[367,{"$f":"Composite!B173","v":"HIPK4"},{"$f":"Composite!F173","v":"HIPK4"},{"$f":"Composite!AT173","v":4.1988502545141415},{"$f":"Composite!G173","v":"CMGC"}]
[368,{"$f":"Composite!B272","v":"NEK6"},{"$f":"Composite!F272","v":"NEK6"},{"$f":"Composite!AT272","v":3.5550575532240174},{"$f":"Composite!G272","v":"Other"}]
[369,{"$f":"Composite!B240","v":"MAPKAPK3 (MK3)"},{"$f":"Composite!F240","v":"MK3"},{"$f":"Composite!AT240","v":3.3973208120425511},{"$f":"Composite!G240","v":"CAMK"}]
[370,{"$f":"Composite!B107","v":"CSNK2A2 (CK2A2, CK2α2)"},{"$f":"Composite!F107","v":"CK2A2"},{"$f":"Composite!AT107","v":3.3548471644333659},{"$f":"Composite!G107","v":"Other"}]
[371,{"$f":"Composite!B37","v":"BRAF, b-[V600E]"},{"$f":"Composite!F37","v":"BRAF(V600E)"},{"$f":"Composite!AT37","v":2.9347579392098311},{"$f":"Composite!G37","v":"TKL"}]
[372,{"$f":"Composite!B228","v":"MAPK10 (JNK3)"},{"$f":"Composite!F228","v":"JNK3"},{"$f":"Composite!AT228","v":2.9222610854112645},{"$f":"Composite!G228","v":"CMGC"}]
[373,{"$f":"Composite!B103","v":"CSNK1G1 (CK1G1, CK1γ1)"},{"$f":"Composite!F103","v":"CK1G1"},{"$f":"Composite!AT103","v":2.6170395792871659},{"$f":"Composite!G103","v":"CK1"}]
[374,{"$f":"Composite!B246","v":"MAST3"},{"$f":"Composite!F246","v":"MAST3"},{"$f":"Composite!AT246","v":2.4783457667851536},{"$f":"Composite!G246","v":"AGC"}]
[375,{"$f":"Composite!B294","v":"PDK2 (PDHK2)"},{"$f":"Composite!F294","v":"PDHK2"},{"$f":"Composite!AT294","v":2.37752565372611},{"$f":"Composite!G294","v":"Atypical"}]
[376,{"$f":"Composite!B121","v":"DYRK4"},{"$f":"Composite!F121","v":"DYRK4"},{"$f":"Composite!AT121","v":2.3692094952754132},{"$f":"Composite!G121","v":"CMGC"}]
[377,{"$f":"Composite!B295","v":"PDK3 (PDHK3)"},{"$f":"Composite!F295","v":"PDHK3"},{"$f":"Composite!AT295","v":2.2701008195741395},{"$f":"Composite!G295","v":"Atypical"}]
[378,{"$f":"Composite!B273","v":"NEK7"},{"$f":"Composite!F273","v":"NEK7"},{"$f":"Composite!AT273","v":1.7320943169605982},{"$f":"Composite!G273","v":"Other"}]
[379,{"$f":"Composite!B170","v":"HIPK1"},{"$f":"Composite!F170","v":"HIPK1"},{"$f":"Composite!AT170","v":1.6219913701076791},{"$f":"Composite!G170","v":"CMGC"}]
[380,{"$f":"Composite!B192","v":"KSR2"},{"$f":"Composite!F192","v":"KSR2"},{"$f":"Composite!AT192","v":1.5431801253121904},{"$f":"Composite!G192","v":"TKL"}]
[381,{"$f":"Composite!B269","v":"NEK3"},{"$f":"Composite!F269","v":"NEK3"},{"$f":"Composite!AT269","v":0.55143483004474092},{"$f":"Composite!G269","v":"Other"}]
[382,{"$f":"Composite!B60","v":"CDK12 (CRK7)/CycK"},{"$f":"Composite!F60","v":"CDK12/K"},{"$f":"Composite!AT60","v":0},{"$f":"Composite!G60","v":"CMGC"}]
[383,{"$f":"Composite!B69","v":"CDK2/CycD1"},{"$f":"Composite!F69","v":"CDK2/D1"},{"$f":"Composite!AT69","v":0},{"$f":"Composite!G69","v":"CMGC"}]
[384,{"$f":"Composite!B206","v":"MAP2K4 (MEK4)"},{"$f":"Composite!F206","v":"MEK4(HIS)"},{"$f":"Composite!AT206","v":0},{"$f":"Composite!G206","v":"STE"}]
[385,{"$f":"Composite!B235","v":"MAPK6 (ERK3)"},{"$f":"Composite!F235","v":"ERK3"},{"$f":"Composite!AT235","v":0},{"$f":"Composite!G235","v":"CMGC"}]
[386,{"$f":"Composite!B274","v":"NEK8"},{"$f":"Composite!F274","v":"NEK8"},{"$f":"Composite!AT274","v":0},{"$f":"Composite!G274","v":"Other"}]
[387,{"$f":"Composite!B415","v":"TYK2 [JH1-JH2]"},{"$f":"Composite!F415","v":"TYK2(JH1JH2)"},{"$f":"Composite!AT415","v":0},{"$f":"Composite!G415","v":"TK"}]
[388,{"$f":"Composite!B420","v":"WEE1"},{"$f":"Composite!F420","v":"WEE1"},{"$f":"Composite!AT420","v":0},{"$f":"Composite!G420","v":"Other"}]
[389,{"$f":"Composite!B423","v":0},{"$f":"Composite!F423","v":0},{"$f":"Composite!AT423","v":0},{"$f":"Composite!G423","v":0}]
[390,{"$f":"Composite!B424","v":0},{"$f":"Composite!F424","v":0},{"$f":"Composite!AT424","v":0},{"$f":"Composite!G424","v":0}]
[391,{"$f":"Composite!B425","v":0},{"$f":"Composite!F425","v":0},{"$f":"Composite!AT425","v":0},{"$f":"Composite!G425","v":0}]
[392,{"$f":"Composite!B426","v":0},{"$f":"Composite!F426","v":0},{"$f":"Composite!AT426","v":0},{"$f":"Composite!G426","v":0}]
[393,{"$f":"Composite!B427","v":0},{"$f":"Composite!F427","v":0},{"$f":"Composite!AT427","v":0},{"$f":"Composite!G427","v":0}]
[394,{"$f":"Composite!B428","v":0},{"$f":"Composite!F428","v":0},{"$f":"Composite!AT428","v":0},{"$f":"Composite!G428","v":0}]
[395,{"$f":"Composite!B429","v":0},{"$f":"Composite!F429","v":0},{"$f":"Composite!AT429","v":0},{"$f":"Composite!G429","v":0}]
[396,{"$f":"Composite!B430","v":0},{"$f":"Composite!F430","v":0},{"$f":"Composite!AT430","v":0},{"$f":"Composite!G430","v":0}]
[397,{"$f":"Composite!B431","v":0},{"$f":"Composite!F431","v":0},{"$f":"Composite!AT431","v":0},{"$f":"Composite!G431","v":0}]
[398,{"$f":"Composite!B432","v":0},{"$f":"Composite!F432","v":0},{"$f":"Composite!AT432","v":0},{"$f":"Composite!G432","v":0}]
[399,{"$f":"Composite!B433","v":0},{"$f":"Composite!F433","v":0},{"$f":"Composite!AT433","v":0},{"$f":"Composite!G433","v":0}]
[400,{"$f":"Composite!B434","v":0},{"$f":"Composite!F434","v":0},{"$f":"Composite!AT434","v":0},{"$f":"Composite!G434","v":0}]
[401,{"$f":"Composite!B435","v":0},{"$f":"Composite!F435","v":0},{"$f":"Composite!AT435","v":0},{"$f":"Composite!G435","v":0}]
[402,{"$f":"Composite!B436","v":0},{"$f":"Composite!F436","v":0},{"$f":"Composite!AT436","v":0},{"$f":"Composite!G436","v":0}]
[403,{"$f":"Composite!B437","v":0},{"$f":"Composite!F437","v":0},{"$f":"Composite!AT437","v":0},{"$f":"Composite!G437","v":0}]
[404,{"$f":"Composite!B438","v":0},{"$f":"Composite!F438","v":0},{"$f":"Composite!AT438","v":0},{"$f":"Composite!G438","v":0}]
[405,{"$f":"Composite!B439","v":0},{"$f":"Composite!F439","v":0},{"$f":"Composite!AT439","v":0},{"$f":"Composite!G439","v":0}]
[406,{"$f":"Composite!B440","v":0},{"$f":"Composite!F440","v":0},{"$f":"Composite!AT440","v":0},{"$f":"Composite!G440","v":0}]
[407,{"$f":"Composite!B441","v":0},{"$f":"Composite!F441","v":0},{"$f":"Composite!AT441","v":0},{"$f":"Composite!G441","v":0}]
[408,{"$f":"Composite!B442","v":0},{"$f":"Composite!F442","v":0},{"$f":"Composite!AT442","v":0},{"$f":"Composite!G442","v":0}]
[409,{"$f":"Composite!B443","v":0},{"$f":"Composite!F443","v":0},{"$f":"Composite!AT443","v":0},{"$f":"Composite!G443","v":0}]
[410,{"$f":"Composite!B444","v":0},{"$f":"Composite!F444","v":0},{"$f":"Composite!AT444","v":0},{"$f":"Composite!G444","v":0}]
[411,{"$f":"Composite!B445","v":0},{"$f":"Composite!F445","v":0},{"$f":"Composite!AT445","v":0},{"$f":"Composite!G445","v":0}]
[412,{"$f":"Composite!B446","v":0},{"$f":"Composite!F446","v":0},{"$f":"Composite!AT446","v":0},{"$f":"Composite!G446","v":0}]
[413,{"$f":"Composite!B447","v":0},{"$f":"Composite!F447","v":0},{"$f":"Composite!AT447","v":0},{"$f":"Composite!G447","v":0}]
[414,{"$f":"Composite!B448","v":0},{"$f":"Composite!F448","v":0},{"$f":"Composite!AT448","v":0},{"$f":"Composite!G448","v":0}]
[415,{"$f":"Composite!B449","v":0},{"$f":"Composite!F449","v":0},{"$f":"Composite!AT449","v":0},{"$f":"Composite!G449","v":0}]
[416,{"$f":"Composite!B450","v":0},{"$f":"Composite!F450","v":0},{"$f":"Composite!AT450","v":0},{"$f":"Composite!G450","v":0}]
[417,{"$f":"Composite!B451","v":0},{"$f":"Composite!F451","v":0},{"$f":"Composite!AT451","v":0},{"$f":"Composite!G451","v":0}]
[418,{"$f":"Composite!B452","v":0},{"$f":"Composite!F452","v":0},{"$f":"Composite!AT452","v":0},{"$f":"Composite!G452","v":0}]
[419,{"$f":"Composite!B453","v":0},{"$f":"Composite!F453","v":0},{"$f":"Composite!AT453","v":0},{"$f":"Composite!G453","v":0}]
[420,{"$f":"Composite!B454","v":0},{"$f":"Composite!F454","v":0},{"$f":"Composite!AT454","v":0},{"$f":"Composite!G454","v":0}]
[421,{"$f":"Composite!B455","v":0},{"$f":"Composite!F455","v":0},{"$f":"Composite!AT455","v":0},{"$f":"Composite!G455","v":0}]
[422,{"$f":"Composite!B456","v":0},{"$f":"Composite!F456","v":0},{"$f":"Composite!AT456","v":0},{"$f":"Composite!G456","v":0}]
[423,{"$f":"Composite!B457","v":0},{"$f":"Composite!F457","v":0},{"$f":"Composite!AT457","v":0},{"$f":"Composite!G457","v":0}]
[424,{"$f":"Composite!B458","v":0},{"$f":"Composite!F458","v":0},{"$f":"Composite!AT458","v":0},{"$f":"Composite!G458","v":0}]
[425,{"$f":"Composite!B459","v":0},{"$f":"Composite!F459","v":0},{"$f":"Composite!AT459","v":0},{"$f":"Composite!G459","v":0}]
[426,{"$f":"Composite!B460","v":0},{"$f":"Composite!F460","v":0},{"$f":"Composite!AT460","v":0},{"$f":"Composite!G460","v":0}]
[427,{"$f":"Composite!B461","v":0},{"$f":"Composite!F461","v":0},{"$f":"Composite!AT461","v":0},{"$f":"Composite!G461","v":0}]
[428,{"$f":"Composite!B462","v":0},{"$f":"Composite!F462","v":0},{"$f":"Composite!AT462","v":0},{"$f":"Composite!G462","v":0}]
[429,{"$f":"Composite!B463","v":0},{"$f":"Composite!F463","v":0},{"$f":"Composite!AT463","v":0},{"$f":"Composite!G463","v":0}]
[430,{"$f":"Composite!B464","v":0},{"$f":"Composite!F464","v":0},{"$f":"Composite!AT464","v":0},{"$f":"Composite!G464","v":0}]
[431,{"$f":"Composite!B465","v":0},{"$f":"Composite!F465","v":0},{"$f":"Composite!AT465","v":0},{"$f":"Composite!G465","v":0}]
[432,{"$f":"Composite!B466","v":0},{"$f":"Composite!F466","v":0},{"$f":"Composite!AT466","v":0},{"$f":"Composite!G466","v":0}]
[433,{"$f":"Composite!B467","v":0},{"$f":"Composite!F467","v":0},{"$f":"Composite!AT467","v":0},{"$f":"Composite!G467","v":0}]
[434,{"$f":"Composite!B468","v":0},{"$f":"Composite!F468","v":0},{"$f":"Composite!AT468","v":0},{"$f":"Composite!G468","v":0}]
[435,{"$f":"Composite!B469","v":0},{"$f":"Composite!F469","v":0},{"$f":"Composite!AT469","v":0},{"$f":"Composite!G469","v":0}]
[436,{"$f":"Composite!B470","v":0},{"$f":"Composite!F470","v":0},{"$f":"Composite!AT470","v":0},{"$f":"Composite!G470","v":0}]
[437,{"$f":"Composite!B471","v":0},{"$f":"Composite!F471","v":0},{"$f":"Composite!AT471","v":0},{"$f":"Composite!G471","v":0}]
[438,{"$f":"Composite!B472","v":0},{"$f":"Composite!F472","v":0},{"$f":"Composite!AT472","v":0},{"$f":"Composite!G472","v":0}]
[439,{"$f":"Composite!B473","v":0},{"$f":"Composite!F473","v":0},{"$f":"Composite!AT473","v":0},{"$f":"Composite!G473","v":0}]
[440,{"$f":"Composite!B474","v":0},{"$f":"Composite!F474","v":0},{"$f":"Composite!AT474","v":0},{"$f":"Composite!G474","v":0}]
[441,{"$f":"Composite!B475","v":0},{"$f":"Composite!F475","v":0},{"$f":"Composite!AT475","v":0},{"$f":"Composite!G475","v":0}]
[442,{"$f":"Composite!B476","v":0},{"$f":"Composite!F476","v":0},{"$f":"Composite!AT476","v":0},{"$f":"Composite!G476","v":0}]
[443,{"$f":"Composite!B477","v":0},{"$f":"Composite!F477","v":0},{"$f":"Composite!AT477","v":0},{"$f":"Composite!G477","v":0}]
[444,{"$f":"Composite!B478","v":0},{"$f":"Composite!F478","v":0},{"$f":"Composite!AT478","v":0},{"$f":"Composite!G478","v":0}]
[445,{"$f":"Composite!B479","v":0},{"$f":"Composite!F479","v":0},{"$f":"Composite!AT479","v":0},{"$f":"Composite!G479","v":0}]
[446,{"$f":"Composite!B480","v":0},{"$f":"Composite!F480","v":0},{"$f":"Composite!AT480","v":0},{"$f":"Composite!G480","v":0}]
[447,{"$f":"Composite!B481","v":0},{"$f":"Composite!F481","v":0},{"$f":"Composite!AT481","v":0},{"$f":"Composite!G481","v":0}]
[448,{"$f":"Composite!B482","v":0},{"$f":"Composite!F482","v":0},{"$f":"Composite!AT482","v":0},{"$f":"Composite!G482","v":0}]
[449,{"$f":"Composite!B483","v":0},{"$f":"Composite!F483","v":0},{"$f":"Composite!AT483","v":0},{"$f":"Composite!G483","v":0}]
[450,{"$f":"Composite!B484","v":0},{"$f":"Composite!F484","v":0},{"$f":"Composite!AT484","v":0},{"$f":"Composite!G484","v":0}]
[451,{"$f":"Composite!B485","v":0},{"$f":"Composite!F485","v":0},{"$f":"Composite!AT485","v":0},{"$f":"Composite!G485","v":0}]
[452,{"$f":"Composite!B486","v":0},{"$f":"Composite!F486","v":0},{"$f":"Composite!AT486","v":0},{"$f":"Composite!G486","v":0}]
[453,{"$f":"Composite!B487","v":0},{"$f":"Composite!F487","v":0},{"$f":"Composite!AT487","v":0},{"$f":"Composite!G487","v":0}]
[454,{"$f":"Composite!B488","v":0},{"$f":"Composite!F488","v":0},{"$f":"Composite!AT488","v":0},{"$f":"Composite!G488","v":0}]
[455,{"$f":"Composite!B489","v":0},{"$f":"Composite!F489","v":0},{"$f":"Composite!AT489","v":0},{"$f":"Composite!G489","v":0}]
[456,{"$f":"Composite!B490","v":0},{"$f":"Composite!F490","v":0},{"$f":"Composite!AT490","v":0},{"$f":"Composite!G490","v":0}]
[457,{"$f":"Composite!B491","v":0},{"$f":"Composite!F491","v":0},{"$f":"Composite!AT491","v":0},{"$f":"Composite!G491","v":0}]
[458,{"$f":"Composite!B492","v":0},{"$f":"Composite!F492","v":0},{"$f":"Composite!AT492","v":0},{"$f":"Composite!G492","v":0}]
[459,{"$f":"Composite!B493","v":0},{"$f":"Composite!F493","v":0},{"$f":"Composite!AT493","v":0},{"$f":"Composite!G493","v":0}]
[460,{"$f":"Composite!B494","v":0},{"$f":"Composite!F494","v":0},{"$f":"Composite!AT494","v":0},{"$f":"Composite!G494","v":0}]
[461,{"$f":"Composite!B495","v":0},{"$f":"Composite!F495","v":0},{"$f":"Composite!AT495","v":0},{"$f":"Composite!G495","v":0}]
[462,{"$f":"Composite!B496","v":0},{"$f":"Composite!F496","v":0},{"$f":"Composite!AT496","v":0},{"$f":"Composite!G496","v":0}]
[463,{"$f":"Composite!B497","v":0},{"$f":"Composite!F497","v":0},{"$f":"Composite!AT497","v":0},{"$f":"Composite!G497","v":0}]
[464,{"$f":"Composite!B498","v":0},{"$f":"Composite!F498","v":0},{"$f":"Composite!AT498","v":0},{"$f":"Composite!G498","v":0}]
[465,{"$f":"Composite!B499","v":0},{"$f":"Composite!F499","v":0},{"$f":"Composite!AT499","v":0},{"$f":"Composite!G499","v":0}]
[466,{"$f":"Composite!B500","v":0},{"$f":"Composite!F500","v":0},{"$f":"Composite!AT500","v":0},{"$f":"Composite!G500","v":0}]
[467,{"$f":"Composite!B501","v":0},{"$f":"Composite!F501","v":0},{"$f":"Composite!AT501","v":0},{"$f":"Composite!G501","v":0}]
[468,{"$f":"Composite!B502","v":0},{"$f":"Composite!F502","v":0},{"$f":"Composite!AT502","v":0},{"$f":"Composite!G502","v":0}]
[469,{"$f":"Composite!B503","v":0},{"$f":"Composite!F503","v":0},{"$f":"Composite!AT503","v":0},{"$f":"Composite!G503","v":0}]
[470,{"$f":"Composite!B504","v":0},{"$f":"Composite!F504","v":0},{"$f":"Composite!AT504","v":0},{"$f":"Composite!G504","v":0}]
[471,{"$f":"Composite!B505","v":0},{"$f":"Composite!F505","v":0},{"$f":"Composite!AT505","v":0},{"$f":"Composite!G505","v":0}]
[472,{"$f":"Composite!B506","v":0},{"$f":"Composite!F506","v":0},{"$f":"Composite!AT506","v":0},{"$f":"Composite!G506","v":0}]
[473,{"$f":"Composite!B507","v":0},{"$f":"Composite!F507","v":0},{"$f":"Composite!AT507","v":0},{"$f":"Composite!G507","v":0}]
[474,{"$f":"Composite!B508","v":0},{"$f":"Composite!F508","v":0},{"$f":"Composite!AT508","v":0},{"$f":"Composite!G508","v":0}]
[475,{"$f":"Composite!B509","v":0},{"$f":"Composite!F509","v":0},{"$f":"Composite!AT509","v":0},{"$f":"Composite!G509","v":0}]
[476,{"$f":"Composite!B510","v":0},{"$f":"Composite!F510","v":0},{"$f":"Composite!AT510","v":0},{"$f":"Composite!G510","v":0}]
[477,{"$f":"Composite!B511","v":0},{"$f":"Composite!F511","v":0},{"$f":"Composite!AT511","v":0},{"$f":"Composite!G511","v":0}]
[478,{"$f":"Composite!B512","v":0},{"$f":"Composite!F512","v":0},{"$f":"Composite!AT512","v":0},{"$f":"Composite!G512","v":0}]
[479,{"$f":"Composite!B513","v":0},{"$f":"Composite!F513","v":0},{"$f":"Composite!AT513","v":0},{"$f":"Composite!G513","v":0}]
[480,{"$f":"Composite!B514","v":0},{"$f":"Composite!F514","v":0},{"$f":"Composite!AT514","v":0},{"$f":"Composite!G514","v":0}]
[481,{"$f":"Composite!B515","v":0},{"$f":"Composite!F515","v":0},{"$f":"Composite!AT515","v":0},{"$f":"Composite!G515","v":0}]
[482,{"$f":"Composite!B516","v":0},{"$f":"Composite!F516","v":0},{"$f":"Composite!AT516","v":0},{"$f":"Composite!G516","v":0}]
[483,{"$f":"Composite!B517","v":0},{"$f":"Composite!F517","v":0},{"$f":"Composite!AT517","v":0},{"$f":"Composite!G517","v":0}]
[484,{"$f":"Composite!B518","v":0},{"$f":"Composite!F518","v":0},{"$f":"Composite!AT518","v":0},{"$f":"Composite!G518","v":0}]
[485,{"$f":"Composite!B519","v":0},{"$f":"Composite!F519","v":0},{"$f":"Composite!AT519","v":0},{"$f":"Composite!G519","v":0}]
[486,{"$f":"Composite!B520","v":0},{"$f":"Composite!F520","v":0},{"$f":"Composite!AT520","v":0},{"$f":"Composite!G520","v":0}]
[487,{"$f":"Composite!B521","v":0},{"$f":"Composite!F521","v":0},{"$f":"Composite!AT521","v":0},{"$f":"Composite!G521","v":0}]
[488,{"$f":"Composite!B522","v":0},{"$f":"Composite!F522","v":0},{"$f":"Composite!AT522","v":0},{"$f":"Composite!G522","v":0}]
[489,{"$f":"Composite!B523","v":0},{"$f":"Composite!F523","v":0},{"$f":"Composite!AT523","v":0},{"$f":"Composite!G523","v":0}]
[490,{"$f":"Composite!B524","v":0},{"$f":"Composite!F524","v":0},{"$f":"Composite!AT524","v":0},{"$f":"Composite!G524","v":0}]
[491,{"$f":"Composite!B525","v":0},{"$f":"Composite!F525","v":0},{"$f":"Composite!AT525","v":0},{"$f":"Composite!G525","v":0}]
[492,{"$f":"Composite!B526","v":0},{"$f":"Composite!F526","v":0},{"$f":"Composite!AT526","v":0},{"$f":"Composite!G526","v":0}]
[493,{"$f":"Composite!B527","v":0},{"$f":"Composite!F527","v":0},{"$f":"Composite!AT527","v":0},{"$f":"Composite!G527","v":0}]
[494,{"$f":"Composite!B528","v":0},{"$f":"Composite!F528","v":0},{"$f":"Composite!AT528","v":0},{"$f":"Composite!G528","v":0}]
[495,{"$f":"Composite!B529","v":0},{"$f":"Composite!F529","v":0},{"$f":"Composite!AT529","v":0},{"$f":"Composite!G529","v":0}]
[496,{"$f":"Composite!B530","v":0},{"$f":"Composite!F530","v":0},{"$f":"Composite!AT530","v":0},{"$f":"Composite!G530","v":0}]
[497,{"$f":"Composite!B531","v":0},{"$f":"Composite!F531","v":0},{"$f":"Composite!AT531","v":0},{"$f":"Composite!G531","v":0}]
[498,{"$f":"Composite!B532","v":0},{"$f":"Composite!F532","v":0},{"$f":"Composite!AT532","v":0},{"$f":"Composite!G532","v":0}]
[499,{"$f":"Composite!B533","v":0},{"$f":"Composite!F533","v":0},{"$f":"Composite!AT533","v":0},{"$f":"Composite!G533","v":0}]
[500,{"$f":"Composite!B534","v":0},{"$f":"Composite!F534","v":0},{"$f":"Composite!AT534","v":0},{"$f":"Composite!G534","v":0}]
[501,{"$f":"Composite!B535","v":0},{"$f":"Composite!F535","v":0},{"$f":"Composite!AT535","v":0},{"$f":"Composite!G535","v":0}]
[502,{"$f":"Composite!B536","v":0},{"$f":"Composite!F536","v":0},{"$f":"Composite!AT536","v":0},{"$f":"Composite!G536","v":0}]
[503,{"$f":"Composite!B537","v":0},{"$f":"Composite!F537","v":0},{"$f":"Composite!AT537","v":0},{"$f":"Composite!G537","v":0}]
[504,{"$f":"Composite!B276","v":"NIM1 (NIM1K)"},{"$f":"Composite!F276","v":"NIM1"},{"$f":"Composite!AT276","v":-0.60952865750103058},{"$f":"Composite!G276","v":"CAMK"}]
[505,{"$f":"Composite!B99","v":"CSNK1A1 (CK1A1, CK1α)"},{"$f":"Composite!F99","v":"CK1A1"},{"$f":"Composite!AT99","v":-0.71619581706036683},{"$f":"Composite!G99","v":"CK1"}]
[506,{"$f":"Composite!B229","v":"MAPK11 (p38b)"},{"$f":"Composite!F229","v":"P38B"},{"$f":"Composite!AT229","v":-1.4237350169274521},{"$f":"Composite!G229","v":"CMGC"}]
[507,{"$f":"Composite!B348","v":"RAF1 [Y340E/Y341E]"},{"$f":"Composite!F348","v":"RAF1"},{"$f":"Composite!AT348","v":-1.830549520994353},{"$f":"Composite!G348","v":"TKL"}]
[508,{"$f":"Composite!B296","v":"PDK4 (PDHK4)"},{"$f":"Composite!F296","v":"PDHK4"},{"$f":"Composite!AT296","v":-1.8326399494444274},{"$f":"Composite!G296","v":"Atypical"}]
[509,{"$f":"Composite!B106","v":"CSNK2A1 (CK2A1, CK2α1)"},{"$f":"Composite!F106","v":"CK2A1"},{"$f":"Composite!AT106","v":-3.2908339076498976},{"$f":"Composite!G106","v":"Other"}]
[510,{"$f":"Composite!B378","v":"SRPK3 (MSSK1)"},{"$f":"Composite!F378","v":"MSSK1"},{"$f":"Composite!AT378","v":-4.2955571394630709},{"$f":"Composite!G378","v":"CMGC"}]
[511,{"$f":"Composite!B400","v":"TLK1"},{"$f":"Composite!F400","v":"TLK1"},{"$f":"Composite!AT400","v":-4.8909168686724769},{"$f":"Composite!G400","v":"Other"}]
[512,{"$f":"Composite!B293","v":"PDK1 (PDHK1)"},{"$f":"Composite!F293","v":"PDHK1"},{"$f":"Composite!AT293","v":-5.7190933995465087},{"$f":"Composite!G293","v":"Atypical"}]
[513,{"$f":"Composite!B304","v":"PKMYT1 (MYT1)"},{"$f":"Composite!F304","v":"MYT1"},{"$f":"Composite!AT304","v":-5.8815612382234121},{"$f":"Composite!G304","v":"Other"}]
[514,{"$f":"Composite!B88","v":"CDKL5"},{"$f":"Composite!F88","v":"CDKL5"},{"$f":"Composite!AT88","v":-7.296863977425744},{"$f":"Composite!G88","v":"CMGC"}]
[515,{"$f":"Composite!B31","v":"BCKDK"},{"$f":"Composite!F31","v":"BCKDK"},{"$f":"Composite!AT31","v":-14.766912219535499},{"$f":"Composite!G31","v":"Atypical"}]
[516,{"$f":"Composite!B102","v":"CSNK1E (CK1E, CK1ε)"},{"$f":"Composite!F102","v":"CK1E"},{"$f":"Composite!AT102","v":-17.385673972708659},{"$f":"Composite!G102","v":"CK1"}]
[517,{"$f":"Composite!B36","v":"BRAF (BRAF1, RAFB1)"},{"$f":"Composite!F36","v":"BRAF"},{"$f":"Composite!AT36","v":-18.06168413311272},{"$f":"Composite!G36","v":"TKL"}]
[518,{"$f":"Composite!B218","v":"MAP3K6 (ASK2)"},{"$f":"Composite!F218","v":"MAP3K6"},{"$f":"Composite!AT218","v":-19.110700620134565},{"$f":"Composite!G218","v":"STE"}]

{"sheet":"Compound 19 Kinome Tree","index":41,"n_rows":6,"n_cols":27,"rows_kept":6,"cut":false,"hidden":false,"merged":[[1,1,3,20]]}
[]
[null,{"$f":"Summary!AC28","v":"Kinome Hit View for Staurosporine (0.1 µM) with 396 Kinases (Coral Names) at  ATP Km "}]
[null,null,null,null,null,null,null,null,null,null,null,null,null,null,null,null,null,null,null,null,null,null,null,null,null,null,"Kinome Hit View for VVVVVVVVVVVVVVVVVVVVVVVVVVV (VVVVV µM) with VVV Kinases (Coral Names)"]
[null,null,null,null,null,null,null,null,null,null,null,null,null,null,null,null,null,null,null,null,null,null,null,null,null,null,{"$f":"REPLACE(AA3,65,3,Summary!E28)","v":"Kinome Hit View for VVVVVVVVVVVVVVVVVVVVVVVVVVV (VVVVV µM) with 396 Kinases (Coral Names)"}]
[null,null,null,null,null,null,null,null,null,null,null,null,null,null,null,null,null,null,null,null,null,null,null,null,null,null,{"$f":"REPLACE(AA4,50,5,Summary!D28)","v":"Kinome Hit View for VVVVVVVVVVVVVVVVVVVVVVVVVVV (0.1 µM) with 396 Kinases (Coral Names)"}]
[null,null,null,null,null,null,null,null,null,null,null,null,null,null,null,null,null,null,null,null,null,null,null,null,null,null,{"$f":"REPLACE(AA5,21,27,Summary!C28)","v":"Kinome Hit View for Staurosporine (0.1 µM) with 396 Kinases (Coral Names)"}]

{"sheet":"No Inhibitor Info","index":42,"n_rows":418,"n_cols":84,"rows_kept":418,"cut":false,"hidden":false,"merged":[[9,1,9,2],[10,1,10,2],[7,1,7,2],[8,1,8,2],[3,1,3,2],[4,1,4,2],[2,1,2,2],[5,1,5,2],[6,1,6,2],[2,4,2,5],[3,4,3,5],[4,4,4,5]]}
["No Inhibitor Control Info "]
[]
[null,"Key #1:",null,null,"Key #2:"]
[null,"Run 1",null,null,"ATP Km"]
[null,"Run 2",null,null,"1 mM ATP"]
[null,"Run 3"]
[null,"Run 4"]
[]
[]
[]
[]
[]
[null,"Excluded assays are highlighted in red"]
[]
["Recombinant Enzyme Name Complex, HGNC (Common) Name or [Form}","HGNC Name","Manning Name","Coral Name","AQT Common Name ","Group","Plate Number and Enzyme Location","ATP Km (µM)","Kinase target","Kinase source","Kinase target\nconc. (nM)","Rate average\n(RFU/pmol/min)","Rate SEM\n(RFU/pmol/min)","Assay strength","Rate variability\nfactor (%)","Data point variability factor (%)","R2 (average data)\nin linear range","Plus enzyme / no enzyme, first TP","Plus enzyme / no enzyme, last TP","Sensor substrate name","Sensor substrate conc. (µM)","[ATP] (µM)","First time point (min)","Last time point (min)","Total duration (min)","Rate n1\nRFU/min","Rate n2\nRFU/min","Kinase target","Kinase source","Kinase target\nconc. (nM)","Rate average\n(RFU/pmol/min)","Rate SEM\n(RFU/pmol/min)","Assay strength","Rate variability\nfactor (%)","Data point variability factor (%)","R2 (average data)\nin linear range","Plus enzyme / no enzyme, first TP","Plus enzyme / no enzyme, last TP","Sensor substrate name","Sensor substrate conc. (µM)","[ATP] (µM)","First time point (min)","Last time point (min)","Total duration (min)","Rate n1\nRFU/min","Rate n2\nRFU/min","Kinase target","Kinase source","Kinase target\nconc. (nM)","Rate average\n(RFU/pmol/min)","Rate SEM\n(RFU/pmol/min)","Assay strength","Rate variability\nfactor (%)","Data point variability factor (%)","R2 (average data)\nin linear range","Plus enzyme / no enzyme, first TP","Plus enzyme / no enzyme, last TP","Sensor substrate name","Sensor substrate conc. (µM)","[ATP] (µM)","First time point (min)","Last time point (min)","Total duration (min)","Rate n1\nRFU/min","Rate n2\nRFU/min","Kinase target","Kinase source","Kinase target\nconc. (nM)","Rate average\n(RFU/pmol/min)","Rate SEM\n(RFU/pmol/min)","Assay strength","Rate variability\nfactor (%)","Data point variability factor (%)","R2 (average data)\nin linear range","Plus enzyme / no enzyme, first TP","Plus enzyme / no enzyme, last TP","Sensor substrate name","Sensor substrate conc. (µM)","[ATP] (µM)","First time point (min)","Last time point (min)","Total duration (min)","Rate n1\nRFU/min","Rate n2\nRFU/min"]
["AAK1","AAK1","AAK1","AAK1","AAK1","Other","08_11",17.41,"AAK1","INVT",110,2.1717215711118154,2.2271935381692271E-2,"VW",1.0255428540174294,4.4284367521574124,0.98278853043623327,1.0042764519244034,1.1458092485549134,"AQT0759",15,17.41,30,110,80,4.7287891986062691,4.8267857142857151,"AAK1","INVT",110,5.4854490022172948,0.16520826734241298,"VW",3.0117546854529778,0.91163534586165529,0.99567415415781069,1.0255193639394717,1.4203417861080485,"AQT0759",15,1000,40,120,80,11.704529616724736,12.431445993031353,"AAK1","INVT",110,4.3207119457119454,5.4522054522054816E-2,"VW",1.2618766353115665,1.0542962572482868,0.9943401267172024,1.0267857142857142,1.3188235294117647,"AQT0759",15,1000,20,90,70,9.3856177606177607,9.6255148005148019,"AAK1","INVT",110,2.611266511266511,0.2163558663558664,"VW",8.2854762400690358,3.5057551937113978,0.96125241753486868,1.0111436133166178,1.1619864026012414,"AQT0759",15,17.41,40,90,50,5.2688034188034196,6.2207692307692319]
["ABL1","ABL1","ABL1","ABL1","ABL1","TK","01_01",55.4,"ABL1","Carna",0.5,5064.1586674195369,107.79220779220786,"VS",2.1285314081032505,4.3290984173401039,0.99889461104682042,0.97030393622321875,1.4957439931041914,"AQT0032",15,55.4,8,50,42,51.719508752117449,49.563664596273291,"ABL1","Carna",0.5,4716.8214654282765,172.80701754385956,"VS",3.6636327834419968,6.0042909376605325,0.99919363054038524,0.98853674983142281,1.5288364734646915,"AQT0032",15,1000,6,40,34,48.89628482972136,45.440144478844168,"ABL1","Carna",0.5,6005.8088235294117,114.33823529411774,"VS",1.9037941208878675,1.5867463749682016,0.99958556477060345,1,1.5434061376831627,"AQT0032",15,1000,4,34,30,61.201470588235296,58.914705882352941,"ABL1","Carna",0.5,4395.2797202797201,49.038461538461668,"VS",1.1157074102064388,7.9594938788924496,0.99914624014988296,0.9823830270884637,1.4149534622072211,"AQT0032",15,55.4,28,50,22,44.44318181818182,43.462412587412587]
["ABL2 (ARG)","ABL2","ARG","ABL2","ABL2","TK","01_02",53.32,"ABL2","SC",0.125,20077.696078431374,94.607843137255529,"VS",0.47120866242660564,2.9747866607421587,0.9984837357327041,0.99969394001224243,1.5753928452022734,"AQT0032",15,53.32,24,56,32,49.957720588235297,50.430759803921575,"ABL2","SC",0.125,19750.069686411145,647.14285714285745,"VS",3.2766611329382709,0.98494387375605863,0.99955722539496128,1.0300065231572082,2.4063069376313946,"AQT0032",15,1000,20,100,80,50.99303135888502,47.757317073170732,"ABL2","SC",0.125,28831.78571428571,1172.142857142856,"VS",4.0654535544847539,3.5641438539989267,0.99966435164652789,1.0106979113601631,1.5984306167400879,"AQT0032",15,1000,2,30,28,75.009821428571428,69.149107142857147,"ABL2","SC",0.125,12775.980392156864,180.6372549019606,"VS",1.4138817480719779,4.8477939049498886,0.99620916788073444,0.99863685932388224,1.677378269814833,"AQT0032",15,53.32,88,120,32,31.488357843137255,32.391544117647058]
["AKT1 (PKB)","AKT1","AKT1","AKT1","AKT1","AGC","08_01",25.6,"AKT1","Carna",1.5,1609.5346320346318,8.2251082251084746,"VS",0.51102399795591957,1.0376167214966936,0.99980140100659742,0.9883077895402117,1.9474380165289256,"AQT0536",15,25.6,22,62,40,48.53279220779222,48.039285714285711,"AKT1","Carna",1.5,2535.2766798418975,17.640692640692635,"VS",0.69580936790665104,0.4107656196429042,0.99903585978523135,1.014977973568282,1.9014121338912133,"AQT0536",15,1000,4,46,42,75.529079616036142,76.5875211744777,"AKT1","Carna",1.5,3797.4358974358975,82.109557109557102,"VS",2.1622368178749003,1.0625154435384234,0.9995826211723543,1.0103718694662283,1.6941978644024187,"AQT0536",15,1000,2,24,22,111.45979020979021,116.38636363636364,"AKT1","Carna",1.5,1850.869963369963,13.186813186813019,"VS",0.71246567548177131,1.818920841377909,0.99897091353684808,0.9668190725016329,1.7067217924779943,"AQT0536",15,25.6,30,54,24,55.130494505494518,55.921703296703299]
["AKT2 (PKBb)","AKT2","AKT2","AKT2","AKT2","AGC","08_02",45.47,"AKT2","Carna",1.5,1870.4212454212457,13.644688644688685,"VS",0.72949816401469003,0.38139068260173736,0.99582396434773179,0.83660212367270459,2.2368454743310715,"AQT0536",15,45.47,88,112,24,55.703296703296701,56.521978021978022,"AKT2","Carna",1.5,2291.4285714285716,38.779761904762232,"VS",1.692383624272666,0.92875122001335586,0.99952092791617719,1.0054728267786688,1.8628989361702128,"AQT0536",15,1000,22,50,28,69.90625,67.579464285714266,"AKT2","Carna",1.5,4141.2587412587418,19.871794871794886,"VS",0.47984915006191636,0.63942866633449591,0.99937856983475293,1.0214933532115791,1.7768029931621725,"AQT0536",15,1000,2,24,22,124.83391608391608,123.64160839160839,"AKT2","Carna",1.5,1226.6544117647059,14.742647058823504,"VS",1.2018582346770548,0.69515414750468407,0.99699928760489642,0.98650436623445359,1.8074542703892176,"AQT0536",15,45.47,68,98,30,36.357352941176472,37.241911764705883]
["AKT3 (PKBg)","AKT3","AKT3","AKT3","AKT3","AGC","08_03",24.17,"AKT3","Carna",1,3773.8392857142853,38.839285714286113,"VS",1.0291716942295515,0.36578171091445427,0.99908222177160211,1.0012035303557101,2.0778035154653223,"AQT0536",15,24.17,28,56,28,74.699999999999989,76.253571428571433,"AKT3","Carna",1,6617.348484848485,3.2575757575756366,"VS",4.922781027830702E-2,0.45993171319542075,0.99898879054411815,1.0253132514871535,1.6494065475414112,"AQT0536",15,1000,0,18,18,132.28181818181818,132.41212121212121,"AKT3","Carna",1,8200.8333333333339,266.2121212121221,"VS",3.2461593888278273,1.2706561848227178,0.99791355227363632,1.0356826521574085,1.8146647497059207,"AQT0536",15,1000,0,18,18,169.34090909090912,158.69242424242424,"AKT3","Carna",1,3990.3571428571431,6.9196428571430602,"VS",0.1734091112503407,1.2261458890672374,0.99905678262649866,0.84728434504792327,1.9884966283220944,"AQT0536",15,24.17,30,58,28,79.668749999999989,79.945535714285711]
["ALK","ALK","ALK","ALK","ALK","TK","01_03",75.8,"ALK","Carna",2,1794.8988970588234,40.781249999999851,"VS",2.2720639065980408,3.8889131574349118,0.99925464141733678,0.98212096444626074,1.5990161189030774,"AQT0101",15,75.8,20,50,30,73.427205882352936,70.164705882352948,"ALK","Carna",2,2273.4821428571427,34.575892857142769,"VS",1.5208341515139576,4.6914002393571543,0.99952803106775345,0.99479708636836628,1.689171674325439,"AQT0101",15,1000,8,36,28,92.322321428571428,89.556250000000006,"ALK","Carna",2,2747.1153846153848,17.754120879120979,"VS",0.64628231411570947,2.0180841305202466,0.99960541690937676,1.0016480282519129,1.7772026961964373,"AQT0101",15,1000,8,32,24,110.59478021978023,109.17445054945055,"ALK","Carna",2,2023.0082417582416,27.9876373626374,"VS",1.3834663045323394,4.3796124823792812,0.99946550645511223,1.0060203073052385,1.5079857625262389,"AQT0101",15,75.8,18,42,24,82.039835164835182,79.800824175824189]
["PRKAA1-B1-G1 (AMPKα1β1γ1)","PRKAA1-B1-G1","AMPKa1","AMPKa1","AMPK111","CAMK","28_07",38.35,"AMPK111","Carna",1,1317.9263191763193,120.79472329472328,"VS",9.1655141518243486,3.8624594166733752,0.99624205028471147,1.0259631490787269,1.2742202503145488,"AQT0426",15,38.35,10,80,70,23.942631917631918,28.774420849420849,"AMPK111","Carna",1,1663.9919354838714,3.515335801163388,"VS",0.21125918498764631,0.49186400263946772,0.99868415258726684,1.0044231918708906,2.0111111111111111,"AQT0426",15,1000,0,120,120,33.350145425700696,33.20953199365416,"AMPK111","Carna",1,3847.0403532938985,118.75050644194117,"VS",3.086801684839751,1.5928122192273135,0.995997359653922,1.0254204448577851,2.068893191352049,"AQT0426",15,1000,0,82,82,74.565796937039138,79.315817194716786,"AMPK111","Carna",1,484.95225362872424,40.521390374331553,"S",8.355748441444387,2.8867713004484306,0.99394250606131818,1.0147439504783342,1.212027573092465,"AQT0426",15,38.35,24,90,66,8.8886172650878539,10.509472880061116]
["PRKAA1-B1-G2 (AMPKα1β1γ2)","PRKAA1-B1-G2","AMPKa1","AMPKa1","AMPK112","CAMK","34_03",18,"AMPK112","SC",0.3,2002.0329301075267,"NA","VS","NA","NA",0.9860480970181269,0.98268271206339886,1.1832865701069235,"AQT0426",15,18,60,120,60,"",12.012197580645159,"AMPK112","SC",0.3,12235.810708898945,114.13273001508156,"VS",0.93277619873666662,0.5150424404400753,0.9974473042176929,1.0151135836810385,2.5390533696922475,"AQT0426",15,1000,0,100,100,72.73006787330317,74.099660633484149,"AMPK112","SC",0.3,18638.83928571429,275.89285714285694,"VS",1.4802040669684544,1.4058111903218837,0.99936521303040327,0.99243593701759802,1.986100015976993,"AQT0426",15,1000,42,70,28,110.17767857142857,113.48839285714286,"AMPK112","SC",0.3,1609.7282608695655,96.902173913043427,"VS",6.0197845977244295,9.1828287606433303,0.96726026920756525,1.0128413398313607,1.1670617986407459,"AQT0426",15,18,60,106,46,10.239782608695652,9.076956521739131]
["PRKAA1-B1-G3 (AMPKα1β1γ3)","PRKAA1-B1-G3","AMPKa1","AMPKa1","AMPK113","CAMK","34_04",39,"AMPK113","SC",1,493.99231283422438,13.899565508021405,"S",2.8137210128380823,-30.7561278893488,0.98959984507038434,0.75493126120741183,0.87836729112539313,"AQT0426",15,39,56,120,64,10.15783756684492,9.6018549465240639,"AMPK113","SC",1,1745.1346153846152,41.413461538461149,"VS",2.3730812037863291,1.416275640166242,0.9979007409781776,0.9773696902244482,1.7178327398710422,"AQT0426",15,1000,72,120,48,34.07442307692309,35.730961538461536,"AMPK113","SC",1,2230.8935629587804,47.254376058723928,"VS",2.1181815593233226,0.64252923633682946,0.99913600966422278,0.99512195121951219,1.4357183008110495,"AQT0426",15,1000,32,74,42,43.672783738001129,45.562958780350087,"AMPK113","SC",1,310.96014492753619,18.483201581027675,"S",5.9439133543415537,20.320413436692505,0.98570856333805079,0.99429320583018432,1.1019118344130194,"AQT0426",15,39,30,118,88,6.5888669301712781,5.8495388669301711]
["PRKAA1-B2-G1 (AMPKα1β2γ1)","PRKAA1-B2-G1","AMPKa1","AMPKa1","AMPK121","CAMK","28_08",85.483819675912699,"AMPK121","Carna",1,4104.772727272727,198.97727272727295,"VS",4.8474613808759264,10.719429242461171,0.99761879017515909,1.0011692107827217,1.2743013771894638,"AQT0426",15,85.483819675912699,6,26,20,78.115909090909085,86.075000000000003,"AMPK121","Carna",1,2089.0033936651585,6.233031674208255,"VS",0.29837345851661806,0.31529868783012982,0.99824243994371287,1.0348162475822051,2.122939474015352,"AQT0426",15,1000,0,100,100,41.655407239818999,41.904728506787329,"AMPK121","Carna",1,5167.0318825910936,90.832489878544109,"VS",1.7579239289112856,0.57024045701348836,0.99538384512233069,1.081769436997319,2.452408637873754,"AQT0426",15,1000,0,76,76,101.52398785425096,105.15728744939273,"AMPK121","Carna",1,1669.8863636363637,23.863636363636331,"VS",1.4290575025518866,3.8731687738310252,0.99765330286070908,1.0129017655047532,1.1929376234173539,"AQT0426",15,85.483819675912699,2,24,22,32.920454545454547,33.875]
["PRKAA1-B2-G2 (AMPKα1β2γ2)","PRKAA1-B2-G2","AMPKa1","AMPKa1","AMPK122","CAMK","34_05",23,"AMPK122","SC",0.4,775.35202569169951,33.288043478260974,"S",4.2932812935600921,26.749278923191966,0.96414692138526659,0.97578738295658751,1.0790137837313143,"AQT0426",15,23,74,118,44,6.4691205533596845,5.9365118577075089,"AMPK122","SC",0.4,6993.0130700778636,89.182424916573581,"VS",1.2753075680377726,3.954198473282442,0.99749348637675095,0.98454562280214697,1.6350591429125461,"AQT0426",15,1000,2,60,58,56.657563959955503,55.230645161290326,"AMPK122","SC",0.4,11359.048560135516,382.09345002823443,"VS",3.3637804082393674,0.72835176692743453,0.99878003972182428,0.9923629829290207,1.9423644554916888,"AQT0426",15,1000,38,80,42,87.815640880858254,93.929136081310006,"AMPK122","SC",0.4,965.19886363636363,8.430088932806223,"S",0.87340435742392664,18.692104537033387,0.94760463310166543,0.99233422767343815,1.086939386773863,"AQT0426",15,23,50,94,44,7.7890316205533594,7.6541501976284598]
["PRKAA1-B2-G3 (AMPKα1β2γ3)","PRKAA1-B2-G3","AMPKa1","AMPKa1","AMPK123","CAMK","34_06",58,"AMPK123","SC",0.5,674.42645698427384,53.205365402405121,"S",7.8889795694426255,2.3803474449772923,0.98883941497433558,1.001987281399046,1.1398651409889662,"AQT0426",15,58,30,120,90,6.2122109158186873,7.2763182238667898,"AMPK123","SC",0.5,3394.547511312217,24.389140271492948,"VS",0.7184798619025643,2.2124423029513061,0.99935758668069175,1.0059066191636978,1.7835544284042137,"AQT0426",15,1000,20,120,100,33.701583710407242,34.189366515837101,"AMPK123","SC",0.5,5610.681818181818,56.136363636362667,"VS",1.0005265929436373,4.8255441741357226,0.99771651404529915,0.99309507549889975,1.4478788834568679,"AQT0426",15,1000,44,64,20,55.545454545454554,56.668181818181807,"AMPK123","SC",0.5,1227.9145299145296,57.307692307692285,"VS",4.6670750212297962,12.291787160208212,0.98310060412529632,1.0159124427540169,1.2118509079324626,"AQT0426",15,58,60,110,50,11.706068376068377,12.852222222222222]
["PRKAA2-B1-G1 (AMPKα2β1γ1)","PRKAA2-B1-G1","AMPKa2","AMPKa2","AMPK211","CAMK","28_09",81.772760497071062,"AMPK211","Carna",1,2217.4535603715171,36.506707946336363,"VS",1.6463347237008177,11.935565702688992,0.99328739594499482,0.97969884377520844,1.1819440598172251,"AQT0426",15,81.772760497071062,0,34,34,45.079205366357073,43.618937048503618,"AMPK211","Carna",1,1565.2296380090497,39.488687782805336,"VS",2.5228686464840009,0.69624024220207914,0.99903147231745049,1.0102376599634368,1.8339336249035245,"AQT0426",15,1000,0,100,100,30.514819004524888,32.094366515837102,"AMPK211","Carna",1,3864.5247548821003,132.74349728547105,"VS",3.4349242327345584,1.8752786735656735,0.9970309785452931,1.0627605001603078,2.1643847194050032,"AQT0426",15,1000,0,82,82,74.635625151932572,79.945365043351416,"AMPK211","Carna",1,965.60439560439556,41.75824175824178,"S",4.3245703880732931,6.8577763699714911,0.995392831645312,1.0036730945821855,1.2168269230769231,"AQT0426",15,81.772760497071062,20,46,26,18.476923076923075,20.147252747252747]
["PRKAA2-B1-G2 (AMPKα2β1γ2)","PRKAA2-B1-G2","AMPKa2","AMPKa2","AMPK212","CAMK","34_07",30,"AMPK212","SC",0.4,1748.7012987012986,38.474025974026048,"VS",2.2001485332343154,5.0798898071625338,0.97701393430433081,1.0008388088913742,1.2192187839698527,"AQT0426",15,30,80,120,40,13.681818181818183,14.2974025974026,"AMPK212","SC",0.4,3824.4125939849632,15.859962406014725,"VS",0.41470322608390309,1.4029118531413201,0.99296770935350442,0.96024192831094901,1.5835257179794997,"AQT0426",15,1000,82,120,38,30.46842105263158,30.722180451127816,"AMPK212","SC",0.4,9611.5131578947367,45.614035087718108,"VS",0.47457704461707467,0.35318261185060884,0.99863783570542897,1.0159829515183805,1.7332754126846219,"AQT0426",15,1000,38,74,36,76.527192982456143,77.257017543859632,"AMPK212","SC",0.4,1012.0518068887634,47.677865612648191,"VS",4.7110103739865714,28.478248209189914,0.97494886607668396,1.0160502442428472,1.1249899911922492,"AQT0426",15,30,50,92,42,7.7149915302089216,8.4778373800112927]
["PRKAA2-B1-G3 (AMPKα2β1γ3)","PRKAA2-B1-G3","AMPKa2","AMPKa2","AMPK213","CAMK","34_08",53,"AMPK213","SC",1,703.6239919354839,8.7752016129032366,"S",1.247143604180547,3.5420157160723975,0.99148714356277035,0.9841787868038312,1.2028340381333926,"AQT0426",15,53,60,120,60,13.896975806451612,14.247983870967742,"AMPK213","SC",1,1962.8477822580646,45.030241935483765,"VS",2.2941280695582451,6.0055128935053386,0.99732299408400527,0.99894877675840976,1.9163708086785012,"AQT0426",15,1000,60,120,60,40.157560483870967,38.356350806451616,"AMPK213","SC",1,3304.4143356643353,117.48251748251749,"VS",3.5553204153164479,1.7269773445497842,0.99863003958913366,1.0039251904871853,1.5997437334828222,"AQT0426",15,1000,48,70,22,63.738636363636367,68.437937062937067,"AMPK213","SC",1,509.45197044334975,12.370689655172425,"S",2.4282347253278562,5.7569329390087169,0.98833433278825034,1.0192444761225945,1.181071631839987,"AQT0426",15,53,64,120,56,10.436453201970444,9.941625615763547]
["PRKAA2-B2-G1 (AMPKα2β2γ1)","PRKAA2-B2-G1","AMPKa2","AMPKa2","AMPK221","CAMK","28_10",37.32,"AMPK221","Carna",1,1713.0808440018966,97.804054054053836,"VS",5.7092491808836989,8.0408766975931165,0.99811757734895379,1.0072497818352688,1.4076223776223777,"AQT0426",15,37.32,18,90,72,32.305535798956861,36.217697961119015,"AMPK221","Carna",1,1582.7522624434391,29.747737556560949,"VS",1.8794942368704406,0.62362050239988787,0.998505566544583,1.0137440176708798,1.8720945331775094,"AQT0426",15,1000,0,100,100,31.060090497737562,32.25,"AMPK221","Carna",1,4523.0933362512305,120.78728526096964,"VS",2.6704575006864424,3.5680137061773767,0.99596445176124504,1.0588743229452862,2.231966053748232,"AQT0426",15,1000,0,74,74,88.046121019805227,92.877612430244014,"AMPK221","Carna",1,775.86397058823525,25.753676470588214,"S",3.3193546094249746,4.6475563909774431,0.99183339725659581,0.96733835252435785,1.1544536058529786,"AQT0426",15,37.32,26,56,30,16.03235294117647,15.002205882352941]
["PRKAA2-B2-G2 (AMPKα2β2γ2)","PRKAA2-B2-G2","AMPKa2","AMPKa2","AMPK222","CAMK","34_09",27,"AMPK222","SC",0.8,897.83926545660813,0.70015598411787827,"S",7.7982330585843182E-2,6.4475859788359795,0.99632102188758354,0.98681640625,1.2110199296600235,"AQT0426",15,27,38,120,82,14.354225751559841,14.376630743051614,"AMPK222","SC",0.8,2862.1849798387098,31.13659274193536,"VS",1.0878609510308441,0.719569238866543,0.99901508568213793,1.1210366694237661,2.1950869814567007,"AQT0426",15,1000,60,120,60,45.296774193548394,46.293145161290326,"AMPK222","SC",0.8,5564.3028846153838,48.592032967033283,"VS",0.87328159474180134,0.40060442070492319,0.99891818353069772,1.007357268981754,1.6717814945527083,"AQT0426",15,1000,36,60,24,88.251373626373621,89.806318681318686,"AMPK222","SC",0.8,592.89148351648362,14.537545787545847,"S",2.4519741287769183,6.3511409032432802,0.98029338197617744,1.0152866242038217,1.1792120566794988,"AQT0426",15,27,68,120,52,9.718864468864469,9.2536630036630019]
["PRKAA2-B2-G3 (AMPKα2β2γ3)","PRKAA2-B2-G3","AMPKa2","AMPKa2","AMPK223","CAMK","34_10",74,"AMPK223","SC",2,405.388655462185,12.244397759103663,"S",3.0204095734114178,1.3884482597741905,0.99410265822554211,0.97945108077360632,1.2266469282013324,"AQT0426",15,74,52,120,68,15.725770308123248,16.705322128851542,"AMPK223","SC",2,994.68206521739137,9.1630434782609349,"S",0.92120324661310937,4.3278297348266177,0.99803145253604741,1.0111912689604143,1.8327083934237094,"AQT0426",15,1000,70,116,46,40.153804347826089,39.420760869565214,"AMPK223","SC",2,1592.7447552447552,4.698426573426584,"VS",0.2949892980626756,1.0485034678583065,0.99773030109134397,1.0235769372016159,1.5467664350614645,"AQT0426",15,1000,48,70,22,63.521853146853147,63.897727272727273,"AMPK223","SC",2,314.65598290598291,5.9209401709401801,"S",1.8817186046353733,3.6572438162544172,0.98333679979389088,1.0141065830721003,1.2276932979322552,"AQT0426",15,74,70,120,50,12.823076923076924,12.349401709401709]
["AURKA (AURA)","AURKA","AurA","AurA","AURA","Other","08_04",21.62,"AURA","Carna",3,1017.8021978021976,8.8644688644688916,"VS",0.87094220110847476,0.73039742212674541,0.99878951064073684,1.0093005952380953,1.4209393594125839,"AQT0186",15,21.62,2,28,26,60.536263736263734,61.6,"AURA","Carna",3,1154.5853758169933,0.55147058823538453,"VS",4.7763517517720143E-2,1.8698789287024582,0.99950324985385974,1.0181934657270981,1.6409914712153517,"AQT0186",15,1000,2,34,32,69.242034313725483,69.308210784313729,"AURA","Carna",3,1428.9015151515152,28.52272727272738,"VS",1.9961296821567818,1.5644479209953801,0.99861147627593672,1.0078295469131049,1.4968603874415498,"AQT0186",15,1000,2,22,20,84.022727272727266,87.445454545454552,"AURA","Carna",3,890.70512820512829,65.943223443223431,"S",7.4034853236004716,2.1716024928740514,0.99791843304844008,0.98007870142646336,1.3798330122029543,"AQT0186",15,21.62,4,30,26,49.485714285714288,57.398901098901099]
["AURKB (AURB)","AURKB","AurB","AurB","AURB","Other","08_05",17.010000000000002,"AURB","Carna",3,471.02272727272731,12.272727272727332,"S",2.6055488540410257,3.1257456454306847,0.99227993613132492,0.96906334067009048,1.2902120096483434,"AQT0186",15,17.010000000000002,34,54,20,28.997727272727278,27.524999999999999,"AURB","Carna",3,899.73770209838324,1.9822841417268457,"S",0.22031800346964783,2.3848178486212581,0.99946729849599403,0.99846311475409832,1.6046854082998663,"AQT0186",15,1000,12,46,34,53.865325077399383,54.103199174406605,"AURB","Carna",3,974.79797979797979,39.015151515151494,"S",4.0023832962022672,1.2322431450280806,0.99815347478228356,1.00390625,1.4009271523178808,"AQT0186",15,1000,12,30,18,56.146969696969698,60.828787878787878,"AURB","Carna",3,468.358860342556,6.4517457180500344,"S",1.377521867170667,3.5650179497407257,0.99706479088036692,0.99068855672629252,1.334355828220859,"AQT0186",15,17.010000000000002,8,52,44,28.48863636363636,27.714426877470355]
["AURKC (AURC)","AURKC","AurC","AurC","AURC","Other","08_06",60.27,"AURC","Carna",10,195.6334586466165,2.2819548872180557,"M",1.1664440750598173,0.89430894308943099,0.99729439981535761,0.9053714285714286,1.3332548003298386,"AQT0186",15,60.27,12,50,38,39.583082706766923,38.670300751879701,"AURC","Carna",10,343.67279411764702,12.547794117647086,"S",3.6510874100065345,2.9335461983636,0.999594247705895,1.0087369908775536,1.6707268103332886,"AQT0186",15,1000,8,38,30,66.224999999999994,71.244117647058829,"AURC","Carna",10,357.74509803921563,10.87009803921571,"S",3.0385036996437451,2.6602957319041778,0.99920800101852558,0.99503437738731859,1.6024335405369659,"AQT0186",15,1000,2,34,32,69.374999999999986,73.723039215686271,"AURC","Carna",10,221.42410714285711,"NA","M","NA","NA",0.99731608321096166,0.98397476340694001,1.4162641952747683,"AQT0186",15,60.27,12,40,28,"",44.284821428571426]
["AXL","AXL","AXL","AXL","AXL","TK","01_04",46.96,"AXL","Carna",3,1286.8464052287582,33.690767973855998,"VS",2.6180877404609069,4.2855008218359316,0.9994752064279937,0.99840510366826152,1.6035363859362226,"AQT0101",15,46.96,8,40,32,79.23223039215685,75.18933823529413,"AXL","Carna",3,1662.877859477124,"NA","VS","NA","NA",0.98152262999307238,1.0745289011221681,4.1712151680551566,"AQT0101",15,1000,0,32,32,99.772671568627445,"","AXL","Carna",3,1902.8388278388279,2.6465201465202406,"VS",0.13908272775398733,2.5319026908187161,0.99962595698800816,1.0131135707410972,1.7308068459657702,"AQT0101",15,1000,0,26,26,114.01153846153845,114.32912087912088,"AXL","Carna",3,1216.5646853146854,9.7756410256411161,"VS",0.80354469792228744,8.6006480356419619,0.99853397153047985,1.0202450719232818,1.3682985769265192,"AQT0101",15,46.96,6,28,22,73.580419580419587,72.407342657342653]
["BCKDK","BCKDK","BCKDK","BCKDK","BCKDK","Atypical","32_04",14.97,"BCKDK","SC",40,3.3666344916344917,6.6924066924066994E-2,"VW",1.9878625698857955,40.25306445235271,0.94697059403204242,1.0006861063464838,1.0655929038281982,"AQT0896",15,14.97,50,120,70,2.746846846846847,2.6397683397683398,"BCKDK","SC",40,26.900560224089627,8.096988795518234E-2,"VW",0.3009970323319634,0.63032913307918403,0.99841917679880221,1.0112303468929373,1.6391927083333333,"AQT0896",15,1000,52,120,68,21.455672268907566,21.585224089635858,"BCKDK","SC",40,2.9623235887096748,0.7488659274193562,"VW",25.279680122506342,24.704352671661198,0.95874976760984032,0.99814091838631713,1.1022571148184495,"AQT0896",15,1000,60,120,60,3.368951612903226,2.1707661290322577,"BCKDK","SC",40,2.1456322393822393,3.8248069498069415E-2,"VW",1.7826013608502465,60.846966598500337,0.84870129203028488,0.98948598130841126,1.0393197443010493,"AQT0896",15,14.97,40,110,70,1.7471042471042471,1.685907335907336]
["BCR RET (fusion)","RET","RET","RET","BCR RET","TK","32_11",5,"BCR RET","SC",2,930.54227941176464,26.498161764705852,"S",2.8476042788143348,7.0640756302521011,0.99618588215442583,0.98927933293627157,1.1772992008668564,"AQT0661",15,5,10,40,30,38.281617647058823,36.161764705882355,"BCR RET","SC",2,2344.7646103896095,64.805194805194503,"VS",2.7638251839030605,2.0444597119643571,0.99898932307466481,1.0111312860187889,1.7434584755403868,"AQT0661",15,1000,10,50,40,91.198376623376646,96.382792207792207,"BCR RET","SC",2,1664.8089574898786,13.98658906882577,"VS",0.84013177643602399,2.498374663323117,0.99940457704464603,1.0225374671090264,2.2799572039942939,"AQT0661",15,1000,4,80,76,67.151821862348172,66.03289473684211,"BCR RET","SC",2,565.34645909645906,1.3850732600732663,"S",0.24499547804489671,3.5945498343872324,0.98581394523377108,1.0025071147852012,1.2038251743423323,"AQT0661",15,5,18,70,52,22.669261294261293,22.558455433455432]
["BMP2K (BIKE)","BMP2K","BIKE","BIKE","BIKE","Other","21_03",11.72,"BIKE","SC",120,2.4728550903119872,4.2590311986863874E-2,"VW",1.7223132950135982,4.7275463680226641,0.98316226654710193,0.9860788863109049,1.119588578446423,"AQT0759",15,11.72,24,80,56,6.0370689655172409,5.8326354679802943,"BIKE","SC",120,2.7916729588241211,1.4503422933655289E-2,"VW",0.51952442666365428,2.6887218936665334,0.99704343245680682,1.0060711188204683,1.3610216290842154,"AQT0759",15,1000,36,120,84,6.6652068861371188,6.7348233162186641,"BIKE","SC",120,1.6285173160173159,1.6504329004329112E-2,"VW",1.0134573849476725,3.8734896943852166,0.97559613896352559,1.0012549300824669,1.1277163553183378,"AQT0759",15,1000,50,90,40,3.9480519480519485,3.8688311688311687,"BIKE","SC",120,1.9943555008210179,2.463054187192134E-2,"VW",1.2350126074203753,1.9818288082461084,0.97535045190943193,0.98756575801052127,1.1080046596771509,"AQT0759",15,11.72,34,90,56,4.8455665024630541,4.7273399014778317]
["BLK","BLK","BLK","BLK","BLK","TK","01_05",61.19,"BLK","Carna",3,1487.1794871794873,20.421245421245377,"VS",1.373152709359603,5.3550253233296017,0.99863622759471649,0.99434023285899098,1.6101978021978023,"AQT0032",15,61.19,22,46,24,90.456043956043942,88.005494505494497,"BLK","Carna",3,1165.0595238095239,23.229166666666618,"VS",1.9938180146119613,3.569829275118948,0.9995388808081167,1.0022840252586322,1.686158721013971,"AQT0032",15,1000,8,36,28,71.297321428571422,68.509821428571428,"BLK","Carna",3,1453.8170163170162,24.577505827505895,"VS",1.6905501553261897,4.6604589917231003,0.99982081659762456,1.0060806345009914,1.7567259786476868,"AQT0032",15,1000,10,32,22,88.703671328671334,85.754370629370626,"BLK","Carna",3,958.97435897435901,4.8992673992673961,"S",0.51088617265087821,3.573193905908457,0.99718115020929843,0.99916605858438445,1.7917467495760317,"AQT0032",15,61.19,44,68,24,57.244505494505496,57.832417582417584]
["BMX","BMX","BMX","BMX","BMX","TK","01_06",47.8,"BMX","Carna",3,1015.9821428571431,14.479166666666522,"VS",1.4251398775522015,4.0036025786879028,0.99806369914229565,1.0041213609259909,1.6230728335991493,"AQT0104",15,47.8,30,58,28,60.090178571428574,61.827678571428557,"BMX","Carna",3,1690.1767676767677,30.555555555555596,"VS",1.807831946332793,3.2052980132450331,0.99965902293782194,1.0153513759381396,1.4295141654340653,"AQT0104",15,1000,0,18,18,99.577272727272728,103.2439393939394,"BMX","Carna",3,1978.2323232323231,79.090909090909037,"VS",3.998059690061015,6.3560070671378091,0.99968010912829652,1.0317981215344574,1.5127392141320348,"AQT0104",15,1000,0,18,18,123.43939393939394,113.94848484848485,"BMX","Carna",3,835.74722379070204,0.60935441370209753,"S",7.2911329688688201E-2,7.4227566716613236,0.99931918766464667,1.0095742513750254,1.4902321775595786,"AQT0104",15,47.8,6,48,42,50.181394692264249,50.108272162619997]
["BRAF (BRAF1, RAFB1)","BRAF","BRAF","BRAF","BRAF","TKL","32_10",19,"BRAF","INVT",30,8.3223951973952008,0.24648962148962208,"VW",2.9617629978298803,6.9240065401293807,0.98411968193696453,1.0021783526208305,1.1445816567226308,"AQT0682",15,19,68,120,52,5.1413308913308917,4.8455433455433452,"BRAF","INVT",30,21.934523809523814,0.73946886446886406,"VW",3.3712556100615778,7.7633354641664889,0.99035503981527695,1.0037424183765646,1.1461341249493997,"AQT0682",15,1000,20,44,24,13.604395604395604,12.717032967032967,"BRAF","INVT",30,14.49905400756794,1.0762813897488825,"VW",7.4231145644888672,2.243278263686427,0.9884650983876998,1.0167803798635442,1.1343254356765224,"AQT0682",15,1000,0,34,34,9.3452012383900929,8.0536635706914339,"BRAF","INVT",30,7.0000000000000009,0.15545903045903048,"VW",2.2208432922718639,8.7339743589743595,0.96206800654113589,1.0150501672240804,1.1036594048127579,"AQT0682",15,19,30,100,70,3.8171814671814674,3.6306306306306309]
["BRAF, b-[V600E]","BRAF, V->E","BRAF","BRAF","BRAF(V600E)","TKL","21_04",158.9,"BRAF(V600E)","INVT",20,11.649572649572649,0.20427350427350444,"VW",1.7534849596478372,19.544047708915226,0.97931900005054029,1.0193370165745856,1.2241038047063997,"AQT0682",15,158.9,50,100,50,4.5781196581196584,4.7415384615384619,"BRAF(V600E)","INVT",20,44.928571428571423,1.0503246753246784,"W",2.337765573059698,2.289305352934575,0.9953775495333258,0.98514982763192782,1.1769530164025577,"AQT0682",15,1000,0,40,40,18.391558441558441,17.551298701298698,"BRAF(V600E)","INVT",20,16.236643145161292,2.225554435483863,"VW",13.706986201437235,40.685483870967744,0.99235772287400847,0.96168192607663616,1.100647016534867,"AQT0682",15,1000,0,60,60,7.3848790322580626,5.6044354838709678,"BRAF(V600E)","INVT",20,12.239102564102563,0.45833333333333165,"VW",3.7448279474152697,6.2306345143472992,0.98933253580839298,0.97878293308463515,1.1388956458282657,"AQT0682",15,158.9,20,70,50,4.7123076923076939,5.0789743589743592]
["BRSK1","BRSK1","BRSK1","BRSK1","BRSK1","CAMK","08_07",114.8,"BRSK1","Carna",20,60.728021978021978,1.1703296703296706,"W",1.9271657995928528,0.73154693407857962,0.98751068274317932,0.95455005567365114,1.3677528565382988,"AQT0394",15,114.8,78,104,26,24.759340659340658,23.823076923076922,"BRSK1","Carna",20,84.612771739130437,1.1836956521739237,"W",1.3989562424729149,1.4132147159670092,0.99843498841566902,1.0049705236388857,1.4359471579202521,"AQT0394",15,1000,10,56,46,34.318586956521742,33.371630434782602,"BRSK1","Carna",20,112.29166666666666,5.5909090909090953,"M",4.9789171867093991,1.3557656883212577,0.98801412021938517,0.99630996309963105,1.9762618391080207,"AQT0394",15,1000,86,104,18,42.68030303030303,47.153030303030306,"BRSK1","Carna",20,85.867673992673986,2.4362789987790108,"W",2.8372481581216094,2.369362761441177,0.99796935273031329,0.99831205823399094,1.5483163321267961,"AQT0394",15,114.8,28,80,52,35.321581196581199,33.37255799755799]
["BRSK2","BRSK2","BRSK2","BRSK2","BRSK2","CAMK","08_08",39.979999999999997,"BRSK2","Carna",20,73.602272727272734,2.0681818181818241,"W",2.8099428747877182,3.5907261102619854,0.98878154498851012,1.0051078911706453,1.4528686327077747,"AQT0394",15,39.979999999999997,70,90,20,28.613636363636363,30.268181818181823,"BRSK2","Carna",20,107.9826923076923,1.5913461538461424,"M",1.4737048316147425,0.84428112080845197,0.99652485633189991,1.0319337670017741,1.5353498094184188,"AQT0394",15,1000,2,50,48,42.556538461538473,43.829615384615387,"BRSK2","Carna",20,125.16208791208791,3.4945054945054816,"M",2.7919840207203741,0.98374679213002569,0.99572291174596794,1.0200890309325419,1.3548158640226631,"AQT0394",15,1000,4,30,26,51.462637362637359,48.667032967032974,"BRSK2","Carna",20,62.005288957688336,0.64305985552115519,"W",1.0371048443302497,3.9929183858601816,0.99379230487713777,1.0301153353267833,1.4222642348754448,"AQT0394",15,39.979999999999997,50,84,34,24.544891640866872,25.059339525283796]
["BTK","BTK","BTK","BTK","BTK","TK","01_07",79.2,"BTK","Carna",1,4101.931818181818,44.090909090909136,"VS",1.0748815691054669,2.5325596389426175,0.99289689474840381,1.0148190916089299,1.346301208370174,"AQT0101",15,79.2,0,20,20,82.920454545454547,81.156818181818181,"BTK","Carna",1,5010.454545454545,36.022727272727543,"VS",0.71895128367958461,2.6460452904496226,0.9964603999570969,1.0419154929577465,1.5066880073167943,"AQT0101",15,1000,0,20,20,100.92954545454545,99.488636363636346,"BTK","Carna",1,4567.5137362637352,212.2939560439562,"VS",4.6479106205735121,5.6705791479858281,0.99576026005898699,1.0248306997742664,1.5527268339768341,"AQT0101",15,1000,0,24,24,95.59615384615384,87.104395604395592,"BTK","Carna",1,1237.2889610389607,15.698051948051804,"VS",1.2687458178621456,6.3871386565853285,0.99595797457030588,1.0184018401840185,1.6297979797979798,"AQT0101",15,79.2,60,100,40,24.431818181818187,25.059740259740259]
["BUB1","BUB1","BUB1","BUB1","BUB1","Other","24_11",22.58,"BUB1","Carna",40,17.876023433088648,7.0052230378316857E-2,"VW",0.39187815254621827,6.4051661190215405,0.98376148773766969,0.99022502132126222,1.1364663972049052,"AQT0848",15,22.58,40,82,42,14.356860530773574,14.244776962168267,"BUB1","Carna",40,29.4767094017094,0.27254273504273335,"VW",0.92460366361968527,3.7476273961487747,0.99274084725990386,1.0167970858067998,1.3791059697229362,"AQT0848",15,1000,70,120,50,23.79940170940171,23.363333333333337,"BUB1","Carna",40,30.855238970588232,0.34329044117646917,"W",1.1125839650883917,0.62007476257829863,0.9898024784523729,0.99858055358410225,1.6310085426494965,"AQT0848",15,1000,82,112,30,24.409558823529412,24.958823529411763,"BUB1","Carna",40,16.386752136752136,0.15117521367521533,"VW",0.92254531229626779,2.6434477574542719,0.98103528493615177,0.98997734605615428,1.155218490429758,"AQT0848",15,22.58,40,90,50,13.23034188034188,12.988461538461536]
["CAMK1 (CAMK1a)","CAMK1","CaMK1a","CaMK1a","CAMK1A","CAMK","29_01",52.27,"CAMK1A","Carna",1,7879.204545454546,147.15909090909065,"VS",1.8676896894875716,1.77106304874875,0.99296782064551048,1.0091789687407471,1.2859296915388594,"AQT0426",15,52.27,0,20,20,154.6409090909091,160.52727272727273,"CAMK1A","Carna",1,9626.875,185.40178571428709,"VS",1.925877148236443,1.3492840818991652,0.96209813781726472,1.1954743255004352,2.3200960472848173,"AQT0426",15,1000,0,28,28,196.24553571428575,188.82946428571427,"CAMK1A","Carna",1,12337.954545454544,13.977272727274935,"VS",0.11328679057603058,1.4665924640717583,0.947628931793419,1.1671337069655725,1.7465053763440861,"AQT0426",15,1000,0,20,20,247.03863636363639,246.47954545454539,"CAMK1A","Carna",1,7558.75,290.22727272727235,"VS",3.8396199467805174,1.3682852028142825,0.99273687085559481,1.0311488382130782,1.4675945753033548,"AQT0426",15,52.27,0,20,20,145.37045454545455,156.97954545454544]
["PNCK (CAMK1β)","PNCK","CaMK1b","CaMK1b","CAMK1B","CAMK","29_02",38.950000000000003,"CAMK1B","Carna",1,2096.0851648351645,34.546703296703285,"VS",1.6481536092270388,2.7451475727337797,0.99124830938201758,0.99625790139064474,1.094707376496812,"AQT0420",15,38.950000000000003,0,24,24,41.230769230769234,42.612637362637365,"CAMK1B","Carna",1,3507.840909090909,82.840909090909406,"VS",2.3615925362013761,3.5160325519927662,0.99771077247057316,0.98284902774743277,1.3013256484149855,"AQT0420",15,1000,0,20,20,68.5,71.813636363636377,"CAMK1B","Carna",1,3221.931818181818,33.63636363636342,"VS",1.0439812365534444,2.1166788715695506,0.9877283290363047,1.0034256517447599,1.1605789959963042,"AQT0420",15,1000,0,20,20,65.111363636363635,63.765909090909098,"CAMK1B","Carna",1,2308.3791208791204,4.4642857142855874,"VS",0.1933948229693489,4.8344737023982312,0.99455714136112294,0.99748415952292213,1.2094664533734827,"AQT0420",15,38.950000000000003,2,26,24,46.256868131868124,46.078296703296701]
["CAMK1D (CAMK1δ)","CAMK1D","CaMK1d","CaMK1d","CAMK1D","CAMK","29_03",194.9,"CAMK1D","SC",3,2360.151515151515,41.818181818181912,"VS",1.771843102009377,3.5018200248813534,0.99164639846413516,1.0083718541345661,1.313639253921153,"AQT0420",15,194.9,0,20,20,144.11818181818182,139.1,"CAMK1D","SC",3,1561.6666666666667,10.833333333333309,"VS",0.69370330843116168,0.58011455426641201,0.9979686823170496,1.0046531760631967,1.4270438082097274,"AQT0420",15,1000,0,20,20,93.05,94.35,"CAMK1D","SC",3,1207.840909090909,5.0378787878788245,"VS",0.41709787687772748,1.5553977272727273,0.99617735086429626,0.979495000847314,1.1556420233463034,"AQT0420",15,1000,0,20,20,72.772727272727266,72.168181818181807,"CAMK1D","SC",3,1551.2121212121212,4.8484848484845831,"VS",0.31256104707949062,2.2099125364431487,0.99929692319763497,0.9899962249905625,1.3307937120262321,"AQT0420",15,194.9,2,20,18,92.781818181818196,93.363636363636346]
["CAMK1G (CAMK1γ)","CAMK1G","CaMK1g","CaMK1g","CAMK1G","CAMK","29_04",37.03,"CAMK1G","SC",3,29.083333333333336,1.481292517006801,"VW",5.0932693994503184,-23.177270908363347,0.75992105707128077,0.97351625709834666,0.98625707356507686,"AQT0420",15,37.03,24,120,96,1.8338775510204082,1.656122448979592,"CAMK1G","SC",3,195.81108639228773,1.7445309603263106,"M",0.89092553055515922,3.7568306010928962,0.99222440256242794,0.95631428268476304,1.1169702780441035,"AQT0420",15,1000,0,58,58,11.643993325917684,11.853337041156841,"CAMK1G","SC",3,127.03133903133904,7.5911680911681092,"M",5.9758230914147443,9.7787833081950737,0.98753784932434785,0.98748999199359488,1.1209486166007905,"AQT0420",15,1000,40,90,50,8.077350427350428,7.1664102564102548,"CAMK1G","SC",3,12.842336934773913,1.1958783513405356,"VW",9.3119995014489056,-148.85185185185185,0.50045245326979493,0.97450451288731743,0.99472192356563394,"AQT0420",15,37.03,22,120,98,0.69878751500600245,0.84229291716686672]
["CAMK2A (CAMK2α)","CAMK2A","CaMK2a","CaMK2a","CAMK2A","CAMK","29_05",21.16,"CAMK2A","Carna",0.5,16743.787878787876,"NA","VS","NA","NA",0.96884174583179405,0.95996393146979264,1.372792066935234,"AQT0425",15,21.16,0,18,18,167.43787878787876,"","CAMK2A","Carna",0.5,12159.697580645161,215.49395161290542,"VS",1.7721982819368103,0.85743446229191222,0.97708908031864505,1.0552607739096673,3.3728262406333949,"AQT0425",15,1000,0,60,60,119.44203629032256,123.75191532258067,"CAMK2A","Carna",0.5,17143.905982905984,79.376068376068076,"VS",0.46299873818261222,0.78687050359712229,0.97953431997717877,1.0927114076735531,2.3773740710156894,"AQT0425",15,1000,0,50,50,170.64529914529916,172.23282051282052,"CAMK2A","Carna",0.5,13846.515151515152,780.60606060606119,"VS",5.6375633295764205,1.8758109360519,0.96129611860975561,1.0381013470173188,1.7080981756135976,"AQT0425",15,21.16,0,18,18,130.65909090909091,146.27121212121213]
["CAMK2B (CAMK2β)","CAMK2B","CaMK2b","CaMK2b","CAMK2B","CAMK","29_06",14.54,"CAMK2B","Carna",0.5,13843.40909090909,543.63636363636374,"VS",3.9270410927418702,3.6140208339378463,0.98320332598043536,1.0345944624411711,1.3954310236021708,"AQT0425",15,14.54,0,20,20,143.87045454545455,132.99772727272727,"CAMK2B","Carna",0.5,15524.358974358975,772.53846153846393,"VS",4.9762986208605327,3.0269893376525516,0.98958875708147032,1.1116236162361623,3.507694479740223,"AQT0425",15,1000,0,50,50,147.5182051282051,162.96897435897438,"CAMK2B","Carna",0.5,16723.14723320158,992.78656126482178,"VS",5.9366012116055309,2.6335670509142153,0.99761180524034543,1.1176243484975228,2.4183454482519906,"AQT0425",15,1000,6,50,44,157.30360671936759,177.15933794466403,"CAMK2B","Carna",0.5,12576.363636363636,481.06060606060555,"VS",3.8251168618379801,2.2996878251821022,0.99144868431696564,1.0364685819231274,1.6434980581224052,"AQT0425",15,14.54,0,18,18,120.9530303030303,130.57424242424241]
["CAMK2D (CAMK2δ)","CAMK2D","CaMK2d","CaMK2d","CAMK2D","CAMK","29_07",16.07,"CAMK2D","Carna",0.5,21928.86363636364,1296.5909090909092,"VS",5.912713629815415,5.7277567630555204,0.98636816020244178,1.0688194487077169,1.639027156448869,"AQT0425",15,16.07,0,20,20,232.25454545454545,206.32272727272726,"CAMK2D","Carna",0.5,19821.785714285714,470.55194805194702,"VS",2.3739130007485483,2.5213419218699542,0.99232264243833801,1.2748101597276773,3.7353440951571795,"AQT0425",15,1000,0,40,40,193.51233766233767,202.92337662337661,"CAMK2D","Carna",0.5,23892.389705882353,2235.6249999999986,"VS",9.3570589946035554,4.1310531708369282,0.99048989428204059,1.2005306069625987,2.260981912144703,"AQT0425",15,1000,0,30,30,216.56764705882352,261.2801470588235,"CAMK2D","Carna",0.5,13205.681818181818,887.27272727272748,"VS",6.7188710093795736,7.0525531003632551,0.99269829533414355,1.0491614389962873,1.7534840915067051,"AQT0425",15,16.07,0,20,20,123.18409090909091,140.92954545454546]
["CAMK2G (CAMK2γ)","CAMK2G","CaMK2g","CaMK2g","CAMK2G","CAMK","29_08",22.04,"CAMK2G","Carna",0.5,19462.045454545456,157.72727272727423,"VS",0.81043522940923063,2.3822795448113814,0.9513270609148109,1.1599064442666338,1.6685375543923819,"AQT0425",15,22.04,0,20,20,196.19772727272726,193.04318181818178,"CAMK2G","Carna",0.5,20153.993506493505,1182.3051948051952,"VS",5.8663569303238239,2.1683040223433632,0.99025886454283574,1.3298236377994208,3.7598866052445077,"AQT0425",15,1000,0,40,40,213.36298701298702,189.71688311688311,"CAMK2G","Carna",0.5,23667.683823529413,3197.9411764706033,"VS",13.511846787860776,7.0526529507309146,0.98938683542442052,1.2338930105427568,2.2623018042646255,"AQT0425",15,1000,0,30,30,268.65625,204.69742647058823,"CAMK2G","Carna",0.5,17759.545454545452,1207.2727272727248,"VS",6.7978807811420099,3.5375649387101054,0.95309737815423579,1.1805073431241655,2.2316095132743365,"AQT0425",15,22.04,0,20,20,165.52272727272731,189.66818181818181]
["CAMK4","CAMK4","CaMK4","CaMK4","CAMK4","CAMK","29_09",334.9,"CAMK4","Carna",2,858.92543859649118,6.1513157894736983,"S",0.71616411775219102,5.6795622911925632,0.9848124648791714,1.0061693033093906,1.1521485559651006,"AQT0426",15,334.9,14,50,36,34.603070175438596,34.1109649122807,"CAMK4","Carna",2,584.71334586466162,23.124999999999975,"S",3.9549293963528775,8.4435876623376611,0.99270171100123372,1.0025671587054186,1.2572830740315339,"AQT0426",15,1000,20,58,38,22.463533834586467,24.313533834586465,"CAMK4","Carna",2,569.45504926108367,16.825738916256135,"S",2.9547088814277722,2.6099402649374168,0.98980704023323574,0.98642160152821523,1.1371398698884758,"AQT0426",15,1000,4,60,56,22.105172413793102,23.451231527093594,"CAMK4","Carna",2,589.52139639639631,25.562258687258677,"S",4.3361036331360774,3.1520251778872472,0.99501490961970906,0.98496009821976671,1.3313474251203787,"AQT0426",15,334.9,20,90,70,22.558365508365508,24.603346203346202]
["CAMKK1","CAMKK1","CaMKK1","CaMKK1","CAMKK1","Other","29_10",113,"CAMKK1","Carna",20,43.392549261083744,1.6893472906403861,"W",3.8931736424977998,7.7195420112493158,0.96256186701130897,0.96224761765672351,1.102428764187634,"AQT0699",15,113,64,120,56,16.681280788177343,18.032758620689652,"CAMKK1","Carna",20,42.520696496989586,0.64792008757525554,"W",1.5237758102601342,7.6597744360902258,0.99669144197357218,0.99437272426348888,1.1766809728183119,"AQT0699",15,1000,14,68,54,16.749110563765736,17.267446633825941,"CAMKK1","Carna",20,35.350649350649348,1.5438311688311666,"W",4.3671932402645055,51.86877076411961,0.96703180655006915,0.97736916548797736,1.0651474023104601,"AQT0699",15,1000,20,60,40,14.757792207792209,13.522727272727275,"CAMKK1","Carna",20,22.715653153153152,0.49436936936936959,"VW",2.176337902486182,11.987977938898185,0.97433416884162494,0.98617933560902504,1.1621157323688971,"AQT0699",15,113,50,120,70,8.888513513513514,9.2840090090090097]
["CAMKK2","CAMKK2","CaMKK2","CaMKK2","CAMKK2","Other","29_11",239.61873033681286,"CAMKK2","Carna",30,23.976279936461392,0.44072275171065523,"VW",1.8381615199630528,26.747128008752735,0.96832161312498399,0.95956185760372126,1.0373686577537922,"AQT0699",15,239.61873033681286,38,100,62,14.650201612903226,14.12133431085044,"CAMKK2","Carna",30,14.864855072463769,0.2425724637681152,"VW",1.6318521948960389,12.732569526047788,0.98735470488041621,1.0017559996655239,1.1568519030504101,"AQT0699",15,1000,74,120,46,8.7733695652173918,9.06445652173913,"CAMKK2","Carna",30,11.199416525503482,0.66134952004517344,"VW",5.9052140666358666,154.42520442520441,0.89899884741699065,0.96931438600464248,1.0121348314606742,"AQT0699",15,1000,28,70,42,7.1164596273291929,6.3228402032749846,"CAMKK2","Carna",30,11.770497311827958,5.8299731182795966E-2,"VW",0.49530389106169392,9.2689295039164499,0.94897627523041728,1.0076172543649435,1.1434456928838952,"AQT0699",15,239.61873033681286,60,120,60,7.097278225806452,7.0273185483870968]
["CDC7/DBF4 (CDC7)","CDC7/DBF4","CDC7","CDC7","CDC7","Other","32_01",14.79,"CDC7","Carna",20,4.9953179442508713,"NA","VW","NA","NA",0.89443670973082101,1.0189864382583869,1.026832641770401,"AQT0356",15,14.79,40,120,80,"",1.9981271777003486,"CDC7","Carna",20,19.258928571428569,0.22972972972972955,"VW",1.1928479244195509,6.2298075572411857,0.98684960006333333,0.98932384341637014,1.176582207835696,"AQT0356",15,1000,50,120,70,7.7954633204633206,7.6116795366795369,"CDC7","Carna",20,13.484716859716858,0.38231981981981955,"VW",2.835208360673338,6.6468253968253972,0.98328306113426622,0.96746930314144475,1.1793987185805817,"AQT0356",15,1000,50,120,70,5.5468146718146727,5.240958815958817,"CDC7","Carna",20,9.4271574205784727,0.14106211474632591,"VW",1.4963377448052628,37.115278543849975,0.95659456042733615,0.97683672019326417,1.067623516422854,"AQT0356",15,14.79,18,90,72,3.7144381223328589,3.8272878141299196]
["CDK1 (CDC2)/CycA1 ","CDK1/CycA1","CDC2","CDC2","CDK1/A1","CMGC","33_01",94,"CDK1/A1","SC",1,876.4288101604277,1.7296122994651772,"S",0.19734772287421459,1.4133876074174581,0.99859664625432876,0.98663145733619406,1.6398362892223739,"AQT0297",15,94,56,120,64,17.563168449197857,17.49398395721925,"CDK1/A1","SC",1,968.16964285714289,0.4910714285715656,"S",5.0721630469880895E-2,1.0610713067212556,0.99811295479506079,0.98983134920634919,1.5088541666666666,"AQT0297",15,1000,30,58,28,19.37321428571429,19.353571428571428,"CDK1/A1","SC",1,991.89560439560432,19.551282051282115,"S",1.9711028020126549,3.9433148490449788,0.99737100383025035,0.99635097031016751,1.5594622543950361,"AQT0297",15,1000,38,90,52,20.22893772893773,19.446886446886445,"CDK1/A1","SC",1,258.3279220779221,14.188311688311693,"M",5.492364733236978,5.9941520467836256,0.99169682253151026,0.98363431151241532,1.202247191011236,"AQT0297",15,94,48,88,40,5.4503246753246755,4.8827922077922077]
["CDK1 (CDC2)/CycA2 ","CDK1/CycA2","CDC2","CDC2","CDK1/A2","CMGC","09_02",33.57,"CDK1/A2","SC",5,161.33516483516482,0.50549450549452135,"M",0.31331948370399104,3.5468404229161545,0.9978058140276026,0.97745208568207442,1.6869642329293526,"AQT0297",15,33.57,60,86,26,16.184065934065934,16.08296703296703,"CDK1/A2","SC",5,173.1061776061776,6.1019948519948564,"M",3.5250012081470028,3.0935572865952614,0.99674594867163802,1.0004812319538017,2.0384226491405459,"AQT0297",15,1000,50,120,70,17.920817245817247,16.700418275418276,"CDK1/A2","SC",5,280.27272727272725,5.3787878787878896,"M",1.9191263920423869,4.1803278688524594,0.99536402439083982,1.0178699070764832,1.6459909228441756,"AQT0297",15,1000,32,50,18,28.565151515151516,27.489393939393938,"CDK1/A2","SC",5,88.742647058823536,1.6250000000000051,"W",1.8311376253210763,4.8380035026269708,0.99704028569990155,0.97216810464792658,1.3309185743262821,"AQT0297",15,33.57,56,86,30,9.0367647058823533,8.7117647058823522]
["CDK1 (CDC2)/CycB1 ","CDK1/CycB1","CDC2","CDC2","CDK1/B1","CMGC","09_01",51,"CDK1/B1","Carna",3,552.6169590643276,18.011695906432774,"S",3.2593454853303032,2.5705308740456152,0.99948290860704625,0.93440354276224746,1.9258304696449025,"AQT0297",15,51,24,60,36,34.237719298245615,32.076315789473682,"CDK1/B1","Carna",3,687.8115942028985,20.01268115942031,"S",2.9096167218019797,2.0221178548490686,0.99569293580287443,1.0048390999274135,2.0385192596298145,"AQT0297",15,1000,4,50,46,42.469456521739133,40.067934782608695,"CDK1/B1","Carna",3,784.12878787878788,12.007575757575731,"S",1.5313269890343428,3.0098871292326539,0.99940739833786341,1.0194431108977435,1.5174302788844622,"AQT0297",15,1000,2,22,20,47.768181818181816,46.327272727272728,"CDK1/B1","Carna",3,493.80514705882354,3.0514705882353024,"S",0.61795034061720744,0.90585320532672653,0.99929817356626693,0.98431048720066061,1.9308157970596713,"AQT0297",15,51,34,64,30,29.81139705882353,29.445220588235294]
["CDK1 (CDC2)/CycE1 ","CDK1/CycE1","CDC2","CDC2","CDK1/E1","CMGC","33_02",74,"CDK1/E1","PQ",1,427.45614035087715,3.8157894736842386,"S",0.89267391750462388,2.1186724773717733,0.99397600485641668,0.97752066115702474,1.1352049603858076,"AQT0297",15,74,20,56,36,8.4728070175438592,8.6254385964912288,"CDK1/E1","PQ",1,1011.3235294117646,0.88235294117646745,"VS",8.7247346226551975E-2,1.8756627783669142,0.99917179890026941,1,1.3416666666666668,"AQT0297",15,1000,20,50,30,20.208823529411763,20.244117647058822,"CDK1/E1","PQ",1,1439.9114774114776,18.750000000000178,"VS",1.3021633825509169,3.5488132659104368,0.99910322724830025,1.0069135802469136,1.5687303252885623,"AQT0297",15,1000,6,58,52,29.17322954822955,28.423229548229543,"CDK1/E1","PQ",1,231.04323308270676,1.823308270676693,"M",0.78916324289142958,4.2158092848180679,0.97868032670526806,1.0008663008951777,1.2400602409638555,"AQT0297",15,74,42,80,38,4.5843984962406017,4.6573308270676694]
["CDK12 (CRK7)/CycK","CDK12/CycK","CRK7","CRK7","CDK12/K","CMGC","33_12",87,"CDK12/K","Carna",5,3.1911764705882351,2.2683823529411762,"VW",71.082949308755758,44.494047619047613,0.49123319467445603,1.0181818181818181,1.0186915887850467,"AQT0991",15,87,34,64,30,9.2279411764705888E-2,0.54595588235294112,"CDK12/K","Carna",5,3.2573529411764706,2.8933823529411757,"VW",88.826185101580108,-37.907608695652172,0.53593587852968483,0.98210290827740487,0.96549137284321085,"AQT0991",15,1000,90,120,30,3.6397058823529414E-2,0.61507352941176474,"CDK12/K","Carna",5,1.2169117647058822,3.6764705882352806E-3,"VW",0.30211480362537657,-251.04166666666666,0.37921534015194774,0.9994242947610823,0.99650145772594745,"AQT0991",15,1000,48,78,30,0.12132352941176471,0.12205882352941176,"CDK12/K","Carna",5,6.4090909090909092,1.0454545454545499,"VW",16.312056737588719,-35.227272727272727,0.85179948586118259,0.96836419753086422,0.97509727626459142,"AQT0991",15,87,80,100,20,0.53636363636363638,0.74545454545454548]
["CDK13 (CHED)/CycK","CDK13/CycK","CHED","CHED","CDK13/K","CMGC","34_01",41,"CDK13/K","INVT",15,79.461320926838169,0.397281517971173,"W",0.49996842908886335,13.401884586285162,0.97746835885880679,0.96301369863013697,1.0663408713427878,"AQT0991",15,41,16,70,54,23.957580733442803,23.7192118226601,"CDK13/K","INVT",15,51.201093951093959,0.1053196053196063,"W",0.20569795914947642,9.9439186820890306,0.99421138909096374,0.96563329234353767,1.2109255439483664,"AQT0991",15,1000,50,120,70,15.391924066924068,15.328732303732304,"CDK13/K","INVT",15,156.94852941176467,0.42697192513369231,"M",0.27204582721097292,3.8563509279344417,0.99440208339310798,0.98151031529778121,1.3637422506105579,"AQT0991",15,1000,56,120,64,46.956467245989302,47.212650401069517,"CDK13/K","INVT",15,84.221173143586938,1.093778507571604,"W",1.2986977819779875,20.841802492809204,0.98662606032501565,0.98773352701448569,1.1476182927795833,"AQT0991",15,41,26,80,54,25.594485495347559,24.938218390804597]
["CDK14 (PFTAIRE1, PFTK1)/CycY","CDK14/CycY","PFTAIRE1","PFTAIRE1","CDK14","CMGC","21_08",20.260000000000002,"CDK14","SC",20,65.479866600790515,0.56632905138339851,"W",0.86489035604810083,1.1214023270055113,0.99913324242794266,1.0073170731707317,2.1104594330400781,"AQT0730",15,20.260000000000002,68,112,44,26.418478260869566,25.965415019762847,"CDK14","SC",20,85.099456521739128,0.63668478260868966,"W",0.7481655096657932,0.44263285024154592,0.99901426952432937,1.0166253101736973,2.772867420349435,"AQT0730",15,1000,74,120,46,34.294456521739129,33.785108695652177,"CDK14","SC",20,57.218749999999993,1.2120535714285727,"W",2.1182804088320224,1.692485549132948,0.99846994117342369,1.0012762078395625,1.8298158096699924,"AQT0730",15,1000,92,120,28,23.372321428571428,22.40267857142857,"CDK14","SC",20,40.82954545454546,0.28490259740259649,"W",0.69778537632698268,2.0048369610541239,0.99741675559910992,0.98455092956271273,1.7360144367104924,"AQT0730",15,20.260000000000002,80,120,40,16.217857142857145,16.445779220779222]
["CDK16 (PCTAIRE1, PCTK1)/CycY ","CDK16/CycY","PCTAIRE1","PCTAIRE1","CDK16","CMGC","11_01",18.059999999999999,"CDK16","Carna",20,39.571271929824547,0.68859649122807054,"W",1.7401424256698734,1.3046387154326493,0.99228291642341726,0.97426028385855179,1.3419463897609274,"AQT0258",15,18.059999999999999,76,112,36,15.5530701754386,16.103947368421057,"CDK16","Carna",20,137.57554945054946,4.3200549450549444,"M",3.1401327941690371,4.9290001851019385,0.99955453117045079,1.0129722921914357,1.3807093312393666,"AQT0258",15,1000,2,26,24,56.758241758241759,53.302197802197803,"CDK16","Carna",20,162.25757575757575,3.9166666666666652,"M",2.4138575030348295,3.274261603375527,0.99948957762551827,1.006124011227354,1.3065183652353853,"AQT0258",15,1000,0,18,18,66.469696969696969,63.336363636363636,"CDK16","Carna",20,60.28584558823529,1.7132352941176472,"W",2.8418533030446258,3.5646866347847972,0.99743062331130206,0.98247962039177517,1.481050974694273,"AQT0258",15,18.059999999999999,68,98,30,24.799632352941178,23.429044117647059]
["CDK17 (PCTAIRE2, PCTK2)/CycY","CDK17/CycY","PCTAIRE2","PCTAIRE2","CDK17","CMGC","21_06",29.29,"CDK17","SC",15,64.539043687650505,5.3190574475404224,"W",8.2416118114223309,4.0627842067300159,0.9988306339451325,1.020949720670391,1.8229965156794425,"AQT0730",15,29.29,76,110,34,17.765995872033024,20.957430340557277,"CDK17","SC",15,122.56837606837607,"NA","M","NA","NA",0.99973138743563184,1.0156286999763202,2.0824793801549615,"AQT0730",15,1000,10,60,50,36.77051282051282,"","CDK17","SC",15,80.87373737373737,2.4898989898989874,"W",3.0787485168300726,3.121019108280255,0.99906215642236063,1.0060198300283285,1.3198148148148148,"AQT0730",15,1000,20,38,18,25.009090909090908,23.515151515151516,"CDK17","SC",15,67.829670329670321,2.1062271062271107,"W",3.1051707843931484,2.5659579205165315,0.99454160590927898,0.99673776662484315,2.0194246373248097,"AQT0730",15,29.29,96,120,24,19.717032967032964,20.98076923076923]
["CDK17 (PCTAIRE2, PCTK2)/p35NCK","CDK17/P35","PCTAIRE2","PCTAIRE2","CDK17/P35","CMGC","34_02",32,"CDK17/P35","PQ",40,4.6134615384615403,0.16463675213675169,"VW",3.5686165531934488,16.619275665968271,0.93084975824270677,0.96877956480605487,1.0708086513293842,"AQT0233",15,32,70,120,50,3.822478632478632,3.5590598290598292,"CDK17/P35","PQ",40,15.954736440030556,0.4274732620320853,"VW",2.6792875184045761,7.9309573992463438,0.99506250456521617,0.98593955321944804,1.2529872270292541,"AQT0233",15,1000,14,80,66,13.105767761650114,12.421810542398777,"CDK17/P35","PQ",40,12.850290697674417,0.2069679351656106,"VW",1.6106089740294098,2.244151489750819,0.99472364911257904,1.0014919011082695,1.2585328854697151,"AQT0233",15,1000,34,120,86,10.445806906272022,10.114658210007045,"CDK17/P35","PQ",40,5.9547413793103452,0.3400554187192123,"VW",5.7106664598521348,19.067150635208712,0.96796936069301454,0.9895397489539749,1.1078075351793011,"AQT0233",15,32,64,120,56,5.0358374384236457,4.4917487684729061]
["CDK18 (PCTAIRE3, PCTK3)/CycY ","CDK18/CycY","PCTAIRE3","PCTAIRE3","CDK18","CMGC","11_02",24.69,"CDK18","SC",5,101.29426129426129,0.45787545787545619,"M",0.45202507232400996,0.9537183312854719,0.99831101242943177,0.99357912178956087,1.4139058413251961,"AQT0255",15,24.69,56,108,52,10.175213675213675,10.083638583638583,"CDK18","SC",5,225.79044117647058,1.9007352941176412,"M",0.84181388911503452,1.1901368301026225,0.99820795603691292,1.0060127125923382,2.1264220183486238,"AQT0255",15,1000,90,120,30,22.769117647058824,22.388970588235296,"CDK18","SC",5,245.12499999999997,7.5714285714285614,"M",3.0888030888030849,0.91024940833788459,0.9993929706719108,1.00085969738652,1.3309235496114225,"AQT0255",15,1000,12,40,28,25.269642857142856,23.755357142857143,"CDK18","SC",5,193.37012987012986,2.0227272727272978,"M",1.0460391551093182,0.85693384888703095,0.9995754242069218,0.90534227097298392,1.5840632343516343,"AQT0255",15,24.69,58,98,40,19.134740259740258,19.539285714285718]
["CDK2/CycA1","CDK2/CycA1","CDK2","CDK2","CDK2/A1","CMGC","33_03",112,"CDK2/A1","SC",0.75,3210.6617647058824,71.421568627451151,"VS",2.2245123859689353,0.6060035167043456,0.99964511666032096,0.98997699638514625,1.6833161688980431,"AQT0297",15,112,16,46,30,47.088602941176468,49.231250000000003,"CDK2/A1","SC",0.75,2587.6373626373625,102.8388278388275,"VS",3.9742364723785131,3.1185985731440278,0.9991362216888855,1.0145967342899556,1.5633729953440247,"AQT0297",15,1000,4,28,24,40.357142857142854,37.271978021978029,"CDK2/A1","SC",0.75,5987.2710622710611,114.92673992673966,"VS",1.9195179027546188,1.6853321735348485,0.99949795646314876,1.0059802812348473,2.5767186696382653,"AQT0297",15,1000,40,64,24,91.532967032967008,88.085164835164818,"CDK2/A1","SC",0.75,1619.7891737891744,3.4529914529915828,"VS",0.21317536311926305,0.64477432898485532,0.99862120300023449,1.0039336892385502,2.0571092140123639,"AQT0297",15,112,30,80,50,24.24504273504273,24.348632478632478]
["CDK2/CycA2","CDK2/CycA2","CDK2","CDK2","CDK2/A2","CMGC","09_03",33.18,"CDK2/A2","Carna",5,280.16608391608389,5.8741258741258831,"M",2.0966584505943686,1.2577399380804952,0.99845021065471917,0.99217002237136465,1.7555555555555555,"AQT0297",15,33.18,32,54,22,28.60402097902098,27.429195804195803,"CDK2/A2","Carna",5,455.24999999999994,12.090909090909106,"S",2.6558833807598261,1.8855942552879683,0.99825601926487195,1.0257149723624128,1.4654827413706855,"AQT0297",15,1000,0,20,20,46.734090909090909,44.315909090909088,"CDK2/A2","Carna",5,469.52272727272725,3.1136363636363735,"S",0.66314923277990434,1.2856251300187227,0.99976893737192896,1.0363975734951003,1.5335775335775335,"AQT0297",15,1000,2,22,20,47.263636363636365,46.640909090909091,"CDK2/A2","Carna",5,296.46240601503757,1.355263157894697,"M",0.45714503100469123,1.3745658562650283,0.99899844217164269,1.0019487750556793,2.0909355872923348,"AQT0297",15,33.18,30,68,38,29.51071428571429,29.781766917293229]
["CDK2/CycD1","CDK2/CycD1","CDK2","CDK2","CDK2/D1","CMGC","33_04",65,"CDK2/D1","PQ",5,2.5882352941176472,0.59926470588235425,"VW",23.15340909090914,-82.8125,0.589920727497798,0.99518177836180466,0.99819900945520035,"AQT0447",15,65,54,84,30,0.1988970588235294,0.31874999999999998,"CDK2/D1","PQ",5,1.2674825174825173,0.66433566433566404,"VW",52.413793103448256,-56.000000000000007,0.24037270631276089,0.99617444529456767,0.98073959938366717,"AQT0447",15,1000,66,88,22,6.0314685314685312E-2,0.19318181818181818,"CDK2/D1","PQ",5,1.8181818181818181,0.77272727272727249,"VW",42.499999999999986,-321.48760330578511,0.17075773745997855,1.0080878105141537,0.99355594610427644,"AQT0447",15,1000,78,98,20,0.10454545454545454,0.25909090909090909,"CDK2/D1","PQ",5,1.5297202797202794,0.33216783216783236,"VW",21.71428571428573,-83.333333333333343,0.22040566637479153,0.99272433306386421,0.98450244698205547,"AQT0447",15,65,98,120,22,0.1861888111888112,0.11975524475524475]
["CDK2/CycE1","CDK2/CycE1","CDK2","CDK2","CDK2/E1","CMGC","09_04",43.57,"CDK2/E1","Carna",1,1208.578629032258,5.2872983870966719,"VS",0.43748071164640367,0.55112810558248881,0.99948300044356264,0.97519083969465647,1.9467506441454336,"AQT0297",15,43.57,16,76,60,24.06582661290323,24.277318548387097,"CDK2/E1","Carna",1,2578.75,65.45454545454524,"VS",2.5382276472921084,1.2493232832215884,0.99614659866661548,1.0220066256507336,1.5380823268424946,"AQT0297",15,1000,0,20,20,52.884090909090901,50.265909090909091,"CDK2/E1","Carna",1,2858.181818181818,43.333333333333357,"VS",1.5161153519932156,2.772963604852686,0.99446971370253145,1.0490926012098651,1.5597865631821488,"AQT0297",15,1000,0,18,18,58.030303030303031,56.296969696969697,"CDK2/E1","Carna",1,1147.3214285714287,41.208791208791148,"VS",3.5917390002993059,2.407140598095372,0.99839789882693286,0.99475572729781947,1.6295657175726199,"AQT0297",15,43.57,30,54,24,23.770604395604394,22.122252747252748]
["CDK2/CycE2","CDK2/CycE2","CDK2","CDK2","CDK2/E2","CMGC","33_05",215,"CDK2/E2","SC",2,437.97119487908958,1.5961812014444019,"S",0.36444889986088208,2.3814758829187852,0.99910251507287562,0.98569549490299246,1.660572611245257,"AQT0297",15,215,46,120,74,17.455000547105811,17.582695043221364,"CDK2/E2","SC",2,453.23426573426576,0.1966783216783341,"S",4.3394406943107845E-2,10.177071924059875,0.996791771729031,0.98357487922705311,1.2304391721352852,"AQT0297",15,1000,6,28,22,18.137237762237763,18.121503496503497,"CDK2/E2","SC",2,670.90569314406514,2.196277559649662,"S",0.32736010173907559,1.4304505699451491,0.99899237431015697,0.99871465295629824,2.0735791610284169,"AQT0297",15,1000,36,120,84,26.748376623376622,26.924078828148595,"CDK2/E2","SC",2,210.59210526315789,4.067982456140351,"M",1.931688014162241,4.9842857775220217,0.99375373697785974,0.99610894941634243,1.3465461964441854,"AQT0297",15,215,44,80,36,8.5864035087719301,8.2609649122807021]
["CDK2/CycO","CDK2/CycO","CDK2","CDK2","CDK2/O","CMGC","32_05",78.180000000000007,"CDK2/O","SC",20,8.974546370967742,4.2086693548387115E-2,"VW",0.46895622139226667,9.1859529979447778,0.97990873305382209,1.0013295346628679,1.1417632043981936,"AQT0297",15,78.180000000000007,60,120,60,3.5729838709677417,3.6066532258064514,"CDK2/O","SC",20,18.438355227148328,0.40571975916803388,"VW",2.200411881482025,3.4811053608046088,0.99392888980405114,0.99332119004250152,1.237692932575142,"AQT0297",15,1000,66,120,54,7.2130541871921183,7.5376299945265455,"CDK2/O","SC",20,13.500213675213674,0.12564102564102561,"VW",0.93065953372058041,8.5790498161632165,0.97982378279207838,0.99594137542277339,1.2547755491881567,"AQT0297",15,1000,70,120,50,5.3498290598290597,5.4503418803418802,"CDK2/O","SC",20,14.323051948051948,0.36444805194805086,"VW",2.5444860024934757,3.7839697282421736,0.95816817531307885,0.99963846710050619,1.1839756977406495,"AQT0297",15,78.180000000000007,70,110,40,5.5834415584415584,5.8749999999999991]
["CDK3/CycE1","CDK3/CycE1","CDK3","CDK3","CDK3/E1","CMGC","09_05",69.59,"CDK3/E1","Carna",3,181.47893772893778,6.2042124542124695,"M",3.4186955973256037,21.152247586162797,0.9975491537680391,1.0229853226253116,1.3504223711039907,"AQT0297",15,69.59,34,58,24,10.516483516483515,11.260989010989011,"CDK3/E1","Carna",3,628.78787878787875,14.797979797979838,"S",2.3534136546184801,6.1589403973509933,0.9990748393924469,1.0096903805246986,1.3713723561239548,"AQT0297",15,1000,2,20,18,38.615151515151517,36.839393939393936,"CDK3/E1","Carna",3,866.06060606060601,33.762626262626284,"S",3.8984138091905791,5.5582290664100098,0.99920444265984321,1.043879907621247,1.4985604606525911,"AQT0297",15,1000,0,18,18,53.989393939393942,49.937878787878788,"CDK3/E1","Carna",3,169.36813186813185,8.2417582417582569,"M",4.8661800486618096,8.1413323518586687,0.99513965235499191,0.96828358208955223,1.2944491406029868,"AQT0297",15,69.59,40,64,24,10.656593406593409,9.6675824175824179]
["CDK3/CycE2","CDK3/CycE2","CDK3","CDK3","CDK3/E2","CMGC","33_06",405,"CDK3/E2","SC",0.5,1264.0259740259739,62.142857142857174,"VS",4.9162642556251956,1.1172311418414782,0.99549200265651838,0.96619848742089831,1.3934161691140874,"AQT0297",15,405,80,120,40,12.018831168831166,13.26168831168831,"CDK3/E2","SC",0.5,1086.3348164627364,3.9265850945494836,"VS",0.36145256830992623,3.7174821404501959,0.99423944097900996,1.0038572806171648,1.6267105930055754,"AQT0297",15,1000,62,120,58,10.824082313681869,10.902614015572858,"CDK3/E2","SC",0.5,1823.1653225806451,34.596774193548185,"VS",1.8976213382874851,4.4699055861526356,0.99790532497804341,1.0051771558000324,1.5580129295678802,"AQT0297",15,1000,40,100,60,18.577620967741936,17.885685483870972,"CDK3/E2","SC",0.5,474.33823529411762,4.5955882352941124,"S",0.96884203999379837,4.6551254089422027,0.98581849270124688,0.98971861471861466,1.2594793435200904,"AQT0297",15,405,90,120,30,4.7893382352941174,4.6974264705882351]
["CDK4/CycD1","CDK4/CycD1","CDK4","CDK4","CDK4/D1","CMGC","33_07",630,"CDK4/D1","SC",30,13.497960372960373,0.23018648018647983,"VW",1.7053426875337265,7.9574624129079563,0.95162558246219275,0.99713663956018783,1.1036960985626283,"AQT0258",15,630,98,120,22,8.2368881118881117,7.9606643356643358,"CDK4/D1","SC",30,8.5806277056277054,0.38852813852813839,"VW",4.5279687204389214,6.333401070243176,0.97920745857504599,0.96977450823604672,1.1196188531563722,"AQT0258",15,1000,80,120,40,4.9152597402597404,5.3814935064935066,"CDK4/D1","SC",30,19.921365914786968,5.0751879699248256E-2,"VW",0.25476104357671991,9.9513381995133816,0.99405915293674663,0.9913571910871033,1.2220421393841168,"AQT0258",15,1000,82,120,38,11.922368421052632,11.983270676691729,"CDK4/D1","SC",30,5.4309782608695647,2.9891304347826241E-2,"VW",0.55038526968878509,32.344812925170068,0.96963427316812889,0.99034981905910735,1.0788256585562035,"AQT0258",15,630,70,116,46,3.2765217391304349,3.2406521739130434]
["CDK4/CycD2","CDK4/CycD2","CDK4","CDK4","CDK4/D2","CMGC","33_08",375,"CDK4/D2","PQ",10,61.343629343629338,5.5144787644787687,"W",8.9894889224572072,2.8341741520036092,0.99734007550206127,1.0205261295269552,1.3173617619493907,"AQT0258",15,375,50,120,70,11.165830115830115,13.371621621621623,"CDK4/D2","PQ",10,85.206410256410237,1.2722222222222255,"W",1.4931062327279701,1.0057616496512685,0.99610977030212244,1.0038641448037422,1.7918834547346514,"AQT0258",15,1000,70,120,50,16.786837606837604,17.295726495726495,"CDK4/D2","PQ",10,115.45329670329669,0.33791208791208222,"M",0.29268292682926339,3.4800031123560538,0.99662945128937486,0.99864700311189281,1.5057154661892302,"AQT0258",15,1000,70,96,26,23.023076923076925,23.158241758241758,"CDK4/D2","PQ",10,60.84482758620689,0.37931034482759696,"W",0.62340606404082255,2.7757293295183039,0.99761727975339487,1.012954966070327,1.4811689648075737,"AQT0258",15,375,50,106,56,12.09310344827586,12.244827586206899]
["CDK4 /CycD3","CDK4 /CycD3","CDK4","CDK4","CDK4/D3","CMGC","09_06",116.2,"CDK4/D3","Carna",20,43.229895104895107,3.5729895104895091,"W",8.2650894752805542,4.6565025716385007,0.99144836237323619,0.9624449128185476,1.5207576047445954,"AQT0258",15,116.2,88,110,22,15.862762237762238,18.721153846153847,"CDK4/D3","Carna",20,91.964102564102561,7.0728632478632472,"W",7.6908957415565347,1.1495985311446659,0.99888356275083279,0.99422885572139308,2.724554577104239,"AQT0258",15,1000,70,120,50,33.956495726495724,39.614786324786323,"CDK4/D3","Carna",20,102.61948529411764,0.99724264705882237,"M",0.97178683385579834,1.5507207449189719,0.99928092016823078,1.0257367387033398,1.6769008860498662,"AQT0258",15,1000,10,42,32,41.446691176470587,40.648897058823529,"CDK4/D3","Carna",20,58.519301470588232,2.9007352941176459,"W",4.9568863968336219,0.85591642532064549,0.99171392114339552,0.9891609045038311,1.895516858095591,"AQT0258",15,116.2,90,120,30,22.247426470588234,24.568014705882351]
["CDK5/p25","CDK5/p25","CDK5","CDK5","CDK5/P25","CMGC","09_07",13.24,"CDK5/P25","Carna",2,907.89772727272714,9.2613636363636509,"S",1.0200888666374635,2.2992814745392063,0.99947593445483429,0.95851310985728511,1.4948979591836733,"AQT0255",15,13.24,2,22,20,36.686363636363637,35.945454545454545,"CDK5/P25","Carna",2,983.47570785070775,12.631917631917753,"S",1.2844158255340747,0.45902754165249909,0.9960930624920179,1.0367929708951125,2.7054218614091043,"AQT0255",15,1000,0,70,70,39.844305019305018,38.833751608751598,"CDK5/P25","Carna",2,1455.7575757575758,70.492424242424164,"VS",4.842318900915898,3.6933385888845094,0.99464920760791864,1.1085899513776336,1.7132414956423951,"AQT0255",15,1000,0,18,18,61.05,55.410606060606064,"CDK5/P25","Carna",2,857.69230769230762,6.5934065934065691,"S",0.76873798846892738,1.5698587127158559,0.99910989288936791,1.0346631785480707,1.5987780040733197,"AQT0255",15,13.24,0,24,24,34.043956043956044,34.571428571428569]
["CDK5/p35NCK","CDK5/p35NCK","CDK5","CDK5","CDK5/P35","CMGC","09_08",19.72,"CDK5/P35","SC",3,497.26715686274514,5.759803921568599,"S",1.1582916430490122,2.669270833333333,0.99911748026040448,1.0113950276243093,1.7599856063332133,"AQT0255",15,19.72,8,38,30,30.181617647058822,29.49044117647059,"CDK5/P35","SC",3,508.64038908246221,3.2055749128919802,"S",0.63022421767853032,0.34972594575011384,0.9994274170820916,1.065211307024909,3.4409356725146196,"AQT0255",15,1000,40,120,80,30.326088850174212,30.71075783972125,"CDK5/P35","SC",3,743.76262626262633,22.853535353535353,"S",3.0726920856958539,1.1105371900826446,0.99251303900205812,1.0817281232801321,1.5550458715596331,"AQT0255",15,1000,0,18,18,45.9969696969697,43.254545454545458,"CDK5/P35","SC",3,538.75291375291386,5.4195804195804458,"S",1.0059491617090366,2.0100502512562812,0.99848949351118377,1.0310932798395185,1.6212278876170656,"AQT0255",15,19.72,6,28,22,32.650349650349654,32]
["CDK6/CycD1","CDK6/CycD1","CDK6","CDK6","CDK6/D1","CMGC","09_09",132.9,"CDK6/D1","Carna",3,480.5361305361306,3.3508158508158323,"S",0.69730778559301088,1.2871949180875963,0.99244799479066537,1.0097254004576659,1.7743689320388349,"AQT0258",15,132.9,62,84,22,28.631118881118883,29.033216783216783,"CDK6/D1","Carna",3,690.94023023949023,5.3368794326241087,"S",0.7724082632696414,0.27149301468818776,0.99947315450539531,1.0269230769230768,3.0611906243517941,"AQT0258",15,1000,30,120,90,41.136201048411962,41.776626580326855,"CDK6/D1","Carna",3,869.73484848484861,18.030303030303031,"S",2.0730804407473538,1.957178919811762,0.99940434871935313,1.0448590710599444,1.606318852629391,"AQT0258",15,1000,8,28,20,51.102272727272727,53.265909090909091,"CDK6/D1","Carna",3,547.46503496503499,26.223776223776252,"S",4.790036723614886,1.0909004105795856,0.99594593845079771,1.0058616647127785,2.365004887585533,"AQT0258",15,132.9,94,116,22,31.274475524475523,34.421328671328673]
["CDK6/CycD2","CDK6/CycD2","CDK6","CDK6","CDK6/D2","CMGC","33_09",1000,"CDK6/D2","PQ",20,87.011363636363626,0.40909090909090995,"W",0.47015802533629464,3.4885844748858448,0.99794937169238651,0.93191113076157839,1.2498003878179538,"AQT0258",15,1000,32,50,18,34.640909090909091,34.968181818181819,"CDK6/D2","PQ",20,41.35054347826086,0.14918478260868895,"W",0.36078070578956128,0.7255989708956424,0.99741157186562168,0.99120114589727848,1.4394742421030315,"AQT0258",15,1000,24,70,46,16.480543478260874,16.599891304347825,"CDK6/D2","PQ",20,107.91607848673063,0.5378317334838999,"M",0.49837961221879623,2.2136734831612337,0.99894435323064823,1.0165436149849603,1.9369782971619365,"AQT0258",15,1000,42,84,42,42.951298701298704,43.381564088085824,"CDK6/D2","PQ",20,61.463586956521738,1.5279891304347879,"W",2.4860070915087671,0.75121980245150544,0.99869996245844672,1.0092345577672892,1.5974829351535837,"AQT0258",15,1000,14,60,46,23.974239130434778,25.196630434782609]
["CDK6/CycD3","CDK6/CycD3","CDK6","CDK6","CDK6/D3","CMGC","09_10",223.5,"CDK6/D3","Carna",20,94.717830882352942,0.57261029411765019,"W",0.60454329325687117,3.7817573662056527,0.99694178542256662,1.0083081570996979,2.2643984033453712,"AQT0258",15,223.5,74,104,30,38.116176470588236,37.658088235294116,"CDK6/D3","Carna",20,99.493596785383929,1.6175705365402313,"W",1.625803658530375,1.5497073970859043,0.99930762580388965,1.0219022510646927,2.8987262476508668,"AQT0258",15,1000,28,120,92,40.44446692876965,39.150410499537465,"CDK6/D3","Carna",20,128.86742424242422,3.3181818181818197,"M",2.5748802210399475,2.6490066225165565,0.99914368221982064,1.0299222022740875,1.6324607329842933,"AQT0258",15,1000,16,34,18,52.874242424242425,50.219696969696969,"CDK6/D3","Carna",20,99.816259398496229,1.5009398496240676,"W",1.5037027621240231,1.6519871106337274,0.99910127253501724,1.003526645768025,1.9377518130539886,"AQT0258",15,223.5,30,68,38,40.52687969924812,39.326127819548866]
["CDK7/CycH/MAT1","CDK7/CycH/MAT1","CDK7","CDK7","CDK7","CMGC","24_12",42.03,"CDK7","Carna",20,99.998369565217374,4.135869565217396,"W",4.1359369989728147,2.00774068698597,0.99750208076354274,0.98452194357366773,1.3734417344173442,"AQT0733",15,42.03,44,90,46,41.653695652173916,38.344999999999999,"CDK7","Carna",20,93.610762548262542,1.9891409266409352,"W",2.1249062313912903,2.6241367759224898,0.99859672057704096,0.9856202356202356,2.5600578871201156,"AQT0733",15,1000,50,120,70,38.239961389961394,36.648648648648646,"CDK7","Carna",20,129.38374125874125,5.4829545454545316,"M",4.237746174374208,0.57871937186950051,0.99823930696245677,1.0029513034923758,1.9699317226890756,"AQT0733",15,1000,70,92,22,49.560314685314687,53.946678321678313,"CDK7","Carna",20,94.090865384615341,0.2519230769230773,"W",0.26774445733205987,1.2271505376344087,0.99734547169686505,0.98865158243462326,1.4334085778781041,"AQT0733",15,42.03,46,94,48,37.737115384615372,37.53557692307691]
["CDK7/CycH1","CDK7/CycH1","CDK7","CDK7","CDK7/H1","CMGC","33_10",69,"CDK7/H1","SC",10,52.195175438596486,2.8508771929827148E-2,"W",5.4619553800265452E-2,1.0408703322552191,0.98741512488834871,1.0682752947628187,1.3708563535911602,"AQT0733",15,69,84,120,36,10.433333333333334,10.444736842105264,"CDK7/H1","SC",10,47.308823529411761,"NA","W","NA","NA",0.98428868613623566,0.99658469945355188,1.5033365109628218,"AQT0733",15,1000,90,120,30,"",9.4617647058823522,"CDK7/H1","SC",10,96.625000000000014,4.0855263157894841,"W",4.2282290460951968,1.4851276873238251,0.99629039411089892,1.0615337517220267,1.5994250119789171,"AQT0733",15,1000,64,100,36,20.142105263157895,18.507894736842101,"CDK7/H1","SC",10,27.279785431959347,1.6840767927724465,"VW",6.1733505821474823,6.4985795454545459,0.98702399489361181,0.99456655964435658,1.1940373926225367,"AQT0733",15,69,48,90,42,5.7927724449463582,5.1191417278373796]
["CDK9 (TAK)/CycK","CDK9/CycK","CDK9","CDK9","CDK9/K","CMGC","09_11",46.62,"CDK9/K","Carna",60,5.4879807692307709,0.10641025641025573,"VW",1.9389691925828456,6.4873949579831933,0.99027757485235712,0.98896020539152762,1.2246494066882416,"AQT0449",15,46.62,22,70,48,6.7132692307692308,6.457884615384617,"CDK9/K","Carna",60,8.9569805194805205,0.20319264069264059,"VW",2.2685394955444784,5.6724611161939613,0.99173824166496249,1.0097297297297296,1.2516114180478821,"AQT0449",15,1000,10,50,40,10.992207792207791,10.504545454545454,"CDK9/K","Carna",60,9.298713738368912,4.7892720306511967E-3,"VW",5.150467220954888E-2,5.5816326530612237,0.99582785208899716,1.0141567501025852,1.3088462386940216,"AQT0449",15,1000,6,60,54,11.152709359605911,11.164203612479474,"CDK9/K","Carna",60,6.0032894736842106,0.19773391812865487,"VW",3.2937595129375934,2.2784597275937446,0.98808645842695764,1.0024801587301588,1.3254484013517027,"AQT0449",15,46.62,56,92,36,7.4412280701754385,6.9666666666666668]
["CDK9 (TAK)/CycT1","CDK9/CycT1","CDK9","CDK9","CDK9/T1","CMGC","09_12",31.54,"CDK9/T1","Carna",15,44.214285714285722,0.26785714285713524,"W",0.60581583198705857,2.4551188743328485,0.995421455438247,0.98948422633950928,1.1798429319371728,"AQT0449",15,31.54,0,28,28,13.344642857142855,13.183928571428574,"CDK9/T1","Carna",15,46.354131054131066,1.0917378917378961,"W",2.3552116433009926,2.5848839439861884,0.99126332848935594,1.0377481998690814,1.3695001151808339,"AQT0449",15,1000,0,50,50,14.233760683760684,13.578717948717946,"CDK9/T1","Carna",15,54.587912087912095,1.5064102564102586,"W",2.7596040932729444,4.0983606557377046,0.99238855035057316,1.0385182066933276,1.2180518319928506,"AQT0449",15,1000,0,24,24,15.924450549450549,16.828296703296704,"CDK9/T1","Carna",15,39.225146198830409,0.16511867905056654,"W",0.42095108636074363,7.2364672364672362,0.99633682514227029,0.86835008580534445,1.1489686783804431,"AQT0449",15,31.54,14,48,34,11.817079463364292,11.718008255933952]
["CDK9 (TAK)/CycT2","CDK9/CycT2","CDK9","CDK9","CDK9/T2","CMGC","33_11",28,"CDK9/T2","Carna",8,32.434920262664171,1.323727720450282,"W",4.0811807451058373,17.132418069087691,0.98869744251480585,1.0397504714928187,1.1694431937565661,"AQT0449",15,28,2,80,78,5.4013836772983117,4.9777908067542214,"CDK9/T2","Carna",8,31.650075604838712,0.36290322580645185,"W",1.1466109286354143,5.0039127032431967,0.98483629018933916,1.0292906178489702,1.1800970873786407,"AQT0449",15,1000,0,60,60,5.1220766129032258,5.0059475806451612,"CDK9/T2","Carna",8,60.980425824175839,0.48076923076924011,"W",0.78839926791498072,9.2739582117427339,0.98458915658267931,1.0192921160565092,1.2113195446528779,"AQT0449",15,1000,48,72,24,9.679945054945053,9.8337912087912098,"CDK9/T2","Carna",8,27.74147727272727,2.7556818181818192,"VW",9.9334357398873578,35.880077369439071,0.97136217548756398,1.0083572734395403,1.0506738544474392,"AQT0449",15,28,0,20,20,3.9977272727272726,4.8795454545454549]
["CDKL5","CDKL5","CDKL5","CDKL5","CDKL5","CMGC","32_06",346,"CDKL5","INVT",120,1.9347426470588236,0.54733455882352933,"VW",28.2897862232779,39.247881355932201,0.94056384218833933,0.93866231647634579,1.0174633713186325,"AQT0448",15,346,90,120,30,3.3297794117647057,5.9569852941176471,"CDKL5","INVT",120,4.2695981554677216,5.1465744400526946E-2,"VW",1.2054001928640292,4.0843214756258241,0.99543720880580067,0.96907216494845361,1.2221004852089528,"AQT0448",15,1000,76,120,44,10.370553359683795,10.123517786561266,"CDKL5","INVT",120,3.1674783549783556,0.11958874458874466,"VW",3.7755189203040933,1.9059205190592048,0.98538068771601073,0.94870305845915603,1.1560660717676097,"AQT0448",15,1000,80,120,40,7.3149350649350646,7.888961038961039,"CDKL5","INVT",120,1.2408486121721416,0.14381207028265963,"VW",11.589815943051459,17.264021887824899,0.94186313496650309,0.95719308974162975,1.0314972165250511,"AQT0448",15,346,54,120,66,2.6328877005347593,3.3231856378915201]
["TRPM7 (CHAK1)","TRPM7","CHAK1","ChaK1","CHAK1","Atypical","25_12",396.8,"CHAK1","Carna",3,833.38493292053681,23.120915032679726,"S",2.7743380182857593,3.0738570824910632,0.99928563916167223,0.98855544252288907,2.2860541969596828,"AQT0349",15,396.8,86,120,34,48.615841073271412,51.390350877192979,"CHAK1","Carna",3,910.05845130845137,20.820999570999692,"S",2.2878749756198582,0.4451993960387246,0.99951611568636434,1.0202721859937625,2.8778144701290902,"AQT0349",15,1000,50,120,70,53.354247104247101,55.852767052767064,"CHAK1","Carna",3,1088.0964381720428,28.837365591397969,"VS",2.650258247315243,2.2244847443220297,0.99961855578376724,1.0194040194040195,2.6711831599322524,"AQT0349",15,1000,60,120,60,63.555544354838695,67.016028225806451,"CHAK1","Carna",3,746.74492604059151,22.389920880632925,"S",2.9983358573789429,0.93693761719585711,0.99855055224647327,1.0076506216130061,2.4504682109413505,"AQT0349",15,396.8,86,120,34,43.461300309597526,46.148090815273477]
["CHEK1 (CHK1)","CHEK1","CHK1","CHK1","CHK1","CAMK","07_11",40.99,"CHK1","Carna",5,250.10584677419354,1.0809200879765335,"M",0.43218505361549392,1.734952013352806,0.99678411842998649,0.99018092553868531,1.4670629506918729,"AQT0694",15,40.99,52,114,62,24.902492668621701,25.118676686217007,"CHK1","Carna",5,404.98101673101672,10.44755469755472,"S",2.5797640545936638,2.4981375851985277,0.99800653449154231,1.0238542890716804,2.2609463722397476,"AQT0694",15,1000,50,120,70,39.4533462033462,41.542857142857144,"CHK1","Carna",5,399.94642857142856,2.7589285714286045,"S",0.68982453007099997,2.544794738035836,0.9939557727690993,1.0183047685670981,2.1181841237636316,"AQT0694",15,1000,86,114,28,40.270535714285714,39.718749999999993,"CHK1","Carna",5,392.38636363636351,0.36363636363631707,"S",9.267303793801307E-2,0.5976278208583109,0.99740491885417049,0.9172368849788205,1.5703277745830937,"AQT0694",15,40.99,62,82,20,39.274999999999999,39.202272727272735]
["CHEK2 (CHK2)","CHEK2","CHK2","CHK2","CHK2","CAMK","07_12",38.82,"CHK2","Carna",2,912.12820512820508,50.820512820512846,"S",5.5716414134315384,7.1876846425320577,0.99701481069529152,0.86783042394014964,1.4251544571932921,"AQT0694",15,38.82,40,90,50,34.452307692307691,38.51794871794872,"CHK2","Carna",2,1240.2898185483871,2.6940524193548749,"VS",0.21721152419907352,0.48568661865278706,0.99812644710503118,1.0389241942805265,1.7697677217475025,"AQT0694",15,1000,0,60,60,49.719354838709677,49.503830645161287,"CHK2","Carna",2,1397.7272727272725,67.329545454545411,"VS",4.8170731707317049,3.4207525655644244,0.99477390279805045,1.038928035116091,1.3133261879242586,"AQT0694",15,1000,0,20,20,53.215909090909093,58.602272727272727,"CHK2","Carna",2,694.38596491228054,8.771929824561342,"S",1.2632642748862977,2.2490789734598242,0.99400240076317126,0.99883597883597885,1.5691231238009253,"AQT0694",15,38.82,58,94,36,27.424561403508772,28.126315789473679]
["CSNK1A1 (CK1A1, CK1α)","CSNK1A1","CK1a","CK1a","CK1A1","CK1","11_03",13.16,"CK1A1","Carna",3,565.07575757575762,4.6212121212121229,"S",0.81780399517361602,1.4858023332599604,0.99497770957811704,0.96967335081130868,1.1184993902876408,"AQT0709",15,13.16,14,34,20,34.18181818181818,33.627272727272725,"CK1A1","Carna",3,874.93131868131888,34.592490842490818,"S",3.9537378653478781,9.1233703324383431,0.99846898023323094,1.0120740328858526,1.2241671372106155,"AQT0709",15,1000,2,26,24,54.571428571428569,50.420329670329672,"CK1A1","Carna",3,928.71503496503499,29.734848484848499,"S",3.2017192965943511,2.1159754224270353,0.99726319075943015,0.97759038026079492,1.1709065133496102,"AQT0709",15,1000,2,24,22,53.938811188811187,57.506993006993007,"CK1A1","Carna",3,488.44021739130437,5.882246376811592,"S",1.2042919823899645,5.8870019114836056,0.99648681461027344,0.96739749430523914,1.1632697155203457,"AQT0709",15,13.16,4,50,46,29.659347826086957,28.953478260869566]
["CSNK1A1L (CK1A1L, CK1a2)","CSNK1A1L","CK1a2","CK1a2","CK1A1L","CK1","25_11",12.43,"CK1A1L","SC",4,393.26298701298691,2.9870129870129825,"S",0.75954592363260998,6.0438782731776364,0.99874112546551397,0.98810898960385951,1.1646968319462898,"AQT0709",15,12.43,0,40,40,31.222077922077922,31.7,"CK1A1L","SC",4,709.1098484848485,15.47348484848485,"S",2.1820998370770015,6.6300643695569859,0.99917040747632913,1.0374434498026759,1.2594047735978784,"AQT0709",15,1000,2,20,18,55.490909090909092,57.966666666666669,"CK1A1L","SC",4,633.18283976731891,5.5636898466419717,"S",0.87868613885469604,0.9723512073003312,0.99846810145777432,1.0311076804322656,2.0430314707771355,"AQT0709",15,1000,0,120,120,51.099722369116868,50.209531993654153,"CK1A1L","SC",4,322.02953296703288,6.7479395604394856,"S",2.0954412156757969,10.016148725826145,0.99412442969763337,1.0238441158875309,1.1696343264136195,"AQT0709",15,12.43,12,36,24,25.222527472527478,26.302197802197796]
["CSNK1D (CK1D, CK1δ)","CSNK1D","CK1d","CK1d","CK1D","CK1","11_04",14.19,"CK1D","Carna",1,1019.2830882352941,0.7352941176470118,"VS",7.2138361377116711E-2,1.2398491879350348,0.98900164059852724,0.97613331450360119,1.2490249891665464,"AQT0709",15,14.19,74,104,30,20.400367647058822,20.370955882352941,"CK1D","Carna",1,2534.090909090909,1.1363636363638461,"VS",4.4843049327362536E-2,3.0788938952204257,0.99855071695495679,1.001916626736943,1.1672762740794926,"AQT0709",15,1000,0,20,20,50.70454545454546,50.659090909090907,"CK1D","Carna",1,637.9289215686274,7.7205882352941568,"S",1.2102583805590303,1.2237131327712345,0.96288027175756186,0.98797264366008963,1.1459622272875285,"AQT0709",15,1000,48,80,32,12.912990196078431,12.604166666666664,"CK1D","Carna",1,1175,13.279220779220857,"VS",1.1301464492953921,3.2452995337406789,0.99306165488279885,1.0032218801460586,1.2062404315812496,"AQT0709",15,14.19,50,90,40,17.850649350649348,18.381818181818183]
["CSNK1E (CK1E, CK1ε)","CSNK1E","CK1e","CK1e","CK1E","CK1","11_05",14.97,"CK1E","Carna",1,1891.8859649122808,25.219298245614034,"VS",1.3330242262663727,13.982770046388337,0.99647112596529985,0.77458298176153695,1.099577669262241,"AQT0709",15,14.97,36,72,36,37.333333333333336,38.342105263157897,"CK1E","Carna",1,3083.6363636363635,59.090909090908987,"VS",1.9162735849056571,2.2983230361871136,0.98899008332491201,1.0075308078502967,1.1997052892818365,"AQT0709",15,1000,0,20,20,60.490909090909092,62.854545454545452,"CK1E","Carna",1,3366.136363636364,125.68181818181863,"VS",3.7337114306934165,2.7347799663961676,0.99011030803155053,0.98655359462143788,1.1974225603602204,"AQT0709",15,1000,0,20,20,69.836363636363643,64.809090909090898,"CK1E","Carna",1,839.90259740259728,79.318181818181742,"S",9.4437357454868689,9.1043338683788129,0.99137638231089398,1.0077031802120142,1.1596011763861989,"AQT0709",15,14.97,30,70,40,15.211688311688311,18.384415584415581]
["CSNK1G1 (CK1G1, CK1γ1)","CSNK1G1","CK1g1","CK1g1","CK1G1","CK1","11_06",16.23,"CK1G1","Carna",1,2583.4375,100.79044117647058,"VS",3.9014081500508753,7.6684978681534925,0.99820973722124728,0.99042567846810858,1.213874859708193,"AQT0709",15,16.23,2,32,30,53.684558823529414,49.652941176470591,"CK1G1","Carna",1,3143.7393162393168,332.10256410256409,"VS",10.56393455993801,1.3512314062100257,0.99836067799855088,1.0263301394406792,2.1942125314095806,"AQT0709",15,1000,70,120,50,56.232735042735044,69.516837606837612,"CK1G1","Carna",1,2584.4852941176468,22.077205882352931,"VS",0.85422060371561026,4.9934751660866814,0.99736077251224253,1.0129196967352623,1.502703562340967,"AQT0709",15,1000,20,50,30,51.248161764705884,52.131250000000001,"CK1G1","Carna",1,1927.5384615384617,75.837606837606742,"VS",3.9344276833302243,1.3133208255159474,0.997821317885075,0.96246097076355375,1.2945787067276289,"AQT0709",15,16.23,10,60,50,37.034017094017095,40.067521367521366]
["CSNK1G2 (CK1G2, CK1γ2)","CSNK1G2","CK1g2","CK1g2","CK1G2","CK1","11_07",15.09,"CK1G2","Carna",1,2428.4340659340664,51.263736263736696,"VS",2.1109791277787378,4.6194749086075104,0.99786584247380383,0.9767088257654295,1.2128909013725768,"AQT0709",15,15.09,10,36,26,47.543406593406587,49.593956043956055,"CK1G2","Carna",1,3438.0544354838712,18.371975806451957,"VS",0.53437128908828024,3.0035131197320224,0.99081016614448025,1.0468871898892183,1.7736141725855172,"AQT0709",15,1000,0,60,60,69.128528225806463,68.393649193548384,"CK1G2","Carna",1,4931.818181818182,124.65909090909085,"VS",2.5276497695852522,2.1456676776784986,0.97648534371997919,1.0237416172049643,1.3470505398216241,"AQT0709",15,1000,0,20,20,96.143181818181816,101.12954545454545,"CK1G2","Carna",1,2238.36038961039,85.129870129870255,"VS",3.8032244729227003,4.4368664806621005,0.99800671901428906,0.98639501373902549,1.3483369983507423,"AQT0709",15,15.09,20,60,40,43.064610389610387,46.469805194805197]
["CSNK1G3 (CK1G3, CK1γ3)","CSNK1G3","CK1g3","CK1g3","CK1G3","CK1","11_08",14.99,"CK1G3","Carna",1,1471.0845588235293,13.216911764705937,"VS",0.89844677421370667,0.53168402777777779,0.99298789886297445,0.98332074953668747,1.2031459406080272,"AQT0709",15,14.99,30,60,30,29.686029411764707,29.15735294117647,"CK1G3","Carna",1,2290.8165322580649,6.6733870967743405,"VS",0.29131041280710346,1.2193863417866591,0.99360855640826873,1.0256529850746268,1.4811244329228774,"AQT0709",15,1000,0,60,60,45.682862903225804,45.949798387096777,"CK1G3","Carna",1,2447.1840659340664,44.024725274725185,"VS",1.7989952569391781,1.8246578766481285,0.99936046961447345,1.0075448456386173,1.1928258145363408,"AQT0709",15,1000,0,24,24,48.06318681318681,49.824175824175818,"CK1G3","Carna",1,1357.0465686274511,5.5453431372547426,"VS",0.40863322346140513,6.5064260998517049,0.9944629824651684,1.0169289961525008,1.2753832803008389,"AQT0709",15,14.99,42,74,32,27.251838235294116,27.030024509803926]
["CSNK2A1 (CK2A1, CK2α1)","CSNK2A1","CK2a1","CK2a1","CK2A1","Other","25_01",15.56,"CK2A1","INVT",10,294.55681818181819,17.056818181818173,"M",5.7906716561861007,67.573504562352156,0.98925515178900469,0.95331610680447887,1.0131591820761177,"AQT0696",15,15.56,0,20,20,62.322727272727271,55.5,"CK2A1","INVT",10,440.8181818181817,33.375000000000014,"S",7.5711486904516443,10.011223344556678,0.93307480398673281,1.0138426727006522,1.1315404852382345,"AQT0696",15,1000,0,20,20,94.838636363636368,81.48863636363636,"CK2A1","INVT",10,452.20454545454544,28.681818181818173,"S",6.3426647233251225,14.560543191248584,0.94544385850928669,0.99264811053580115,1.1023847286733885,"AQT0696",15,1000,0,20,20,96.177272727272722,84.704545454545453,"CK2A1","INVT",10,329.77272727272725,15.840909090909088,"S",4.8035837353549269,54.308544812078374,0.96783879731721134,0.98557506035227849,1.0671033522036812,"AQT0696",15,15.56,0,20,20,69.122727272727275,62.786363636363639]
["CSNK2A2 (CK2A2, CK2α2)","CSNK2A2","CK2a2","CK2a2","CK2A2","Other","25_02",13.62,"CK2A2","INVT",15,234.06060606060612,12.204545454545437,"M",5.2142672190574748,24.797077922077921,0.91259259145951765,0.96122597908051566,1.0383271002908754,"AQT0696",15,13.62,0,20,20,73.87954545454545,66.556818181818187,"CK2A2","INVT",15,343.5,7.9393939393939412,"S",2.3113228353403033,13.586965941589394,0.91294878755168529,1.0258529781950538,1.1756824652487019,"AQT0696",15,1000,0,20,20,105.43181818181819,100.66818181818182,"CK2A2","INVT",15,241.89381720430106,0.6703629032258126,"M",0.27713106146058741,1.4929569017864504,0.99495677440845431,1.0134691664526438,1.4895892593013995,"AQT0696",15,1000,60,120,60,72.367036290322574,72.769254032258061,"CK2A2","INVT",15,231.23484848484847,5.61363636363635,"M",2.42767748910657,22.077593542303887,0.92940119954499822,1.0309244401868041,1.1182117224880384,"AQT0696",15,13.62,0,20,20,71.054545454545448,67.686363636363637]
["CLK1","CLK1","CLK1","CLK1","CLK1","CMGC","22_08",25.6,"CLK1","SC",20,27.993749999999999,2.884615384615152E-2,"VW",0.10304497913338342,1.0897736143637784,0.99772339303624846,0.99883158070438993,1.2225117248566961,"AQT0360",15,25.6,12,60,48,11.185961538461539,11.20903846153846,"CLK1","SC",20,39.480519480519476,5.0324675324668888E-2,"W",0.12746710526314162,3.3193733519466417,0.99281143995376786,0.9909816676522768,1.1948278597493256,"AQT0360",15,1000,0,40,40,15.772077922077925,15.81233766233766,"CLK1","SC",20,89.096590909090907,2.0340909090909061,"W",2.2830176646897486,2.7145064839078143,0.99767263724716815,0.99269901083372591,1.1683254540930581,"AQT0360",15,1000,0,20,20,36.452272727272728,34.825000000000003,"CLK1","SC",20,27.749999999999996,0.28057275541795706,"VW",1.0110729924971427,8.7301587301587293,0.98879140695036194,0.99594843462246774,1.0894526034712952,"AQT0360",15,25.6,8,42,34,6.6369969040247678,6.4125386996904021]
["CLK2","CLK2","CLK2","CLK2","CLK2","CMGC","22_09",40.840000000000003,"CLK2","Carna",2,332.78006715506723,1.5415140415140358,"S",0.46322306942612901,0.48694112439132359,0.9977125279410195,1.0032829940906107,1.4281815080177416,"AQT0360",15,40.840000000000003,50,102,52,13.249542124542124,13.372863247863247,"CLK2","Carna",2,569.56654456654451,1.9192612942612537,"S",0.33696875502437795,0.85806685400556548,0.99783600407265516,1.0123893805309734,1.8686658114175754,"AQT0360",15,1000,68,120,52,22.859432234432237,22.705891330891337,"CLK2","Carna",2,1334.8039215686276,57.169117647058961,"VS",4.2829599706206487,1.3551749813849592,0.99633004739837294,1.029773156899811,2.4450611832975904,"AQT0360",15,1000,82,114,32,51.105392156862735,55.678921568627452,"CLK2","Carna",2,278.43344155844159,11.168831168831161,"M",4.0113109640556193,1.0773358965116746,0.99539993572639041,0.98997852541159626,1.2206755753526355,"AQT0360",15,40.840000000000003,20,60,40,10.690584415584416,11.584090909090909]
["CLK3","CLK3","CLK3","CLK3","CLK3","CMGC","22_10",53.61,"CLK3","Carna",5,206.25874125874125,9.3968531468531502,"M",4.5558569249025274,1.8825494731431511,0.99830833692403853,1.0052510666229078,1.2202411275258958,"AQT0360",15,53.61,12,34,22,19.68618881118881,21.56555944055944,"CLK3","Carna",5,274.02670527670523,2.8124195624195631,"M",1.0263304664337927,1.8836096675740328,0.99913419853019436,1.0314868804664723,2.0594620103822558,"AQT0360",15,1000,50,120,70,27.683912483912483,27.12142857142857,"CLK3","Carna",5,778.09090909090912,6.7727272727271517,"S",0.87042878840984539,2.2998963782950441,0.9971321172154074,1.051722165007438,1.4313466842547067,"AQT0360",15,1000,0,20,20,77.131818181818204,78.486363636363635,"CLK3","Carna",5,209.05639097744361,0.29699248120298449,"M",0.14206333507165006,0.65122103944896681,0.99966518615739597,1.0025107604017216,1.2963994060876021,"AQT0360",15,53.61,0,38,38,20.875939849624061,20.935338345864658]
["CLK4","CLK4","CLK4","CLK4","CLK4","CMGC","22_11",32.57,"CLK4","SC",120,2.9399766899766897,6.7744755244755206E-2,"VW",2.3042616451932596,5.0019091256204655,0.98598202646766986,0.98262579904933622,1.147915960691291,"AQT0360",15,32.57,98,120,22,6.8933566433566433,7.2185314685314683,"CLK4","SC",120,1.4261592741935489,3.7802419354841332E-4,"VW",2.6506449902811514E-2,15.047438330170776,0.97466154162470575,0.97477504056645525,1.0807856803421512,"AQT0360",15,1000,60,120,60,3.421875,3.4236895161290324,"CLK4","SC",120,7.3353729603729603,0.14240967365967433,"VW",1.941410129096335,4.1385767790262173,0.96878376686785383,0.95443925233644855,1.277431421446384,"AQT0360",15,1000,98,120,22,17.946678321678323,17.263111888111887,"CLK4","SC",120,2.8806818181818183,0.17803030303030265,"VW",6.1801446416830901,3.5541343079031527,0.98576222220801901,0.99981864345302862,1.1867843063638071,"AQT0360",15,32.57,100,120,20,6.4863636363636372,7.3409090909090899]
["CIT (CRIK)","CIT","CRIK","CRIK","CRIK","AGC","08_12",18.7,"CRIK","Carna",20,38.392389112903217,0.45942540322580599,"W",1.1966574986379233,25.616433735481621,0.98643660128773136,1.0006717420510525,1.2257988351959703,"AQT0694",15,18.7,30,90,60,15.54072580645161,15.173185483870965,"CRIK","Carna",20,42.793139976621859,1.0832115721800182,"W",2.531273874204564,1.8288762118314317,0.9981939375285509,1.0067951431435891,1.4847913228012262,"AQT0694",15,1000,4,120,116,16.683971361776734,17.550540619520749,"CRIK","Carna",20,50.135989010989007,2.3282967032967057,"W",4.6439628482972184,10.011769898484625,0.99070933011933993,0.99476694657417553,1.1228802834725387,"AQT0694",15,1000,0,26,26,19.123076923076919,20.985714285714284,"CRIK","Carna",20,22.45186491935484,7.9133064516125881E-2,"VW",0.35245653223179907,3.7545787545787546,0.97082572090622166,1.0170212765957447,1.2650807136788447,"AQT0694",15,18.7,50,110,60,9.0123991935483865,8.9490927419354858]
["CSK","CSK","CSK","CSK","CSK","TK","01_09",63.72,"CSK","Carna",20,91.766640866873061,1.6627966976264206,"W",1.8119838341240573,2.2102647459970481,0.99739634228502383,1.0083178393189158,1.6011321136156877,"AQT0101",15,63.72,74,108,34,36.041537667698655,37.371775025799792,"CSK","Carna",20,147.42857142857142,2.0288461538461622,"M",1.3761553369111568,0.83823529411764708,0.99811956564934856,1.0119157797316058,2.2014134275618371,"AQT0101",15,1000,94,120,26,58.159890109890107,59.782967032967036,"CSK","Carna",20,143.30201048951048,1.2915209790209745,"M",0.90125810141059548,1.2079386098944009,0.99613124749853688,1.0184276654301783,2.1897951763422618,"AQT0101",15,1000,96,118,22,57.837412587412587,56.804195804195807,"CSK","Carna",20,90.881433823529406,2.3777573529411806,"W",2.6163290486352055,2.1667367535744324,0.99607642968856736,1.0080167623212171,1.5483305663161779,"AQT0101",15,63.72,78,108,30,37.303676470588236,35.401470588235291]
["MATK (CTK)","MATK","MATK","CTK","CTK","TK","26_02",351.2,"CTK","INVT",80,18.602305761099363,0.21498414376321492,"VW",1.1556854646093599,3.0239752513534413,0.99856313728283919,0.98164864596766199,1.6636214329706425,"AQT0101",15,351.2,34,120,86,30.107663847780127,29.41971458773784,"CTK","INVT",80,44.416118421052623,1.1225328947368494,"W",2.5273097574523407,3.3273862622658341,0.99963501244847808,0.99076691162615416,2.2345444169678528,"AQT0101",15,1000,14,50,36,72.861842105263179,69.26973684210526,"CTK","INVT",80,15.333771008403373,0.18898809523809398,"VW",1.2324958755059192,1.0451306413301662,0.99915584249052825,0.99691085613415709,1.7183185977974251,"AQT0101",15,1000,52,120,68,21.231652661064427,21.836414565826328,"CTK","INVT",80,0.14636318542568541,6.5836940836940918E-3,"VW",4.4981899406916801,21.074380165289259,0.31047631432905748,1.0050112320718854,1.0155614500442085,"AQT0101",15,351.2,12,120,108,0.22364718614718612,0.24471500721500722]
["DAPK1","DAPK1","DAPK1","DAPK1","DAPK1","CAMK","29_12",7.532,"DAPK1","SC",3,699.67572463768124,0.83333333333328607,"S",0.11910279347833853,6.2190870023514142,0.99309476681187403,1.008048692587995,1.1739958522029881,"AQT0173",15,7.532,4,50,46,42.030543478260867,41.930543478260873,"DAPK1","SC",3,697.03296703296724,"NA","S","NA","NA",0.98127499194776913,0.98515624999999996,1.1940761150335801,"AQT0173",15,1000,0,26,26,"",41.821978021978033,"DAPK1","SC",3,595.65527065527067,20.096866096866133,"S",3.3739088843716432,1.9642928947685874,0.97885430957196051,1.0100958167796215,1.1986397383313432,"AQT0173",15,1000,0,50,50,36.945128205128206,34.533504273504271,"DAPK1","SC",3,504.47916666666669,8.547794117647042,"S",1.694380002672137,7.5936938958707358,0.97879553017833176,1.0296312554872695,1.1688902365069738,"AQT0173",15,7.532,0,30,30,30.781617647058823,29.755882352941178]
["DAPK2 (DRP-1)","DAPK2","DAPK2","DAPK2","DAPK2","CAMK","30_01",9.91,"DAPK2","SC",3,365.79807361541111,11.515307877536992,"S",3.1479957681909045,4.8623947422468685,0.98338331778510435,0.95644227840389884,1.1377028316894688,"AQT0173",15,9.91,48,82,34,22.638802889576883,21.256965944272444,"DAPK2","SC",3,305.92307692307691,8.7756410256410202,"S",2.8685776548487119,3.6669442131557033,0.9766510964359878,0.97926288999905742,1.0629884092935438,"AQT0173",15,1000,2,50,48,18.881923076923076,17.828846153846154,"DAPK2","SC",3,200.50085800085802,1.4366151866151828,"M",0.71651323637180397,5.3973957373625696,0.98478004019992016,0.96295424221018755,1.165598681801538,"AQT0173",15,1000,20,90,70,11.943854568854571,12.116248391248392,"DAPK2","SC",3,279.05722326454031,7.657520325203274,"M",2.7440681289744315,2.0272802998750521,0.98923803827278944,0.98207530174743285,1.1138400265516095,"AQT0173",15,9.91,12,90,78,16.283982176360222,17.202884615384615]
["DAPK3 (ZIPK)","DAPK3","DAPK3","DAPK3","DAPK3","CAMK","30_02",12.45,"DAPK3","Carna",3,309.63675213675225,10.844729344729338,"S",3.5024037908586902,-72.186495176848865,0.97223884129735583,0.83880666049953745,0.98112864077669903,"AQT0173",15,12.45,30,80,50,17.927521367521372,19.228888888888893,"DAPK3","Carna",3,362.89215686274508,16.268382352941181,"S",4.4829798730244512,7.1052014995313968,0.97697229802210206,0.99231571957119813,1.0551307223313011,"AQT0173",15,1000,0,30,30,20.797426470588235,22.749632352941177,"DAPK3","Carna",3,246.71365914786969,6.8796992481203008,"M",2.7885360185902397,35.270270270270274,0.97676301464956472,0.95968489341983321,1.0575975092968952,"AQT0173",15,1000,4,42,38,14.390037593984962,15.215601503759398,"DAPK3","Carna",3,286.8650793650794,4.2997198879551073,"M",1.4988648661843782,3.5255570117955446,0.98489191024838296,0.98535182988044168,1.1056815978281946,"AQT0173",15,12.45,12,80,68,16.953921568627457,17.46988795518207]
["DCLK1 (DCAMKL1)","DCLK1","DCAMKL1","DCAMKL1","DCAML1","CAMK","30_10",152.6,"DCAML1","Carna",8,241.72061965811963,2.1538461538461506,"M",0.89104775459059626,2.179844866174081,0.99475295009552145,0.98942478146585977,1.3253582312131234,"AQT0426",15,152.6,20,70,50,38.330683760683762,39.01991452991453,"DCAML1","Carna",8,290.63530219780228,6.8681318681318659,"M",2.3631443999385571,2.4781954887218043,0.99291472549314275,1.0003157063930546,1.1348359259679799,"AQT0426",15,1000,0,26,26,47.600549450549458,45.402747252747261,"DCAML1","Carna",8,228.45123626373632,3.8427197802197717,"M",1.682074408117245,3.0733133317947532,0.98901964480029647,0.99456567176657473,1.1722474724051573,"AQT0426",15,1000,0,26,26,35.937362637362639,37.167032967032966,"DCAML1","Carna",8,225.89339717741939,3.6586441532258092,"M",1.6196330653933486,0.90844802262960334,0.99551111221308486,0.9971042921862594,1.2922189917705613,"AQT0426",15,152.6,30,90,60,35.557560483870965,36.728326612903224]
["DCLK2 (DCAMKL2)","DCLK2","DCAMKL2","DCAMKL2","DCAML2","CAMK","30_11",145.57667636416264,"DCAML2","Carna",5,785.60989010988999,33.26923076923066,"S",4.2348284037739141,1.6634934976927296,0.9968936340271507,1.0013837083383468,1.2740497709545624,"AQT0426",15,145.57667636416264,2,28,26,75.234065934065939,81.887912087912071,"DCAML2","Carna",5,798.42424242424227,30.803030303030212,"S",3.8579778351297902,4.6395085677335919,0.98941200177527666,1.0118773741372853,1.1754495433660446,"AQT0426",15,1000,0,18,18,76.762121212121215,82.922727272727258,"DCAML2","Carna",5,635.07575757575751,25.242424242424235,"S",3.9747107240844555,1.4791747761775009,0.98773486903586871,1.0242942112758651,1.2325939339067453,"AQT0426",15,1000,0,18,18,60.983333333333334,66.031818181818181,"DCAML2","Carna",5,694.35902255639098,33.64097744360911,"S",4.8448967106029102,3.8713298791019,0.99727928069376637,1.0180020162258172,1.2860954639786542,"AQT0426",15,145.57667636416264,2,40,38,66.071804511278188,72.800000000000011]
["DDR1 [SRC treated]","DDR1","DDR1","DDR1","DDR1","TK","07_01",66.12,"DDR1","Carna",10,162.90384615384616,5.659340659340657,"M",3.4740374723847736,1.092260340815254,0.9940978524159827,0.96054607508532419,1.5459761870606799,"AQT0235",15,66.12,44,70,26,31.448901098901096,33.712637362637359,"DDR1","Carna",10,184.84615384615381,3.7957995951417081,"M",2.0534912499726268,1.0808638172754716,0.99894793489361888,0.98236700537955768,1.9348518636508443,"AQT0235",15,1000,4,80,76,36.210070850202428,37.728390688259111,"DDR1","Carna",10,199.02472527472528,7.8489010989011181,"M",3.9436814134861025,2.7577697745764973,0.9991565722399276,0.99686863942382964,1.3454281567489115,"AQT0235",15,1000,2,28,26,38.235164835164824,41.374725274725272,"DDR1","Carna",10,123.18092815294479,1.9881282762873995,"M",1.6139903360842398,2.957260092755674,0.99025865185887574,0.98425978445830975,1.8273086492024002,"AQT0235",15,66.12,30,120,90,24.23855997533148,25.03381128584644]
["DDR2","DDR2","DDR2","DDR2","DDR2","TK","07_02",33.965144969224447,"DDR2","Carna",10,150.80803571428569,8.8080357142857046,"M",5.8405612622480039,5.8915502328675977,0.99867816856382408,0.97919556171983357,1.2870237754225151,"AQT0235",15,33.965144969224447,8,36,28,28.4,31.92321428571428,"DDR2","Carna",10,192.09845559845562,3.2461389961389742,"M",1.6898308661702075,0.96640826873385011,0.99911925336499774,1.0132310930687114,2.3875443691513389,"AQT0235",15,1000,40,110,70,37.770463320463321,39.068918918918911,"DDR2","Carna",10,202.13636363636363,7.1493506493506382,"M",3.5368948568858567,5.3575114256228806,0.99844915163345893,0.99762364473488785,1.5003872966692486,"AQT0235",15,1000,0,40,40,38.997402597402598,41.857142857142854,"DDR2","Carna",10,102.10477941176471,5.0551470588235494,"M",4.950940678728978,14.78674737766277,0.9951995412621103,0.98819875776397514,1.2042355206160757,"AQT0235",15,33.965144969224447,2,34,32,19.409926470588232,21.431985294117652]
["DMPK (DMPK1)","DMPK","DMPK1","DMPK1","DMPK1","AGC","26_03",18.09,"DMPK1","Carna",10,4.4494391766882506,0.53119218316373429,"VW",11.938407562615664,-93.745970341715008,0.66614802980657595,0.96088569180622685,0.98097763430943041,"AQT0837",15,18.09,28,120,92,0.99612627197039783,0.78364939870490291,"DMPK1","Carna",10,8.8256113256113249,0.79070141570141572,"VW",8.959168793292017,8.1176673567977922,0.85510835123392237,0.99025087742103213,1.0428932995870519,"AQT0837",15,1000,50,120,70,1.9232625482625483,1.6069819819819819,"DMPK1","Carna",10,4.8454363243909953,4.2630280604378505E-2,"VW",0.87980272054728836,549.84472049689441,0.80041509233294461,0.9782342871117633,1.0018045888115492,"AQT0837",15,1000,30,120,90,0.96056120875732343,0.97761332099907483,"DMPK1","Carna",10,3.5571428571428574,0.44719387755102008,"VW",12.571715433161208,19.787045252883761,0.69439756004792763,0.9905086395716719,1.011387547963857,"AQT0837",15,18.09,24,120,96,0.62198979591836734,0.80086734693877548]
["CDC42BPG (DMPK2)","CDC42BPG","DMPK2","DMPK2","DMPK2","AGC","21_10",4.931,"DMPK2","SC",10,18.444749694749689,0.88446275946275843,"VW",4.7952006619776544,51.778872468527645,0.88765074389989806,0.98101821373710774,1.04619936276741,"AQT0837",15,4.931,60,112,52,3.512057387057387,3.8658424908424904,"DMPK2","SC",10,9.472782258064516,0.45917338709677397,"VW",4.8472916888368607,106.14228899690676,0.81057193196834787,0.98727573482631381,1.0290566538410508,"AQT0837",15,1000,60,120,60,1.986391129032258,1.8027217741935484,"DMPK2","SC",10,4.2129987129987123,0.37306949806949841,"VW",8.8552008553536066,-49.277777777777779,0.6804625589822858,0.94032005775478278,0.95546507189209828,"AQT0837",15,1000,50,120,70,0.91721364221364221,0.76798584298584283,"DMPK2","SC",10,9.4583944281524914,0.50265762463343067,"VW",5.3144075186512891,18.507751937984494,0.87917871024546035,0.97867326499351948,1.0156174334140435,"AQT0837",15,4.931,58,120,62,1.9922104105571847,1.7911473607038124]
["PRKDC (DNA-PK)","PRKDC","DNAPK","DNAPK","DNA-PK","Atypical","28_12",19.28,"DNA-PK","Promega",1.9,1175.1242178873758,75.726904674273143,"VS",6.4441616912988193,2.7517961230852652,0.99670512414382695,0.9708422786958909,1.2507520522102686,"AQT0439",15,19.28,52,74,22,47.53234265734266,41.7770979020979,"DNA-PK","Promega",1.9,994.08217234262122,16.721491228070303,"S",1.6821035215494298,3.5353967168262654,0.99694892355787923,0.98175007203918929,1.2708394843027262,"AQT0439",15,1000,10,42,32,38.410539215686285,37.139705882352942,"DNA-PK","Promega",1.9,2596.4104339796863,81.890581717451511,"VS",3.1539921672527145,0.90828336664445919,0.99796278426956964,1.0488244843966088,1.5815950920245399,"AQT0439",15,1000,12,48,36,95.551754385964912,101.77543859649123,"DNA-PK","Promega",1.9,433.83031883113358,23.735810113519101,"S",5.471219756486903,5.8270487682252385,0.98396103589930839,1.0036610411643896,1.2030316949931099,"AQT0439",15,19.28,44,78,34,15.58359133126935,17.387512899896802]
["STK17A (DRAK1)","STK17A","DRAK1","DRAK1","DRAK1","CAMK","24_09",9.093,"DRAK1","Carna",12,90.98557692307692,0.87568681318680808,"W",0.96244574448008502,45.471601569162537,0.95751273577454388,0.9807817324882171,1.0190078813166434,"AQT0173",15,9.093,0,24,24,22.046703296703296,21.626373626373628,"DRAK1","Carna",12,90.019784254698052,2.280035577449365,"W",2.532816087404,8.9785936606745853,0.98978918473478517,0.98176879517517612,1.1105105400226032,"AQT0173",15,1000,6,60,54,22.151956759715379,21.057539682539684,"DRAK1","Carna",12,85.997023809523824,0.46502976190476719,"W",0.54075099498183687,4.8972850211623822,0.97056316374466867,0.99759737895886424,1.2561072335025381,"AQT0173",15,1000,66,94,28,20.750892857142858,20.52767857142857,"DRAK1","Carna",12,83.514093137254903,1.8612132352941124,"W",2.2286217396089301,23.36705942622951,0.94802282561060081,0.99346611391492434,1.0455160192137294,"AQT0173",15,9.093,0,30,30,20.490073529411763,19.596691176470589]
["STK17B (DRAK2)","STK17B","DRAK2","DRAK2","DRAK2","CAMK","24_10",11.56,"DRAK2","SC",8,186.84210526315789,0.21929824561404129,"M",0.11737089201878266,4.0227958431109618,0.97665712853690201,0.97656659102810262,1.0867443252451769,"AQT0174",15,11.56,4,40,36,29.92982456140351,29.859649122807017,"DRAK2","SC",8,278.82329296661192,5.985307197591716,"M",2.1466309840578615,3.4973563893642563,0.99626306031630141,1.0039694065253171,1.2883286936797607,"AQT0174",15,1000,10,64,54,43.65407772304323,45.569376026272579,"DRAK2","SC",8,208.67960164835159,7.7180631868132279,"M",3.698523059201074,5.0808486774464905,0.97895100153059089,0.99756025432500373,1.3293844552949652,"AQT0174",15,1000,46,70,24,34.623626373626387,32.153846153846153,"DRAK2","SC",8,117.31944444444444,4.011217948717948,"M",3.4190563786870158,3.9798500692355439,0.96209241215389196,0.98713673177703665,1.080938504823151,"AQT0174",15,11.56,0,50,50,19.412905982905983,18.129316239316239]
["DYRK1A","DYRK1A","DYRK1A","DYRK1A","DYRK1A","CMGC","11_09",40.26,"DYRK1A","Carna",2,1380.2236519607843,39.905024509803951,"VS",2.8911998756950554,2.6773017147118869,0.99705196413357722,0.97857560690260315,1.7031580537926865,"AQT0260",15,40.26,68,100,32,53.612745098039213,56.805147058823529,"DYRK1A","Carna",2,1588.4936773752563,10.733296308954277,"VS",0.67569021279892105,0.47154775763623269,0.99968860372164836,1.0233473242392446,2.4000362187613185,"AQT0260",15,1000,10,120,110,63.110415242652081,63.969078947368423,"DYRK1A","Carna",2,1373.901098901099,9.7115384615383604,"VS",0.70685862827433776,0.70207116303770578,0.99802111495350998,1.0195751404494382,1.6095350312698269,"AQT0260",15,1000,38,64,26,54.567582417582429,55.344505494505498,"DYRK1A","Carna",2,1547.1840659340664,37.885378510378132,"VS",2.4486665384254693,1.6269581652309815,0.9988413180838065,0.7681199666759233,1.5811234673510124,"AQT0260",15,40.26,52,104,52,60.371947496947506,63.402777777777757]
["DYRK1B","DYRK1B","DYRK1B","DYRK1B","DYRK1B","CMGC","11_10",41.32,"DYRK1B","Carna",5,644.53571428571422,21.696428571428573,"S",3.3662104504903869,5.1857598482889404,0.9996857660947287,0.99689991142604073,1.5882710884612461,"AQT0260",15,41.32,38,66,28,66.623214285714283,62.283928571428568,"DYRK1B","Carna",5,654.97749853886614,2.0694038573932971,"S",0.315950374174648,0.20406935825779218,0.99971132024010034,1.0237147308291501,2.4495984116956953,"AQT0260",15,1000,4,120,116,65.290809468147287,65.704690239625947,"DYRK1B","Carna",5,492.42279411764702,3.4007352941176801,"S",0.69061289094289868,5.9415113080684598,0.99942511596412476,1.0117687190857922,1.5835042353990192,"AQT0260",15,1000,42,72,30,49.582352941176474,48.902205882352938,"DYRK1B","Carna",5,522.61220580186102,4.7673782156541122,"S",0.91222098579564703,0.78393535548453241,0.99918405579089364,1.0183670434265317,1.5409087449577594,"AQT0260",15,41.32,16,70,54,51.78448275862069,52.737958401751513]
["DYRK2","DYRK2","DYRK2","DYRK2","DYRK2","CMGC","11_11",49.25,"DYRK2","Carna",3,1326.6161616161617,5.1767676767677049,"VS",0.39022347432139398,4.0173542396102908,0.99958386944924782,1.0065098387335405,1.501067887109077,"AQT0260",15,49.25,28,46,18,79.907575757575756,79.286363636363632,"DYRK2","Carna",3,1276.9127468060392,5.0827526132405154,"VS",0.39805011156432413,0.3141862723936974,0.99908814304064386,1.0203068191895008,2.672680173929133,"AQT0260",15,1000,40,120,80,76.309799651567928,76.91972996515679,"DYRK2","Carna",3,1384.6245421245421,13.067765567765596,"VS",0.94377682687284015,1.8612532665505228,0.99874608624063144,1.0302795698924732,1.9331436699857751,"AQT0260",15,1000,38,64,26,82.293406593406587,83.861538461538458,"DYRK2","Carna",3,1216.6666666666667,20.967261904761852,"VS",1.7233365949119328,1.0999031173419958,0.99812443064267586,0.85069090909090905,1.4389493433395872,"AQT0260",15,49.25,32,60,28,71.741964285714289,74.258035714285711]
["DYRK3","DYRK3","DYRK3","DYRK3","DYRK3","CMGC","11_12",49.18,"DYRK3","Carna",5,924.34065934065904,18.26923076923066,"S",1.9764607977173994,0.62384723879787352,0.99943039123497135,1.0041479190101237,1.4096194121470353,"AQT0260",15,49.18,8,32,24,90.607142857142861,94.260989010988993,"DYRK3","Carna",5,989.27272727272714,10.227272727272661,"S",1.0338173129939283,2.5376243669408427,0.99949369464738191,1.0373134328358209,1.4349918363839476,"AQT0260",15,1000,4,24,20,97.904545454545456,99.949999999999989,"DYRK3","Carna",5,1085.3758741258741,12.089160839160796,"VS",1.1138225132281485,1.0028350826396428,0.99916164272799857,1.0371815088389078,1.4682654012371832,"AQT0260",15,1000,2,24,22,107.32867132867133,109.74650349650349,"DYRK3","Carna",5,902.86363636363626,19.499999999999954,"S",2.1597945929617834,0.8441558441558441,0.99966286927119741,1.0259130936913528,1.3936366999630041,"AQT0260",15,49.18,8,28,20,88.336363636363643,92.236363636363635]
["DYRK4","DYRK4","DYRK4","DYRK4","DYRK4","CMGC","12_01",40.340000000000003,"DYRK4","Carna",8,166.6723901098901,3.382554945054927,"M",2.0294632739260221,14.576923076923078,0.98974032189479066,0.96081123904087884,1.1271186440677967,"AQT0260",15,40.340000000000003,12,36,24,27.208791208791204,26.126373626373628,"DYRK4","Carna",8,245.20432692307693,1.3269230769230584,"M",0.54114994363020663,1.7672343876723438,0.99903241184716485,0.9891033215176579,1.6572494669509594,"AQT0260",15,1000,20,68,48,39.445,39.020384615384621,"DYRK4","Carna",8,319.0234375,4.0066964285714324,"S",1.25592541412304,2.7730829420970262,0.99920653794873338,0.98352361183186299,1.4146658014276445,"AQT0260",15,1000,8,36,28,51.684821428571432,50.402678571428574,"DYRK4","Carna",8,242.13169642857144,7.9464285714285756,"M",3.2818621802258598,9.7173828881145958,0.99893648588411144,0.89272489653670228,1.1878682085969889,"AQT0260",15,40.340000000000003,12,40,28,40.012500000000003,37.469642857142858]
["EEF2K (eEF2K)","EEF2K","eEF2K","eEF2K","EEF2K","Atypical","30_09",25.04,"EEF2K","Carna",10,157.99450549450549,2.1634615384615419,"M",1.3693270735524279,2.0728410115040026,0.99806386359218902,0.99268262433337462,1.1862644415917845,"AQT0349",15,25.04,0,24,24,31.166208791208792,32.031593406593409,"EEF2K","Carna",10,165.04545454545453,0.68181818181820109,"M",0.41310933627101143,14.430880447384576,0.97338819157365752,0.99739972697133195,1.0900553979192003,"AQT0349",15,1000,0,20,20,33.145454545454548,32.872727272727268,"EEF2K","Carna",10,100.54195804195804,7.3382867132867071,"M",7.2987306555381615,3.9509803921568629,0.97733046390882938,1.0002373323840037,1.1034440793476938,"AQT0349",15,1000,0,22,22,18.640734265734267,21.57604895104895,"EEF2K","Carna",10,159.54411764705881,4.3327205882352873,"M",2.7156880818508577,7.6868206521739131,0.98912104304247106,0.99159537745760173,1.1421288428858336,"AQT0349",15,25.04,0,30,30,31.042279411764707,32.775367647058822]
["EGFR (ERBB1)","EGFR","EGFR","EGFR","EGFR","TK","01_10",44.29,"EGFR","Carna",3,1173.4068627450981,21.84436274509795,"VS",1.8616187989556059,0.56428368448828803,0.99245510849144813,1.0040967954726938,1.3426689189189189,"AQT0734",15,44.29,48,80,32,69.09375,71.715073529411754,"EGFR","Carna",3,1214.7614247311831,11.320564516129041,"VS",0.93191669455870241,2.7370420256010233,0.99829788218056703,1.0142002989536623,1.7477538185085355,"AQT0734",15,1000,60,120,60,73.564919354838707,72.206451612903223,"EGFR","Carna",3,1127.5569800569799,10.326210826210771,"VS",0.91580390249448373,1.120893017826309,0.998583661023699,1.0210143927898101,1.6981415265086302,"AQT0734",15,1000,70,120,50,67.033846153846156,68.272991452991448,"EGFR","Carna",3,892.34848484848487,39.090909090909058,"S",4.3806774768656043,3.7264026028070973,0.97404941790924016,1.0076252039663613,1.2915642915642915,"AQT0734",15,44.29,84,104,20,55.886363636363633,51.195454545454545]
["EPHA1","EPHA1","EphA1","EphA1","EPHA1","TK","02_01",34.590000000000003,"EPHA1","Carna",3,697.49258893280637,0.87285902503300139,"S",0.12514240851913755,4.1528268919990703,0.99840785195264581,0.97926155635235967,1.7015973826020017,"AQT0101",15,34.590000000000003,60,104,44,41.901926877470366,41.797183794466406,"EPHA1","Carna",3,1094.3058872485165,35.763587349833522,"VS",3.2681526953817457,1.6290768016833248,0.9997267498249347,0.99504150048507056,2.6530434782608694,"AQT0101",15,1000,26,120,94,67.804168475900994,63.512537993920972,"EPHA1","Carna",3,1190.8496732026144,37.571486928104278,"VS",3.1550150933040366,0.78555526398212183,0.99955736277906548,0.98312867058195408,1.7417805294619981,"AQT0101",15,1000,22,54,32,73.705269607843121,69.196691176470608,"EPHA1","Carna",3,701.05654761904771,14.895833333333286,"S",2.1247691621914133,1.0578493118731047,0.9973926629443034,0.99009485436078237,1.478887399463807,"AQT0101",15,34.590000000000003,56,84,28,42.957142857142848,41.169642857142854]
["EPHA2","EPHA2","EphA2","EphA2","EPHA2","TK","02_02",68.53,"EPHA2","Carna",10,334.09740259740261,1.8685064935064941,"S",0.5592699850343047,3.4286460860801076,0.99924232714596495,0.99248183109180521,1.6287169377361592,"AQT0104",15,68.53,24,64,40,67.193181818181813,66.445779220779215,"EPHA2","Carna",10,535.83333333333314,7.2741228070175605,"S",1.3575345829581766,1.36501325255585,0.99854671315031063,1.0070491482279225,1.8053302433371958,"AQT0104",15,1000,4,40,36,108.62149122807017,105.71184210526314,"EPHA2","Carna",10,24.810758797653957,0.85387646627566027,"VW",3.4415572423218297,1.5355358764759308,0.96445688095594295,0.99390783138449446,1.1092478666402064,"AQT0104",15,1000,58,120,62,5.1329270527859236,4.7913764662756595,"EPHA2","Carna",10,315.96153846153845,6.2293956043956191,"S",1.9715676897661121,3.9320711488149604,0.99411025957189847,1.0061238000662032,1.4079638752052546,"AQT0104",15,68.53,20,44,24,61.946428571428569,64.438186813186817]
["EPHA3","EPHA3","EphA3","EphA3","EPHA3","TK","02_03",180.9,"EPHA3","Carna",10,360.41008771929825,9.2346491228069976,"S",2.5622615563411508,4.5691401005756935,0.99891796363396035,0.97536280796490049,1.7748094799430534,"AQT0104",15,180.9,42,78,36,73.928947368421049,70.235087719298249,"EPHA3","Carna",10,468.42307692307691,9.5274725274725096,"S",2.0339460194949113,0.94471500721500723,0.99944371224157824,0.9857183661810911,1.6010244735344337,"AQT0104",15,1000,12,38,26,91.779120879120882,95.590109890109886,"EPHA3","Carna",10,525.78125,3.3841911764705652,"S",0.6436500305917271,0.31437810295270446,0.9996904667374904,0.99036855036855032,1.7520880416625724,"AQT0104",15,1000,10,40,30,104.47941176470589,105.83308823529411,"EPHA3","Carna",10,417.98951048951045,2.7797202797203013,"S",0.66502154000586078,3.4192133753597371,0.99908606888534179,0.98518581224075175,1.6208099370427089,"AQT0104",15,180.9,28,50,22,84.15384615384616,83.04195804195804]
["EPHA4","EPHA4","EphA4","EphA4","EPHA4","TK","02_04",174.2,"EPHA4","SC",5,423.42424242424244,5.6666666666666634,"S",1.3382952837615394,0.74352100089365503,0.99690439171446255,1.0086720867208672,1.5072069621974435,"AQT0104",15,174.2,102,120,18,41.775757575757574,42.909090909090907,"EPHA4","SC",5,508.75735294117646,10.474264705882348,"S",2.0587937737567015,1.1364318290926549,0.99841989473204429,0.9926091037071797,1.9861522073618181,"AQT0104",15,1000,90,120,30,49.828308823529412,51.923161764705881,"EPHA4","SC",5,415.88235294117641,1.9154411764705865,"S",0.46057284299858525,1.0855866177818516,0.99912185638151751,0.96686577256846618,1.7488845669831825,"AQT0104",15,1000,90,120,30,41.39669117647059,41.779779411764707,"EPHA4","SC",5,351.06818181818181,11.681818181818176,"S",3.3275069592801172,0.62548196384200161,0.99782899151988924,0.98537720172814891,1.4738193591604332,"AQT0104",15,174.2,90,110,20,33.938636363636363,36.274999999999999]
["EPHA5","EPHA5","EphA5","EphA5","EPHA5","TK","02_05",42.07,"EPHA5","INVT",2,865.822628458498,2.4518280632410234,"S",0.28317902335334361,2.7487949983224085,0.99736324507552976,0.99804369090316269,1.4288827897965772,"AQT0104",15,42.07,46,90,44,34.730978260869556,34.534832015810274,"EPHA5","INVT",2,1642.066239316239,22.504273504273439,"VS",1.3704851220645204,2.4410385951276385,0.9992675463931503,0.99279665141633411,1.6190988173199101,"AQT0104",15,1000,0,50,50,64.782478632478643,66.582820512820518,"EPHA5","INVT",2,1914.2263986013986,17.72290209790199,"VS",0.92585193218790462,1.9918261025779216,0.99956884941977431,0.98604921526835887,1.3605362867968522,"AQT0104",15,1000,4,26,22,75.860139860139867,77.277972027972027,"EPHA5","INVT",2,668.16620879120887,1.8200549450549273,"S",0.2723955388806058,9.4423987375065757,0.99442681827368373,1.0012502232541525,1.3434507678410119,"AQT0104",15,42.07,60,84,24,26.799450549450555,26.65384615384616]
["EPHA6","EPHA6","EphA6","EphA6","EPHA6","TK","02_06",154.4,"EPHA6","Carna",20,160.97727272727272,5.8465909090909109,"M",3.6319356204997897,13.880530755191634,0.99734774075829435,1.0001738072477622,1.317539627842867,"AQT0104",15,154.4,12,32,20,66.729545454545459,62.052272727272729,"EPHA6","Carna",20,210.93063186813188,0.88255494505494514,"M",0.41841004184100422,5.1877577599305402,0.99899205329256691,0.98338058461237654,1.451180099892273,"AQT0104",15,1000,8,32,24,84.72527472527473,84.019230769230774,"EPHA6","Carna",20,237.5309065934066,0.93406593406591287,"M",0.39323974612903728,3.2018742678641154,0.99962171958428359,1.0058048012593468,1.5452748121787268,"AQT0104",15,1000,8,32,24,95.385989010988993,94.638736263736263,"EPHA6","Carna",20,189.35096153846152,7.473776223776234,"M",3.9470495227763283,11.24880838894185,0.999559212873386,1.0098259404828749,1.3941386436220178,"AQT0104",15,154.4,8,30,22,78.729895104895107,72.75087412587412]
["EPHA7","EPHA7","EphA7","EphA7","EPHA7","TK","02_07",56.26,"EPHA7","Carna",10,184.40746753246756,2.3944805194805237,"M",1.2984726440424335,1.9738069791507626,0.99842392268041547,0.98779393286663075,1.514715320436417,"AQT0102",15,56.26,50,90,40,36.402597402597401,37.36038961038961,"EPHA7","Carna",10,260.54989919354836,2.5751008064516157,"M",0.98833306572830915,0.55062360852666936,0.99925042100110628,0.98179330667227949,2.3752164502164499,"AQT0102",15,1000,60,120,60,51.594959677419354,52.625,"EPHA7","Carna",10,367.05769230769226,4.4120879120879408,"S",1.2020148343300305,0.95447409733124022,0.99946377387074281,0.9754652250753717,1.4762403181913335,"AQT0102",15,1000,8,34,26,72.529120879120882,74.293956043956058,"EPHA7","Carna",10,157.39285714285708,5.1741071428571228,"M",3.2873837077376789,1.3875795914992142,0.99645068952432336,0.98649300530631934,1.3985564563970734,"AQT0102",15,56.26,50,78,28,30.443750000000005,32.513392857142854]
["EPHA8","EPHA8","EphA8","EphA8","EPHA8","TK","02_08",124.4,"EPHA8","Carna",2,1006.3883053221292,"NA","VS","NA","NA",0.99850185154685656,0.96211076431734055,1.6144630799390112,"AQT0104",15,124.4,40,108,68,"",40.255532212885171,"EPHA8","Carna",2,1328.5103383458647,34.67575187969922,"VS",2.6101228480370113,3.9327485380116962,0.99957195228266138,1.0239210605003488,1.5146985050667201,"AQT0104",15,1000,10,48,38,51.753383458646617,54.527443609022555,"EPHA8","Carna",2,1723.3455882352941,29.053308823529452,"VS",1.6858666666666688,0.87217718587145332,0.99933391383316839,1.0161574618096356,1.5144474232946084,"AQT0104",15,1000,8,38,30,70.095955882352939,67.771691176470583,"EPHA8","Carna",2,951.44230769230762,28.474650349650329,"S",2.9927879094124652,0.99353867941228535,0.9973152270436173,1.0214941766878136,1.3623941493456506,"AQT0104",15,124.4,30,52,22,36.918706293706293,39.19667832167832]
["EPHB1","EPHB1","EphB1","EphB1","EPHB1","TK","02_09",47.07,"EPHB1","Carna",2,2103.0637254901962,6.2653186274507879,"VS",0.2979138744828298,2.8868211340918508,0.99823270901724503,1.0337318135483273,2.2071084223461575,"AQT0101",15,47.07,44,76,32,84.37316176470587,83.871936274509807,"EPHB1","Carna",2,3484.5616883116872,50.300324675324141,"VS",1.4435194200764823,1.3149441901549828,0.99511242113082976,1.0650656814449917,2.2489469250210616,"AQT0101",15,1000,0,40,40,137.37045454545458,141.39448051948051,"EPHB1","Carna",2,4114.6969696969709,49.848484848484979,"VS",1.2114740214309414,0.64608987685910757,0.99936562462862055,1.0352621213542155,1.5954670983715835,"AQT0101",15,1000,0,18,18,162.59393939393939,166.58181818181819,"EPHB1","Carna",2,1937.0741758241759,23.530219780219674,"VS",1.2147299300094259,0.96897888246734432,0.99838831200485567,1.0214544441348565,1.996440253992688,"AQT0101",15,47.07,42,68,26,76.541758241758245,78.424175824175819]
["EPHB2","EPHB2","EphB2","EphB2","EPHB2","TK","02_10",48.47,"EPHB2","Carna",2,1287.6298701298701,2.3863636363635976,"VS",0.18532993771905193,0.6252763519618586,0.99839580919568849,0.97018589968432134,1.9517771373679156,"AQT0101",15,48.47,66,106,40,51.409740259740261,51.600649350649348,"EPHB2","Carna",2,2618.0983169129722,12.392241379310143,"VS",0.47332987074075844,0.39218182623328313,0.99949841868116296,1.0517611026033691,2.3593173917623513,"AQT0101",15,1000,6,60,54,105.21962233169128,104.22824302134647,"EPHB2","Carna",2,3386.2499999999995,23.901515151515085,"VS",0.70584024072395979,0.97050254916241796,0.99974004233703551,1.0157528021811573,1.5653695696932264,"AQT0101",15,1000,2,20,18,136.40606060606061,134.4939393939394,"EPHB2","Carna",2,1365.1373626373627,8.9835164835164942,"VS",0.65806685315248303,1.3157894736842104,0.99776167969324092,1.0245035525596649,1.7333708075697958,"AQT0101",15,48.47,56,82,26,54.964835164835165,54.246153846153845]
["EPHB3","EPHB3","EphB3","EphB3","EPHB3","TK","02_11",41.86,"EPHB3","Carna",2,1654.1730769230771,9.2355769230769269,"VS",0.55831986700303449,3.6675573574126972,0.99944078750337195,0.99679682733374009,1.8534916640452974,"AQT0101",15,41.86,42,90,48,66.536346153846154,65.797499999999999,"EPHB3","Carna",2,2600.4230769230767,21.638888888888626,"VS",0.83212955156868607,2.5452022567671317,0.99951845039286646,1.0466555348197624,2.107606490872211,"AQT0101",15,1000,0,50,50,104.88247863247864,103.15136752136755,"EPHB3","Carna",2,2728.6713286713284,36.40734265734266,"VS",1.3342516658124042,2.3559530753775362,0.9998169495583038,1.0354136727571341,1.5419388830347733,"AQT0101",15,1000,0,22,22,107.69055944055944,110.60314685314685,"EPHB3","Carna",2,1164.3526785714287,16.651785714285783,"VS",1.4301324693748501,4.4302526408804273,0.99698391401625208,1.0011617515638964,1.7684970830632465,"AQT0101",15,41.86,72,100,28,47.240178571428572,45.90803571428571]
["EPHB4","EPHB4","EphB4","EphB4","EPHB4","TK","02_12",43.33,"EPHB4","Carna",1,1452.3901098901099,61.895604395604387,"VS",4.2616376945920891,2.1587357596531911,0.98045972994020025,1.0128683824509934,1.3889117606696857,"AQT0101",15,43.33,80,106,26,27.809890109890109,30.285714285714285,"EPHB4","Carna",1,2095.6717914438505,17.2710561497329,"VS",0.82412981938520513,1.5531246070665159,0.99937128159271849,1.0290234808021768,1.6346113334737731,"AQT0101",15,1000,6,70,64,41.568014705882355,42.258856951871671,"EPHB4","Carna",1,2307.1678321678323,77.972027972027831,"VS",3.3795559596878015,3.9473684210526314,0.99587990008945404,0.99006622516556286,1.2283492400141394,"AQT0101",15,1000,0,22,22,44.583916083916087,47.7027972027972,"EPHB4","Carna",1,692.76785714285711,17.45535714285711,"S",2.5196545946642566,3.6469306211405739,0.98568151702995721,1.0033013514907665,1.2934029628050729,"AQT0101",15,43.33,84,112,28,13.506250000000001,14.204464285714286]
["MAPK3 (ERK1)","MAPK3","Erk1","Erk1","ERK1","CAMK","13_02",43.33,"ERK1","Carna",0.5,2682.2426470588234,24.227941176470576,"VS",0.9032717902326024,2.437527280663466,0.99651329448079717,0.99828094302554027,1.6029740755362547,"AQT0490",15,43.33,90,120,30,27.064705882352943,26.580147058823531,"ERK1","Carna",0.5,8267.2222222222208,246.21367521367571,"VS",2.9781910851731492,2.6001841210322549,0.9992442564831252,1.0283591143463755,3.9662830280434429,"AQT0490",15,1000,70,120,50,85.134358974358989,80.210085470085474,"ERK1","Carna",0.5,7313.6029411764712,26.470588235294198,"VS",0.36193635952345155,0.31778353696161915,0.99921378048061271,1.0002962085308056,3.5838647959183674,"AQT0490",15,1000,90,120,30,72.871323529411768,73.400735294117652,"ERK1","Carna",0.5,4690.0349650349644,218.09440559440603,"VS",4.6501658776605757,4.5274322746850215,0.9973842658854396,1,2.2050349243306169,"AQT0490",15,43.33,88,110,22,49.081293706293714,44.719405594405593]
["MAPK1 (ERK2)","MAPK1","Erk2","Erk2","ERK2","CMGC","13_01",41.99,"ERK2","Carna",0.4,4960.8516483516487,55.975274725275078,"VS",1.1283400249204001,2.0113017064236578,0.99749774406545566,0.98076923076923073,1.8619697159304218,"AQT0490",15,41.99,82,106,24,39.239010989010993,40.134615384615394,"ERK2","Carna",0.4,10753.361316763618,28.374537281862008,"VS",0.26386667801842018,0.34254494553504533,0.99951918903089987,1.0482577635223793,4.2973643410852711,"AQT0490",15,1000,0,120,120,86.253886832363833,85.79989423585404,"ERK2","Carna",0.4,8983.9613970588234,329.22794117647049,"VS",3.6646188315574619,2.2121871256541201,0.99905110171272726,1.0105678455685501,3.3970077074202809,"AQT0490",15,1000,90,120,30,74.505514705882348,69.23786764705882,"ERK2","Carna",0.4,8271.9669117647045,217.55514705882371,"VS",2.63002922254692,1.9539382373351839,0.99954964055689266,1.0054533060668029,1.8221366424190557,"AQT0490",15,41.99,16,46,30,67.91617647058824,64.435294117647061]
["MAPK6 (ERK3)","MAPK6","Erk3","Erk3","ERK3","CMGC","27_06",139.4,"ERK3","SC",56,0.25461145996860274,0.10105965463108316,"VW",39.691714836223504,58.885017421602782,0.11506998541125103,1.0109303507880021,1.0107189542483659,"AQT0425",15,139.4,46,72,26,0.17197802197802198,0.39835164835164832,"ERK3","SC",56,0.43017399267399276,0.1423229548229549,"VW",33.084974277097757,-95.920745920745915,0.6732564536505139,0.95696436834798704,0.98474341192787795,"AQT0425",15,1000,0,50,50,0.64119658119658141,0.32239316239316229,"ERK3","SC",56,0.11082667332667331,4.6828171828171969E-3,"VW",4.2253521126760694,-941.66666666666663,7.9098911559644575E-2,1.0119802677942213,0.99856836077308508,"AQT0425",15,1000,30,52,22,0.12937062937062938,0.11888111888111885,"ERK3","SC",56,0.11479591836734689,6.3775510204081764E-3,"VW",5.5555555555555696,-128.57142857142858,0.2062897935558555,0.99680511182108622,0.99812646370023428,"AQT0425",15,139.4,36,76,40,0.12142857142857139,0.1357142857142857]
["MAPK7 (BMK, ERK5)","MAPK7","Erk5","Erk5","ERK5","CMGC","13_03",101.8,"ERK5","Carna",15,67.306547619047635,0.10714285714284937,"W",0.15918638072074898,1.4228341939185314,0.99604187081337314,0.98629178906140724,1.3487918355095303,"AQT0373",15,101.8,38,66,28,20.224107142857143,20.159821428571433,"ERK5","Carna",15,109.205574912892,1.0351335656213816,"M",0.94787611937124772,1.6154045560593591,0.99944172578955337,1.0152719339255103,1.8948773569164024,"AQT0373",15,1000,0,80,80,33.072212543554009,32.45113240418118,"ERK5","Carna",15,116.76838235294119,2.1384803921568598,"M",1.8313865012646511,1.0853375992939098,0.99909934246485255,1.0066687344913152,1.749090909090909,"AQT0373",15,1000,36,66,30,35.672058823529412,34.388970588235296,"ERK5","Carna",15,78.606227106227109,0.87179487179487458,"W",1.1090659148628847,1.8405161717263627,0.99710922423863424,0.99698522761531505,1.55264,"AQT0373",15,101.8,54,80,26,23.843406593406595,23.32032967032967]
["MAPK15 (ERK7)","MAPK15","Erk7","Erk7","ERK7","CMGC","13_11",95.67,"ERK7","Carna",30,6.816232174688059,3.8992869875224359E-3,"VW",5.7205900380012872E-2,24.728117411044241,0.98196647330913034,0.93446435900944047,1.0414979757085021,"AQT0374",15,95.67,46,110,64,4.0920788770053473,4.0873997326203204,"ERK7","Carna",30,27.260194307608099,1.6390713373471948,"VW",6.0126913214618698,6.183454615090004,0.99837480418315272,0.99464684014869886,1.5799129353233829,"AQT0374",15,1000,66,120,54,17.339559386973175,15.372673782156541,"ERK7","Carna",30,13.20404411764706,1.531862745098052E-2,"VW",0.11601466425356262,4.269524236983842,0.97870916175789557,0.99087174806024647,1.1796484437993873,"AQT0374",15,1000,58,88,30,7.9316176470588236,7.9132352941176469,"ERK7","Carna",30,6.7675834701696775,4.2191205984306217E-3,"VW",6.2343089184311751E-2,43.107978977544192,0.9782126524450736,0.91650685941879328,1.046177606177606,"AQT0374",15,95.67,66,120,54,4.0630815544608643,4.0580186097427475]
["ERN1 (IRE1)","ERN1","IRE1","IRE1","ERN1","Other","17_03",61.58,"ERN1","INVT",5,290.31373517786557,2.3270750988142552,"M",0.80157251167897159,1.7791704748226487,0.99739226565756478,0.99873417721518987,1.5968455012546301,"AQT0715",15,61.58,50,94,44,29.264081027667988,28.798666007905137,"ERN1","INVT",5,556.63461538461536,17.651098901098901,"S",3.1710386693976265,4.063551095189915,0.99741795031535807,0.99875084078024412,1.2843712090578245,"AQT0715",15,1000,2,26,24,53.89835164835165,57.428571428571431,"ERN1","INVT",5,403.93406593406598,2.6538461538461884,"S",0.65699983677023532,0.85945092322643346,0.99817975793358737,1.0229727673817131,1.3771648492623476,"AQT0715",15,1000,2,28,26,40.658791208791207,40.12802197802197,"ERN1","INVT",5,271.33116883116884,3.9350649350649283,"M",1.4502812013880553,1.6363101724525628,0.99601112083142362,0.97079877286671967,1.3281678388365716,"AQT0715",15,61.58,20,60,40,27.526623376623377,26.739610389610391]
["ERN2 (IRE2)","ERN2","IRE2","IRE2","ERN2","Other","17_04",92.37,"ERN2","SC",20,39.738888888888894,1.3683760683760668,"W",3.4434180386927444,2.7081027081027087,0.9944111995445446,0.97907713187061751,1.3360066045524237,"AQT0715",15,92.37,50,100,50,15.34820512820513,16.442905982905984,"ERN2","SC",20,43.513198757763973,0.21386222473179112,"W",0.49148817103139791,5.8043875685557582,0.98870302766568929,0.9942079351288734,1.2272774488417992,"AQT0715",15,1000,28,70,42,17.319734613212873,17.490824392998306,"ERN2","SC",20,35.446428571428584,0.31249999999999334,"W",0.88161209068008173,8.378146676019016,0.9887264581921078,0.99576527525710834,1.1576173746406899,"AQT0715",15,1000,16,40,24,14.303571428571423,14.053571428571429,"ERN2","SC",20,41.22970779220779,0.18262987012987339,"W",0.44295698395512162,4.962104962104962,0.99107687407086698,0.98476343223736973,1.2001201923076923,"AQT0715",15,92.37,22,62,40,16.564935064935064,16.418831168831165]
["FAM20C","FAM20C","None","None","FAM20C","Other","25_10",291,"FAM20C","SC",5,279.17582417582412,3.8278388278387965,"M",1.3711211703732751,21.710048541833888,0.97602375278688591,0.95127768313458261,1.0254631454473788,"AQT0698",15,291,0,52,52,28.300366300366296,27.534798534798536,"FAM20C","SC",5,446.81372549019602,3.1372549019607727,"S",0.70213933077344781,1.5825735009891082,0.98595425146925109,0.99087113438539387,1.0915946749752159,"AQT0698",15,1000,0,32,32,44.995098039215684,44.367647058823529,"FAM20C","SC",5,372.19040247678015,20.650154798761623,"S",5.5482770811237998,15.17654680919987,0.98404841611862937,0.97384199571282115,1.1486273174657216,"AQT0698",15,1000,50,84,34,35.154024767801857,39.284055727554183,"FAM20C","SC",5,327.02443609022555,20.445488721804473,"S",6.2519758358863422,25.80229671011794,0.97995159835447765,1.0205425335791414,1.1058545239503252,"AQT0698",15,291,2,40,38,34.746992481203002,30.657894736842106]
["FER","FER","FER","FER","FER","TK","03_01",18.510000000000002,"FER","Carna",1,2144.3303571428573,35.357142857142769,"VS",1.6488664043470072,6.0272576741816328,0.99934390134994411,0.96842366981601191,1.3148460057747835,"AQT0104",15,18.510000000000002,6,34,28,42.179464285714289,43.59375,"FER","Carna",1,4176.212121212121,138.1818181818179,"VS",3.3087835141312563,5.110132158590309,0.99767708962106472,0.99655819774718402,1.449641932043273,"AQT0104",15,1000,0,18,18,86.287878787878782,80.760606060606065,"FER","Carna",1,4162.5,88.75000000000027,"VS",2.1321321321321385,2.4218813850219303,0.99913402128305739,1.0082068751935584,1.5082241851964666,"AQT0104",15,1000,0,20,20,85.025000000000006,81.474999999999994,"FER","Carna",1,2001.4285714285709,53.076923076923237,"VS",2.6519519024872431,9.9114815532725977,0.99810200964719797,0.99379754242246932,1.2496894409937889,"AQT0104",15,18.510000000000002,4,30,26,41.090109890109893,38.967032967032964]
["FES","FES","FES","FES","FES","TK","03_02",45.35,"FES","Carna",1,1797.7678571428573,37.232142857142847,"VS",2.0710206108765821,7.1922544951590588,0.99874683107984052,0.97602446483180427,1.3200917652740884,"AQT0104",15,45.35,18,46,28,36.700000000000003,35.210714285714289,"FES","Carna",1,2806.098901098901,108.7087912087913,"VS",3.8740185232323663,4.1885625965996907,0.99897397548333011,0.98053605615826422,1.5058639562157936,"AQT0104",15,1000,6,32,26,58.29615384615385,53.947802197802197,"FES","Carna",1,3465.0349650349654,125.26223776223766,"VS",3.6150353178607437,4.8823651884239014,0.99916080212779113,1.0033485540334854,1.4849310919279115,"AQT0104",15,1000,2,24,22,71.805944055944053,66.795454545454547,"FES","Carna",1,1354.11314229249,34.387351778656146,"VS",2.5394740442766075,8.250639386189258,0.99842293130101145,0.99290683399263402,1.3424657534246576,"AQT0104",15,45.35,8,52,44,27.770009881422926,26.39451581027668]
["FGFR1","FGFR1","FGFR1","FGFR1","FGFR1","TK","03_03",67.66,"FGFR1","Carna",2,1043.3411654135339,18.336466165413597,"VS",1.7574755768546562,1.2004628290425223,0.99848463188525682,0.99031171019376585,1.9783500778265175,"AQT0101",15,67.66,58,96,38,41.000187969924809,42.467105263157897,"FGFR1","Carna",2,1646.8973214285713,8.7053571428571175,"VS",0.52859137176237636,0.54100405363267845,0.9989029698958779,0.98489231758277085,1.6906800193829752,"AQT0101",15,1000,8,36,28,65.527678571428567,66.224107142857136,"FGFR1","Carna",2,1997.2027972027972,33.566433566433496,"VS",1.6806722689075595,0.6107613908872902,0.99916087927801212,1.0025316455696203,1.7168412570507656,"AQT0101",15,1000,8,30,22,78.545454545454547,81.230769230769226,"FGFR1","Carna",2,1093.5096153846152,1.7170329670329385,"VS",0.15702038124548306,0.48007145249525512,0.99870866261470281,1.0040995193666948,1.879948914431673,"AQT0101",15,67.66,62,86,24,43.809065934065934,43.671703296703299]
["FGFR2","FGFR2","FGFR2","FGFR2","FGFR2","TK","03_04",40.67,"FGFR2","Carna",1,2520.2161654135339,20.328947368421169,"VS",0.80663506755522529,2.7376180933295164,0.99955119373642265,0.98364354201917659,1.9937411095305833,"AQT0101",15,40.67,44,82,38,49.997744360902253,50.8109022556391,"FGFR2","Carna",1,3686.6176470588234,27.830882352941089,"VS",0.75491643065139979,1.9049742370194214,0.99945339561221747,1,1.8303439196972189,"AQT0101",15,1000,6,36,30,74.288970588235287,73.175735294117644,"FGFR2","Carna",1,4428.636363636364,31.36363636363626,"VS",0.70820075951965278,3.0673482996221382,0.99955874852152427,1.0257618598806157,1.7142403556120018,"AQT0101",15,1000,6,26,20,87.945454545454552,89.2,"FGFR2","Carna",1,2154.7149122807023,33.135964912280429,"VS",1.5378352246704872,1.6158818097876269,0.99870000414354143,1.000858123569794,1.9138276553106213,"AQT0101",15,40.67,52,88,36,43.757017543859646,42.431578947368429]
["FGFR3","FGFR3","FGFR3","FGFR3","FGFR3","TK","03_05",51.45,"FGFR3","Carna",3,804.09226190476193,22.053571428571374,"S",2.7426667900434838,5.612341472648116,0.99897038796791437,0.98132427843803061,1.5002840909090909,"AQT0101",15,51.45,14,42,28,49.568750000000001,46.922321428571436,"FGFR3","Carna",3,1561.4239926739929,"NA","VS","NA","NA",0.99901124296955923,0.93377915511335829,1.7422442244224423,"AQT0101",15,1000,0,24,24,"",93.685439560439562,"FGFR3","Carna",3,1724.3181818181818,64.01515151515143,"VS",3.7124906638548345,4.7996217046932266,0.99961796477823717,1.0265786082474226,1.7526916802610115,"AQT0101",15,1000,2,22,20,107.3,99.618181818181824,"FGFR3","Carna",3,677.63480392156862,32.230392156862735,"S",4.7563070802061649,7.7695656575883367,0.99950885181997873,0.99523052464228934,1.4218092057499636,"AQT0101",15,51.45,8,40,32,42.591911764705884,38.724264705882355]
["FGFR4","FGFR4","FGFR4","FGFR4","FGFR4","TK","03_06",274.2,"FGFR4","Carna",10,265.90625,13.446428571428582,"M",5.0568305827443254,1.9585142305836953,0.99884475092447156,0.98515742128935535,2.27060986821943,"AQT0101",15,274.2,82,110,28,50.491964285714289,55.870535714285722,"FGFR4","Carna",10,406.32975719932239,25.551948051948049,"S",6.2884757021164237,0.95804474743445622,0.99951126776532606,0.96257408975444536,3.1925835228266575,"AQT0101",15,1000,60,102,42,76.155561829474877,86.376341050254098,"FGFR4","Carna",10,331.38198757763973,20.534302653867865,"S",6.1965657228297202,2.797235612815153,0.99942907870103059,0.99402647723603488,2.7847571189279732,"AQT0101",15,1000,64,106,42,62.169536984754373,70.38325804630152,"FGFR4","Carna",10,275.2651515151515,11.015151515151516,"M",4.0016513003990646,4.6030943472545252,0.99853032509129458,1.0011098779134295,2.5916626428456464,"AQT0101",15,274.2,102,120,18,52.85,57.256060606060608]
["FGR","FGR","FGR","FGR","FGR","TK","03_07",40.71,"FGR","Carna",5,244.09558823529412,4.1654411764705825,"M",1.7064795011597411,1.1875931445603576,0.99704896107183705,0.98438842738470356,1.2052615478739677,"AQT0032",15,40.71,0,30,30,23.993014705882352,24.826102941176469,"FGR","Carna",5,381.0416348357524,14.478609625668424,"S",3.7997447790474168,2.2970853906665112,0.99956317352512913,0.92589408528198069,1.834835387162038,"AQT0032",15,1000,0,66,66,36.656302521008406,39.552024446142092,"FGR","Carna",5,404.25583982202443,5.5533926585094662,"S",1.3737322040800632,0.51022740258256194,0.99949109329869357,1.0190007037297677,2.112933994658527,"AQT0032",15,1000,12,70,58,39.8702447163515,40.980923248053394,"FGR","Carna",5,194.46491228070178,2.87719298245614,"M",1.4795435066985427,7.4478649453823236,0.99579475034263676,1.0184331797235022,1.2332966514698946,"AQT0032",15,40.71,0,36,36,19.15877192982456,19.734210526315788]
["FLT1","FLT1","FLT1","FLT1","FLT1","TK","03_08",364.2,"FLT1","Carna",1,2551.9606854838707,59.76814516129032,"VS",2.3420480378583042,14.316591895154701,0.99584092421719483,0.98035714285714282,1.2449069441664999,"AQT0734",15,364.2,10,70,60,52.234576612903226,49.843850806451613,"FLT1","Carna",1,2193.4649122807018,47.324561403508795,"VS",2.1575253444242279,6.8295151574997535,0.9957709362347098,1.0411743898125221,1.2935426132452155,"AQT0734",15,1000,10,46,36,44.815789473684205,42.922807017543853,"FLT1","Carna",1,2476.5796703296696,55.15109890109872,"VS",2.2269059042125336,14.595363143080986,0.9952556528979406,0.99152889739035388,1.1788436888619038,"AQT0734",15,1000,6,30,24,50.634615384615387,48.428571428571438,"FLT1","Carna",1,2484.038461538461,43.159340659340728,"VS",1.7374666828874494,4.0009974157863715,0.99438353687573811,1.0009047726758651,1.1729608079920957,"AQT0734",15,364.2,10,36,26,48.817582417582415,50.543956043956044]
["FLT3","FLT3","FLT3","FLT3","FLT3","TK","03_09",111,"FLT3","Carna",0.5,3028.4055727554173,46.465428276573739,"VS",1.5343198643732787,1.7683230255207221,0.99739636122226816,1,1.4860074626865671,"AQT0101",15,111,26,60,34,29.819401444788443,30.748710010319918,"FLT3","Carna",0.5,4795.264957264957,132.38461538461513,"VS",2.7607361963190131,1.0003040437823048,0.99962717558757697,1.0110650069156293,2.126848387671477,"AQT0101",15,1000,20,70,50,49.276495726495725,46.628803418803422,"FLT3","Carna",0.5,6239.2857142857147,48.626373626373365,"VS",0.77935802034256096,0.38890738048105389,0.9992489284789362,1.034010152284264,1.7708918539325844,"AQT0101",15,1000,14,38,24,61.906593406593409,62.879120879120876,"FLT3","Carna",0.5,2833.8191023535855,46.250684181718782,"VS",1.6320972691342923,0.85942084009249986,0.99951142836959217,1.0124280084874204,1.6409104986063796,"AQT0101",15,111,30,84,54,27.875684181718661,28.800697865353037]
["FLT4","FLT4","FLT4","FLT4","FLT4","TK","03_10",53.38,"FLT4","Carna",2,1455.5357142857142,11.485389610389607,"VS",0.78908332496849221,16.213833983385118,0.99050612660613224,0.84284539473684206,1.0850887900145687,"AQT0734",15,53.38,20,60,40,57.762012987012987,58.680844155844156,"FLT4","Carna",2,2102.4764957264956,15.517094017093665,"VS",0.73803888170135501,3.4465411192953148,0.99527553361380938,0.98292730973799991,1.5221649484536082,"AQT0734",15,1000,0,50,50,83.478376068376093,84.719743589743587,"FLT4","Carna",2,2436.136363636364,166.36363636363623,"VS",6.8289952420934714,10.785239070881007,0.99665006124810807,1.0080423564104282,1.2606600660066007,"AQT0734",15,1000,0,20,20,90.790909090909096,104.1,"FLT4","Carna",2,1066.65521978022,6.8681318681385037E-2,"VS",6.4389427256106753E-3,7.1170115840166606,0.99665445687660281,0.99023486403926086,1.1451874416547929,"AQT0734",15,53.38,20,44,24,42.66346153846154,42.668956043956051]
["CSF1R (FMS)","CSF1R","FMS","FMS","FMS/CSF1R","TK","01_08",139.80000000000001,"FMS/CSF1R","Carna",2,1797.4621212121212,0.83333333333346349,"VS",4.6361663119304231E-2,8.103509393831974,0.99833028820693381,1.0194213238208483,1.2808921636961066,"AQT0104",15,139.80000000000001,0,18,18,71.86515151515151,71.931818181818187,"FMS/CSF1R","Carna",2,1589.4318181818182,13.295454545454531,"VS",0.83649102738256853,5.2192352418086045,0.99822803400562687,1.020384526291406,1.3107681515257805,"AQT0104",15,1000,0,20,20,63.045454545454547,64.109090909090909,"FMS/CSF1R","Carna",2,2965.284090909091,75.170454545454561,"VS",2.535016957596429,4.2612045412120079,0.99591853194178226,1.0657358929610239,1.6221835075493611,"AQT0104",15,1000,0,20,20,121.61818181818182,115.60454545454546,"FMS/CSF1R","Carna",2,1104.9264705882351,29.503676470588225,"VS",2.67019365142743,14.840517241379311,0.99775419565385004,1.0282112315965795,1.2565463552724698,"AQT0104",15,139.80000000000001,0,30,30,45.377205882352939,43.016911764705881]
["FRK","FRK","FRK","FRK","FRK","TK","03_11",37.78,"FRK","Carna",3,710.87912087912093,12.188644688644718,"S",1.7145875199670262,4.2869479397976811,0.99711608606738333,1.0233053668930616,1.4617838628206834,"AQT0104",15,37.78,16,42,26,43.384065934065937,41.921428571428571,"FRK","Carna",3,1165.2364672364672,57.431623931624173,"VS",4.9287527078372229,1.4525368248772506,0.99088637281428338,1.0462878093492209,2.1415226529659037,"AQT0104",15,1000,0,50,50,66.468290598290594,73.360085470085494,"FRK","Carna",3,1482.3737373737376,7.4494949494949241,"VS",0.50253824401212732,2.6975325755475463,0.99691049250209662,1.0669909005334171,1.5735411035140721,"AQT0104",15,1000,0,18,18,88.49545454545455,89.389393939393941,"FRK","Carna",3,601.2684898520813,0.64499484004129448,"S",0.10727235019416538,3.8521319050619618,0.99703248597022143,1.006095944871455,1.3516819571865444,"AQT0104",15,37.78,4,38,34,36.114809081527348,36.037409700722392]
["FYNa (FYN)","FYNa","FYN","FYN","FYNA","TK","03_12",27.78,"FYNA","Carna",1,4658.0681818181811,97.613636363636388,"VS",2.0955819570149554,3.6256520119225035,0.99755919961447959,1.0254951058502162,1.4396396396396396,"AQT0104",15,27.78,0,20,20,95.11363636363636,91.209090909090904,"FYNA","Carna",1,3369.1733870967746,93.150201612903075,"VS",2.7647790989222685,0.77589699023983216,0.99069897249047412,1.0970904999196271,2.5387283236994218,"AQT0104",15,1000,0,60,60,65.520463709677415,69.246471774193537,"FYNA","Carna",1,3407.2956559798663,121.70642302221246,"VS",3.5719360839325893,1.4761573537367649,0.99780105759318549,1.1300774458669196,3.1128347485303722,"AQT0104",15,1000,6,80,74,65.711784659153096,70.580041580041595,"FYNA","Carna",1,3558.0681818181815,12.840909090909134,"VS",0.3608955319216901,0.6804476119836177,0.99838887760873707,1.0051711401132726,1.3441162109375,"AQT0104",15,27.78,0,20,20,70.904545454545456,71.418181818181822]
["FYNb (FYN)","FYNb","FYN","FYN","FYNB","TK","04_01",16.96,"FYNB","Carna",1,1387.7747252747256,37.912087912088133,"VS",2.7318618232208407,7.6657694203283171,0.99787303853665532,0.99657570893525949,1.2199934945245583,"AQT0104",15,16.96,14,38,24,28.513736263736263,26.997252747252737,"FYNB","Carna",1,2328.8205128205127,97.739316239315954,"VS",4.1969450071933876,3.157831179809202,0.99418343873860537,0.95770714190716855,1.6033829499323411,"AQT0104",15,1000,0,50,50,48.531196581196568,44.62162393162393,"FYNB","Carna",1,2724.0909090909095,81.704545454545396,"VS",2.9993325546470855,4.0249826509368498,0.99721758321041754,1.0051130247578042,1.3016389001760802,"AQT0104",15,1000,0,20,20,56.115909090909092,52.847727272727276,"FYNB","Carna",1,1667.2767857142858,51.250000000000099,"VS",3.0738747422818493,7.7280988731370401,0.99898508762521632,0.99485861182519275,1.22675568743818,"AQT0104",15,16.96,0,28,28,34.370535714285715,32.320535714285711]
["GAK","GAK","GAK","GAK","GAK","Other","23_06",143.69999999999999,"GAK","Carna",80,5.4508399209486162,0.45500864624505971,"VW",8.3474960344436973,8.1789462411651321,0.96595822768138095,0.99295645810464694,1.1565301204819276,"AQT0766",15,143.69999999999999,70,114,44,7.9933300395256914,9.4493577075098827,"GAK","Carna",80,4.400115283267457,0.11443922924901259,"VW",2.600823430335939,1.3604893459702896,0.9921451671250483,1.0072010869565218,1.2421268492749378,"AQT0766",15,1000,32,120,88,6.8570816864295114,7.2232872200263518,"GAK","Carna",80,4.586504536290323,0.10773689516129085,"VW",2.3489978982650497,2.2369914086561842,0.99164051129233721,0.97622961183461876,1.1858076563958917,"AQT0766",15,1000,60,120,60,7.1660282258064516,7.5107862903225824,"GAK","Carna",80,4.1366106719367579,3.8599308300395756E-2,"VW",0.93311436249627988,5.0525667192975705,0.94347500455063771,1.0114004694310943,1.1346130916895194,"AQT0766",15,143.69999999999999,36,80,44,6.5568181818181808,6.6803359683794472]
["MAP4K2 (GCK)","MAP4K2","GCK","GCK","GCK","STE","18_04",60.05,"GCK","Carna",1,1582.1997549019602,73.406862745097882,"VS",4.6395445655751901,4.125064186683403,0.99820251685659367,0.97690677966101691,1.6986672690309463,"AQT0505",15,60.05,24,56,32,33.112132352941174,30.175857843137258,"GCK","Carna",1,2777.5000000000005,40.113636363636289,"VS",1.4442353326241686,1.5111695137976346,0.99710433510020935,1.0378700499807767,1.937192118226601,"AQT0505",15,1000,0,40,40,56.352272727272734,54.747727272727282,"GCK","Carna",1,4103.5227272727279,37.272727272727117,"VS",0.90831048710918716,1.7744223509893968,0.99944172550528221,1.0380245417361005,1.6025498007968126,"AQT0505",15,1000,2,22,20,82.815909090909088,81.325000000000003,"GCK","Carna",1,1153.7667698658411,33.062435500515974,"VS",2.86560822898032,3.8422314007444807,0.99874470732251064,0.99886052871467634,1.5251867919980717,"AQT0505",15,60.05,20,54,34,23.73658410732714,22.414086687306501]
["EIF2AK4 (GCN2)","EIF2AK4","GCN2","GCN2","GCN2","Other","28_11",233.2,"GCN2","Carna",5,145.66964285714286,"NA","M","NA","NA",0.96898649192930686,1.00496849248667,1.2018791264601321,"AQT0911",15,233.2,28,56,28,"",14.566964285714286,"GCN2","Carna",5,80.211538461538453,0.97307692307692306,"W",1.2131383361304244,5.8991793669402108,0.99419441251850416,1.002770083102493,1.1557990867579908,"AQT0911",15,1000,10,58,48,7.9238461538461538,8.1184615384615384,"GCN2","Carna",5,223.9356295878035,14.083850931677016,"M",6.2892407776292885,1.9728756092392459,0.99604504353886958,1.0068145570537914,1.3324550526968382,"AQT0911",15,1000,8,50,42,20.985177865612648,23.801948051948052,"GCN2","Carna",5,33.291376306620208,0.74869337979094108,"W",2.2489108677734615,1.2584920369751642,0.98670317589664847,0.98837209302325579,1.1427330002172496,"AQT0911",15,233.2,30,110,80,3.2542682926829269,3.4040069686411152]
["MAP4K3 (GLK, KHS2)","MAP4K3","KHS2","KHS2","GLK/KHS2","STE","18_05",42.4,"GLK/KHS2","SC",2,245.64158667419534,4.4784020327498499,"M",1.8231448890165904,12.170376329668365,0.99360260870170225,0.9677962534203326,1.2276695768972465,"AQT0505",15,42.4,28,70,42,10.004799548277809,9.6465273856578211,"GLK/KHS2","SC",2,465.64529914529913,12.228632478632484,"S",2.6261689962463644,5.0139798145117291,0.99794980008021905,0.99472140762463346,1.4787775891341255,"AQT0505",15,1000,20,70,50,19.114957264957265,18.136666666666667,"GLK/KHS2","SC",2,620.02757352941171,10.707720588235325,"S",1.7269749032745869,2.734375,0.9988625923312503,1.0051706308169597,1.363174603174603,"AQT0505",15,1000,24,54,30,25.229411764705883,24.372794117647057,"GLK/KHS2","SC",2,225.89903846153845,4.2451923076922693,"M",1.8792431949262394,6.3856362217017963,0.99692189351930083,0.97328584149599284,1.3013408609738886,"AQT0505",15,42.4,42,90,48,9.2057692307692314,8.8661538461538498]
["GRK1 (RHOK)","GRK1","RHOK","RHOK","GRK1","AGC","10_01",21.36,"GRK1","SC",20,60.292119565217391,2.4481225296442672,"W",4.0604353393085759,217.94829162856431,0.97110157506367367,0.95246217197436711,1.0128249141736145,"AQT0603",15,21.36,16,60,44,25.096096837944664,23.13759881422925,"GRK1","SC",20,128.84351503759399,"NA","M","NA","NA",0.99000691072713587,0.94250056344376831,1.0768532182994666,"AQT0603",15,1000,2,40,38,"",51.537406015037597,"GRK1","SC",20,160.46334586466165,13.755639097744375,"M",8.5724493800261321,29.329065908013273,0.99288224960788718,0.98128304043434778,1.1213289227671508,"AQT0603",15,1000,2,40,38,69.687593984962419,58.683082706766918,"GRK1","SC",20,70.819546568627445,5.5530024509803955,"W",7.8410590296554314,293.18763078353868,0.963281081489332,0.96569953282517829,1.0124710405678514,"AQT0603",15,21.36,8,40,32,30.549019607843139,26.106617647058822]
["GRK2 (ADRBK1, BARK1)","GRK2 ","BARK1","BARK1","GRK2","AGC","10_02",57.81,"GRK2","INVT",5,231.64565217391302,1.2630434782608722,"M",0.54524808318552631,10.816846147424661,0.96066968730368751,0.97202914798206275,1.2381889763779528,"AQT0641",15,57.81,50,96,46,23.290869565217392,23.038260869565217,"GRK2","INVT",5,378.17606837606843,0.78717948717951447,"S",0.2081515867885966,2.5040040801352887,0.99691983288921004,1.0056161642243884,1.5786887452880989,"AQT0641",15,1000,70,120,50,37.89632478632479,37.738888888888887,"GRK2","INVT",5,300.0884615384615,11.984615384615383,"S",3.9936941671045716,4.9337134711332862,0.99392276652261313,0.98685821039747468,1.1921786179028833,"AQT0641",15,1000,2,50,48,31.207307692307694,28.810384615384617,"GRK2","INVT",5,286.27205882352939,6.5441176470588216,"M",2.2859784758431143,17.222511724856695,0.97517154968490261,0.97031884057971018,1.1173413232236762,"AQT0641",15,57.81,14,44,30,29.281617647058823,27.972794117647059]
["GRK3 (ADRBK2, BARK2)","GRK3","BARK2","BARK2","GRK3","AGC","10_03",39.590000000000003,"GRK3","Carna",10,155.11282051282052,5.1094017094017108,"M",3.2939905885983189,6.9760567543600356,0.99084750357347151,0.96949977365323681,1.2009981581605371,"AQT0641",15,39.590000000000003,16,66,50,32.044444444444444,30.00068376068376,"GRK3","Carna",10,162.84188034188034,2.4191086691086734,"M",1.4855568260633238,8.0263254651077283,0.99401698409800987,0.9764584807358333,1.2058863605395831,"AQT0641",15,1000,0,52,52,33.05219780219781,32.08455433455434,"GRK3","Carna",10,811.06060606060601,10.666666666666629,"S",1.3151503829628199,0.85106382978723405,0.99704058033707466,0.96605527958221882,1.5790462243728511,"AQT0641",15,1000,62,80,18,160.07878787878789,164.34545454545454,"GRK3","Carna",10,179.39473684210526,3.1754385964912224,"M",1.7700845924404642,17.174381737476217,0.99419537862647578,0.97050921968494319,1.1328,"AQT0641",15,39.590000000000003,0,36,36,36.514035087719293,35.243859649122804]
["GRK4 (GPRK4)","GRK4","GPRK4","GPRK4","GRK4","AGC","10_04",72.77367471001881,"GRK4","Carna",15,105.31759906759908,5.7138694638694663,"M",5.4253700373495661,29.653028479743281,0.97029108802639019,0.96920330283418876,1.0479986137584474,"AQT0641",15,72.77367471001881,0,22,22,33.30944055944056,29.88111888111888,"GRK4","Carna",15,101.46520146520145,12.487179487179509,"M",12.306859205776197,7.0155128501968047,0.98966289885624259,0.97641781480294776,1.0825638966947677,"AQT0641",15,1000,0,26,26,34.185714285714283,26.693406593406593,"GRK4","Carna",15,122.22610722610723,15.93531468531477,"M",13.037570325164557,16.256189731561115,0.98082085272269992,0.97361058120310318,1.0843500626525095,"AQT0641",15,1000,0,22,22,41.448426573426573,31.887237762237763,"GRK4","Carna",15,100.32509157509158,0.40750915750915456,"M",0.4061886723563477,33.428910421198346,0.98306584782913353,0.9603354883802202,1.0475230590678639,"AQT0641",15,72.77367471001881,0,24,24,29.975274725274726,30.219780219780219]
["GRK5 (GPRK5)","GRK5","GPRK5","GPRK5","GRK5","AGC","10_05",21.66,"GRK5","SC",30,31.997876955034215,0.57413856304985222,"W",1.7943020527789209,17.935536044362291,0.96162719027283139,0.96253033980582525,1.1164317228021092,"AQT0641",15,21.66,28,90,62,19.54320931085044,18.854243035190617,"GRK5","SC",30,48.428917378917383,0.71139601139602016,"W",1.4689488221054328,11.270996041510644,0.99269557608561043,0.92033398204532613,1.1914015706109411,"AQT0641",15,1000,30,80,50,29.48418803418804,28.630512820512816,"GRK5","SC",30,48.03858695652174,2.5190217391304364,"W",5.2437465352807449,13.247473329590118,0.99044343596722983,0.94878587196467989,1.2395104895104896,"AQT0641",15,1000,34,80,46,30.334565217391305,27.311739130434781,"GRK5","SC",30,28.020320197044338,0.38051906586389345,"VW",1.3580111261684713,27.802309782608699,0.98520906631857608,0.93052225276331946,1.0904677032757668,"AQT0641",15,21.66,36,90,54,17.040503557744938,16.583880678708265]
["GRK6 (GPRK6)","GRK6","GPRK6","GPRK6","GRK6","AGC","10_06",30,"GRK6","SC",90,3.657661782661783,1.0480260480260482,"VW",28.652896585298006,193.0185185185185,0.89631958316121429,0.97195049451440307,1.0113830392714855,"AQT0641",15,30,38,90,52,4.6973443223443221,8.4702380952380949,"GRK6","SC",90,6.5426783361565972,0.20782357738879489,"VW",3.1764296930250415,250.50505050505052,0.94441535142099675,0.93134698135350114,1.003057480635956,"AQT0641",15,1000,22,64,42,11.402738565782045,12.150903444381706,"GRK6","SC",90,11.720322886989555,4.7625830959164221E-2,"VW",0.40635255033828882,1.4039685511044553,0.98989457450080809,0.96314754098360655,1.1849722991689751,"AQT0641",15,1000,40,90,50,21.010854700854701,21.182307692307692,"GRK6","SC",90,5.8398074187547877,1.7066661803501779E-2,"VW",0.29224699685629141,-26.346005933413913,0.95460189711042276,0.85840266222961725,0.9434341048653756,"AQT0641",15,30,16,90,74,10.54237334500492,10.480933362512314]
["GRK7 (GPRK7)","GRK7","GPRK7","GPRK7","GRK7","AGC","10_07",25.8,"GRK7","Carna",30,26.309816901922165,1.5266531713900111,"VW",5.8025989959606123,17.588768572148073,0.98325385783609698,0.94249937390433258,1.1103659502561123,"AQT0641",15,25.8,36,110,74,16.701882043987307,14.869898238319294,"GRK7","Carna",30,36.452682062561095,0.64668866080156207,"W",1.7740496013206855,2.6075060800353751,0.99301647009395511,0.96929996089166992,1.3081692443959938,"AQT0641",15,1000,58,120,62,21.483596041055719,22.259622434017594,"GRK7","Carna",30,42.257575757575765,1.7916666666666654,"W",4.2398709214772285,12.109579480020939,0.965038283977117,0.97692014242115977,1.1399315114483315,"AQT0641",15,1000,30,50,20,26.429545454545455,24.279545454545456,"GRK7","Carna",30,24.065384615384616,0.660683760683766,"VW",2.7453696304583532,8.8757396449704142,0.98006038451934896,0.92305525826620849,1.1304903272904245,"AQT0641",15,25.8,60,110,50,14.042820512820512,14.835641025641031]
["GSK3A (GSK3α)","GSK3A","GSK3A","GSK3A","GSK3A","CMGC","10_11",23.88,"GSK3A","Carna",2,1538.7499999999998,32.84090909090915,"VS",2.1342589173620898,-36.36363636363636,0.99650298088924372,0.76011396011396015,0.9743722764058933,"AQT0157",15,23.88,16,36,20,60.236363636363635,62.863636363636367,"GSK3A","Carna",2,2074.1666666666665,27.613636363636473,"VS",1.3313123196610595,7.9493021931073766,0.99297489628682112,1.0363040544882092,1.2269700691705991,"AQT0157",15,1000,0,18,18,84.071212121212127,81.86212121212121,"GSK3A","Carna",2,2587.727272727273,40.378787878787925,"VS",1.560395807717081,3.5799415336181695,0.99603380450067203,1.0478945076817814,1.2764172053704625,"AQT0157",15,1000,0,18,18,101.89393939393939,105.12424242424242,"GSK3A","Carna",2,1558.8392857142856,14.598214285714304,"VS",0.9364797525631493,-20.97972972972973,0.99734552974212798,0.76576095660065124,0.96811032105149752,"AQT0157",15,23.88,2,30,28,61.769642857142856,62.9375]
["GSK3B (GSK3β)","GSK3B","GSK3B","GSK3B","GSK3B","CMGC","10_12",35.26,"GSK3B","Carna",2,1199.5879120879119,45.521978021977986,"VS",3.7948013282949709,2.5622673919267105,0.99716111470320834,0.9714367651276169,1.2297686197766777,"AQT0157",15,35.26,22,48,26,49.804395604395602,46.162637362637362,"GSK3B","Carna",2,1516.2368881118882,2.2508741258740805,"VS",0.14845134975425958,1.9676647951757122,0.99382372089864579,1.0173334212087259,1.2117989033494088,"AQT0157",15,1000,2,24,22,60.739510489510486,60.55944055944056,"GSK3B","Carna",2,2106.55303030303,4.6590909090907573,"VS",0.22117130886662473,5.1482479784366575,0.99792651082122452,1.0209474701901387,1.2155445097153186,"AQT0157",15,1000,0,18,18,84.075757575757592,84.448484848484853,"GSK3B","Carna",2,1278.5491071428573,22.321428571428555,"VS",1.7458405349255384,7.045289855072463,0.99626446437330929,1.0009428403064231,1.2187091406157138,"AQT0157",15,35.26,8,36,28,52.034821428571426,50.249107142857142]
["HASPIN","Haspin","Haspin","Haspin","HASPIN","Other","21_07",47.38,"HASPIN","Carna",3,225.18910256410263,7.1987179487179507,"M",3.1967434777039241,5.9341678256838195,0.99799429397775063,0.96399896399896401,1.5956917978458991,"AQT0798",15,47.38,44,92,48,13.079423076923076,13.94326923076923,"HASPIN","Carna",3,385.77410130718954,0.63316993464053906,"S",0.16412971542025567,0.76796268746733143,0.99786571655150824,0.994202319072371,1.311409110259685,"AQT0798",15,1000,0,32,32,23.184436274509807,23.108455882352942,"HASPIN","Carna",3,221.60282258064518,1.1424731182795671,"M",0.51554989461553491,3.5692383171838586,0.99752621573861988,0.9981381178063643,1.2826437399247717,"AQT0798",15,1000,0,60,60,13.227620967741936,13.364717741935484,"HASPIN","Carna",3,155.00000000000003,1.0832260832260854,"M",0.69885553756521623,8.4876543209876552,0.94963579579597246,0.96682464454976302,1.0533017471128221,"AQT0798",15,47.38,50,120,70,1.2212355212355213,1.3512226512226515]
["HCK","HCK","HCK","HCK","HCK","TK","04_02",21.36,"HCK","Carna",1,1606.7045454545453,4.0909090909089221,"VS",0.25461489497134537,7.3014091532610053,0.99871598575478993,0.9777542372881356,1.1745480665629113,"AQT0104",15,21.36,6,26,20,32.052272727272729,32.215909090909086,"HCK","Carna",1,2451.723790322581,26.300403225806328,"VS",1.0727310853538645,1.8798721145991677,0.99923159114477711,1.0081146875845279,1.8371472694089568,"AQT0104",15,1000,0,60,60,49.56048387096773,48.508467741935476,"HCK","Carna",1,2589.2045454545455,84.31818181818204,"VS",3.2565284178187492,1.6621147093250097,0.99953651057179871,1.014065639651708,1.3197036223929748,"AQT0104",15,1000,2,22,20,53.470454545454544,50.097727272727262,"HCK","Carna",1,1528.9393939393938,10.454545454545448,"VS",0.68377762362501204,9.3373493975903603,0.99764612088398907,0.99987690792712947,1.207681721506318,"AQT0104",15,21.36,10,28,18,30.369696969696971,30.787878787878789]
["ERBB2 (HER2)","ERBB2","HER2/ErbB2","ErbB2","HER2","TK","01_11",232.72740156671156,"HER2","BPS",10,1298.9545454545455,28.284090909090978,"VS",2.1774503971725565,4.34322368628938,0.99497549969555554,1.0291243158717749,1.3730187027973162,"AQT0734",15,232.72740156671156,0,20,20,265.44772727272726,254.13409090909087,"HER2","BPS",10,970.95454545454538,29.962121212121243,"S",3.0858417989170328,2.4602113959421699,0.99910819134055318,1.0616855723258649,1.3797988187523071,"AQT0734",15,1000,0,18,18,200.18333333333334,188.19848484848484,"HER2","BPS",10,999.72610294117635,6.0790441176470713,"S",0.60807096061237498,2.2745422672380213,0.9963980555637979,1.0483697431819246,1.5901149425287358,"AQT0734",15,1000,0,30,30,201.1610294117647,198.72941176470587,"HER2","BPS",10,463.91233766233768,0.35227272727279768,"S",7.5935192637450868E-2,1.4710314339569479,0.98976702119375548,1.0378004609812315,1.8517975055025677,"AQT0734",15,232.72740156671156,50,90,40,92.852922077922074,92.712012987012955]
["ERBB4 (HER4)","ERBB4","HER4/ErbB4","ErbB4","HER4","TK","01_12",25.43,"HER4","Carna",3,696.94235588972435,6.9862155388471212,"S",1.0024093785960879,2.465773166162271,0.99513839840268858,0.99252640129975633,1.2749861298248395,"AQT0734",15,25.43,62,100,38,41.397368421052633,42.235714285714288,"HER4","Carna",3,689.71794871794896,36.807692307692307,"S",5.3366296144838081,1.034690101757632,0.99476251626640622,1.010639749011049,1.3833163423607111,"AQT0734",15,1000,72,120,48,39.174615384615386,43.591538461538462,"HER4","Carna",3,890.30072463768136,21.483695652173946,"S",2.4130830243811152,1.1682489451476794,0.99497936796924602,1.0024252600158574,1.5000452120444887,"AQT0734",15,1000,74,120,46,52.12902173913043,54.707065217391303,"HER4","Carna",3,657.53968253968242,5.202061667578838,"S",0.79114033809889406,1.2961059723649653,0.98608745605703929,1.0104986876640421,1.2345405118270163,"AQT0734",15,25.43,58,112,54,39.76450465243569,39.140257252326229]
["MAP4K4 (HGK, ZC1)","MAP4K4","ZC1/HGK","HGK","HGK","STE","18_06",20.34,"HGK","Carna",3,705.36630036630038,28.076923076923006,"S",3.9804741256199101,2.7392257121986852,0.99538138970050649,1.0384202041912951,1.765874125874126,"AQT0135",15,20.34,4,30,26,40.637362637362635,44.006593406593396,"HGK","Carna",3,673.95339954163478,3.6446396740514562,"S",0.54078511608224356,0.69772800128225676,0.99839637611101062,1.0776672937382423,2.6648709951800393,"AQT0135",15,1000,0,66,66,40.218525592055002,40.655882352941177,"HGK","Carna",3,1067.2348484848485,8.7121212121213425,"VS",0.81632653061225713,3.0787957959741106,0.98640241802166462,1.0891416752843848,1.6551133932391955,"AQT0135",15,1000,0,20,20,64.556818181818187,63.511363636363626,"HGK","Carna",3,677.53787878787875,11.969696969696917,"S",1.7666461676077523,7.2265112126463942,0.99736553098246084,1.0290215588723051,1.4930219310737682,"AQT0135",15,20.34,0,20,20,41.370454545454542,39.934090909090912]
["HIPK1","HIPK1","HIPK1","HIPK1","HIPK1","CMGC","23_02",30.07,"HIPK1","Carna",20,30.497554347826085,7.5000000000000608E-2,"W",0.24592135862640646,11.658485273492285,0.95606695061659996,0.95688311688311689,1.0930020217830823,"AQT0849",15,30.07,66,112,46,12.169021739130434,12.229021739130435,"HIPK1","Carna",20,48.244485294117652,1.3786764705882379,"W",2.8576871785101976,7.5150129657431428,0.96364496315751014,0.95790816326530615,1.2817453832325545,"AQT0849",15,1000,88,120,32,18.746323529411761,19.849264705882351,"HIPK1","Carna",20,56.488636363636346,0.27272727272726888,"W",0.48280024140011402,1.7817311354115664,0.9738439002243976,0.98596795591386877,1.1798030881799106,"AQT0849",15,1000,88,108,20,22.486363636363638,22.704545454545453,"HIPK1","Carna",20,23.283381595881593,0.36510617760617364,"VW",1.5680977271392327,8.5457187569863624,0.96955578500623696,0.95550512344405469,1.1041637557635879,"AQT0849",15,30.07,50,120,70,9.1673101673101698,9.4593951093951087]
["HIPK2","HIPK2","HIPK2","HIPK2","HIPK2","CMGC","23_03",51.69,"HIPK2","Carna",10,60.608875128998967,0.42053663570691396,"W",0.69385322663034155,15.089327223218438,0.91492410214447562,0.94936708860759489,1.1141823641823643,"AQT0849",15,51.69,80,114,34,12.205882352941176,12.03766769865841,"HIPK2","Carna",10,76.89273504273504,2.0987179487179519,"W",2.729409933918383,1.6748052233073629,0.9703630929770114,0.96881139489194501,1.2363452461227242,"AQT0849",15,1000,70,120,50,14.958803418803418,15.798290598290599,"HIPK2","Carna",10,81.191176470588232,4.8492647058823515,"W",5.972649882267703,1.2665198237885462,0.97288241609734716,0.9856583403895004,1.1625537071719731,"AQT0849",15,1000,90,120,30,15.268382352941176,17.208088235294117,"HIPK2","Carna",10,49.845779220779221,0.39123376623376505,"W",0.78488845464907753,6.0083957866543054,0.90410911120078474,0.97841419106646721,1.1344727272727273,"AQT0849",15,51.69,78,118,40,9.8909090909090924,10.047402597402598]
["HIPK3","HIPK3","HIPK3","HIPK3","HIPK3","CMGC","23_04",43.46,"HIPK3","Carna",20,22.403464590964592,0.1346916971916978,"VW",0.60120923103125534,3.3368832090876821,0.92036954467517118,0.96533967122202413,1.0830734523256584,"AQT0849",15,43.46,50,102,52,9.0152625152625152,8.9075091575091569,"HIPK3","Carna",20,30.551244343891408,0.63218325791854824,"W",2.0692553494795725,1.9381017188366347,0.9927126160057117,0.96549835706462217,1.1866154953226193,"AQT0849",15,1000,20,120,100,11.96762443438914,12.473371040723979,"HIPK3","Carna",20,39.398468379446641,3.1077075098814224,"W",7.8878891431796081,11.180124223602485,0.97770360232560494,0.9881761006289308,1.1216308159313342,"AQT0849",15,1000,60,104,44,17.002470355731226,14.516304347826088,"HIPK3","Carna",20,18.981425551192995,1.2048852310480205,"VW",6.3477067504673936,5.1201230059581011,0.96483612090135318,0.96754799480767917,1.0841856258262019,"AQT0849",15,43.46,26,110,84,7.1106161280579911,8.0745243128964077]
["HIPK4","HIPK4","HIPK4","HIPK4","HIPK4","CMGC","23_05",29,"HIPK4","Carna",20,33.057319518716582,0.17776570855615012,"W",0.53774991785254012,10.958976808363847,0.97648002839523451,0.96178850043340081,1.1286518963574914,"AQT0850",15,29,36,100,64,13.151821524064172,13.294034090909092,"HIPK4","Carna",20,39.630040322580648,0.5221774193548322,"W",1.3176303004095173,3.1735459277780058,0.99168110731608827,0.98525903203817311,1.2831189855202807,"AQT0850",15,1000,60,120,60,16.060887096774191,15.643145161290326,"HIPK4","Carna",20,50.266382868937043,2.2936016511867892,"W",4.5628937677235557,5.5530474040632054,0.97146674082278317,0.99027154158648711,1.1255170850569503,"AQT0850",15,1000,46,80,34,21.023993808049536,19.189112487100104,"HIPK4","Carna",20,25.312179487179488,1.0108974358974376,"VW",3.993719451971542,15.190386749765217,0.93471023941058295,0.98759363295880154,1.1474390443462608,"AQT0850",15,29,50,100,50,9.7205128205128197,10.52923076923077]
["MAP4K1 (HPK1)","MAP4K1","HPK1","HPK1","HPK1","STE","18_03",16.53,"HPK1","INVT",2,357.78492647058823,8.2996323529411757,"S",2.3197266678654915,1.3798701298701299,0.99499605627498833,0.9980632666236281,1.1918894426823741,"AQT0505",15,16.53,0,30,30,14.643382352941176,13.979411764705882,"HPK1","INVT",2,670.81249999999989,9.0480769230770086,"S",1.3488235420593697,1.3476702508960574,0.99865097123653179,1.0320143169616225,1.5957719410634208,"AQT0505",15,1000,2,50,48,27.194423076923083,26.470576923076923,"HPK1","INVT",2,815.22727272727275,25.606060606060584,"S",3.1409720286218725,5.9454855195911414,0.99839965149897236,1,1.1824114356743318,"AQT0505",15,1000,0,18,18,33.633333333333333,31.584848484848486,"HPK1","INVT",2,333.79289215686276,0.18382352941177513,"S",5.5071133547501969E-2,4.4946147473073736,0.99710739709873342,0.99864130434782605,1.2021831988609397,"AQT0505",15,16.53,0,32,32,13.359068627450981,13.344362745098039]
["EIF2AK1 (HRI)","EIF2AK1","HRI","HRI","HRI","Other","23_07",103.1,"HRI","Carna",55,45.829170829170828,1.080919080919077,"W",2.3585831062670213,4.0508149568552252,0.99583635841913953,0.91337242292415355,1.1764357608052101,"AQT0748",15,103.1,0,26,26,49.223076923076924,51.601098901098894,"HRI","Carna",55,57.466511266511262,0.48049728049727675,"W",0.83613441969512359,4.1206484531421559,0.99630249283112693,0.96406015037593984,1.4810566281605946,"AQT0748",15,1000,0,50,50,62.684615384615391,63.7417094017094,"HRI","Carna",55,62.774725274725263,0.10614385614384889,"W",0.16908693057488403,25.291674906070792,0.9977261076355961,0.85591900311526481,1.0196058666397863,"AQT0748",15,1000,0,24,24,68.935439560439562,69.16895604395603,"HRI","Carna",55,54.897488874761592,0.27574698029243316,"W",0.50229434158910002,3.3361344537815127,0.99651898709787889,1.0286468149264982,1.2899610136452242,"AQT0748",15,103.1,0,22,22,60.083916083916087,60.69055944055944]
["HUNK","HUNK","HUNK","HUNK","HUNK","CAMK","32_03",100.4,"HUNK","INVT",40,62.210227272727266,1.8153409090909098,"W",2.9180747100191815,14.775068911071267,0.99697064818526737,0.96630409080160795,1.2077294685990339,"AQT0953",15,100.4,32,52,20,51.220454545454544,48.315909090909088,"HUNK","INVT",40,50.516847826086959,2.1198369565217368,"W",4.196296973674297,1.7972536348949919,0.99757190850657163,0.9709961026012871,1.6866968660441897,"AQT0953",15,1000,74,120,46,38.717608695652174,42.109347826086953,"HUNK","INVT",40,34.424864130434777,0.45679347826086836,"W",1.3269289212880886,5.0207805015497327,0.99780486744620378,0.9785094365615099,1.6710153148043108,"AQT0953",15,1000,64,110,46,27.174456521739131,27.905326086956521,"HUNK","INVT",40,29.443195812807879,0.75892857142857417,"VW",2.5776025681914527,7.6712400229537261,0.99459712514526966,0.96482461297276112,1.2610584518167456,"AQT0953",15,100.4,22,78,56,24.161699507389162,22.947413793103443]
["ICK","ICK","ICK","ICK","ICK","CMGC","21_12",58.6,"ICK","Carna",5,57.047008547008545,0.13162393162393202,"W",0.23072889355007933,1.1462047885888946,0.98559565027695883,0.98707239459029439,1.2573498082658714,"AQT0257",15,58.6,70,120,50,5.6915384615384612,5.7178632478632476,"ICK","Carna",5,153.517094017094,3.2188034188034189,"M",2.0967068451966711,1.2551668514971268,0.99698370966236782,1.0041103934233706,1.3188466360217301,"AQT0257",15,1000,0,50,50,15.02982905982906,15.673589743589744,"ICK","Carna",5,118.75,0.70454545454545314,"M",0.59330143540669744,3.6881977671451347,0.9909943184293134,0.99637452711223207,1.0745707277187244,"AQT0257",15,1000,0,20,20,11.804545454545455,11.945454545454545,"ICK","Carna",5,68.074028461959486,1.2089490968801186,"W",1.7759329427017718,1.4738762061661568,0.99097062801679647,1.0081726739312658,1.2722583538910071,"AQT0257",15,58.6,36,90,54,6.6865079365079376,6.9282977558839614]
["IGF1R","IGF1R","IGF1R","IGF1R","IGF1R","TK","04_03",24.77,"IGF1R","Carna",1,1384.6153846153845,8.9597902097903397,"VS",0.64709595959596911,1.9845253032204098,0.99435827288549594,0.98163625662154208,1.4913081001109605,"AQT0101",15,24.77,66,88,22,27.8715034965035,27.513111888111887,"IGF1R","Carna",1,2491.5109890109884,35.247252747252666,"VS",1.4146938505474604,0.92819614711033283,0.99940750888407426,0.97754796570962033,1.4004769252349558,"AQT0101",15,1000,6,32,26,49.125274725274728,50.535164835164835,"IGF1R","Carna",1,2219.0559440559441,26.311188811188835,"VS",1.1856929015993076,1.9038336582196231,0.99953549432042699,1.0060756697045015,1.3677419354838709,"AQT0101",15,1000,8,30,22,44.90734265734266,43.854895104895107,"IGF1R","Carna",1,1665.3749999999998,41.653846153846168,"VS",2.5011691753416603,1.6714666666666667,0.99950866011800132,1.0012860082304527,1.501336898395722,"AQT0101",15,24.77,14,62,48,32.474423076923074,34.140576923076921]
["CHUK (IKKA, IKKa)","CHUK","IKKa","IKKa","IKKA","Other","10_08",63.83,"IKKA","Carna",30,7.308467741935484,8.4005376344083638E-4,"VW",1.1494252873562892E-2,67.908214166943807,0.76019318118708445,0.99279070515915158,1.031399715136605,"AQT0224",15,63.83,50,110,60,4.385584677419355,4.384576612903226,"IKKA","Carna",30,49.11904761904762,0.66964285714285887,"W",1.3633058652447925,18.444444444444443,0.97889869701849741,0.96885030639042891,1.0320465595992339,"AQT0224",15,1000,2,30,28,29.873214285714287,29.069642857142856,"IKKA","Carna",30,50.85393772893773,6.1355311355311279,"W",12.065006977895813,27.458617332035058,0.98279625521517988,0.97975152976080104,1.047355012737899,"AQT0224",15,1000,6,30,24,34.193681318681321,26.831043956043956,"IKKA","Carna",30,7.3683574879227054,1.1391633728590282,"VW",15.460207715575732,-33.42840166369578,0.81382119417458276,0.94783731439638474,0.98186344238975809,"AQT0224",15,63.83,32,120,88,5.1045125164690388,3.7375164690382081]
["IKKB (IKKβ)","IKBKB","IKKb","IKKb","IKKB","Other","10_09",14.6,"IKKB","Carna",8,347.49053030303031,20.416666666666682,"S",5.8754598719171591,20.484976278334212,0.98450993510918272,0.99102195111473856,1.0832455678427242,"AQT0215",15,14.6,0,18,18,58.865151515151517,52.331818181818178,"IKKB","Carna",8,603.99147727272725,2.6562499999999822,"S",0.43978269560922545,5.6475108727779419,0.99691832615577258,1.0346141879278159,1.3423982188295165,"AQT0215",15,1000,0,20,20,97.063636363636363,96.213636363636368,"IKKB","Carna",8,437.79487781954884,8.1179511278195893,"S",1.8542818884157117,4.2771209292677863,0.99769191654040235,0.9693622035645898,1.3452449154969923,"AQT0215",15,1000,2,40,38,71.346052631578942,68.748308270676674,"IKKB","Carna",8,283.41002747252747,8.7259615384615454,"M",3.0789177137733428,13.961542724149398,0.99510326388712322,1.0125181766453815,1.1677075201665366,"AQT0215",15,14.6,0,26,26,46.741758241758241,43.949450549450546]
["IKKE (IKKe)","IKBKE","IKKe","IKKe","IKKE","Other","10_10",18.32,"IKKE","Carna",2,1057.636752136752,28.190170940170933,"VS",2.6653925256680147,4.2388605228648757,0.99483405146864223,0.9924606845513414,1.2609189419391473,"AQT0215",15,18.32,20,70,50,43.433076923076925,41.17786324786325,"IKKE","Carna",2,1805.9752747252749,15.212912087912043,"VS",0.8423654687202865,6.2548979170963097,0.99842961996685065,1.0199425895150325,1.2877198395556926,"AQT0215",15,1000,0,24,24,72.847527472527474,71.630494505494511,"IKKE","Carna",2,1645.9659090909092,21.363636363635941,"VS",1.2979391763609116,2.2528811146697323,0.9996155936528347,1.0374609041796987,1.2398699891657639,"AQT0215",15,1000,2,22,20,66.693181818181799,64.984090909090924,"IKKE","Carna",2,882.62867647058818,26.075367647058815,"S",2.9542851192335724,11.071855095541402,0.9956481705061665,1.0044778085078361,1.2537202881960812,"AQT0215",15,18.32,24,54,30,36.348161764705885,34.26213235294118]
["INSR (IR)","INSR","INSR","INSR","INSR","TK","04_04",21.23,"INSR","Carna",1,1148.214285714286,3.9772727272727515,"VS",0.34638767142655369,2.7801223886895974,0.99826415017805215,0.97437476900332631,1.3477590856555799,"AQT0101",15,21.23,36,76,40,23.043831168831169,22.884740259740258,"INSR","Carna",1,2295.625,21.830357142857082,"VS",0.95095484423009335,1.1808588064046577,0.99947005170342906,0.99705428531350826,1.5287157287157287,"AQT0101",15,1000,14,42,28,45.47589285714286,46.349107142857143,"INSR","Carna",1,2116.6208791208796,2.54120879120876,"VS",0.12005970536699181,0.57515128386850567,0.99945626161740786,1.0001382743362832,1.4037773644298182,"AQT0101",15,1000,12,36,24,42.281593406593409,42.383241758241759,"INSR","Carna",1,1394.6978021978023,38.15934065934065,"VS",2.7360293103787887,3.5667963683527883,0.99843254868793385,0.98512629824336451,1.3079483424311009,"AQT0101",15,21.23,26,52,26,27.130769230769232,28.657142857142858]
["INSRR (IRR)","INSRR","IRR","IRR","INSRR","TK","04_05",126.3,"INSRR","Carna",3,417.6427738927739,11.392773892773887,"S",2.7278752572644489,16.80802940344925,0.99809621353327438,0.96827069429809154,1.1409949772781631,"AQT0104",15,126.3,10,32,22,24.375,25.742132867132867,"INSRR","Carna",3,601.44230769230774,0.24766899766900016,"S",4.1179177869825764E-2,5.4715530497180938,0.99808397974872065,0.99798792756539234,1.2658038147138964,"AQT0104",15,1000,8,30,22,36.1013986013986,36.07167832167832,"INSRR","Carna",3,692.17032967032969,6.3415750915751801,"S",0.91618707415493761,1.9749552772808585,0.99923291353620869,0.99099804305283756,1.2867048939858647,"AQT0104",15,1000,4,28,24,41.149725274725263,41.910714285714285,"INSRR","Carna",3,606.94930069930069,0.18939393939394475,"S",3.1204243777154573E-2,5.1959675899755045,0.9990461249822199,0.99694451234417014,1.2189627429137269,"AQT0104",15,126.3,6,28,22,36.405594405594407,36.42832167832168]
["IRAK1","IRAK1","IRAK1","IRAK1","IRAK1","TKL","12_11",48.58,"IRAK1","Carna",2,776.56250000000011,2.1428571428570464,"S",0.27594136246046469,0.67136344799005376,0.99900020420692159,1.0178430858042509,1.6789532920652785,"AQT0326",15,48.58,12,40,28,31.148214285714278,30.976785714285715,"IRAK1","Carna",2,1191.1397058823529,21.544117647058854,"VS",1.8086977993147964,0.90789039286893369,0.99867097496804491,1.0476302758783307,1.7639344262295082,"AQT0326",15,1000,0,30,30,46.783823529411762,48.507352941176471,"IRAK1","Carna",2,1272.840909090909,24.60227272727273,"VS",1.9328631372198912,0.92870581642047945,0.99903495357016991,1.0537020109689215,1.5481535119478638,"AQT0326",15,1000,0,20,20,49.929545454545455,51.897727272727273,"IRAK1","Carna",2,708.92543859649118,9.5833333333333197,"S",1.3518111795093868,0.50947202062841812,0.99961788516037986,0.98200163621488956,1.7285549798503168,"AQT0326",15,48.58,12,48,36,27.973684210526315,28.740350877192981]
["IRAK4","IRAK4","IRAK4","IRAK4","IRAK4","TKL","12_12",56.11,"IRAK4","Carna",2,458.23863636363632,28.011363636363651,"S",6.1128332300062027,0.95512479253436877,0.99564060504810836,1.0065540710864633,1.7759957230686982,"AQT0326",15,56.11,82,102,20,17.209090909090911,19.450000000000003,"IRAK4","Carna",2,869.87012987012974,4.9512987012986889,"S",0.56919976112272186,0.95443104292661818,0.99851428330498027,1.0356976201586561,3.0952142320220499,"AQT0326",15,1000,80,120,40,34.99285714285714,34.596753246753245,"IRAK4","Carna",2,1021.0745614035087,3.9692982456140937,"VS",0.38873735529735765,0.44298873076826539,0.99924769085550103,0.98287304645686147,1.9699352451433858,"AQT0326",15,1000,20,56,36,40.684210526315788,41.001754385964915,"IRAK4","Carna",2,482.52757352941177,5.8088235294117645,"S",1.2038324539515037,0.57103413654618473,0.99666133342889607,1.0089673913043478,2.1353662011969221,"AQT0326",15,56.11,90,120,30,19.533455882352943,19.068750000000001]
["ITK","ITK","ITK","ITK","ITK","TK","04_06",49.5,"ITK","INVT",10,30.816544566544568,0.59981684981684757,"W",1.946411767619229,41.373988931460197,0.975259540936944,0.99348219674109839,1.0875471698113208,"AQT0101",15,49.5,14,66,52,6.2832722832722832,6.0433455433455441,"ITK","INVT",10,46.683035714285708,1.9107142857142851,"W",4.0929520895094189,13.15127871694842,0.99731008608288729,0.99944827586206897,1.1104250430786904,"AQT0101",15,1000,16,44,28,8.9544642857142858,9.71875,"ITK","INVT",10,44.442982456140342,1.2785087719298136,"W",2.8767393664265031,12.32720355104629,0.98591855196146783,1.006977698727596,1.1178642431127521,"AQT0101",15,1000,14,50,36,9.1442982456140314,8.6328947368421058,"ITK","INVT",10,28.158577533577532,0.56547619047619058,"VW",2.0081845036450856,2.8764530954311973,0.97722797920985338,0.9867948717948718,1.0912724850099933,"AQT0101",15,49.5,18,70,52,5.5186202686202686,5.7448107448107448]
["JAK1 [JH1]","JAK1 [JH1]","JAK1","JAK1","JAK1(JH1)","TK","04_07",67.650000000000006,"JAK1(JH1)","INVT",15,33.810869565217395,1.4844202898550722,"W",4.3903641312501334,1.7553042992741483,0.99181526659341002,0.99419189098626159,1.1375734531628068,"AQT0663",15,67.650000000000006,24,70,46,10.588586956521739,9.6979347826086961,"JAK1(JH1)","INVT",15,60.748389207691531,8.2049733212515477E-2,"W",0.13506487049721957,1.7546805473931659,0.99915215143472014,0.99835317963009884,1.5530413949154798,"AQT0663",15,1000,36,120,84,18.249131682271216,18.199901842343706,"JAK1(JH1)","INVT",15,59.609243697478995,8.5306850012732596E-2,"W",0.14311010293247592,0.93606438464992581,0.9984212528203571,0.98400199975003122,1.4461034708578913,"AQT0663",15,1000,40,106,66,17.857181054239877,17.908365164247517,"JAK1(JH1)","INVT",15,35.824596774193544,9.6438172043005949E-2,"W",0.26919541523625956,17.614355357328076,0.99185542977026397,0.97710269780095216,1.1834158999764095,"AQT0663",15,67.650000000000006,30,90,60,10.718447580645163,10.776310483870967]
["JAK1 [JH1-JH2]","JAK1 [JH1-JH2]","JAK1","JAK1_b","JAK1(JH1JH2)","TK","04_08",199.1,"JAK1(JH1JH2)","SC",20,25.512987012987011,0.4699675324675322,"VW",1.8420717739882913,1.5695067264573992,0.98189369049548159,0.99779434933305322,1.1469683655536027,"AQT0663",15,199.1,50,90,40,10.393181818181818,10.017207792207792,"JAK1(JH1JH2)","SC",20,13.618872549019606,0.4539565826330515,"VW",3.3332904834749399,3.4759581881533101,0.98997408268968901,0.99701183771980229,1.1235684147076552,"AQT0663",15,1000,52,120,68,5.2659663865546218,5.6291316526610631,"JAK1(JH1JH2)","SC",20,13.170454545454543,0.59496753246753176,"VW",4.51744114384321,21.509086726478031,0.96852222799004861,0.97090993716546425,1.0762430939226519,"AQT0663",15,1000,60,100,40,5.5061688311688304,5.0301948051948049,"JAK1(JH1JH2)","SC",20,67.375923645320199,0.67733990147783796,"W",1.0053144577927946,4.651624804881509,0.99896088099168268,0.99603795224689817,1.5327778995834247,"AQT0663",15,199.1,64,120,56,27.221305418719218,26.679433497536948]
["JAK2 [JH1]","JAK2 [JH1]","JAK2","JAK2","JAK2(JH1)","TK","04_09",16.329999999999998,"JAK2(JH1)","Carna",0.5,9316.818181818182,81.363636363635536,"VS",0.87329853149240455,1.6867682402487156,0.99533241142084306,1.0394752677819232,1.5036032734823501,"AQT0101",15,16.329999999999998,0,20,20,92.354545454545459,93.98181818181817,"JAK2(JH1)","Carna",0.5,10280.402187902188,"NA","VS","NA","NA",0.99755477176564422,1.1621810068330776,3.3483738646352181,"AQT0101",15,1000,0,70,70,"",102.80402187902187,"JAK2(JH1)","Carna",0.5,11610.131917631918,154.53989703989774,"VS",1.3310778735011888,0.81129770804944812,0.99732575717494287,1.1696357351768147,3.5183639398998334,"AQT0101",15,1000,0,70,70,114.55592020592019,117.64671814671814,"JAK2(JH1)","Carna",0.5,9483.181818181818,325.90909090909076,"VS",3.4367061304702089,1.0099780968605501,0.99012657669406823,1.0801420238397159,1.5313591103064788,"AQT0101",15,16.329999999999998,0,18,18,91.572727272727278,98.090909090909093]
["JAK2 [JH1-JH2]","JAK2 [JH1-JH2]","JAK2","JAK2_b","JAK2(JH1JH2)","TK","04_10",173.8,"JAK2(JH1JH2)","Carna",5,150.71428571428569,1.8681318681318702,"M",1.2395187750638004,5.269448066058235,0.98995883816376995,0.99350730428268197,1.0905602455871066,"AQT0101",15,173.8,2,26,24,14.884615384615385,15.258241758241759,"JAK2(JH1JH2)","Carna",5,130.00769230769231,0.91153846153845908,"M",0.70114194426365117,19.657414750198253,0.99572950009953032,1.0061409630146545,1.1817526664744884,"AQT0101",15,1000,0,48,48,12.909615384615385,13.091923076923077,"JAK2(JH1JH2)","Carna",5,137.43872549019608,0.37990196078431454,"M",0.27641551493535504,10.050898782294954,0.99509495554154492,0.99338204880739001,1.1304099414369375,"AQT0101",15,1000,8,40,32,13.781862745098039,13.705882352941176,"JAK2(JH1JH2)","Carna",5,121.74725274725273,1.1318681318681456,"M",0.9296867948370906,10.997916184301923,0.98613724051071583,0.99841080651569325,1.0836837108368371,"AQT0101",15,173.8,2,28,26,12.06153846153846,12.287912087912089]
["JAK3 [JH1]","JAK3 (JH1)","JAK3","JAK3","JAK3(JH1)","TK","04_11",21.52,"JAK3(JH1)","Carna",2,281.4809113300492,7.0073891625615614,"M",2.4894722450095661,1.139968534805148,0.99393043682053395,0.98870827646109938,1.1724271343822543,"AQT0101",15,21.52,8,64,56,10.978940886699508,11.539532019704433,"JAK3(JH1)","Carna",2,394.86221857410879,1.1767120075047099,"S",0.29800572254138352,1.3088151927437641,0.9988512943692579,1.0074763718437014,1.523054114158636,"AQT0101",15,1000,42,120,78,15.747420262664166,15.841557223264543,"JAK3(JH1)","Carna",2,420.39915966386553,5.8756684491978461,"S",1.3976403886953048,1.3865766432359108,0.99855830100127463,1.0042069835927641,1.5643300798580302,"AQT0101",15,1000,54,120,66,17.050993124522535,16.580939648586707,"JAK3(JH1)","Carna",2,207.06801470588235,8.1066176470588331,"M",3.9149540592125756,7.810529634300126,0.97297203919873398,1.013898080741231,1.2175881465221567,"AQT0101",15,21.52,60,90,30,8.6069852941176475,7.9584558823529408]
["MAPK8 (JNK1)","MAPK8","JNK1","JNK1","JNK1","CMGC","13_04",18.95,"JNK1","Carna",4,230.2026098901099,8.5851648351642496E-2,"M",3.7293950921158045E-2,9.0418353576248318,0.99412079503802753,0.96852130325814534,1.0768831707823199,"AQT0365",15,18.95,4,28,24,18.409340659340661,18.423076923076923,"JNK1","Carna",4,271.01431788931791,6.820302445302449,"M",2.5165838094531434,0.73698400070715109,0.99892971616730231,0.98611609814482348,1.6382330540746382,"AQT0365",15,1000,50,120,70,22.226769626769627,21.135521235521235,"JNK1","Carna",4,282.87774725274721,6.6483516483516469,"M",2.3502561487848106,0.45428571428571429,0.99752286151029601,0.98461724806201545,1.6437491953135059,"AQT0365",15,1000,94,120,26,23.162087912087912,22.098351648351649,"JNK1","Carna",4,204.66976264189887,1.8124355005159964,"M",0.88554140930291214,8.032293377120963,0.9967225131182037,0.96656206038307546,1.0903929644884782,"AQT0365",15,18.95,0,34,34,16.518575851393187,16.228586171310628]
["MAPK9 (JNK2)","MAPK9","JNK2","JNK2","JNK2","CMGC","13_05",19.37,"JNK2","Carna",4,188.49054646752015,2.7419689426268485,"M",1.4546983888655298,6.3192542012511757,0.99796025061050286,0.97623141498938004,1.2827807486631015,"AQT0365",15,19.37,28,100,72,14.859886201991463,15.298601232811759,"JNK2","Carna",4,280.82314744079451,0.41969060351410015,"M",0.14945014587965291,2.7937708102108769,0.99904126324326337,0.98819987959060807,1.6482354440056057,"AQT0365",15,1000,50,116,66,22.432276546982429,22.499427043544685,"JNK2","Carna",4,332.44485294117646,0.76286764705881804,"S",0.22947193807022229,2.2574049513704684,0.99869933171281111,0.98204370939161256,1.5662077596996244,"AQT0365",15,1000,62,92,30,26.534558823529412,26.656617647058823,"JNK2","Carna",4,186.92555147058823,2.545955882352946,"M",1.3620159803319019,9.4452590420332356,0.98967868153557459,0.99409513395297977,1.1151119612917746,"AQT0365",15,19.37,10,40,30,14.750367647058823,15.157720588235295]
["MAPK10 (JNK3)","MAPK10","JNK3","JNK3","JNK3","CMGC","13_06",13.11,"JNK3","Carna",5,162.00980392156859,6.127450980390136E-2,"M",3.7821482602105536E-2,2.5687434737208492,0.99375217166717855,0.97305720317683719,1.0882967607105538,"AQT0365",15,13.11,4,36,32,16.194852941176475,16.207107843137255,"JNK3","Carna",5,206.59145299145297,11.723076923076936,"M",5.6745217448864835,1.184422272288381,0.99660824307575768,0.99266738790720044,1.6084521384928716,"AQT0365",15,1000,70,120,50,19.486837606837604,21.831452991452991,"JNK3","Carna",5,208.97077922077921,13.529220779220768,"M",6.4742165529885138,1.3064915888836155,0.99590338109887777,0.99674972914409532,1.4579107505070994,"AQT0365",15,1000,50,90,40,19.544155844155842,22.249999999999996,"JNK3","Carna",5,130.33823529411762,1.6580882352941193,"M",1.2721426153672586,15.223393574297189,0.99343885851512215,0.96954813359528491,1.0558483794998317,"AQT0365",15,13.11,0,30,30,13.199632352941176,12.868014705882352]
["KDR (VEGFR2)","KDR","KDR","KDR","KDR","TK","04_12",50.53,"KDR","Carna",2,683.13596491228088,2.2916666666665808,"S",0.33546274597924963,3.2408140013292397,0.996430293146498,0.89707602339181292,1.3700901301880495,"AQT0101",15,50.53,54,90,36,27.41710526315789,27.233771929824563,"KDR","Carna",2,889.4401709401709,8.1474358974358729,"S",0.91601843087700152,2.9213221601489758,0.99916275540942379,1.0224557362890456,1.6439814120821465,"AQT0101",15,1000,10,60,50,35.251709401709405,35.903504273504275,"KDR","Carna",2,1123.1643356643356,16.215034965035002,"VS",1.4436921161179892,0.54096766350595682,0.99850407613394598,1.0201295045045045,1.3961282866223634,"AQT0101",15,1000,8,30,22,44.277972027972027,45.575174825174827,"KDR","Carna",2,486.04779411764702,4.7518382352941479,"S",0.97764834915472809,4.4642857142857144,0.99785149059642653,1.0045826968476601,1.3056549749463136,"AQT0101",15,50.53,34,64,30,19.251838235294116,19.631985294117648]
["MAP4K5 (KHS1)","MAP4K5","KHS1","KHS1","KHS1","STE","18_07",47.34,"KHS1","SC",3,499.00735294117652,9.0931372549019507,"S",1.8222451435447804,3.5109747023809521,0.9991115493150694,0.98980256020828816,1.60595130748422,"AQT0178",15,47.34,20,50,30,30.486029411764704,29.39485294117647,"KHS1","SC",3,620.78216374269016,24.217836257309955,"S",3.9011810699103906,4.7012751144576033,0.9993280381465971,0.8933450859409432,1.6402761795166858,"AQT0178",15,1000,8,44,36,38.700000000000003,35.793859649122808,"KHS1","SC",3,917.23484848484873,21.363636363636353,"S",2.3291348337807127,5.7462121212121211,0.99914026218855201,1.00599300815715,1.4144361940942842,"AQT0178",15,1000,2,22,20,56.315909090909088,53.752272727272725,"KHS1","SC",3,454.61829836829838,1.2674825174825284,"S",0.27880147412273915,6.3736681887366826,0.99708986348142281,0.99908024833295006,1.5263157894736841,"AQT0178",15,47.34,22,44,22,27.20104895104895,27.353146853146853]
["KIT (SCFR, CD117)","KIT","KIT","KIT","KIT","TK","05_01",144,"KIT","Carna",3,851.02272727272737,49.848484848484865,"S",5.8574798593492687,5.9014970709481451,0.99459303259690268,0.93945630734928398,1.1058169879619497,"AQT0102",15,144,0,20,20,54.052272727272729,48.070454545454545,"KIT","Carna",3,841.96078431372553,7.9227941176470766,"S",0.94099324639031412,2.486305251227805,0.99661825236810864,0.97356965174129351,1.2722690804361241,"AQT0102",15,1000,0,30,30,50.993014705882352,50.042279411764703,"KIT","Carna",3,940.76340326340323,29.414335664335667,"S",3.1266453990770287,1.2027861553927903,0.99784645262278482,0.97616591002888986,1.2375153499795335,"AQT0102",15,1000,2,24,22,58.210664335664333,54.680944055944053,"KIT","Carna",3,542.6373626373628,26.474358974358953,"S",4.8788308356959584,3.7450396825396823,0.99294654976483632,0.98485708877531708,1.1359003397508494,"AQT0102",15,144,0,26,26,34.146703296703294,30.969780219780219]
["KSR1","KSR1","KSR1","KSR1","KSR1","TKL","17_05",30.75,"KSR1","SC",10,31.086763070077861,5.4783092324808269E-2,"W",0.17622642859699661,38.86411889596603,0.96548614735322857,0.98926014319809075,1.0834884339271471,"AQT0694",15,30.75,62,120,58,6.2063959955506114,6.2283092324805347,"KSR1","SC",10,32.551313628899841,0.85796387520524986,"W",2.635727347247605,1.9952889012054873,0.98301258566100025,1.0041208791208791,1.1243067277550036,"AQT0694",15,1000,40,94,54,6.3386699507389173,6.6818555008210172,"KSR1","SC",10,8.3662891986062711,0.58122822299651711,"VW",6.9472643031912309,10.824883529734173,0.90145502686220336,1.0059671805072103,1.0770029416854126,"AQT0694",15,1000,40,120,80,1.7895034843205575,1.5570121951219507,"KSR1","SC",10,22.020913770913769,2.3809523809523721E-2,"VW",0.10812232433775038,14.21315830598531,0.8792870149755645,0.98803157626687044,1.0631607000088834,"AQT0694",15,30.75,50,120,70,4.3994208494208493,4.4089446589446588]
["KSR2","KSR2","KSR2","KSR2","KSR2","TKL","17_06",17.09,"KSR2","SC",2,242.32954545454547,29.732142857142787,"M",12.269301624518477,6.0270365732267281,0.94702560790480506,0.99252560671772627,1.1419002966223328,"AQT0694",15,17.09,70,110,40,8.5038961038961034,10.882467532467533,"KSR2","SC",2,394.00213675213666,7.6944444444444251,"S",1.9528940903396506,2.5962029794426318,0.99460523040720594,1.0024797114517583,1.2336437440305636,"AQT0694",15,1000,20,70,50,15.452307692307693,16.067863247863247,"KSR2","SC",2,237.38265810276678,1.1672430830039324,"M",0.49171371334910829,6.9087905027078307,0.98899764025396253,0.99625133880756878,1.2645689815676784,"AQT0694",15,1000,38,82,44,9.4486166007905155,9.5419960474308301,"KSR2","SC",2,158.66935483870967,15.875973303670742,"M",10.005696008412565,20.799105895501533,0.94014953710621751,1.0066568686781361,1.1071877807726864,"AQT0694",15,17.09,62,120,58,5.7117352614015564,6.9818131256952158]
["LATS1","LATS1","LATS1","LATS1","LATS1","AGC","24_01",86.93,"LATS1","SC",20,6.1985539488320356,0.27906006674082379,"VW",4.5020188425302932,84.970760233918114,0.81788204181466095,0.97521836278691854,1.0040725921691911,"AQT0476",15,86.93,62,120,58,2.3677975528364845,2.5910456062291436,"LATS1","SC",20,26.316558441558445,0.19886363636363533,"VW",0.75565973721546686,2.0618212197159562,0.97769391443331355,0.96949010866536645,1.1055008514103797,"AQT0476",15,1000,80,120,40,10.606168831168832,10.447077922077924,"LATS1","SC",20,19.106249999999999,0.46739130434782605,"VW",2.4462744094096229,2.8985507246376812,0.98898201201300351,0.96927415763693037,1.1242058449809402,"AQT0476",15,1000,58,104,46,7.4555434782608696,7.8294565217391305,"LATS1","SC",20,11.149648962148962,1.869658119658002E-2,"VW",0.16768762191573497,4.5289148797920724,0.92884679337096454,0.98558246828143026,1.0432670411416427,"AQT0476",15,86.93,68,120,52,4.4523809523809526,4.4673382173382166]
["LATS2","LATS2","LATS2","LATS2","LATS2","AGC","24_02",43.63,"LATS2","Carna",2,357.4498870694523,0.14116318464143515,"S",3.949174128959991E-2,3.10832319071248,0.99207567531785068,0.92057126776417619,1.0714916801649241,"AQT0476",15,43.63,48,90,42,14.292348955392434,14.303642010163749,"LATS2","Carna",2,624.98717948717945,3.6132478632477922,"S",0.57813151722769252,2.8395382021014397,0.99820245347621284,1.0070692637437015,1.2341837137666851,"AQT0476",15,1000,10,60,50,24.854957264957271,25.144017094017094,"LATS2","Carna",2,1050.5113636363637,36.249999999999979,"VS",3.4507004164638406,15.426665937790412,0.99799101839639348,1.001450209474702,1.2753767179996687,"AQT0476",15,1000,0,20,20,40.570454545454545,43.470454545454544,"LATS2","Carna",2,372.67188693659278,0.38770053475931654,"S",0.1040326754846632,0.68975719806941949,0.99460595828578569,0.99038017546559953,1.2575291450777202,"AQT0476",15,43.63,54,120,66,14.922383498854083,14.891367456073338]
["LCK","LCK","LCK","LCK","LCK","TK","05_02",30.55,"LCK","Carna",1,1984.0073529411764,34.742647058823543,"VS",1.7511349949041053,4.1733808376328669,0.99139407707916494,0.97046932677096154,1.3476931142957009,"AQT0101",15,30.55,28,60,32,38.985294117647058,40.375,"LCK","Carna",1,3903.6462842712845,48.148448773448742,"VS",1.2334224278324151,0.67096647619981853,0.99949454170977481,0.99323562570462232,2.9402282005652678,"AQT0101",15,1000,12,120,108,77.109956709956705,79.035894660894655,"LCK","Carna",1,4250.1373626373634,72.939560439560225,"VS",1.7161694838563664,0.92074460215652665,0.9988031926530917,0.99107966779452472,1.9236154649947754,"AQT0101",15,1000,30,54,24,83.54395604395603,86.461538461538439,"LCK","Carna",1,1861.3664215686274,75.704656862745352,"VS",4.067154966669424,1.3248542660307367,0.99508176546942684,0.99982093293938579,1.3701333813987024,"AQT0101",15,30.55,28,60,32,35.713235294117645,38.741421568627459]
["LIMK1","LIMK1","LIMK1","LIMK1","LIMK1","TKL","24_03",263.10000000000002,"LIMK1","Carna",120,7.1201923076923075,0.20480769230769211,"VW",2.8764348413234275,7.0535838552540016,0.98337879749013724,0.93983041634960318,1.082001826067108,"AQT0732",15,263.10000000000002,26,74,48,16.596923076923076,17.579999999999998,"LIMK1","Carna",120,6.963206115779645,5.1995798319327172E-2,"VW",0.746722091157076,1.4176490527663743,0.99065076674668773,0.99636434460819323,1.2624550235261556,"AQT0732",15,1000,50,118,68,16.586904761904766,16.836484593837536,"LIMK1","Carna",120,5.4806367607526889,0.17678931451612886,"VW",3.2257075634373793,1.8790983348646368,0.99640088568217033,0.97820760799484208,1.3542991429361348,"AQT0732",15,1000,50,110,60,12.729233870967743,13.577822580645162,"LIMK1","Carna",120,5.826402889784946,0.22933467741935498,"VW",3.9361280322964376,2.9399605485406504,0.98444590986687786,0.97921952398211909,1.1714805977646616,"AQT0732",15,263.10000000000002,50,110,60,13.432963709677416,14.53377016129032]
["LIMK2","LIMK2","LIMK2","LIMK2","LIMK2","TKL","24_04",252.1,"LIMK2","Carna",75,16.70602564102564,4.0512820512821193E-2,"VW",0.24250423998711146,1.424586776859504,0.99009835125750822,0.98665197158951756,1.2509885266091918,"AQT0538",15,252.1,42,90,48,25.119807692307695,24.998269230769232,"LIMK2","Carna",75,22.488095238095237,0.43223443223443064,"VW",1.922058883414091,1.9955135994018134,0.99097212615441377,0.99187193646460259,1.1077013675325524,"AQT0538",15,1000,4,28,24,33.083791208791212,34.380494505494504,"LIMK2","Carna",75,19.758241758241759,0.85256410256410331,"VW",4.314979606970712,8.1995502797678181,0.99775027912219161,0.99740014181044667,1.1810015996062508,"AQT0538",15,1000,2,26,24,28.358516483516482,30.916208791208792,"LIMK2","Carna",75,15.845982905982906,0.2927635327635324,"VW",1.8475567877395274,2.488096036483133,0.99407882771572209,0.97941176470588232,1.2376053031349261,"AQT0538",15,252.1,30,80,50,23.329829059829059,24.208119658119656]
["STK11 (LKB1, AMPKK)","STK11","LKB1","LKB1","LKB1","CAMK","12_06",113.5,"LKB1","Carna",15,65.890269151138725,4.4932241671372175,"W",6.8192530172106069,1.7967516354613129,0.99297926561814454,1.0326194398682043,1.6177191906805639,"AQT0728",15,113.5,68,110,42,18.419113495200452,21.115047995482783,"LKB1","Carna",15,71.107461166284693,5.8081232492997197,"W",8.168092565866516,4.1630192215221875,0.99822925799330231,1.0141979232888323,1.9935443565181177,"AQT0728",15,1000,40,106,66,19.589801375095494,23.074675324675326,"LKB1","Carna",15,78.974958949096873,9.6600985221675018,"W",12.231850007537068,4.3980524244647503,0.99874063382069456,1.0431495482205422,1.94671305621681,"AQT0728",15,1000,50,106,56,20.794458128078816,26.590517241379313,"LKB1","Carna",15,69.432748538011694,4.258771929824559,"W",6.1336646171986828,2.098556718315566,0.99689196577380534,1.0071143501648447,1.605140562248996,"AQT0728",15,113.5,66,102,36,19.552192982456141,22.107456140350877]
["STK10 (LOK)","STK10","LOK","LOK","LOK","STE","16_01",34.68,"LOK","Carna",2,968.8878676470589,"NA","S","NA","NA",0.99430665219106029,0.91409802930773121,1.7167497641827247,"AQT0505",15,34.68,58,90,32,"",38.755514705882355,"LOK","Carna",2,1793.8055555555554,8.6217948717949948,"VS",0.48064266748938445,2.1887571273655859,0.99858143854815473,0.98907520325203258,2.5159244450572178,"AQT0505",15,1000,30,80,50,72.097094017094022,71.407350427350423,"LOK","Carna",2,1884.6022727272721,21.761363636363562,"VS",1.1546926346890134,0.77863916266603328,0.99877126219544665,0.96759259259259256,1.7134868859006791,"AQT0505",15,1000,20,40,20,76.25454545454545,74.513636363636365,"LOK","Carna",2,781.44836956521738,36.076086956521799,"S",4.6165669238767277,3.9167152009318578,0.99885780063406282,0.97551581843191193,1.76051971061568,"AQT0505",15,34.68,52,98,46,29.814891304347825,32.700978260869569]
["LRRK2","LRRK2","LRRK2","LRRK2","LRRK2","TKL","22_12",47.87,"LRRK2","INVT",5,179.34130434782608,8.3521739130434725,"M",4.6571390474805119,1.5644594933533988,0.99836733349476658,0.99197212965767945,1.4248721227621484,"AQT0615",15,47.87,34,80,46,17.098913043478262,18.769347826086957,"LRRK2","INVT",5,329.30069930069931,16.127622377622362,"S",4.8975366319813078,1.2847430513897222,0.99758640787298425,1.0121444019297954,1.2914845252666551,"AQT0615",15,1000,2,24,22,31.317307692307693,34.542832167832167,"LRRK2","INVT",5,741.84090909090889,5.6590909090909491,"S",0.7628442756043069,1.05785992310815,0.99826047610275015,1.0483181299885975,1.5650044523597506,"AQT0615",15,1000,4,24,20,74.749999999999986,73.618181818181796,"LRRK2","INVT",5,152.31966403162053,2.6753952569170369,"M",1.7564345837590891,6.3489994133368102,0.99763262748482628,1.0099678999831052,1.3544102019128588,"AQT0615",15,47.87,26,70,44,15.499505928853759,14.964426877470352]
["LTK","LTK","LTK","LTK","LTK","TK","05_03",52.33,"LTK","Carna",2,1117.0864661654136,39.506578947368439,"VS",3.5365730535597115,1.0638790310137325,0.99684860610462522,0.97059238363892808,1.4602002414258326,"AQT0104",15,52.33,50,88,38,43.103195488721802,46.263721804511277,"LTK","Carna",2,2710.8391608391607,21.241258741258839,"VS",0.78356765123178496,1.1024007839294463,0.99923373189500464,0.98324857912055041,1.6097998207349864,"AQT0104",15,1000,8,30,22,107.58391608391608,109.28321678321679,"LTK","Carna",2,3013.9772727272725,99.375000000000213,"VS",3.2971383327677941,3.3501350135013501,0.99920446385770567,0.98506565099729382,1.5039417223829958,"AQT0104",15,1000,2,22,20,116.58409090909089,124.53409090909091,"LTK","Carna",2,1339.9918831168832,75.316558441558342,"VS",5.6206727361936357,1.7679060463124951,0.99505049713202487,0.97610504618673177,1.4921046609199786,"AQT0104",15,52.33,30,70,40,50.587012987012997,56.612337662337666]
["LYNA (LYNa)","LYNA","LYN","LYN","LYNA","TK","05_04",16.7,"LYNA","Carna",2,1818.6363636363637,10.454545454545359,"VS",0.57485628592851257,10.020661157024794,0.99532269322425126,0.9755363946260277,1.1977005418263513,"AQT0104",15,16.7,4,24,20,72.327272727272728,73.163636363636357,"LYNA","Carna",2,3386.9318181818185,49.26136363636288,"VS",1.4544539506793936,0.61732940598919983,0.99240114477088692,1.0486117876278616,2.1405055849500294,"AQT0104",15,1000,0,40,40,133.5068181818182,137.44772727272724,"LYNA","Carna",2,2656.5559440559441,41.91433566433566,"VS",1.5777697344608599,0.83366813981518662,0.9982265268609718,1.0216684723726976,1.49170288423548,"AQT0104",15,1000,0,22,22,104.58566433566433,107.93881118881119,"LYNA","Carna",2,1604.5149638802889,78.212074303405629,"VS",4.8744995256548416,106.79119606139589,0.99447120053172644,0.85915692525681897,1.1630658071828293,"AQT0104",15,16.7,0,34,34,61.052115583075334,67.309081527347786]
["LYNB (LYNb)","LYNB","LYN","LYN","LYNB","TK","05_05",14.31,"LYNB","Carna",2,1408.6090686274508,110.84558823529402,"VS",7.8691519672879853,4.0781934614088309,0.99448427435098286,0.95249603504267044,1.222163983526769,"AQT0104",15,14.31,0,32,32,51.910539215686285,60.778186274509807,"LYNB","Carna",2,3265.8522727272725,195.62500000000006,"VS",5.9900137441500396,7.1860364699239385,0.99132277549996539,1.0246231733977678,1.6228239845261121,"AQT0104",15,1000,0,20,20,138.45909090909092,122.80909090909091,"LYNB","Carna",2,2807.310606060606,47.007575757575808,"VS",1.6744700659803293,2.8408262454434996,0.99520688294829951,1.0094488188976378,1.4031152037617556,"AQT0104",15,1000,0,18,18,110.41212121212121,114.17272727272727,"LYNB","Carna",2,1672.8977272727275,9.8863636363637024,"VS",0.59097238732466506,24.410695187165775,0.99606421978270321,0.96700399087799316,1.1508268862232947,"AQT0104",15,14.31,0,20,20,67.311363636363637,66.520454545454541]
["MAK","MAK","MAK","MAK","MAK","Atypical","23_01",44.69,"MAK","SC",5,175.19230769230768,11.689560439560401,"M",6.672416496785301,2.233326295540385,0.98507661861714302,0.98524923702950151,1.4417946645109136,"AQT0257",15,44.69,86,110,24,16.350274725274726,18.688186813186807,"MAK","SC",5,214.65966386554621,5.5916730328494957,"M",2.604901606643661,1.858076563958917,0.99770506948583515,0.97723440134907247,1.5343860107007701,"AQT0257",15,1000,34,100,66,20.906799083269672,22.025133689839571,"MAK","SC",5,217.46521739130435,6.6304347826086909,"M",3.0489633524601616,3.1796966161026843,0.99261878054989572,0.9815934788325007,1.2402242466713385,"AQT0257",15,1000,44,90,46,21.083478260869565,22.409565217391304,"MAK","SC",5,146.4967532467532,4.5032467532467182,"M",3.0739566942221797,0.96405505658174684,0.98298586197335913,0.98639818642485666,1.3631012203876525,"AQT0257",15,44.69,60,100,40,15.099999999999996,14.199350649350652]
["MAP3K1 (MEKK1)","MAP3K1","MAP3K1","MAP3K1","MAP3K1","STE","19_01",8.9637229034492787,"MAP3K1","Carna",20,52.501531862745097,3.5631127450980435,"W",6.7866833950923553,9.6492425276375062,0.99639574864416947,0.98537039499933499,1.175322033898305,"AQT0739",15,8.9637229034492787,0,32,32,22.425857843137258,19.575367647058822,"MAP3K1","Carna",20,86.682791537667697,5.0806243550051624,"W",5.8611683644237456,12.3142106217147,0.99631719808303354,1.0052564976151075,1.2499745132021614,"AQT0739",15,1000,0,34,34,36.705366357069146,32.640866873065015,"MAP3K1","Carna",20,93.352272727272734,2.5218531468531409,"W",2.7014373332084771,2.1767381416504223,0.99259942924159927,0.98653846153846159,1.137718120805369,"AQT0739",15,1000,0,22,22,38.349650349650346,36.332167832167833,"MAP3K1","Carna",20,76.710227272727266,6.4886363636363633,"W",8.4586326938745273,18.313889500330177,0.99609240422781176,1.0038319238900635,1.1658190578158458,"AQT0739",15,8.9637229034492787,0,20,20,33.279545454545456,28.088636363636365]
["MAP3K10 (MLK2)","MAP3K10","MLK2","MLK2","MAP3K10","TKL","19_08",137.69999999999999,"MAP3K10","Carna",30,29.684900284900287,0.69116809116809286,"VW",2.3283490412115917,0.84618028928788636,0.99752630312667723,0.98914588448119911,1.3933739012846518,"AQT0715",15,137.69999999999999,40,90,50,17.396239316239313,18.225641025641025,"MAP3K10","Carna",30,45.880467571644047,0.8045369817012531,"W",1.7535500928471115,1.1218199549706827,0.99841883646622631,1.0060234244283324,1.7495307367433131,"AQT0715",15,1000,18,120,102,27.045558353965674,28.011002732007178,"MAP3K10","Carna",30,54.685049019607845,0.25061274509803627,"W",0.45828384465409672,1.4348514635211882,0.99405456401757253,0.98927847000869318,1.4745516740955738,"AQT0715",15,1000,48,78,30,32.660661764705885,32.961397058823529,"MAP3K10","Carna",30,29.841025641025638,0.31762820512820567,"VW",1.0644010998453362,0.85880980163360543,0.99791365563611989,0.99011466982997232,1.3518543862050088,"AQT0715",15,137.69999999999999,34,82,48,17.714038461538461,18.095192307692308]
["MAP3K11 (MLK3)","MAP3K11","MLK3","MLK3","MAP3K11","TKL","19_09",75.63,"MAP3K11","Carna",30,112.08150183150184,1.8525641025641213,"M",1.6528723047886891,6.6923823910228748,0.99961974422684152,0.87705918242830994,1.4226656025538706,"AQT0646",15,75.63,0,26,26,68.360439560439573,66.137362637362628,"MAP3K11","Carna",30,160.15669515669512,4.4891737891737904,"M",2.8029885261940777,0.94332537214786782,0.99890470972765577,1.0635791728014992,2.4625160645437671,"AQT0646",15,1000,0,50,50,93.400512820512816,98.787521367521364,"MAP3K11","Carna",30,199.35227272727272,1.7651515151515202,"M",0.88544338672595213,1.4501049418049992,0.99958226925917837,1.0520679047510539,1.6233349191246433,"AQT0646",15,1000,0,20,20,118.55227272727272,120.67045454545455,"MAP3K11","Carna",30,99.439393939393938,3.8535353535353538,"W",3.8752602976281176,6.2352426759947521,0.9991390336380378,1.0290275761973875,1.3792703150912105,"AQT0646",15,75.63,0,18,18,61.975757575757576,57.351515151515152]
["MAP3K12 (DLK)","MAP3K12","DLK","DLK","MAP3K12","TKL","19_10",91.18,"MAP3K12","Carna",60,9.8029003267973867,0.38500816993464188,"VW",3.9274924471299224,3.2047601649355393,0.99370639037598452,0.99695214873514171,1.1792302798982188,"AQT0646",15,91.18,18,50,32,12.225490196078434,11.301470588235293,"MAP3K12","Carna",60,13.376282051282054,0.49009971509971434,"VW",3.6639457303663878,3.8706451415392777,0.99503594196561507,0.97459283387622153,1.5136276914690652,"AQT0646",15,1000,70,120,50,16.639658119658119,15.463418803418804,"MAP3K12","Carna",60,16.459077380952383,0.67187500000000022,"VW",4.082093937887076,16.294919454770756,0.99586202583317318,0.98092031425364756,1.1271867612293145,"AQT0646",15,1000,8,36,28,20.557142857142857,18.944642857142856,"MAP3K12","Carna",60,9.7794117647058822,7.0465686274510844E-2,"VW",0.72055137844612593,3.7518676332245029,0.99644473734413208,0.99291673225247912,1.1724249797242496,"AQT0646",15,91.18,18,50,32,11.819852941176471,11.650735294117645]
["MAP3K13 (LZK)","MAP3K13","LZK","LZK","MAP3K13","TKL","19_11",260,"MAP3K13","Carna",40,9.836277173913043,0.37690217391304226,"VW",3.8317563367635761,3.5773884021693783,0.98806856804983667,0.96307439824945296,1.1141265533495215,"AQT0494",15,260,24,70,46,8.1705434782608677,7.5674999999999999,"MAP3K13","Carna",40,14.621162280701755,0.23464912280701797,"VW",1.604859574787209,9.0702259972698318,0.99412103114716766,1.02008547008547,1.1552572706935123,"AQT0494",15,1000,8,44,36,11.884649122807017,11.509210526315789,"MAP3K13","Carna",40,20.348684210526315,0.82839912280701733,"VW",4.0710205841146667,11.185756089519021,0.99669979759056093,1.0122925629993853,1.1643500643500642,"AQT0494",15,1000,2,38,36,16.941666666666666,15.616228070175438,"MAP3K13","Carna",40,6.9616147741147731,0.18639346764346751,"VW",2.6774458755823498,13.656114214773432,0.98562099252541679,0.99532300496930726,1.1098833640270103,"AQT0494",15,260,18,70,52,5.7184065934065931,5.420177045177045]
["MAP3K14 (NIK)","MAP3K14","NIK","NIK","MAP3K14","STE","19_12",119.9,"MAP3K14","Carna",60,6.1030626780626775,0.12079772079772029,"VW",1.9792967427964487,5.2967793452222525,0.97166770524670165,0.98480585256049524,1.1292053202190679,"AQT0739",15,119.9,40,90,50,7.1787179487179502,7.4686324786324789,"MAP3K14","Carna",60,9.1060025542784189,0.15034893267651914,"VW",1.6510969745541999,14.078709431807368,0.98761832423616536,0.97195013357079252,1.1369275679620507,"AQT0739",15,1000,50,104,54,10.746784345922276,11.107621784345922,"MAP3K14","Carna",60,9.8795955882352953,0.40716911764705854,"VW",4.1213136105684214,2.1824217201743954,0.95548076179915031,0.9949491024943663,1.204988625284368,"AQT0739",15,1000,90,120,30,11.366911764705883,12.344117647058823,"MAP3K14","Carna",60,7.8085171568627461,0.32138480392156871,"VW",4.1158237532859898,8.7228260869565215,0.98280168085706665,0.97841969203102164,1.0776065684399954,"AQT0739",15,119.9,26,56,30,8.9845588235294116,9.7558823529411764]
["MAP3K2 (MEKK2)","MAP3K2","MAP3K2","MAP3K2","MAP3K2","STE","19_02",30.59,"MAP3K2","SC",30,12.964743589743591,0.38752913752913748,"VW",2.9890998988650401,47.399527186761226,0.98333027302349729,0.95936465916611513,1.0192307692307692,"AQT0739",15,30.59,6,28,22,8.0113636363636367,7.5463286713286717,"MAP3K2","SC",30,19.680735930735931,0.20779220779220492,"VW",1.0558152323343268,-23.293172690763051,0.99219755659409015,0.84898796754034134,0.93452967856438574,"AQT0739",15,1000,0,40,40,11.933116883116883,11.683766233766237,"MAP3K2","SC",30,20.52158582731338,1.2276401788785676,"VW",5.9821896280775206,68.974014336917548,0.99104438324601729,0.94881170018281535,1.0224231464737794,"AQT0739",15,1000,2,36,34,13.049535603715171,11.57636738906089,"MAP3K2","SC",30,9.4650735294117645,0.33517156862745107,"VW",3.541140674564641,27.958776595744684,0.97105059061235766,0.96047065044949764,1.0250833889259505,"AQT0739",15,30.59,12,42,30,5.8801470588235292,5.4779411764705879]
["MAP3K3 (MEKK3)","MAP3K3","MAP3K3","MAP3K3","MAP3K3","STE","19_03",17.649999999999999,"MAP3K3","Carna",15,49.984848484848484,0.46969696969697178,"W",0.93967869051228059,2.8728846910665093,0.99101815327571163,0.97975268378855818,1.0995260663507109,"AQT0743",15,17.649999999999999,10,30,20,15.136363636363638,14.854545454545455,"MAP3K3","Carna",15,102.90909090909091,2.3030303030302983,"M",2.2379269729093005,5.202489817874433,0.99491146813787901,0.9942366646229307,1.1553104896941053,"AQT0743",15,1000,0,20,20,30.181818181818183,31.563636363636363,"MAP3K3","Carna",15,100.25757575757575,1.8939393939393943,"M",1.8890735983073905,2.6959801010992539,0.99752136336406172,0.99157825658974075,1.129708070978821,"AQT0743",15,1000,0,20,20,30.645454545454545,29.509090909090908,"MAP3K3","Carna",15,44.061771561771565,2.674825174825175,"W",6.0706255786271663,15.00277315585136,0.98450428715544824,0.98497402050273841,1.0885125184094258,"AQT0743",15,17.649999999999999,6,28,22,14.020979020979022,12.416083916083917]
["MAP3K5 (ASK1)","MAP3K5","MAP3K5","MAP3K5","MAP3K5","STE","19_04",58.26,"MAP3K5","SC",5,178.26623376623377,1.2175324675324537,"M",0.68298546606927424,7.8574508716811433,0.99873151559277951,0.96741734547196934,1.2593089567259308,"AQT0557",15,58.26,10,50,40,17.704870129870134,17.948376623376625,"MAP3K5","SC",5,483.27272727272725,3.7954545454545392,"S",0.78536493604213564,3.6788600949920833,0.9705501190076179,1.0242578997765719,1.3662302786169855,"AQT0557",15,1000,0,20,20,48.706818181818178,47.947727272727271,"MAP3K5","SC",5,432.18181818181824,1.5909090909090648,"S",0.36811106436684288,2.5279275808936825,0.98406529864393666,1.0186464088397791,1.2695217701641686,"AQT0557",15,1000,0,20,20,43.377272727272725,43.059090909090912,"MAP3K5","SC",5,186.27573529411765,7.3382352941176521,"M",3.9394477667910106,5.8013052936910805,0.99794268796521601,0.98535106920356963,1.241126070991432,"AQT0557",15,58.26,12,42,30,19.361397058823531,17.893750000000001]
["MAP3K6 (ASK2)","MAP3K6","ASK2","MAP3K6","MAP3K6","STE","32_12",52.36,"MAP3K6","SC",60,9.7671783625730999,6.2865497076023388E-2,"VW",0.6436403098454514,8.7890124532363032,0.99794179936946159,0.98057354301572619,1.167728237791932,"AQT0575",15,52.36,24,60,36,11.645175438596491,11.796052631578947,"MAP3K6","SC",60,10.009807376086446,0.29762743716231999,"VW",2.9733582873268434,7.1554965715549663,0.99705788343983293,0.99647982669916058,1.3582219639744335,"AQT0575",15,1000,34,120,86,11.654615926708953,12.368921775898521,"MAP3K6","SC",60,4.0098670098670102,9.5586658086658588E-2,"VW",2.3837862415748492,2.4007749502565709,0.98362751142536553,1.0001926782273602,1.2227120067170445,"AQT0575",15,1000,50,120,70,4.6971364221364214,4.926544401544402,"MAP3K6","SC",60,7.8011775362318847,0.11075428194993407,"VW",1.4197123631085888,2.2470645609033277,0.98683469530163437,1.0137029955385597,1.1941373534338358,"AQT0575",15,52.36,26,70,44,9.4943181818181817,9.2285079051383399]
["MAP3K7 (TAK1)","MAP3K7","TAK1","MAP3K7","MAP3K7","STE","19_05",40.26,"MAP3K7","Carna",60,11.833791208791208,6.0897435897436424E-2,"VW",0.51460630682917841,24.323237737871885,0.98821727106101853,0.97102399370656878,1.0734463276836159,"AQT0715",15,40.26,0,26,26,14.273626373626374,14.127472527472527,"MAP3K7","Carna",60,16.381764069264069,0.12959956709956533,"VW",0.79112094736319472,13.140633685380768,0.99848819108798825,0.96495591227673527,1.1544471153846154,"AQT0715",15,1000,0,40,40,19.813636363636363,19.502597402597406,"MAP3K7","Carna",60,18.72172619047619,0.8214285714285714,"VW",4.3875685557586834,4.7918538484576221,0.99699548576553343,0.98537704291312245,1.1115677626303127,"AQT0715",15,1000,0,28,28,23.451785714285716,21.480357142857144,"MAP3K7","Carna",60,12.212121212121211,1.1363636363636367,"VW",9.3052109181141471,22.554441755962671,0.98955350414917109,0.96522893165228929,1.0743567995476393,"AQT0715",15,40.26,0,20,20,16.018181818181819,13.290909090909091]
["MAP3K8 (COT, Tpl2)","MAP3K8","COT","COT","MAP3K8","STE","19_06",154.1,"MAP3K8","Carna",3,857.42559523809518,17.366071428571377,"S",2.0253735746888992,1.4749088041013507,0.99948509863633528,1.010911510312708,1.4646783947223749,"AQT0742",15,154.1,6,34,28,50.403571428571432,52.487499999999997,"MAP3K8","Carna",3,1317.6348039215688,41.274509803921568,"VS",3.1324696100224139,4.8661174047373841,0.99958296127041057,1.0187903046475428,1.5779073919771456,"AQT0742",15,1000,0,30,30,81.534558823529409,76.58161764705882,"MAP3K8","Carna",3,1906.1111111111111,19.04040404040413,"VS",0.99891364828701357,3.6866148926450437,0.99947037615310885,1.0256511835198574,1.4557568186550074,"AQT0742",15,1000,0,18,18,115.50909090909092,113.22424242424242,"MAP3K8","Carna",3,958.95146520146523,27.129120879120741,"S",2.8290400362880943,3.2258712060382209,0.99906310969318179,1.0167850225952226,1.5162333288427861,"AQT0742",15,154.1,10,34,24,59.164835164835168,55.909340659340678]
["MAP3K9 (MLK1)","MAP3K9","MLK1","MLK1","MAP3K9","TKL","19_07",40.18,"MAP3K9","Carna",3,633.76488095238096,0.44642857142858833,"S",7.0440724130646726E-2,2.2337821297429619,0.99946000729191398,0.99780012570710241,1.5355621107833497,"AQT0645",15,40.18,18,46,28,38.052678571428572,37.999107142857142,"MAP3K9","Carna",3,1052.7345938375349,18.78734827264239,"VS",1.7846234352532144,0.78031816287524969,0.99886357327992881,0.97419982962151641,2.2738339313172728,"AQT0645",15,1000,12,80,68,64.291316526610643,62.036834733893556,"MAP3K9","Carna",3,1226.8833849329205,29.725662194702448,"VS",2.4228596262494575,1.6664563882580536,0.99974334459503056,1.0112097669256381,1.6175783076203833,"AQT0645",15,1000,2,36,34,71.82946336429309,75.396542827657385,"MAP3K9","Carna",3,590.13157894736844,10.729949874686717,"S",1.8182300790996444,0.60928896337084038,0.99933748406555178,1.0008400537634408,1.7174510477499143,"AQT0645",15,40.18,22,60,38,34.764097744360903,36.051691729323309]
["MARK1","MARK1","MARK1","MARK1","MARK1","CAMK","15_07",12.69,"MARK1","Carna",1,1194.6623931623933,40.405982905982981,"VS",3.3822093285303994,3.7747614227877389,0.99169067018529944,0.97447275265493349,1.2272047832585948,"AQT0393",15,12.69,60,110,50,24.701367521367523,23.085128205128203,"MARK1","Carna",1,2219.0026132404187,36.633275261323917,"VS",1.6508892347732835,0.56976165395256229,0.99866940622940381,1.0059371878814782,1.6205454438357778,"AQT0393",15,1000,40,120,80,43.647386759581885,45.112717770034841,"MARK1","Carna",1,2278.4340659340664,13.873626373626458,"VS",0.60891059263278824,0.95069404279930592,0.99386809851366653,0.99182275263826736,1.4995012029810457,"AQT0393",15,1000,78,102,24,45.846153846153847,45.291208791208788,"MARK1","Carna",1,1501.2337662337661,84.902597402597465,"VS",5.6555214325879195,5.8520390466280165,0.98958709862059424,0.92291253243779581,1.1541463936266909,"AQT0393",15,12.69,40,80,40,28.326623376623377,31.722727272727276]
["MARK2","MARK2","MARK2","MARK2","MARK2","CAMK","15_08",10.85,"MARK2","Carna",1,943.42105263157896,25.477296181630571,"S",2.7005223288757647,10.942659861903332,0.96116439151602262,0.96529075935936948,1.1789897904352498,"AQT0393",15,10.85,80,114,34,18.358875128998967,19.37796697626419,"MARK2","Carna",1,1613.5295497185743,10.307223264540255,"VS",0.63879978314236641,1.1145427689002283,0.99818468011227024,0.99180142485581813,1.4495351925630811,"AQT0393",15,1000,42,120,78,32.476735459662287,32.064446529080676,"MARK2","Carna",1,1656.25,96.73245614035082,"VS",5.8404501820589179,0.87531963919408773,0.9898399227795055,1.0011148272017838,1.447845059477554,"AQT0393",15,1000,84,120,36,31.190350877192984,35.059649122807016,"MARK2","Carna",1,986.25641025641016,68.42735042735039,"S",6.9380892956184104,6.0360976480033308,0.97865744213168648,0.99285978738033531,1.144589760786944,"AQT0393",15,10.85,30,80,50,18.356581196581196,21.093675213675212]
["MARK3","MARK3","MARK3","MARK3","MARK3","CAMK","15_09",12.02,"MARK3","Carna",1,857.34890109890125,5.1129426129426392,"S",0.59636661415080361,2.7758790916685658,0.98429541098724505,0.9832315547101812,1.1561616053797299,"AQT0393",15,12.02,58,110,52,17.249236874236875,17.044719169719169,"MARK3","Carna",1,1590.8092324805339,0.39488320355953727,"VS",2.4822788018636251E-2,1.9151821199794268,0.99509061421774359,0.98647213371345521,1.426962927472001,"AQT0393",15,1000,62,120,58,31.808286985539489,31.82408231368187,"MARK3","Carna",1,1722.8708791208785,36.126373626373365,"VS",2.0968706398245818,2.1186488787964803,0.98440885269647416,0.99791725302561218,1.406369961612284,"AQT0393",15,1000,82,106,24,33.734890109890117,35.179945054945051,"MARK3","Carna",1,985.1282051282052,19.350427350427424,"S",1.9642547284400558,2.4731590248831625,0.98936233494906323,0.99211447072954206,1.1685953158739826,"AQT0393",15,12.02,40,90,50,19.315555555555552,20.089572649572649]
["MARK4","MARK4","MARK4","MARK4","MARK4","CAMK","15_10",14.79,"MARK4","Carna",1,1417.5897435897436,46.5299145299145,"VS",3.2823258449999373,1.0176935625549004,0.98198611694947735,0.98015160582485539,1.3277373823781011,"AQT0393",15,14.79,70,120,50,27.421196581196583,29.282393162393163,"MARK4","Carna",1,1978.5529556650247,27.370689655172065,"VS",1.3833690716644134,1.4596557442671698,0.99668586765935252,1.0063006300630064,1.2851063829787233,"AQT0393",15,1000,4,60,56,40.118472906403937,39.023645320197055,"MARK4","Carna",1,2111.1888111888111,15.777972027972174,"VS",0.74735011593243494,0.74542816783109989,0.98319036520235137,0.99366378826959745,1.5213159780272272,"AQT0393",15,1000,92,114,22,41.90821678321678,42.539335664335667,"MARK4","Carna",1,1331.2735042735042,34.346153846153982,"VS",2.5799472261635064,1.790106376437312,0.99180993862614253,0.98864472715802754,1.2803989689566289,"AQT0393",15,14.79,50,100,50,25.938547008547008,27.312393162393168]
["MAST3","MAST3","MAST3","MAST3","MAST3","AGC","32_02",98.52,"MAST3","SC",40,7.6944062881562862,8.089133089133059E-2,"VW",1.0513004884580064,9.3227183569862699,0.99188333535540751,1.0030875408645115,1.1221926151503616,"AQT0703",15,98.52,0,52,52,6.0908119658119659,6.2202380952380949,"MAST3","SC",40,8.539758852258851,0.24420024420024389,"VW",2.8595683838970523,2.2788565264293421,0.99758960682769149,1.0042263442122563,1.2017135862913095,"AQT0703",15,1000,12,64,52,7.0271672771672771,6.6364468864468869,"MAST3","SC",40,6.0126678876678863,0.16960470085470025,"VW",2.8207894402842904,2.6600483645157182,0.99608794928692013,1.0011041589988958,1.2265472946671858,"AQT0703",15,1000,12,64,52,4.9458180708180706,4.6744505494505502,"MAST3","SC",40,6.1675518774703546,9.1711956521738899E-2,"VW",1.4870074600710925,1.9660488480859173,0.97506978291738344,1.0056234718826407,1.1276703967446591,"AQT0703",15,98.52,6,50,44,5.0074110671936758,4.8606719367588935]
["MASTL","MASTL","MASTL","MASTL","MASTL","AGC","23_12",17.25,"MASTL","SC",10,139.98376623376623,3.9529220779220875,"M",2.8238432100197217,4.2303206997084546,0.99163664842533672,0.97734656247256124,1.4667111153443186,"AQT0693",15,17.25,50,90,40,27.206168831168831,28.787337662337666,"MASTL","SC",10,255.73220244716353,5.189655172413782,"M",2.029331903746463,2.6563761097659402,0.99855024548250093,1.0460238568588469,1.7106904710690471,"AQT0693",15,1000,2,60,58,52.184371523915459,50.108509454949946,"MASTL","SC",10,229.15909090909085,3.5714285714285579,"M",1.5584930788739124,2.4386284210436369,0.99893737845980657,0.98842394914128473,1.5609461499748365,"AQT0693",15,1000,20,60,40,46.546103896103894,45.11753246753247,"MASTL","SC",10,135.72649572649573,1.8757631257631409,"M",1.3820169125584854,1.9714826131238179,0.99414895348661392,1.0050542179746371,1.4472862163217495,"AQT0693",15,17.25,38,90,52,27.520451770451778,26.770146520146522]
["MAP2K1 (MEK1)","MAP2K1","MAP2K1","MAP2K1","MEK1","STE","23_10",17.52,"MEK1","Carna",5,538.36038961038969,31.863636363636477,"S",5.9186442722311208,1.3416380086490636,0.98946661541801118,1.0621207743426755,1.4519096087403121,"AQT0972",10,17.52,40,80,40,50.649675324675322,57.022402597402618,"MEK1","Carna",5,878.59189723320151,18.848814229248912,"S",2.1453435080162069,2.1276737811697699,0.99852027334627258,1.0904106250761545,1.7751785714285715,"AQT0972",10,1000,30,74,44,85.974308300395265,89.744071146245048,"MEK1","Carna",5,851.61363636363637,20.522727272727362,"S",2.4098636278722316,3.4804980851109351,0.99652202859747374,1.0686497890295359,1.719529232462639,"AQT0972",10,1000,78,98,20,83.109090909090909,87.213636363636382,"MEK1","Carna",5,495.85192307692296,22.601923076923072,"S",4.5582001450495069,2.4881037184784156,0.99550766200032537,1.0837730511885981,1.3666039903896374,"AQT0972",10,17.52,14,62,48,47.325000000000003,51.845384615384617]
["MAP2K2 (MEK2)","MAP2K2","MAP2K2","MAP2K2","MEK2","STE","23_11",27.74,"MEK2","Carna",3,895.29646260997072,5.2976845063538978,"S",0.59172405204306,1.6985974551764025,0.99479369830249698,1.0517593191658787,1.4057161629434953,"AQT0972",10,27.74,14,76,62,53.399926686217007,54.035648826979475,"MEK2","Carna",3,1338.586956521739,7.427536231882452E-2,"VS",5.5487887400177474E-3,3.8479498354531709,0.99811575359319726,1.0798718181268516,1.6636562186411665,"AQT0972",10,1000,26,72,46,80.319673913043474,80.310760869565215,"MEK2","Carna",3,1487.8350815850815,48.397435897435891,"VS",3.2528763769889837,1.8069231550096436,0.99672470918427769,1.0414241993189362,1.4236442609555757,"AQT0972",10,1000,36,58,22,86.366258741258747,92.173951048951054,"MEK2","Carna",3,768.05797101449275,18.164855072463777,"S",2.3650369839233161,3.1495380008034766,0.99063157464236873,1.0960381551135441,1.4815342407935002,"AQT0972",10,27.74,44,90,46,47.173369565217392,44.993586956521739]
["MAP2K3 (MEK3)","MAP2K3","MAP2K3","MAP2K3","MEK3","STE","26_09",45.77,"MEK3","Carna",80,6.1669407894736823,0.16255482456140224,"VW",2.6359070098235122,4.7046186895810953,0.89969207125477879,1.1305504739730583,1.1959843212542998,"AQT0972",10,45.77,84,120,36,9.6070175438596515,10.127192982456139,"MEK3","Carna",80,12.041834677419354,0.29410282258064635,"VW",2.442342304633554,4.3940792250624199,0.99003366423906147,1.1182225845902976,1.4443240047299961,"AQT0972",10,1000,60,120,60,18.796370967741936,19.737500000000004,"MEK3","Carna",80,8.9675951086956509,0.19605978260869514,"VW",2.1863139474102806,2.1013528498558438,0.98985303604367003,1.0590380445495762,1.294763679152775,"AQT0972",10,1000,74,120,46,14.034456521739132,14.661847826086957,"MEK3","Carna",80,5.2649316305469549,0.58952528379772606,"VW",11.197206823680679,8.1104488257170502,0.94081217710849896,1.0700587422252936,1.1901150627615062,"AQT0972",10,45.77,86,120,34,7.4806501547987621,9.367131062951497]
["MAP2K4 (MEK4)","MAP2K4","MAP2K4","MAP2K4","MEK4(HIS)","STE","26_10","NA","MEK4(HIS)","SC",60,2.9702380952380953,0.47247023809523803,"VW",15.906813627254508,27.249310027598895,0.68797381473501351,1.0703577064702787,1.0703969950132763,"AQT0972",10,"NA",50,78,28,2.9973214285714285,4.1312500000000005,"MEK4(HIS)","SC",60,1.319014447884417,0.4757911936704507,"VW",36.071719641401792,-4.8092172777311317,0.49006710351505228,1.0154686078252957,0.88138631610397367,"AQT0972",10,1000,86,120,34,2.1537667698658409,1.0118679050567596,"MEK4(HIS)","SC",60,0.56629964238659891,8.0580651232825234E-2,"VW",14.229331117573759,-5.46875,0.23381109179203127,1.0287698412698412,0.90500692657827031,"AQT0972",10,1000,78,120,42,0.58286278938452851,0.77625635234330892,"MEK4(HIS)","SC",60,-0.12548076923076923,0.12163461538461537,"VW",-96.93486590038313,6.0341880341880341,2.6011908109646147E-3,1.1004148078578697,1.0704129993229521,"AQT0972",10,"NA",72,120,48,-4.6153846153846158E-3,-0.29653846153846153]
["MELK","MELK","MELK","MELK","MELK","CAMK","21_05",24.77,"MELK","Carna",5,196.31630434782608,5.8521739130434725,"M",2.9809922983649919,14.699982557125416,0.99601836453146864,0.96762661370407155,1.1947416692143076,"AQT0426",15,24.77,14,60,46,19.04641304347826,20.216847826086955,"MELK","Carna",5,394.71916971916966,9.9786324786325036,"S",2.5280334080890947,4.7408200916503,0.99862952371305092,0.99442004036566545,2.1671667916979245,"AQT0426",15,1000,68,120,52,40.469780219780226,38.474053724053725,"MELK","Carna",5,328.68181818181813,9.4545454545454515,"S",2.8765039413635729,4.0798611111111116,0.99807144311254437,0.97911377798292176,1.136573799644339,"AQT0426",15,1000,0,20,20,31.922727272727272,33.813636363636363,"MELK","Carna",5,185.12735042735045,0.76752136752135758,"M",0.41459101842574914,4.2307692307692299,0.99409972473709429,0.99630177514792895,1.2274696707105721,"AQT0426",15,24.77,10,60,50,18.589487179487179,18.435982905982907]
["MERTK (MER)","MERTK","MER","MER","MERTK","TK","05_06",12.53,"MERTK","Carna",0.4,6406.3048245614054,539.69298245614095,"VS",8.4244037278243304,3.4350161117078413,0.99697158785124018,0.98430352497981877,1.4511139753268276,"AQT0101",15,12.53,16,52,36,46.932894736842094,55.567982456140349,"MERTK","Carna",0.4,12119.212473572936,266.39578928823136,"VS",2.1981278888304994,0.68562507370245229,0.99916605198158903,1.024563260984648,2.9319023752451514,"AQT0101",15,1000,4,90,86,94.822533474277662,99.084866102889364,"MERTK","Carna",0.4,10383.45864661654,90.249060150376238,"VS",0.86916183924692547,0.64624913971094289,0.99934245871070282,1.0172395557905869,1.7877046514149408,"AQT0101",15,1000,6,44,38,82.345676691729324,83.789661654135344,"MERTK","Carna",0.4,4959.1758578431363,325.44424019607823,"VS",6.5624662146508692,6.666811936851051,0.99021108716801964,1.0123755196751425,1.5345544554455446,"AQT0101",15,12.53,38,70,32,37.069852941176471,42.276960784313722]
["MET (c-MET, HGFR)","MET","MET","MET","MET","TK","05_07",32.64,"MET","Carna",2,1534.3421052631577,14.398496240601498,"VS",0.93841498523772748,3.2702702702702702,0.99831396495249336,0.99182993574998013,1.7336611675126905,"AQT0104",15,32.64,40,78,38,61.949624060150363,60.797744360902243,"MET","Carna",2,2961.6258741258739,86.407342657342667,"VS",2.9175644166346926,1.4160423899141239,0.99935398171980538,1.0276105856501385,1.5217349857006672,"AQT0104",15,1000,0,22,22,115.00874125874125,121.92132867132867,"MET","Carna",2,3217.9545454545455,9.7727272727272645,"VS",0.30369376368387568,1.648930374459739,0.99912282648793593,0.98687193048734412,1.4725762295855753,"AQT0104",15,1000,0,20,20,128.32727272727271,129.1090909090909,"MET","Carna",2,1575.7800751879699,117.50469924812046,"VS",7.4569225171922353,4.0710733194288462,0.99752345464644632,1.0305805650419124,1.4846811819595644,"AQT0104",15,32.64,10,48,38,58.331015037593986,67.731390977443624]
["MINK1 (MAP4K6, MINK, ZC3)","MINK1","ZC3/MINK","MINK","MINK","STE","18_08",14.86,"MINK","Carna",2,1020.28162055336,2.7950310559004876,"VS",0.27394701615663469,1.1255411255411254,0.9992016557982154,0.9845434938892883,1.8330185115224782,"AQT0183",15,14.86,18,60,42,40.699463579898364,40.923066064370403,"MINK","Carna",2,1758.8616071428571,26.651785714285833,"VS",1.5152861149536216,1.5067972962709806,0.99852080752223527,1.051641460715603,1.8538910505836577,"AQT0183",15,1000,2,30,28,71.42053571428572,69.288392857142853,"MINK","Carna",2,2314.9475524475524,60.511363636363669,"VS",2.6139410187667576,2.1650506831203171,0.99952250395133335,1.0246395072098557,1.6618054542802976,"AQT0183",15,1000,2,24,22,90.177447552447546,95.01835664335664,"MINK","Carna",2,833.64035087719299,0.73464912280698502,"S",8.8125427474084583E-2,1.3246301644368481,0.99721105294822598,1.0163967206558688,1.737864077669903,"AQT0183",15,14.86,22,58,36,33.375,33.316228070175441]
["MAPKAPK2 (MK2)","MAPKAPK2","MAPKAPK2","MAPKAPK2","MK2","CAMK","14_10",10.130000000000001,"MK2","Carna",1,2212.9772961816307,11.764705882353075,"VS",0.53162343340134677,1.6523463317911435,0.99905501662129426,0.9967483741870935,1.3914618369987064,"AQT0425",15,10.130000000000001,2,36,34,44.49484004127968,44.024251805985557,"MK2","Carna",1,2844.1517857142853,115.00000000000001,"VS",4.0433847651038324,8.9468484489231379,0.99786979023843525,1.0239802515575409,1.4182990329779321,"AQT0425",15,1000,0,28,28,54.583035714285714,59.183035714285715,"MK2","Carna",1,3166.8181818181815,96.363636363636459,"VS",3.0429166068609192,5.0763953850951049,0.99802048701325619,1.0320297087153301,1.3942224953902889,"AQT0425",15,1000,6,24,18,61.409090909090907,65.263636363636365,"MK2","Carna",1,1839.4510869565215,72.010869565217547,"VS",3.9148020882883987,4.8865740740740735,0.99837579569801083,1.0176570871894788,1.4555808656036446,"AQT0425",15,10.130000000000001,4,50,46,35.348804347826082,38.229239130434784]
["MAPKAPK3 (MK3)","MAPKAPK3","MAPKAPK3","MAPKAPK3","MK3","CAMK","14_11",11.78,"MK3","Carna",1,905.53571428571422,9.1964285714285037,"S",1.0155787813054551,2.4815270935960592,0.97212299213195941,1.011206794856671,1.3972602739726028,"AQT0425",15,11.78,70,98,28,18.294642857142858,17.926785714285717,"MK3","Carna",1,2871.606008555872,27.676950998185209,"VS",0.96381435739173427,0.49432766539442596,0.99965138725536751,1.0236888626988805,2.7860887354558241,"AQT0425",15,1000,8,120,112,57.985659191081162,56.878581151153753,"MK3","Carna",1,3279.9450549450548,22.527472527472622,"VS",0.68682469218527809,0.96586754915919493,0.99845289582079422,1.0257361742877664,1.5055000632191176,"AQT0425",15,1000,6,30,24,65.14835164835165,66.049450549450555,"MK3","Carna",1,1905.5263157894735,16.22807017543888,"VS",0.85163191087788637,2.2033104739871656,0.996791278850228,1.0029304029304029,1.4891220885589966,"AQT0425",15,11.78,16,52,36,38.435087719298259,37.785964912280704]
["MAPKAPK5 (MK5)","MAPKAPK5","MAPKAPK5","MAPKAPK5","MK5","CAMK","14_12",10.130000000000001,"MK5","Carna",6,140.92474645650049,7.9014693304007819,"M",5.6068714183138475,3.1692383918459797,0.98195726915751302,0.96221119958229995,1.1204967248908297,"AQT0426",15,10.130000000000001,8,70,62,15.962793255131965,17.859145894428153,"MK5","Carna",6,211.34386446886452,3.8118131868131835,"M",1.8036072144288557,1.5608180839612487,0.97516319680945129,1.0077255169279709,1.1470518401266325,"AQT0426",15,1000,12,36,24,25.818681318681318,24.903846153846153,"MK5","Carna",6,278.72553171466222,5.0595238095238431,"M",1.8152351449107269,1.0040829930839097,0.99426075898199129,1.04195642095503,1.2643353254724601,"AQT0426",15,1000,0,42,42,32.839920948616594,34.054206662902317,"MK5","Carna",6,137.29273504273505,2.3767806267806315,"M",1.7311772731753154,10.916226630512345,0.97270553748020838,0.99428807377331219,1.1926513689327329,"AQT0426",15,10.130000000000001,40,90,50,16.189914529914528,16.76034188034188]
["MYLK (smMLCK)","MYLK","smMLCK","smMLCK","MLCK","CAMK","30_05",13.11,"MLCK","SC",10,77.992360580595857,1.3657372039724924,"W",1.7511166398934228,6.0589894966450908,0.9972695109748918,0.99787287287287285,1.3332885545405695,"AQT0151",15,13.11,14,80,66,15.871619556913675,15.325324675324678,"MLCK","SC",10,129.93181818181819,5.1818181818181843,"M",3.988105649816339,2.7325787053413508,0.9866245481806788,0.99808006826423945,1.076676363093906,"AQT0151",15,1000,0,20,20,24.95,27.022727272727273,"MLCK","SC",10,98.38723776223776,0.45454545454545853,"W",0.46199635733641731,2.612509534706331,0.96578640650482872,0.996218487394958,1.1279274004683839,"AQT0151",15,1000,0,22,22,19.58653846153846,19.768356643356643,"MLCK","SC",10,73.034778225806448,3.1340725806451615,"W",4.2912057197672899,1.5649831976610171,0.98651274783866538,0.99454386730685296,1.2035676006737099,"AQT0151",15,13.11,36,96,60,13.980141129032258,15.233770161290323]
["MLK4 (MAP3K21)","MLK4","MLK4","MLK4","MLK4","STE","18_12",136.4,"MLK4","SC",80,6.2873590225563909,0.11172462406015048,"VW",1.7769722336410196,1.2886597938144329,0.9958649060849768,0.98303217276333188,1.3214759169244366,"AQT0741",15,136.4,52,90,38,10.238533834586466,9.8810150375939845,"MLK4","SC",80,9.3477581521739115,2.2282608695652347E-2,"VW",0.23837382539117477,2.8578066914498139,0.99309246386819705,0.96539858535652834,1.4284292255624129,"AQT0741",15,1000,60,106,46,14.920760869565218,14.992065217391305,"MLK4","SC",80,13.608901515151514,0.56534090909090884,"VW",4.1541994294064422,2.2808908045977012,0.99614041343318771,0.97986382732145449,1.4201629942650165,"AQT0741",15,1000,82,100,18,22.67878787878788,20.869696969696971,"MLK4","SC",80,7.0510110294117645,5.3308823529411561E-2,"VW",0.75604510200090957,0.77332044465925565,0.98949932792732864,0.99953271028037383,1.4733470601692975,"AQT0741",15,136.4,84,114,30,11.196323529411766,11.366911764705883]
["MNK1","MNK1","MNK1","MNK1","MNK1","CAMK","27_04",17.670000000000002,"MNK1","SC",8,108.17521367521367,3.4850427350427315,"M",3.2216647572393597,1.0735073716496462,0.99726137986014018,0.93402141410244044,1.2246767789880892,"AQT0426",15,17.670000000000002,40,90,50,16.750427350427351,17.865641025641025,"MNK1","SC",8,465.16998626373623,22.578983516483529,"S",4.8539209715224363,1.6987542468856169,0.99935005801742982,1.0014080788524158,1.3154134666904804,"AQT0426",15,1000,0,24,24,70.814560439560438,78.039835164835168,"MNK1","SC",8,346.12652972027968,1.0325611888111874,"S",0.29831899613290153,3.3143939393939394,0.9991977485262129,0.98685826578236302,1.3211678832116789,"AQT0426",15,1000,2,24,22,55.215034965034967,55.545454545454547,"MNK1","SC",8,197.19984407484412,1.6288365794944639,"M",0.82598269138400759,5.785184976869103,0.99860155420934382,1.0047646972584665,1.5721491898501987,"AQT0426",15,17.670000000000002,46,120,74,31.291361199255935,31.812588904694163]
["MNK2","MNK2","MNK2","MNK2","MNK2","CAMK","27_05",21.17,"MNK2","SC",4,83.78289473684211,3.2236842105263119,"W",3.8476639183352916,4.3272945822958704,0.94889311559048273,0.97991606714628299,1.1301071845484452,"AQT0426",15,21.17,82,118,36,6.4447368421052644,6.9605263157894743,"MNK2","SC",4,600.11029411764707,21.930147058823525,"S",3.6543527537830052,5.8543756485645106,0.99681444331426694,0.98388791593695268,1.2584018591347874,"AQT0426",15,1000,4,34,30,46.254411764705885,49.763235294117649,"MNK2","SC",4,464.65253496503499,17.395104895104872,"S",3.7436801881246278,8.9239524055871691,0.9985873509319303,0.97437492225401168,1.2469025418316515,"AQT0426",15,1000,8,30,22,38.563811188811187,35.780594405594407,"MNK2","SC",4,242.21522177419351,3.545866935483843,"M",1.4639323282454548,2.5893679228520199,0.99499994814591741,1.0109954984871965,1.3070418204182044,"AQT0426",15,21.17,50,110,60,19.093548387096774,19.660887096774189]
["CDC42BPA (MRCKA)","CDC42BPA","MRCKa","MRCKa","MRCKA","AGC","08_09",21.36,"MRCKA","Carna",40,9.1273468379446641,0.53236166007905084,"VW",5.8326003112524472,4.9153994431355752,0.95531746729885758,1.0032615026208502,1.1460256563961155,"AQT0713",15,21.36,70,114,44,6.8759881422924902,7.7277667984189717,"MRCKA","Carna",40,19.119494635798983,0.58159232072275457,"VW",3.0418812411170744,2.9205741626794257,0.99438518015967203,0.99239272554380131,1.3017405666370219,"AQT0713",15,1000,50,92,42,14.830321852060983,15.760869565217391,"MRCKA","Carna",40,21.093132411067195,0.95161631846414341,"VW",4.5114983394540635,1.6767058108928934,0.99245278157529271,1.0158542356838618,1.4558375634517766,"AQT0713",15,1000,78,120,42,16.113212874082439,17.635798983625069,"MRCKA","Carna",40,9.7556112365894965,0.18033596837944699,"VW",1.848535822164346,2.9625326749927385,0.96202072704837049,0.9488701209769459,1.1117591049750057,"AQT0713",15,21.36,78,120,42,7.6602202145680405,7.9487577639751557]
["CDC42BPB (MRCKB)","CDC42BPB","MRCKb","MRCKb","MRCKB","AGC","08_10",9.2750000000000004,"MRCKB","Carna",70,31.319805194805195,1.014610389610388,"W",3.2395169232364021,4.7284506331243952,0.99721926492731106,1.0198915009041591,1.2519822761194028,"AQT0713",15,9.2750000000000004,4,24,20,42.427272727272729,45.268181818181816,"MRCKB","Carna",70,38.644480519480517,0.58316683316683326,"W",1.509055951399997,10.451083772700644,0.99645283202850299,1.0376647834274952,1.3481825969893526,"AQT0713",15,1000,2,24,22,53.28583916083916,54.918706293706293,"MRCKB","Carna",70,34.49002782931354,0.38821892393320562,"W",1.1255975954975981,3.208392267798208,0.99943388389010179,1.0282885431400284,1.5028002489110144,"AQT0713",15,1000,0,40,40,48.829545454545453,47.742532467532477,"MRCKB","Carna",70,34.986888111888106,1.2637362637362641,"W",3.6120281966628016,12.724330685495733,0.997754496747154,0.99611250857534872,1.2677221172022684,"AQT0713",15,9.2750000000000004,2,24,22,47.212412587412587,50.750874125874127]
["RPS6KA5 (MSK1)","RPS6KA5","MSK1","MSK1","MSK1","AGC","18_01",32.630000000000003,"MSK1","Carna",2,638.67481203007515,30.408834586466146,"S",4.7612390552571524,3.3119266055045871,0.99222222016094819,0.96268280383257687,1.2822664180650507,"AQT0535",15,32.630000000000003,32,70,38,26.763345864661655,24.330639097744363,"MSK1","Carna",2,1107.2932330827066,11.343984962406051,"VS",1.0244788483737386,4.4113173106175845,0.99645291191795271,0.98884026258205693,1.371202710333145,"AQT0535",15,1000,2,40,38,44.745488721804506,43.837969924812022,"MSK1","Carna",2,151.26096491228068,3.3991228070175619,"M",2.2471910112359672,28.813188016868391,0.93746844144352626,0.97744172445484168,1.0835870227015743,"AQT0535",15,1000,70,106,36,5.9144736842105248,6.1864035087719298,"MSK1","Carna",2,605.24332591768632,8.3328698553949643,"S",1.3767801309928436,5.896960056557087,0.99775054328710644,0.98391393442622954,1.3955951756685896,"AQT0535",15,32.630000000000003,32,90,58,24.54304783092325,23.876418242491653]
["RPS6KA4 (MSK2)","RPS6KA4","MSK2","MSK2","MSK2","AGC","18_02",114,"MSK2","Carna",10,86.138392857142861,3.3214285714285632,"W",3.8559212231147866,10.390438247011954,0.9767418965367668,0.98936714037419482,1.1325797591379674,"AQT0535",15,114,12,40,28,17.891964285714284,16.563392857142858,"MSK2","Carna",10,136.97564935064935,0.5616883116883109,"M",0.41006435403012614,2.5816925010473399,0.99770730175012712,1.0185560053981106,1.3228784471535091,"AQT0535",15,1000,10,50,40,27.507467532467533,27.282792207792209,"MSK2","Carna",10,190.90178571428569,10.214285714285705,"M",5.3505448762920311,6.4054874027173208,0.99781054292010218,0.99864704887535938,1.2227805695142377,"AQT0535",15,1000,8,36,28,40.223214285714285,36.137500000000003,"MSK2","Carna",10,97.125902992776048,1.9375644994840078,"W",1.9948998565584697,4.433361041839845,0.98622454362365131,0.99861569587903309,1.1310029402156156,"AQT0535",15,114,0,34,34,19.812693498452013,19.03766769865841]
["SRPK3 (MSSK1)","SRPK3","MSSK1","MSSK1","MSSK1","CMGC","21_11",49.48,"MSSK1","SC",10,85.490196078431367,7.1905637254901924,"W",8.4109805045871529,9.046313354183626,0.99697305975654382,0.99412731970871504,1.6553699284009546,"AQT0360",15,49.48,60,92,32,18.536151960784313,15.659926470588236,"MSSK1","SC",10,187.89358974358976,1.0547008547008117,"M",0.56132881177059635,4.3850352922357079,0.99885147990533418,1.0218559656037263,1.7378212504794783,"AQT0360",15,1000,0,50,50,37.367777777777789,37.789658119658114,"MSSK1","SC",10,152.33482142857142,0.82142857142857284,"M",0.53922574216804009,4.7472887251892777,0.99712961595363991,0.99250000000000005,1.2526756630991158,"AQT0360",15,1000,0,28,28,30.302678571428572,30.631250000000001,"MSSK1","SC",10,138.45394736842104,2.1390977443609049,"M",1.5449886298068785,0.64576334453154161,0.99870052042930324,1.0049358341559724,1.6808132147395172,"AQT0360",15,49.48,12,50,38,27.26296992481203,28.118609022556392]
["STK4 (MST1)","STK4","MST1","MST1","MST1","STE","20_01",33.6,"MST1","SC",5,274.67032967032964,1.813186813186789,"M",0.66013202640527235,2.1900799370986763,0.99856058835555117,0.98227807314322535,1.7781275890637946,"AQT0135",15,33.6,76,100,24,27.64835164835165,27.285714285714292,"MST1","SC",5,378.68653846153848,1.2269230769230786,"S",0.32399437326386282,1.7950497339810314,0.99906349718080201,1.0844600526777874,1.7845735027223228,"AQT0135",15,1000,2,50,48,37.991346153846152,37.745961538461536,"MST1","SC",5,289.50174825174827,22.613636363636346,"M",7.8112261843654638,2.7830387205387206,0.9988776856801117,1.0784153005464481,1.4424581005586594,"AQT0135",15,1000,0,22,22,31.21153846153846,26.68881118881119,"MST1","SC",5,233.90931372549019,2.5980392156862742,"M",1.1107036202651017,2.7331441602980346,0.9993060718307476,0.98681987157823592,1.5937445088736601,"AQT0135",15,33.6,50,82,32,23.650735294117649,23.131127450980394]
["MST1R (RON)","MST1R","RON","RON","MST1R","TK","05_08",25.96,"MST1R","Carna",0.75,2528.6904761904766,2.5595238095237489,"VS",0.10121933995574356,10.956284153005464,0.92891316717769012,0.96799387442572737,1.0877829410882927,"AQT0734",15,25.96,58,86,28,37.891964285714288,37.96875,"MST1R","Carna",0.75,2161.202898550725,30.608695652173875,"VS",1.4162805201075603,1.9016768292682926,0.98068910696089873,0.99112163361941408,1.2690288713910762,"AQT0734",15,1000,70,116,46,32.877173913043478,31.958913043478262,"MST1R","Carna",0.75,2553.4523809523816,62.083333333333002,"VS",2.4313487808289294,7.4827227113509407,0.98015738336654634,0.9723965382880112,1.142949941131095,"AQT0734",15,1000,40,68,28,37.370535714285715,39.233035714285705,"MST1R","Carna",0.75,1139.9731182795701,15.873655913978624,"VS",1.3924587921805474,12.87472688533934,0.95000385975428403,0.98055737602596516,1.0723107812119737,"AQT0734",15,25.96,60,120,60,17.337701612903228,16.861491935483869]
["STK3 (CLIK1, MST2)","STK3","MST2","MST2","MST2","STE","20_02",55.23,"MST2","SC",5,186.4318181818181,0.4772727272727017,"M",0.25600390101181136,2.3115155021432141,0.99409429543606465,0.98507707445063952,1.5899317406143343,"AQT0135",15,55.23,94,114,20,18.690909090909091,18.595454545454551,"MST2","SC",5,220.46975546975546,2.1081081081081261,"M",0.95618925308660807,1.2491901522513769,0.99939649363706728,1.0059450952963804,2.0016426355174302,"AQT0135",15,1000,50,120,70,22.257786357786358,21.836164736164733,"MST2","SC",5,168.62637362637361,1.126373626373631,"M",0.6679700228087353,2.2735884804850319,0.99792246955366581,1.0042205965109736,1.2360465116279071,"AQT0135",15,1000,0,24,24,16.975274725274726,16.75,"MST2","SC",5,179.23951048951048,4.0646853146853168,"M",2.2677395757132417,1.5629156690609203,0.99333012876402638,1.000686459584692,1.6692184440092577,"AQT0135",15,55.23,98,120,22,18.33041958041958,17.517482517482517]
["STK24 (MST3)","STK24","MST3","MST3","MST3","STE","20_03",36.340000000000003,"MST3","Carna",2,959.33129370629365,7.4082167832167478,"S",0.77222715779402362,1.3104787851268855,0.99717927857968292,0.99303232998885171,1.9740527790063394,"AQT0505",15,36.340000000000003,88,110,22,38.07692307692308,38.66958041958042,"MST3","Carna",2,2004.8242518351212,61.80477131564092,"VS",3.0828024580742057,1.6882079581760092,0.99977251343181595,0.79440298507462681,1.8284806776071996,"AQT0505",15,1000,8,50,42,77.720779220779221,82.665160926030495,"MST3","Carna",2,1161.9368131868132,0.13736263736250362,"VS",1.1821868091584324E-2,1.3958232673001558,0.9994207730488931,0.99279983542480976,1.5836806317174819,"AQT0505",15,1000,4,30,26,46.482967032967025,46.471978021978025,"MST3","Carna",2,881.79632867132864,19.667832167832163,"S",2.2304279943495819,0.65161388089104411,0.99642184570143189,0.9995551601423488,2.0266023646546358,"AQT0505",15,36.340000000000003,94,116,22,34.48513986013986,36.058566433566433]
["STK26 (MST4)","STK26","MST4","MST4","MST4","STE","20_04",30.83,"MST4","SC",10,322.33176691729324,5.8787593984962241,"S",1.8238225337574774,1.5003774534474081,0.99931991873021597,0.97567459789977407,2.1278558251738326,"AQT0505",15,30.83,50,88,38,63.290601503759397,65.642105263157887,"MST4","SC",10,428.41630434782604,10.172282608695653,"S",2.3743920353780235,2.1927257525083612,0.99946864978435723,0.98121477770820287,3.4315532664678772,"AQT0505",15,1000,70,116,46,83.648804347826086,87.717717391304348,"MST4","SC",10,192.00093984962407,2.9802631578947287,"M",1.5522127965773933,1.680017164926334,0.99871553160524851,0.99633774160732447,2.5321060705676093,"AQT0505",15,1000,76,114,38,38.996240601503757,37.804135338345866,"MST4","SC",10,233.93703007518798,11.751879699248116,"M",5.023522652857066,4.6730413325107962,0.99959024949055542,0.97730796335447501,1.9747444377630787,"AQT0505",15,30.83,62,100,38,44.43703007518797,49.137781954887217]
["mTOR (FRAP)","mTOR","Mtor","FRAP","mTOR","Atypical","27_03",179.2,"mTOR","Carna",40,7.5669642857142856,0.23437499999999828,"VW",3.0973451327433401,5.1588785046728969,0.98457006281934134,0.9722419928825623,1.0800658485483388,"AQT0258",15,179.2,60,88,28,5.8660714285714306,6.2410714285714279,"mTOR","Carna",40,21.698863636363637,2.3538961038962466E-2,"VW",0.10848015561291946,0.91164095371669007,0.99717915897753984,0.98990450204638469,1.3974358974358974,"AQT0258",15,1000,80,120,40,17.340259740259739,17.377922077922079,"mTOR","Carna",40,17.097120098039216,0.35462622549019551,"VW",2.0741869008153357,1.3410545565376408,0.99591595688182,0.98436262866191604,1.4252804487179487,"AQT0258",15,1000,88,120,32,13.393995098039216,13.961397058823529,"mTOR","Carna",40,15.217653508771928,0.16337719298245457,"VW",1.0736030550851936,6.2916603830493134,0.99315209895181933,0.99441122952950356,1.2307895780981353,"AQT0258",15,179.2,70,106,36,12.304824561403509,12.043421052631581]
["MUSK","MUSK","MUSK","MUSK","MUSK","TK","05_09",54.66,"MUSK","Carna",20,32.346153846153847,1.6600427350427347,"W",5.1321178491214159,3.0893924409855096,0.98553272267637304,1.0159802426091378,1.1300807096633463,"AQT0704",15,54.66,30,80,50,13.602478632478633,12.274444444444445,"MUSK","Carna",20,40.99839124839125,0.47353603603603739,"W",1.1550112617031494,0.98819444444444449,0.98680177284801385,1.1210606195875368,1.3454231433506045,"AQT0704",15,1000,50,120,70,16.209942084942085,16.588770913770915,"MUSK","Carna",20,54.249060150375939,1.2683270676691725,"W",2.3379705826302377,2.1295535469734319,0.97929240882390833,1.0264234572110467,1.3237276112785956,"AQT0704",15,1000,52,90,38,21.192293233082708,22.206954887218046,"MUSK","Carna",20,14.906853281853282,0.55590411840412013,"VW",3.7291848782119885,10.127453592681409,0.93649820612865409,1.0265597988370265,1.1002644866554461,"AQT0704",15,54.66,50,120,70,5.7403796653796642,6.1851029601029603]
["MYLK2 (skMLCK)","MYLK2","skMLCK","skMLCK","MYLK2","CAMK","30_06",34.479999999999997,"MYLK2","SC",2,760.68181818181813,0.68181818181818343,"S",8.9632506722438221E-2,21.536231884057973,0.99252051491523186,0.96987039218986704,1.0586086808799795,"AQT0517",15,34.479999999999997,0,18,18,30.4,30.454545454545453,"MYLK2","SC",2,826.875,32.865259740259752,"S",3.9746345868794863,2.8286637931034484,0.9453227219639927,1.040532254108413,1.2539856312008211,"AQT0517",15,1000,0,40,40,34.38961038961039,31.760389610389609,"MYLK2","SC",2,640.79982517482517,8.5664335664335827,"S",1.3368345667223707,11.182551689359558,0.92330981807955359,1.0070621468926553,1.160709944079747,"AQT0517",15,1000,0,22,22,25.289335664335663,25.97465034965035,"MYLK2","SC",2,851.0795454545455,52.897727272727337,"S",6.2153681821216447,11.671485169718386,0.98827245715578405,1.0153828492710366,1.1002065506048981,"AQT0517",15,34.479999999999997,2,22,20,31.927272727272726,36.159090909090914]
["MYLK3 (caMLCK)","MYLK3","caMLCK","caMLCK","MYLK3","CAMK","30_07",22.51,"MYLK3","INVT",60,15.791239316239317,0.44850427350427469,"VW",2.8402094637565529,10.217277028210969,0.98366110929659678,0.96365658102651142,1.1370761256479112,"AQT0175",15,22.51,30,80,50,19.48769230769231,18.411282051282051,"MYLK3","INVT",60,18.01488603988604,0.31623931623931656,"VW",1.7554333429539535,11.621834198521313,0.98186997836437317,0.98750482439212661,1.1340534020505511,"AQT0175",15,1000,20,70,50,21.997350427350426,21.238376068376066,"MYLK3","INVT",60,12.740808823529413,0.3489583333333327,"VW",2.7389025152695567,12.184565727699532,0.97723888290053329,0.97494114966967882,1.074436484361349,"AQT0175",15,1000,18,48,30,15.707720588235293,14.870220588235295,"MYLK3","INVT",60,15.660422502334267,0.12073996265172877,"VW",0.7709879004460567,13.360792492179355,0.9904097453791606,0.98133120482461977,1.12893510893605,"AQT0175",15,22.51,22,90,68,18.937394957983198,18.647619047619049]
["MYLK4 (SgK085)","MYLK4","SgK085","SgK085","MYLK4","CAMK","30_08",37.76,"MYLK4","Carna",30,45.164502164502167,1.5595238095238086,"W",3.4529857183935566,0.88495575221238942,0.99711359071927352,0.98645153344007885,1.3848068107400131,"AQT0151",15,37.76,20,60,40,28.034415584415584,26.162987012987013,"MYLK4","Carna",30,59.442165242165245,0.60299145299145107,"W",1.0144170397139565,0.94750493592969687,0.98829107556238294,1.0163899380032779,1.2997661612732896,"AQT0151",15,1000,0,50,50,36.027094017094015,35.303504273504274,"MYLK4","Carna",30,70.018939393939391,3.5037878787878833,"W",5.0040573437922706,4.552443968128232,0.99490858534542359,1.03373261737574,1.281651508589577,"AQT0151",15,1000,0,20,20,39.909090909090907,44.113636363636367,"MYLK4","Carna",30,35.287914432651277,1.5675949228580837,"W",4.4422997166633804,1.6580045384671696,0.99384602747375705,1.0096160850877831,1.2744903412995341,"AQT0151",15,37.76,16,90,74,20.232191705875913,22.113305613305613]
["MYO3A","MYO3A","MYO3A","MYO3A","MYO3A","STE","22_02",34.729999999999997,"MYO3A","SC",10,58.568181818181813,1.151515151515152,"W",1.9661104643642489,1.7061611374407581,0.99701717377064669,0.98773863107248172,1.3145602120258406,"AQT0505",15,34.729999999999997,90,108,18,11.483333333333333,11.943939393939393,"MYO3A","SC",10,107.49017094017094,1.918803418803412,"M",1.7850966297852651,1.5899559377820247,0.99917735617114412,1.0063522312212165,1.4986235375086028,"AQT0505",15,1000,24,74,50,21.88179487179487,21.114273504273505,"MYO3A","SC",10,226.69642857142856,7.420454545454545,"M",3.273300153961832,3.3081991712519527,0.99889748319289029,0.98723516252138444,1.7817117368274324,"AQT0505",15,1000,30,70,40,43.855194805194806,46.823376623376625,"MYO3A","SC",10,49.524786324786319,0.79615384615385298,"W",1.6075866353720973,1.3910385389258628,0.99587268701644704,0.98956551488197053,1.3616518100782244,"AQT0505",15,34.729999999999997,70,120,50,9.745726495726494,10.064188034188035]
["MYO3B","MYO3B","MYO3B","MYO3B","MYO3B","STE","22_03",22.56,"MYO3B","SC",20,10.439586754241926,8.1588669950739545E-2,"VW",0.78153160533473764,25.357142857142854,0.99095996378678775,0.93570219966159052,1.0548964051708873,"AQT0135",15,22.56,36,90,54,4.1431992337164747,4.2084701696770663,"MYO3B","SC",20,13.671875,0.10687774926686265,"VW",0.78173439463762406,3.4573605706874191,0.99638289573664274,0.98562741846323931,1.1510875955320401,"AQT0135",15,1000,20,82,62,5.4259989002932549,5.5115010997067451,"MYO3B","SC",20,29.287280701754387,1.1680856553147587,"VW",3.9883718369414449,2.223069105691057,0.9942966660230248,0.98579647608773824,1.2459692538432696,"AQT0135",15,1000,26,60,34,12.182146542827658,11.247678018575851,"MYO3B","SC",20,7.7527856804172588,0.17069701280227609,"VW",2.2017506976033046,1.7214945902142014,0.98436887239662307,0.99182198554583489,1.1235482579094913,"AQT0135",15,22.56,38,110,72,3.0328354670459934,3.1693930772878143]
["PKMYT1 (MYT1)","PKMYT1","MYT1","MYT1","MYT1","Other","27_07",90.02,"MYT1","Carna",40,2.843119959677419,0.21270161290322606,"VW",7.4812746531932914,71.183997116597581,0.92752964916136837,0.9808324205914567,1.0170476190476192,"AQT0686",15,90.02,60,120,60,2.1043346774193545,2.4446572580645163,"MYT1","Carna",40,11.87262709137709,0.60702220077220137,"VW",5.1127875583077342,1.5041956793429745,0.98266744863902933,0.99985676430566495,1.1387794543967888,"AQT0686",15,1000,30,100,70,9.9837194337194344,9.012483912483912,"MYT1","Carna",40,7.2165819377990426,3.4539473684210842E-2,"VW",0.4786126449046445,2.1268925739005047,0.98755411879177768,0.99822584011688587,1.1496224379719524,"AQT0686",15,1000,10,120,110,5.8008971291866036,5.7456339712918663,"MYT1","Carna",40,7.1442307692307701,0.6068376068376069,"VW",8.494093016300285,26.328561028876489,0.963780360605755,1.0109200287713334,1.0856409563690397,"AQT0686",15,90.02,40,90,50,5.22991452991453,6.200854700854701]
["STK38 (NDR1)","STK38","NDR1","NDR1","NDR1","AGC","25_04",29.97,"NDR1","Carna",15,127.15772273821811,1.4559683522531821,"M",1.1450097728241093,0.52532123960695398,0.99888269344139036,0.97314646410613026,1.501820664542558,"AQT0232",15,29.97,40,74,34,38.584107327141382,37.710526315789473,"NDR1","Carna",15,167.09595959595958,0.60606060606061141,"M",0.36270213087502212,4.750830564784053,0.99820336435328716,1.0048568950563748,1.3287222424463052,"AQT0232",15,1000,0,18,18,49.946969696969695,50.310606060606062,"NDR1","Carna",15,144.29295174585533,1.6109799018245732,"M",1.1164647214799575,0.92833425567238526,0.9989460866281844,1.0230460921843687,2.6432252197635648,"AQT0232",15,1000,2,120,118,43.771179494303972,42.804591553209228,"NDR1","Carna",15,108.67559523809524,2.3005952380952386,"M",2.1169382445570317,6.6057242354989665,0.99803415248597849,1.013855421686747,1.4864993646759848,"AQT0232",15,29.97,30,58,28,33.292857142857144,31.912500000000001]
["STK38L (NDR2)","STK38L","NDR2","NDR2","NDR2","AGC","25_05",17.03,"NDR2","Carna",15,105.63553113553115,0.64652014652014711,"M",0.61202905837682309,4.9855491329479769,0.99721482673185202,0.96334980882215793,1.2041699449252556,"AQT0232",15,17.03,22,48,26,31.496703296703302,31.88461538461539,"NDR2","Carna",15,184.0984848484849,4.6439393939393971,"M",2.522529937039629,3.8071673716976617,0.9948166131230326,1.0008237232289952,1.3922851730669881,"AQT0232",15,1000,0,20,20,56.622727272727275,53.836363636363636,"NDR2","Carna",15,168.02880844645551,3.4892911010557865,"M",2.0766028952515563,0.55991041433370659,0.99859364569970288,1.0354561570980498,2.5539443155452437,"AQT0232",15,1000,0,100,100,49.361855203619911,51.455429864253382,"NDR2","Carna",15,108.75,1.7811355311355468,"M",1.6378257757568249,7.1483425060796106,0.99907112473238346,1.0022364693603698,1.3779874213836478,"AQT0232",15,17.03,18,42,24,33.159340659340657,32.090659340659329]
["NEK1","NEK1","NEK1","NEK1","NEK1","Other","14_01",51.26,"NEK1","Carna",5,332.23245614035085,0.7192982456140482,"S",0.21650450831034468,0.9206382690192414,0.99683554893286075,0.96772168923159685,1.3307765151515152,"AQT0418",15,51.26,30,66,36,33.151315789473685,33.295175438596495,"NEK1","Carna",5,405.4285714285715,1.8901098901098832,"S",0.4662004662004644,3.7001287001286998,0.9981463897651105,1.0011767474699929,1.2739049969154843,"AQT0418",15,1000,2,28,26,40.731868131868133,40.353846153846156,"NEK1","Carna",5,420.60064935064935,10.344155844155834,"S",2.4593770504457888,2.7122871868848519,0.99775572160645309,0.98481493198354952,1.3504755585047556,"AQT0418",15,1000,0,40,40,43.09448051948052,41.025649350649353,"NEK1","Carna",5,202.61363636363635,8.5227272727272645,"M",4.2063937184520439,2.5058090409801435,0.9873120719680113,0.98173913043478256,1.3580260918888258,"AQT0418",15,51.26,72,94,22,21.113636363636363,19.40909090909091]
["NEK10","NEK10","NEK10","NEK10","NEK10","Other","27_09",549.1,"NEK10","SC",20,5.0287298387096779,1.3608870967742324E-2,"VW",0.2706224315926708,41.488109253590764,0.93185641024680865,0.9620738636363636,1.020129297678519,"AQT0415",15,549.1,60,120,60,2.0169354838709679,2.006048387096774,"NEK10","SC",20,43.023970398970391,0.65234877734877461,"W",1.5162449474081685,1.1300116620420637,0.99878470513949635,0.97884359769605667,1.3221030543250176,"AQT0415",15,1000,30,100,70,16.94864864864865,17.47052767052767,"NEK10","SC",20,21.058201357466057,0.14847285067873361,"VW",0.70505950702239562,1.2298481624409421,0.99752468998437427,0.96814723057865859,1.2967612809315865,"AQT0415",15,1000,20,120,100,8.3638914027149323,8.4826696832579191,"NEK10","SC",20,35.297501411631842,0.42595990965556213,"W",1.2067707135644237,2.5227017651260075,0.99495320898526329,0.96887889013873263,1.2253984315709587,"AQT0415",15,549.1,48,90,42,13.948616600790514,14.289384528514963]
["NEK11","NEK11","NEK11","NEK11","NEK11","Other","14_09",359.2,"NEK11","SC",100,0.62616099071207443,0.22174922600619204,"VW",35.414091470951796,-403.87205387205387,0.27795161323024242,0.97488866897575455,0.9956561800710807,"AQT0415",15,359.2,0,34,34,0.80882352941176483,1.6958204334365325,"NEK11","SC",100,2.7344125809435709,3.507554733271467E-3,"VW",0.12827452439752549,6.4767837646907713,0.98227025844458393,0.96415300546448091,1.0783655515684685,"AQT0415",15,1000,0,90,90,5.4618100524205992,5.4758402713536851,"NEK11","SC",100,4.6286413043478261,0.15146739130434783,"VW",3.2723942372045514,2.8987167736021999,0.97886614139631933,0.99239047722578544,1.1279165201078674,"AQT0415",15,1000,28,74,46,8.9543478260869573,9.5602173913043487,"NEK11","SC",100,2.5608990147783253,8.4482758620689311E-2,"VW",3.2989492413859298,39.923636797518199,0.95213315665747489,0.96809641970932292,1.035026057447582,"AQT0415",15,359.2,14,70,56,4.9528325123152719,5.2907635467980292]
["NEK2","NEK2","NEK2","NEK2","NEK2","Other","14_02",102.1,"NEK2","Carna",3,633.71212121212125,28.569347319347333,"S",4.5082532530231294,4.3133344893358769,0.99316671845483617,0.96423405654174887,1.7171993533142644,"AQT0415",15,102.1,98,120,22,36.308566433566433,39.736888111888113,"NEK2","Carna",3,1038.4970238095241,12.395833333333488,"VS",1.1936320518148227,0.8857649008514773,0.99637480130791767,0.98235356649303707,2.2933481152993345,"AQT0415",15,1000,92,120,28,61.566071428571426,63.053571428571445,"NEK2","Carna",3,983.78496503496501,20.877039627039611,"S",2.1221141173160349,2.5513365197380065,0.99332406065660805,0.98486799742433995,2.2770430654459135,"AQT0415",15,1000,98,120,22,60.27972027972028,57.774475524475527,"NEK2","Carna",3,741.01602564102564,2.9679487179487052,"S",0.40052422825555517,2.2365649473399944,0.99760381982446233,0.97032760472610091,1.9271407110665999,"AQT0415",15,102.1,72,120,48,44.282884615384617,44.639038461538462]
["NEK3","NEK3","NEK3","NEK3","NEK3","Other","14_03",66.92,"NEK3","Carna",20,22.563721001221001,0.20604395604395528,"VW",0.91316479242411086,4.9486938972740964,0.9810330175368569,0.97365675534689622,1.1647281921618204,"AQT0415",15,66.92,38,90,52,8.9430708180708187,9.107905982905983,"NEK3","Carna",20,65.877757352941174,4.7487745098040435E-2,"W",7.2084641320778506E-2,1.614409204542032,0.99154365902479991,0.99039487726787623,1.2242507750602825,"AQT0415",15,1000,16,48,32,26.332107843137255,26.370098039215687,"NEK3","Carna",20,53.029220779220786,1.1753246753246669,"W",2.2163717626890183,0.94194016977620421,0.99455088750660714,0.98503474078033137,1.2392791970802919,"AQT0415",15,1000,24,64,40,21.681818181818176,20.741558441558443,"NEK3","Carna",20,32.129619565217389,1.0619565217391289,"W",3.3052259445012937,3.8614848031888389,0.99427860884532537,0.98227742115545635,1.1791164658634536,"AQT0415",15,66.92,24,70,46,12.427065217391304,13.276630434782607]
["NEK4","NEK4","NEK4","NEK4","NEK4","Other","14_04",87.94,"NEK4","Carna",10,135.09615384615384,6.0851648351648358,"M",4.5043213014743264,2.1124591981277323,0.9893640770734784,0.97420510523958803,1.1164460190192056,"AQT0418",15,87.94,10,34,24,25.802197802197803,28.236263736263737,"NEK4","Carna",10,145.4366883116883,0.68019480519479802,"M",0.46769134603578078,1.3933895009721322,0.99649353374144634,0.97105112004595062,1.3799556759418863,"AQT0418",15,1000,20,60,40,28.9512987012987,29.22337662337662,"NEK4","Carna",10,199.35314685314685,6.215034965034965,"M",3.117600631412786,1.3620807665982204,0.99684477608090372,0.99144477554551569,1.2460590137429266,"AQT0418",15,1000,14,36,22,41.113636363636367,38.62762237762238,"NEK4","Carna",10,92.097523219814235,0.87203302373580971,"W",0.94685827940723266,4.1050436101630643,0.98224806608394466,0.98709232436693273,1.1211619973121059,"AQT0418",15,87.94,8,42,34,18.593911248710011,18.245098039215687]
["NEK5","NEK5","NEK5","NEK5","NEK5","Other","14_05",111.5,"NEK5","SC",4,86.782608695652172,2.173913043478259,"W",2.505010020040078,15.042149631190727,0.94096666235274506,0.96748178980228927,1.0880660727542688,"AQT0418",15,111.5,50,96,46,6.7686956521739132,7.1165217391304347,"NEK5","SC",4,145.09325592885372,3.1527915019762816,"M",2.1729414518909471,10.267070678599111,0.98965217601930577,0.99165894346617234,1.1522141359319107,"AQT0418",15,1000,20,64,44,11.355237154150197,11.859683794466402,"NEK5","SC",4,171.54626623376623,4.3912337662337713,"M",2.5597955948804119,3.9041020565269986,0.97940016843401123,0.99137931034482762,1.2255678266305479,"AQT0418",15,1000,48,88,40,14.074999999999998,13.372402597402594,"NEK5","SC",4,87.55607578397219,0.16550522648083321,"W",0.18902768882559973,-7.4756825869519483,0.98429288089722422,0.69780921505059434,0.8446231570264976,"AQT0418",15,111.5,40,120,80,7.0177264808362381,6.9912456445993048]
["NEK6","NEK6","NEK6","NEK6","NEK6","Other","14_06",78.790000000000006,"NEK6","Carna",60,14.836413043478263,1.3043478260869415E-2,"VW",8.7915308253048538E-2,3.926132836747362,0.99428877414370997,0.9650772330423103,1.2897612302711452,"AQT0415",15,78.790000000000006,24,70,46,17.819347826086958,17.788043478260871,"NEK6","Carna",60,25.893769385148694,1.2363733807699351,"VW",4.7747910409639083,0.9096391025349293,0.99596620462616914,0.99250501425102922,1.6967040284097215,"AQT0415",15,1000,50,104,54,29.58887520525451,32.556171319102354,"NEK6","Carna",60,28.175595238095237,0.42336309523809545,"VW",1.502587937044471,1.6878830740216879,0.99519728362253457,0.99204301075268819,1.3243119266055046,"AQT0415",15,1000,20,48,28,34.318750000000001,33.302678571428572,"NEK6","Carna",60,11.237408424908425,0.3567612942612941,"VW",3.1747648636718604,3.1583307445376407,0.99288508560084399,0.98046818899899468,1.2923705722070844,"AQT0415",15,78.790000000000006,38,90,52,13.056776556776557,13.913003663003662]
["NEK7","NEK7","NEK7","NEK7","NEK7","Other","14_07",107.7,"NEK7","Carna",40,35.471047794117645,1.6107536764705863,"W",4.5410377664053847,0.68886769724954822,0.99603432822742077,0.96390409173833724,1.6228585719644868,"AQT0415",15,107.7,90,120,30,27.088235294117649,29.665441176470587,"NEK7","Carna",40,44.636769480519476,0.85673701298701666,"W",1.9193526389962352,1.0632877744057772,0.99363054891228442,0.98895027624309395,1.7132271621322717,"AQT0415",15,1000,80,120,40,35.024025974025975,36.394805194805201,"NEK7","Carna",40,54.747159090909093,1.6278409090909116,"W",2.9733796896891747,7.5068502034794173,0.99178507267373972,0.9833454018826937,1.6197634574997237,"AQT0415",15,1000,76,96,20,42.495454545454542,45.1,"NEK7","Carna",40,36.348805147058819,1.5709252450980358,"W",4.321807109593939,4.3921889870017221,0.98716233554366295,0.96119085592769804,1.6116748089690591,"AQT0415",15,107.7,86,118,32,27.822303921568629,30.335784313725487]
["NEK8","NEK8","NEK8","NEK8","NEK8","Other","26_01",646.9,"NEK8","SC",106,0.19511149228130359,1.5723270440251569E-2,"VW",8.0586080586080584,10,0.52266941574972126,1.0389242745930645,1.0464104423495286,"AQT0386",50,646.9,36,54,18,0.44696969696969696,0.38030303030303031,"NEK8","SC",106,8.5763293310463118E-2,6.2673175880723048E-2,"VW",73.076923076923066,4.6099290780141837,8.6080838736377396E-2,1.035034272658035,1.0362374710871241,"AQT0386",50,1000,4,26,22,4.8951048951048945E-2,0.31468531468531469,"NEK8","SC",106,0.15058055152394773,6.2201948994401596E-3,"VW",4.1308089500860445,-52.678571428571431,0.34083127609412306,0.99674620390455526,0.99115044247787609,"AQT0386",50,1000,94,120,26,0.30604395604395607,0.33241758241758235,"NEK8","SC",106,0.23263293310463121,0.10184391080617501,"VW",43.778801843318,99.545454545454547,0.61634816753926691,1.0100853374709078,1.0161812297734629,"AQT0386",50,646.9,100,120,20,0.70909090909090911,0.27727272727272728]
["NEK9","NEK9","NEK9","NEK9","NEK9","Other","14_08",66.64,"NEK9","Carna",2,141.03878458498025,9.016798418972316,"M",6.3931339492928023,7.2266139657444013,0.95244065408966994,0.98668314113124655,1.0914127423822715,"AQT0415",15,66.64,26,70,44,5.2808794466403173,6.0022233201581026,"NEK9","Carna",2,444.34288537549406,3.4029150197628417,"S",0.76583087785622861,5.8430326306839842,0.99348364861564942,0.99475237782879633,1.1738977485928705,"AQT0415",15,1000,0,44,44,17.909832015810277,17.63759881422925,"NEK9","Carna",2,512.82779720279711,5.9003496503495345,"S",1.150551838752268,10.64372211599745,0.98923404920485303,1.0026298487836949,1.1206459054209921,"AQT0415",15,1000,4,26,22,20.74912587412587,20.277097902097907,"NEK9","Carna",2,142.58173076923077,5.7307692307692175,"M",4.0192871834642654,4.2663656884875838,0.94968560651377654,1.0063938618925832,1.1195197625792526,"AQT0415",15,66.64,42,90,48,5.9324999999999992,5.4740384615384619]
["NIM1 (NIM1K)","NIM1","NIM1","NIM1","NIM1","CAMK","15_12",20.11,"NIM1","Carna",3,349.17243083003956,8.3745059288537451,"S",2.3983869256075532,394.58428680396645,0.98022793047050616,0.89672567611752063,1.0028166230172455,"AQT0694",15,20.11,16,60,44,20.447875494071145,21.452816205533594,"NIM1","Carna",3,332.08837365591387,11.186155913978505,"S",3.3684274432229286,3.0738119312436805,0.99423267246644254,1.0082390636238803,1.3452247975425857,"AQT0694",15,1000,60,120,60,19.254133064516122,20.596471774193542,"NIM1","Carna",3,439.02165032679733,15.155228758169917,"S",3.4520458721998617,1.6615978043171873,0.98333961215599264,1.0120161080800207,1.1612444082960554,"AQT0694",15,1000,14,46,32,27.250612745098039,25.431985294117649,"NIM1","Carna",3,192.2073211875844,0.27243589743590019,"M",0.14174064533682193,1.6275204616011789,0.98488097573771116,0.99214110024596558,1.1559638860630721,"AQT0694",15,20.11,44,120,76,11.548785425101215,11.516093117408907]
["NLK (LAK1)","NLK","NLK","NLK","NLK","CMGC","13_12",204.2,"NLK","Carna",5,109.83846153846153,0.43846153846154745,"M",0.39918761818055309,1.0699412706887346,0.99643153929031847,0.98794679966749788,1.2748349229640499,"AQT0374",15,204.2,50,98,48,10.939999999999998,11.027692307692307,"NLK","Carna",5,167.69298245614033,1.9649122807017601,"M",1.1717319663127095,1.5573835955594602,0.99708087451100658,1.0126115041525685,1.3191283292978206,"AQT0374",15,1000,24,60,36,16.965789473684211,16.572807017543859,"NLK","Carna",5,177.31818181818178,1.0909090909090935,"M",0.61522686490643586,1.997245179063361,0.99529104370233745,1.0138025178219323,1.3179190751445087,"AQT0374",15,1000,36,56,20,17.84090909090909,17.622727272727271,"NLK","Carna",5,123.10439560439559,6.5934065934065869,"M",5.3559473331845524,1.1449709353531796,0.99449393392389884,0.99954093343534811,1.2594784834426491,"AQT0374",15,204.2,48,74,26,12.969780219780219,11.651098901098901]
["NTRK1 (TRKA)","NTRK1","TRKA","TRKA","NTRK1","TK","05_10",52.62,"NTRK1","Carna",2,1539.1911764705883,40.698529411764724,"VS",2.6441503845602647,1.8665266373878175,0.99724578112385387,0.99927304448967724,1.387811018957346,"AQT0104",15,52.62,20,50,30,63.195588235294117,59.939705882352939,"NTRK1","Carna",2,2123.6672794117649,17.058823529411704,"VS",0.80327194823742976,2.5087296308613234,0.99864862875236859,0.94340674658488988,1.5652786916063541,"AQT0104",15,1000,12,42,30,85.629044117647055,84.264338235294119,"NTRK1","Carna",2,1653.0812937062935,17.701048951049,"VS",1.0707911957168383,1.7656048906048907,0.99374559773986704,0.99717741935483872,1.8551382583574081,"AQT0104",15,1000,46,68,22,65.415209790209786,66.831293706293707,"NTRK1","Carna",2,1218.4163533834587,87.890037593985056,"VS",7.2134650318768658,80.193142361111114,0.99714801075679926,0.84347826086956523,1.1646302250803857,"AQT0104",15,52.62,14,52,38,52.252255639097747,45.221052631578942]
["NTRK2 (TRKB)","NTRK2","TRKB","TRKB","NTRK2","TK","05_11",36.01,"NTRK2","Carna",2,1063.5439560439561,22.101648351648336,"VS",2.0781132952754873,3.809612025617954,0.97810134894449641,0.98030152183188735,1.3935549722951297,"AQT0104",15,36.01,54,80,26,43.425824175824175,41.657692307692308,"NTRK2","Carna",2,1862.6983695652175,53.388586956521785,"VS",2.8661960427325388,0.82869080779944293,0.99832687737059411,1.009120900446342,1.8894064017441283,"AQT0104",15,1000,16,62,46,72.372391304347829,76.643478260869571,"NTRK2","Carna",2,3353.3516483516487,49.862637362637223,"VS",1.4869492552964845,2.109009970199772,0.99978506247388277,0.99489663523916616,2.3312762492500214,"AQT0104",15,1000,42,68,26,136.12857142857141,132.13956043956043,"NTRK2","Carna",2,879.43993506493496,46.038961038961013,"S",5.2350318882848601,1.1304398758273297,0.99419483477207959,1.0020861750782315,1.4715386527467065,"AQT0104",15,36.01,50,90,40,33.336038961038966,37.019155844155847]
["NTRK3 (TRKC)","NTRK3","TRKC","TRKC","NTRK3","TK","05_12",36.67,"NTRK3","Carna",2,1593.768527667984,20.083992094861536,"VS",1.2601574034247376,2.5096439251609177,0.99748936763532992,0.99884735715461881,1.6565936372030556,"AQT0104",15,36.67,20,64,44,62.947381422924892,64.554100790513814,"NTRK3","Carna",2,2564.8793859649118,4.473684210526585,"VS",0.17442084158057117,1.7285590421901229,0.99673081116475648,1.047843137254902,1.8530848200936907,"AQT0104",15,1000,4,40,36,102.41622807017544,102.77412280701756,"NTRK3","Carna",2,2753.6057692307691,34.353146853146832,"VS",1.2475695408912337,0.53850782190132374,0.99952290284422551,1.033279871692061,1.5576245596376448,"AQT0104",15,1000,2,24,22,108.77010489510489,111.51835664335664,"NTRK3","Carna",2,1360.3571428571427,30.284090909090981,"VS",2.2261867825007813,0.93532870122928902,0.99687034359000737,1.0214799228476241,1.6641228148016682,"AQT0104",15,36.67,30,70,40,53.202922077922075,55.625649350649354]
["NUAK1 (ARK5)","NUAK1","NuaK1","NuaK1","NUAK1","CAMK","22_04",42.8,"NUAK1","Carna",2,689.58603896103887,8.2467532467534355,"S",1.1958991018986351,2.2458187739593582,0.99750608625618442,0.9821571542948645,1.5099297650762895,"AQT0393",15,42.8,50,90,40,27.253571428571419,27.913311688311694,"NUAK1","Carna",2,573.62255799755792,20.657814407814396,"S",3.6012904513253714,6.8493267938611133,0.99913322640785218,1.0014956998628941,1.577935087484974,"AQT0393",15,1000,48,100,52,23.771214896214897,22.118589743589745,"NUAK1","Carna",2,1704.6212121212122,15.113636363636472,"VS",0.88662726101062794,0.71318427139552809,0.99770910485232633,0.99521171720965163,1.2449943332074045,"AQT0393",15,1000,2,20,18,67.580303030303028,68.789393939393946,"NUAK1","Carna",2,638.9697802197802,29.807692307692331,"S",4.6649611969817526,1.1772192173083043,0.99923335831973248,0.98624952693326606,1.2359432475039411,"AQT0393",15,42.8,14,40,26,24.366483516483516,26.751098901098903]
["NUAK2 (SNARK)","NUAK2","NuaK2","NuaK2","NUAK2","CAMK","22_05",22.59,"NUAK2","Carna",3,418.44255245958033,5.4394564843481295,"S",1.2999290947766495,1.6147244805781391,0.99818101020519112,0.96803503010399561,1.4008846467233149,"AQT0393",15,22.59,52,86,34,24.78018575851393,25.432920536635706,"NUAK2","Carna",3,570.97069597069617,1.4652014652014009,"S",0.25661587810744652,0.85382648042494591,0.99777157510376346,0.99178328411862882,1.5381227635562895,"AQT0393",15,1000,42,66,24,34.346153846153847,34.170329670329679,"NUAK2","Carna",3,1329.6611721611721,42.756410256410263,"VS",3.2155868842071924,1.5667248760703019,0.99755090211261943,0.98893537889353789,1.984854368932039,"AQT0393",15,1000,42,68,26,77.214285714285708,82.34505494505494,"NUAK2","Carna",3,312.10062582345188,4.2037220026350575,"S",1.3469123913301622,3.1741596120654227,0.99825152875442846,0.98824548379114086,1.3463401859368862,"AQT0393",15,22.59,36,80,44,18.473814229249012,18.978260869565219]
["MAPK14 (p38a)","MAPK14","p38a","p38a","P38A","CMGC","13_10",119.2,"P38A","Carna",2,315.90909090909093,1.5952797202797071,"S",0.5049806308799073,3.0469289164941338,0.99019106444087379,0.98926654740608233,1.329467939972715,"AQT0376",15,119.2,98,120,22,12.700174825174825,12.572552447552448,"P38A","Carna",2,485.55478309232473,8.9669076751945909,"S",1.8467344957632925,0.67644032921810704,0.99831545208494288,1.0107339715694807,1.599075500770416,"AQT0376",15,1000,42,100,58,19.780867630700776,19.063515016685209,"P38A","Carna",2,580.22727272727263,5.9090909090909518,"S",1.0184097140618955,0.53440009771887498,0.99648593872876634,0.98807495741056217,1.4498337866424902,"AQT0376",15,1000,50,70,20,23.445454545454545,22.972727272727269,"P38A","Carna",2,490.35714285714283,7.6648351648351811,"S",1.5631127794274224,2.5895879224198142,0.99685332371191304,0.89544597143627058,1.3804550007154099,"AQT0376",15,119.2,68,94,26,19.307692307692307,19.920879120879121]
["MAPK11 (p38b)","MAPK11","p38b","p38b","P38B","CMGC","13_07",103.3,"P38B","Carna",2,613.59375,10.386029411764719,"S",1.6926556718944286,2.8205487122060471,0.99734611016323738,0.98920223577235777,1.7275936990765888,"AQT0376",15,103.3,90,120,30,24.95919117647059,24.128308823529412,"P38B","Carna",2,708.59664198836595,3.4541909042834713,"S",0.4874692737169623,1.1611723448089819,0.99988581065047266,1.0153319440309616,2.0903461416322644,"AQT0376",15,1000,0,120,120,28.482033315705976,28.205698043363299,"P38B","Carna",2,842.15909090909111,17.873376623376647,"S",2.1223278138674195,0.55573011970993591,0.99918787376879803,0.98796216680997417,2.1894429055093876,"AQT0376",15,1000,80,120,40,32.971428571428568,34.4012987012987,"P38B","Carna",2,674.96294466403151,6.6143774703556693,"S",0.97996157013449559,1.3053832124055209,0.99897624369586591,0.98961111891057141,1.81465452917475,"AQT0376",15,103.3,60,104,44,26.733942687747039,27.263092885375492]
["MAPK13 (p38δ)","MAPK13","p38d","p38d","P38D","CMGC","13_09",23.41,"P38D","Carna",5,203.45054945054943,2.0934065934065944,"M",1.0289510640596311,2.5443010282213954,0.99564495916177043,0.98153034300791553,1.4381374127750939,"AQT0376",15,23.41,72,98,26,20.554395604395605,20.135714285714286,"P38D","Carna",5,262.66544117647061,3.9399509803921435,"M",1.4999883360160444,0.81630109670987028,0.99773470941191911,1.0048956083513318,1.8676470588235294,"AQT0376",15,1000,88,120,32,25.872549019607849,26.660539215686278,"P38D","Carna",5,289.63186813186809,2.3076923076922995,"M",0.7967674008309118,0.91880604348360162,0.99640397421000659,1.0041464112096081,1.8822636929145804,"AQT0376",15,1000,94,120,26,29.193956043956042,28.732417582417582,"P38D","Carna",5,173.63803475935833,0.86898395721926025,"M",0.50045714835667687,3.2484341624126571,0.99870739344390269,0.99058823529411766,1.4904775857017287,"AQT0376",15,23.41,44,108,64,17.450701871657756,17.276905080213904]
["MAPK12 (p38γ)","MAPK12","p38g","p38g","P38G","CMGC","13_08",20.57,"P38G","Carna",2,311.93181818181819,12.102272727272666,"S",3.8797814207650076,2.4524312896405918,0.96278869190225169,0.97614417217684424,1.2988601612454822,"AQT0376",15,20.57,100,120,20,12.961363636363634,11.993181818181821,"P38G","Carna",2,554.46271929824582,8.7390350877193157,"S",1.5761267229616178,1.8711041248848175,0.99763472003394071,1.0007347538574578,1.762765121759623,"AQT0376",15,1000,84,120,36,21.828947368421051,22.528070175438597,"P38G","Carna",2,553.50274725274733,0.1030219780218555,"S",1.8612731108055787E-2,0.47859117626559489,0.99190337206620627,0.99266324284666174,1.5186403508771931,"AQT0376",15,1000,62,86,24,22.144230769230763,22.135989010989015,"P38G","Carna",2,323.80514705882354,17.677696078431417,"S",5.4593622859305651,1.6190610859728509,0.98810794191246121,0.98866181410974241,1.3711524163568773,"AQT0376",15,20.57,88,120,32,12.245098039215685,13.659313725490199]
["RPS6KB1 (p70S6K)","RPS6KB1","p70S6K","p70S6K","P70S6KA","AGC","20_05",13.48,"P70S6KA","Carna",2,754.22149122807014,20.263157894736892,"S",2.6866322599404007,4.2352124356328718,0.99797761921959682,0.96081488410768112,1.2961154513888888,"AQT0231",15,13.48,22,58,36,29.358333333333334,30.979385964912286,"P70S6KA","Carna",2,1647.4471153846152,24.956730769230791,"VS",1.5148729531997365,3.5854058078927773,0.99849318698379985,1.0116291826659354,1.780813953488372,"AQT0231",15,1000,2,50,48,66.896153846153851,64.899615384615387,"P70S6KA","Carna",2,999.69093406593413,16.449175824175818,"S",1.645426127580639,6.2272864930345246,0.99902539978176874,1.0087591240875913,1.3868265752903102,"AQT0231",15,1000,2,26,24,40.645604395604394,39.329670329670328,"P70S6KA","Carna",2,623.99950592885375,27.346837944663967,"S",4.382509550862042,0.76770125575510118,0.99706466646827019,0.99545151985799862,1.4721709006928407,"AQT0231",15,13.48,46,90,44,23.86610671936759,26.053853754940707]
["RPS6KB2 (p70S6KB)","RPS6KB2","p70S6Kb","p70S6Kb","P70S6KB","AGC","20_06",13.19,"P70S6KB","SC",10,63.348567193675898,1.3364624505928855,"W",2.1096964142960202,5.8009765170890484,0.99265450090330354,0.9688935281837161,1.1225961538461537,"AQT0231",15,13.19,24,68,44,12.937005928853756,12.402420948616601,"P70S6KB","SC",10,254.38256113256111,5.8862612612612777,"M",2.3139405606479024,2.540992153489221,0.99921647510703382,1.0181217232733075,2.5417169037858693,"AQT0231",15,1000,50,120,70,49.699259974259974,52.053764478764485,"P70S6KB","SC",10,102.03737745098039,8.38848039215687,"M",8.2209878396637226,3.8214371114299381,0.99283122797333501,1.0044004400440043,1.7699530516431925,"AQT0231",15,1000,76,108,32,18.729779411764707,22.085171568627455,"P70S6KB","SC",10,73.28084415584415,2.5162337662337726,"W",3.4336855630136776,14.273861380270839,0.99183861543446761,1.0069444444444444,1.1904028436018956,"AQT0231",15,13.19,20,60,40,14.152922077922078,15.159415584415587]
["PAK1","PAK1","PAK1","PAK1","PAK1","STE","15_01",36.694133808115211,"PAK1","Carna",5,305.38699690402473,3.1269349845201151,"S",1.0239253852392511,0.52188261478539499,0.99255251749995066,0.95950014200511213,1.352679658952497,"AQT0838",15,36.694133808115211,86,120,34,30.851393188854487,30.226006191950464,"PAK1","Carna",5,676.77941176470574,10.029411764705927,"S",1.4819321614045831,3.4970373746581589,0.99831568025433604,0.99135039717563989,1.6934698779948163,"AQT0838",15,1000,72,102,30,68.680882352941182,66.674999999999997,"PAK1","Carna",5,679.42857142857133,3.2967032967050607E-2,"S",4.852170537623093E-3,0.4643019259451398,0.99896840790178276,0.99109881518012866,1.7011904004074099,"AQT0838",15,1000,74,100,26,67.946153846153848,67.939560439560438,"PAK1","Carna",5,290.09340659340654,8.3901098901098869,"M",2.8922097846468544,1.6316556371804993,0.97295109030949523,0.97783771106941841,1.2939780109945027,"AQT0838",15,36.694133808115211,72,98,26,28.170329670329672,29.848351648351649]
["PAK2","PAK2","PAK2","PAK2","PAK2","STE","15_02",33.94,"PAK2","Carna",3,193.15767973856208,2.7982026143790861,"M",1.4486623665010052,5.0153009180550834,0.90905437165681668,0.98069117476516299,1.1078015952143569,"AQT0838",15,33.94,82,114,32,11.757352941176471,11.421568627450981,"PAK2","Carna",3,707.64103887168915,2.7777777777777972,"S",0.39254051492079572,0.64571674558760228,0.99806031917055282,0.99211469534050178,1.4493809646633995,"AQT0838",15,1000,84,118,34,42.291795665634673,42.625128998968009,"PAK2","Carna",3,673.27067669172936,7.4780701754385479,"S",1.1107078377724349,0.84311395037884418,0.99593105969109896,0.98923690893699356,1.438045034491735,"AQT0838",15,1000,82,120,38,39.947556390977446,40.844924812030072,"PAK2","Carna",3,143.92857142857142,0.58982683982679396,"M",0.40980524851489408,3.8185797298317108,0.95678811551285747,0.97438036224976166,1.0800507453219157,"AQT0838",15,33.94,80,120,40,8.6003246753246785,8.6711038961038938]
["PAK3","PAK3","PAK3","PAK3","PAK3","STE","15_03",307.58454737027841,"PAK3","Carna",1,5345.0824175824164,160.90659340659349,"VS",3.0103669286239301,0.36723110574747325,0.99784774828969958,0.97281530743203826,1.9493734335839599,"AQT0838",15,307.58454737027841,60,86,26,110.11978021978022,103.68351648351648,"PAK3","Carna",1,3664.6875,140.94387755102031,"VS",3.8459998990642537,1.1105130939718453,0.99912259624756972,1.0081508213041315,1.9637851250754477,"AQT0838",15,1000,0,96,96,76.11262755102041,70.474872448979596,"PAK3","Carna",1,4546.022727272727,63.522727272727053,"VS",1.3973253343332037,1.3522490036059975,0.9950906076492968,1.0149047229733978,1.2478173704973163,"AQT0838",15,1000,0,20,20,92.190909090909088,89.65,"PAK3","Carna",1,4224.2980769230771,101.31730769230707,"VS",2.3984412521879905,0.6073860119661646,0.99771918074391253,1.0023904382470119,1.9546976560961198,"AQT0838",15,307.58454737027841,40,88,48,82.45961538461539,86.512307692307672]
["PAK4","PAK4","PAK4","PAK4","PAK4","STE","15_04",8.3550000000000004,"PAK4","SC",15,43.552136752136754,1.2834757834757848,"W",2.9469869429834921,4.6847160895499265,0.97310939557282383,0.99638084632516699,1.1180596837474734,"AQT0840",15,8.3550000000000004,40,90,50,12.68059829059829,13.450683760683761,"PAK4","SC",15,48.941056910569102,0.40722996515679455,"W",0.83208249037394799,2.0097432352042701,0.99333786518288825,0.98144865886801369,1.1941884280593957,"AQT0840",15,1000,40,120,80,14.560148083623693,14.804486062717769,"PAK4","SC",15,44.823913043478257,0.54347826086956397,"W",1.2124739318104634,6.8721620677610895,0.98157211392484978,0.99365248858041166,1.1824031600407747,"AQT0840",15,1000,70,116,46,13.284130434782607,13.610217391304346,"PAK4","SC",15,70.798290598290606,1.5737891737891729,"W",2.2229197350524328,3.8907038907038909,0.99142211585166895,0.99174850368992973,1.2410647803425168,"AQT0840",15,8.3550000000000004,50,100,50,21.711623931623929,20.767350427350426]
["PAK5 (PAK7)","PAK5","PAK5","PAK5","PAK5","STE","15_05",40.657011919353721,"PAK5","SC",8,218.89246323529412,2.1966911764705888,"M",1.0035481094245347,8.1750741839762604,0.99402559338638252,0.97994973776223782,1.0955757231990924,"AQT0840",15,40.657011919353721,0,30,30,34.671323529411765,35.374264705882354,"PAK5","SC",8,156.09331232492997,0.91561624649859608,"M",0.58658262347115375,2.5333274671124992,0.99638049665363981,0.98605519575237766,1.2032805359043386,"AQT0840",15,1000,0,68,68,25.12142857142857,24.828431372549019,"PAK5","SC",8,131.40264423076923,1.9170673076923324,"M",1.4589259743704852,3.6929479768786124,0.98333569657968634,0.98680769454291861,1.2697729540918163,"AQT0840",15,1000,60,108,48,20.717692307692307,21.331153846153853,"PAK5","SC",8,149.21477978543197,1.8677653867871236,"M",1.2517294797961267,6.0568519686458249,0.99147252288973953,0.978111936832327,1.1220515301802347,"AQT0840",15,40.657011919353721,8,50,42,23.575522303783174,24.173207227555054]
["PAK6","PAK6","PAK6","PAK6","PAK6","STE","15_06",7.5039999999999996,"PAK6","Carna",25,34.494130434782612,2.7928260869565196,"W",8.0965255588537364,106.83656957928802,0.98190884078664764,0.89372674109516215,1.0057959597096393,"AQT0840",15,7.5039999999999996,24,70,46,15.850652173913044,18.643478260869564,"PAK6","Carna",25,47.207307692307694,2.0261538461538389,"W",4.292034316720831,2.1901439162668992,0.99286441611430643,1.0026202398975195,1.2859280503772055,"AQT0840",15,1000,52,100,48,22.590576923076924,24.616730769230763,"PAK6","Carna",25,52.32965686274509,7.6642156862744768,"W",14.646027025128156,15.082171832743915,0.9858664620076738,0.99365652098003843,1.3000811536300643,"AQT0840",15,1000,72,104,32,22.332720588235293,29.9969362745098,"PAK6","Carna",25,43.039705882352941,0.48970588235294338,"W",1.1378002528445059,6.9521543748347874,0.97260046841575121,0.98707713514444895,1.2320716520458868,"AQT0840",15,7.5039999999999996,64,94,30,21.274999999999999,21.764705882352942]
["PASK","PASK","PASK","PASK","PASK","CAMK","12_07",24.39,"PASK","Carna",25,124.51748251748252,1.4947552447552468,"M",1.2004380545883426,10.612489120974761,0.99793845842176909,0.8481583563016788,1.1988319273199222,"AQT0694",15,24.39,0,22,22,61.511363636363633,63.00611888111888,"PASK","Carna",25,90.159821153253176,3.2216774591427608,"W",3.5732961955043931,1.084782352911084,0.99893022735762282,1.0249035426166258,2.5850428944423722,"AQT0694",15,1000,0,90,90,43.469071847055197,46.690749306197958,"PASK","Carna",25,123.10454545454546,0.43636363636364445,"M",0.35446590111878956,0.59707241910631736,0.99579407274839982,1.051998750780762,1.4610875936177141,"AQT0694",15,1000,0,20,20,61.334090909090911,61.770454545454555,"PASK","Carna",25,93.736363636363635,0.37272727272727474,"W",0.3976335951896055,2.0491136770206539,0.99668362793530085,1.0542979262308059,1.365359477124183,"AQT0694",15,24.39,0,20,20,46.68181818181818,47.054545454545455]
["PDGFRA (PDGFRα)","PDGFRA","PDGFRa","PDGFRa","PDGFRA","TK","06_01",95.132545471386976,"PDGFRA","Carna",2,1054.8807171089779,7.8698475437605877,"VS",0.74604146384709835,7.2802404207362894,0.97417182807323544,0.9573954157672937,1.062884910220097,"AQT0734",15,95.132545471386976,8,50,42,41.880434782608695,42.510022586109542,"PDGFRA","Carna",2,1271.2203557312253,4.3619424054207379,"VS",0.34313031456388871,1.4463566459172466,0.99254037140431273,0.98054805328801631,1.1675357340040486,"AQT0734",15,1000,20,62,42,50.674336533032182,51.023291925465841,"PDGFRA","Carna",2,2046.7371323529412,56.020220588235148,"VS",2.7370500931809434,1.7937561049867434,0.99425004385395888,0.9771633537587805,1.1382239842608877,"AQT0734",15,1000,2,34,32,84.110294117647044,79.628676470588232,"PDGFRA","Carna",2,1414.4454656862745,27.236519607843057,"VS",1.9255970108842744,10.877108044864036,0.97938459181500914,0.94640062597809071,1.0538311960026583,"AQT0734",15,95.132545471386976,6,38,32,57.667279411764703,55.488357843137258]
["PDGFRB (PDGFRβ)","PDGFRB","PDGFRb","PDGFRb","PDGFRB","TK","06_02",39.39,"PDGFRB","Carna",1,4578.1798245614027,33.421052631578966,"VS",0.73000742461619583,0.71344765877765803,0.99810945692864905,0.98636528591425165,1.4805236961696604,"AQT0101",15,39.39,14,50,36,90.895175438596496,92.232017543859655,"PDGFRB","Carna",1,4865.551948051947,19.172077922078046,"VS",0.39403706150448348,1.2492786094985913,0.99929116910669125,1.0122979620520027,1.5989386360863729,"AQT0101",15,1000,10,50,40,97.694480519480521,96.927597402597399,"PDGFRB","Carna",1,6526.136363636364,275.98484848484827,"VS",4.2289163619478751,5.5062334718549302,0.99913378079485904,1.0060517038777907,1.3195509144685218,"AQT0101",15,1000,2,20,18,136.04242424242423,125.0030303030303,"PDGFRB","Carna",1,3536.8131868131868,37.664835164834891,"VS",1.0649370824918363,3.0522163786626595,0.99935304052250473,0.98908676294928877,1.2998929758350701,"AQT0101",15,39.39,16,42,26,71.489560439560435,69.982967032967039]
["PDK1 (PDHK1)","PDK1","PDHK1","PDHK1","PDHK1","Atypical","27_10",12.17,"PDHK1","SC",10,26.285820158102766,0.77445652173913526,"VW",2.9462901179456038,38.449784692318381,0.92928731357249095,0.96085774690425851,1.0193424792979855,"AQT0895",15,12.17,76,120,44,5.4120553359683807,5.1022727272727266,"PDHK1","SC",10,122.10811444652907,3.4854596622889296,"M",2.8544046217462529,8.1188553370786511,0.99834763701395612,1.0033749082905357,1.4241566758507709,"AQT0895",15,1000,42,120,78,25.118714821763604,23.724530956848032,"PDHK1","SC",10,170.46689723320156,4.2724802371541406,"M",2.5063401202811337,0.64394238538129267,0.99344465459978626,0.99244804865686775,1.3686135146271117,"AQT0895",15,12.17,76,120,44,33.238883399209492,34.947875494071148,"PDHK1","SC",10,24.661690283400802,9.1346153846152398E-2,"VW",0.37039697115827996,6.4242737918095356,0.97561328702111327,1.0148279952550414,1.1036526893906373,"AQT0895",15,12.17,44,120,76,4.9140688259109311,4.950607287449392]
["PDK2 (PDHK2)","PDK2","PDHK2","PDHK2","PDHK2","Atypical","26_06",42.21,"PDHK2","SC",20,56.643382352941174,5.7253151260504804,"W",10.107650511363216,2.8324005891016197,0.99795229224931037,0.997320341047503,1.6130704082922513,"AQT0896",15,42.21,52,120,68,20.367226890756307,24.947478991596636,"PDHK2","SC",20,51.066526610644246,2.9810924369747922,"W",5.8376643857219319,1.0136440097190207,0.99629879125427356,0.99836300388786581,1.9788687299893275,"AQT0896",15,1000,50,118,68,19.234173669467786,21.61904761904762,"PDHK2","SC",20,36.651785714285701,0.66314935064935454,"W",1.8093234414793602,3.9430266702993975,0.99666948392454924,0.99417088510507745,1.5107142857142857,"AQT0896",15,1000,76,116,40,14.395454545454543,14.925974025974027,"PDHK2","SC",20,34.507868937048499,0.82301341589267274,"W",2.3850021494925331,0.67497403946002077,0.9964760100063379,1.0306122448979591,1.5611133521581282,"AQT0896",15,42.21,76,110,34,13.473942208462333,14.132352941176471]
["PDK3 (PDHK3)","PDK3","PDHK3","PDHK3","PDHK3","Atypical","26_07",22.54,"PDHK3","SC",10,48.342741935483865,1.0866935483870985,"W",2.247893902744186,1.1992444320794222,0.99110705643103469,0.99779924196111991,1.2784730122614081,"AQT0896",15,22.54,60,120,60,9.4512096774193548,9.8858870967741943,"PDHK3","SC",10,115.41360294117646,0.93198529411765196,"M",0.80751771920045023,3.7589401820546167,0.99747946892373573,1.0104483282674772,1.3037724669168478,"AQT0896",15,1000,4,34,30,22.896323529411763,23.269117647058824,"PDHK3","SC",10,41.182009167303292,2.7310924369752243E-2,"W",6.631761033999263E-2,5.6169630642954855,0.99402073158405424,0.99428743235117256,1.1690783265177729,"AQT0896",15,1000,0,66,66,8.2418640183346064,8.2309396485867055,"PDHK3","SC",10,92.987895256916985,0.47183794466404189,"W",0.50741867353852577,3.6382266130388903,0.99840558970644966,1.0021295474711625,1.5218428781204112,"AQT0896",15,22.54,36,80,44,18.50321146245059,18.691946640316207]
["PDK4 (PDHK4)","PDK4","PDHK4","PDHK4","PDHK4","Atypical","26_08",160.6,"PDHK4","SC",4,80.761765054528212,1.4928579895685021,"W",1.8484712271463655,11.94061013803503,0.98782944165464592,1.0122018857459789,1.1676500215858396,"AQT0872",15,160.6,22,94,72,6.5803698435277385,6.3415125651967781,"PDHK4","SC",4,156.09144088669953,1.0560344827586274,"M",0.67654861583676462,6.8375012016094692,0.99715571268913639,1.002467105263158,1.435861829543482,"AQT0872",15,1000,50,106,56,12.57179802955665,12.402832512315269,"PDHK4","SC",4,75.42590311986865,0.41649562123700634,"W",0.5521917590765888,1.2142857142857144,0.98472060244023463,0.97786774628879891,1.1363179796240495,"AQT0872",15,1000,46,100,54,6.0673918992884506,6.0007525998905296,"PDHK4","SC",4,76.371460746460741,0.33864221364220959,"W",0.44341460845752279,8.7499012872147208,0.9911576859338681,1.0306242638398115,1.2172301991662806,"AQT0872",15,160.6,36,106,70,6.0826254826254829,6.1368082368082364]
["PDPK1 (PDK1)","PDPK1","PDK1","PDK1","PDK1","AGC","21_02",10.029999999999999,"PDK1","SC",4,480.56318681318692,2.7644230769230389,"S",0.57524653422894723,2.1062271062271058,0.99921855318984665,1.010919414719371,1.4610107477704095,"AQT0126",15,10.029999999999999,2,26,24,38.223901098901102,38.666208791208788,"PDK1","SC",4,514.44024725274721,15.350274725274771,"S",2.9838790427555915,3.9433623124610246,0.99896076140057966,1.0269058295964126,1.4501932159725204,"AQT0126",15,1000,0,24,24,42.383241758241766,39.927197802197803,"PDK1","SC",4,300.34090909090907,6.4935064935065068,"S",2.1620452948489315,2.959736188576314,0.9991620162672995,1.0160224644862901,1.6147512263489838,"AQT0126",15,1000,32,72,40,24.546753246753248,23.507792207792207,"PDK1","SC",4,396.29120879120882,9.2548076923077076,"S",2.3353552859618754,1.1823361823361822,0.99799149598859027,1.0213164675568049,1.3916827852998066,"AQT0126",15,10.029999999999999,0,24,24,32.443681318681321,30.962912087912088]
["EIF2AK3 (PERK/PEK)","EIF2AK3","PEK","PEK","PEK","Other","23_09",17.89,"PEK","Carna",10,61.07295482295482,4.8496642246642265,"W",7.9407722104210956,10.287791128912623,0.98567125247813203,0.98359218436873752,1.1939911939911938,"AQT0356",15,17.89,18,70,52,11.244658119658119,13.18452380952381,"PEK","Carna",10,96.956730769230788,3.9846153846153856,"W",4.1096841374522732,1.7804154302670623,0.99494754281909681,1.0155876545775746,1.3028873160319066,"AQT0356",15,1000,20,68,48,18.594423076923075,20.18826923076923,"PEK","Carna",10,89.514097744360896,2.9107142857142865,"W",3.2516825383492756,1.8109222050489437,0.9722369852863465,0.98351582956438943,1.1217385850476669,"AQT0356",15,1000,32,70,38,18.484962406015036,17.320676691729322,"PEK","Carna",10,45.972278225806456,0.34274193548387449,"W",0.74554046201581747,12.5362046474607,0.98932799701148089,1.0123289527164341,1.2041987403778867,"AQT0356",15,17.89,20,80,60,9.1259072580645153,9.2630040322580651]
["PRKG1 (PKG1, PGK)","PRKG1","PKG1","PKG1","PGK","AGC","28_01",19.3,"PGK","Carna",1,3400.2941176470586,15.25735294117645,"VS",0.44870685926822879,3.7459181110273798,0.99324996818177202,0.96192395990816959,1.2240923163523783,"AQT0452",15,19.3,8,38,30,68.311029411764707,67.700735294117649,"PGK","Carna",1,2115.0601295097126,84.688559975331046,"VS",4.0040733969564499,1.0154270875752978,0.99808564194493443,1.0155994327479001,1.9475564776394652,"AQT0452",15,1000,0,90,90,43.994973789700886,40.607431390687644,"PGK","Carna",1,6532.4648217636022,106.53963414634119,"VS",1.6309254937185891,1.6220170583431628,0.99586213512766619,1.0623902153405764,2.4905328644847176,"AQT0452",15,1000,0,78,78,132.78008911819887,128.51850375234523,"PGK","Carna",1,1351.9230769230769,29.052197802197629,"VS",2.1489534647429256,5.7910484976935548,0.99661121196003888,0.99081994575422494,1.1324318523288259,"AQT0452",15,19.3,2,26,24,27.619505494505489,26.457417582417584]
["PRKG2 (PKG2, PGK2, CGK2)","PRKG2","PKG2","PKG2","PGK2","AGC","28_02",35.630000000000003,"PGK2","Carna",2,2074.2647058823532,64.506740196078198,"VS",3.1098605695379771,3.7487181877505362,0.99884961245277204,0.96905518964342496,1.2921634448431532,"AQT0452",15,35.630000000000003,4,36,32,80.390318627450995,85.550857843137251,"PGK2","Carna",2,1326.7325428194993,0.69087615283267556,"VS",5.2073506191719958E-2,0.62167877373478397,0.9939723895441005,1.0140427866154691,2.193620527306968,"AQT0452",15,1000,0,88,88,53.096936758893278,53.041666666666664,"PGK2","Carna",2,3046.1705139372816,39.088632404181574,"VS",1.2832056585584288,1.5769852376659697,0.99065217214466994,1.0264228998465337,2.4799944040290991,"AQT0452",15,1000,0,80,80,120.28327526132404,123.41036585365856,"PGK2","Carna",2,446.27634099616864,0.43445539135196221,"S",9.7351204050427603E-2,1.1305743596901388,0.99507246996509069,0.9983376623376623,1.4568686530521147,"AQT0452",15,35.630000000000003,66,120,54,17.86843185550082,17.833675424192663]
["PHKG1","PHKG1","PHKg1","PHKg1","PHKG1","CAMK","30_03",157.80000000000001,"PHKG1","Carna",3,296.19329945416905,0.90579710144928294,"M",0.30581282666370374,15.890633459664322,0.98652101396746139,0.96462478865912338,1.1268282634072651,"AQT0426",15,157.80000000000001,44,86,42,17.825945793337098,17.717250141163184,"PHKG1","Carna",3,266.62628119429593,9.0157085561497325,"M",3.3814028068672659,4.8306407927859025,0.98941508202082495,0.99752709670630324,1.113113291703836,"AQT0426",15,1000,2,66,64,15.456634358288767,16.538519385026735,"PHKG1","Carna",3,222.86538461538461,0.76602564102564352,"M",0.34371674288837228,7.7901785714285712,0.98972558133373678,0.96666376534076071,1.0895104895104895,"AQT0426",15,1000,2,50,48,13.325961538461538,13.417884615384615,"PHKG1","Carna",3,268.28208556149735,7.5353721033868544,"M",2.8087496366430131,4.1794170480497561,0.98236866252588551,0.9971812144665807,1.1693145710394917,"AQT0426",15,157.80000000000001,56,120,64,15.644802807486631,16.549047459893053]
["PHKG2","PHKG2","PHKg2","PHKg2","PHKG2","CAMK","30_04",15.12,"PHKG2","Carna",5,192.37307551319648,4.5949413489736015,"M",2.3885574094584747,5.3813559322033893,0.98683514266438288,0.9813002008032129,1.1557447370157725,"AQT0426",15,15.12,18,80,62,18.777813416422287,19.696801686217007,"PHKG2","Carna",5,179.53427419354838,0.83568548387093589,"M",0.46547406484068793,7.3781561447595596,0.99311663357198154,0.98294800711371477,1.1115643845335226,"AQT0426",15,1000,0,60,60,18.036995967741934,17.869858870967747,"PHKG2","Carna",5,157.70760869565217,7.8771739130434852,"M",4.9947963691752122,12.916666666666668,0.98865668931270467,0.98667866786678671,1.1342770896221506,"AQT0426",15,1000,4,50,46,14.983043478260869,16.558478260869567,"PHKG2","Carna",5,177.33038101604274,1.3101604278075205,"M",0.73882457157129378,3.3243138770776963,0.98833898763596328,0.9908898802535806,1.1278983536856677,"AQT0426",15,15.12,26,90,64,17.602022058823525,17.86405414438503]
["PIM1","PIM1","PIM1","PIM1","PIM1","CAMK","16_03",28.95,"PIM1","Carna",1,2845.3247863247852,101.6666666666664,"VS",3.5731128887393551,4.0834446452423983,0.99845471388650175,0.98180642777983007,1.9571763785686351,"AQT0474",15,28.95,40,90,50,54.873162393162403,58.939829059829059,"PIM1","Carna",1,4044.8705073995761,2.4445031712467364,"VS",6.0434645973828548E-2,0.83434820194728565,0.99930654011299358,1.0200729927007299,2.6764021410286247,"AQT0474",15,1000,0,86,86,80.946300211416485,80.848520084566616,"PIM1","Carna",1,5866.818181818182,74.318181818182069,"VS",1.2667544743162669,1.6874605733510899,0.98822066643045781,1.0394655065257925,1.5523850085178876,"AQT0474",15,1000,0,20,20,118.82272727272728,115.85,"PIM1","Carna",1,2052.1853146853146,86.800699300699321,"VS",4.2296715934744658,6.7334254143646408,0.99780643998987262,0.97125236247886204,1.4584212747994934,"AQT0474",15,28.95,38,60,22,39.307692307692307,42.77972027972028]
["PIM2","PIM2","PIM2","PIM2","PIM2","CAMK","16_04",9.7940000000000005,"PIM2","Carna",5,217.2875939849624,12.843984962406017,"M",5.911053055010079,4.4523948598130838,0.99601800694141984,0.977912406916572,1.4628903609571449,"AQT0230",15,9.7940000000000005,50,88,38,20.444360902255639,23.013157894736842,"PIM2","Carna",5,295.30541871921184,12.309113300492649,"M",4.1682653010159099,3.6024438480744574,0.99738806394799406,1.0011661052086032,1.9406683659020108,"AQT0230",15,1000,64,120,56,28.299630541871913,30.761453201970443,"PIM2","Carna",5,353.51398601398597,8.7762237762237643,"S",2.4825676277137601,2.9703295260601288,0.99528590780119297,0.98187427689934437,1.7069469580955032,"AQT0230",15,1000,66,88,22,34.473776223776227,36.22902097902098,"PIM2","Carna",5,267.54120879120887,9.6291208791208387,"M",3.5991169071212039,5.5228094506909704,0.9907243909829514,0.99346405228758172,1.4486494294381047,"AQT0230",15,9.7940000000000005,42,66,24,25.791208791208796,27.717032967032964]
["PIM3","PIM3","PIM3","PIM3","PIM3","CAMK","16_05",16.600000000000001,"PIM3","Carna",1,1626.9830827067667,70.375939849624274,"VS",4.3255483475920213,35.967213114754095,0.99598941185738632,0.69669584863033041,1.0297997068881291,"AQT0474",15,16.600000000000001,22,60,38,31.132142857142856,33.947180451127828,"PIM3","Carna",1,2321.416330645161,62.595766129032164,"VS",2.6964472207204531,2.408877812732241,0.99870666322730262,1.013667711598746,1.7709668803418803,"AQT0474",15,1000,0,60,60,45.176411290322584,47.68024193548387,"PIM3","Carna",1,2135.48076923077,0.50000000000007816,"VS",2.3413931289120678E-2,0.42317965393101847,0.99771963323522994,0.96975706494794245,2.1606685537134385,"AQT0474",15,1000,64,112,48,42.699615384615385,42.719615384615388,"PIM3","Carna",1,978.3552631578948,57.872807017543778,"S",5.9153161634501066,4.6858668210397676,0.98787653751556315,0.98543978995106818,1.4163592418267397,"AQT0474",15,16.600000000000001,54,90,36,18.409649122807018,20.724561403508769]
["PINK1 (PINK)","PINK1","PINK1","PINK1","PINK","Other","21_09",20.59,"PINK","Boston Biochem",8,77.450980392156865,0.50954592363261486,"W",0.65789473684211031,-17.657314946901252,0.98101844363113166,0.84732302963026218,0.93885205861828336,"AQT0686",15,20.59,6,40,34,12.31062951496388,12.473684210526317,"PINK","Boston Biochem",8,105.53311965811966,0.85737179487178605,"M",0.81241964385141752,2.3666880087807556,0.9952372418241755,0.99841269841269842,1.1855897605649344,"AQT0686",15,1000,0,50,50,16.748119658119659,17.022478632478631,"PINK","Boston Biochem",8,76.645698051948045,2.9058441558441777,"W",3.7912684334542659,4.1348305935015821,0.99064053617039338,1.0028574452322998,1.2790276992651215,"AQT0686",15,1000,60,100,40,12.728246753246756,11.798376623376619,"PINK","Boston Biochem",8,40.835979278074866,2.6800635026737987,"W",6.5629955496444872,4.6041619825626423,0.96271365231538431,1.0004841208365609,1.1205885276866487,"AQT0686",15,20.59,26,90,64,6.1049465240641707,6.9625668449197864]
["PRKACA (PKACA, PKACα)","PRKACA","PKACa","PKACa","PKACA","AGC","20_07",14.57,"PKACA","Carna",1.5,2738.8403263403261,60.198135198135112,"VS",2.1979424875261948,0.94681886558711614,0.99839171705895235,1.0156778069846037,1.3627347135291286,"AQT0458",15,14.57,0,22,22,80.359265734265733,83.97115384615384,"PKACA","Carna",1.5,2983.3450594121323,81.698717948718055,"VS",2.7384937485178726,1.0689080572436778,0.99766214898452987,1.0511381035010718,2.6735564304461938,"AQT0458",15,1000,0,78,78,87.049390243902437,91.95131332082552,"PKACA","Carna",1.5,2324.7727272727275,45.909090909090835,"VS",1.9747775931176035,0.81992104464014581,0.98733194087272835,1.0703165098374678,1.5820077765995051,"AQT0458",15,1000,0,20,20,68.365909090909085,71.120454545454535,"PKACA","Carna",1.5,2469.9242424242425,45.303030303030305,"VS",1.8341870380026377,5.403994615236682,0.9971532468656229,1.0292019404546751,1.3233655819407799,"AQT0458",15,14.57,0,20,20,72.73863636363636,75.456818181818178]
["PRKACB (PKACB, PKACβ)","PRKACB","PKACb","PKACb","PKACB","AGC","20_08",13.12,"PKACB","Carna",1.5,2271.5931372549016,36.69117647058826,"VS",1.6152177900540576,1.2044192224100458,0.99878034878393485,0.99299081797154276,1.3005297917120255,"AQT0458",15,13.12,2,32,30,69.248529411764707,67.047058823529412,"PKACB","Carna",1.5,3368.524514338576,30.603350806865848,"VS",0.90850907204619058,0.32498503358397973,0.9984676676467773,1.0821204819277108,3.0135066517721132,"AQT0458",15,1000,0,90,90,100.13763490595129,101.97383595436324,"PKACB","Carna",1.5,2272.19696969697,95.454545454545567,"VS",4.2009802287200397,5.6914672525384482,0.99339182011373273,1.0493710691823899,1.4966747769667479,"AQT0458",15,1000,0,20,20,71.029545454545456,65.302272727272722,"PKACB","Carna",1.5,2086.9345238095239,26.755952380952408,"VS",1.2820695654654111,4.2662331798067372,0.99848627698180525,1.0203428758920514,1.3129292072912251,"AQT0458",15,13.12,0,28,28,63.410714285714285,61.80535714285714]
["PRKACG (PKACG, PKACg)","PRKACG","PKACg","PKACg","PKACG","AGC","20_09",12.31,"PKACG","SC",5,265.86607142857144,6.8928571428571486,"M",2.5926050307284165,1.9671474358974359,0.99725196211420164,1.0009372071227742,1.1813031161473089,"AQT0231",15,12.31,6,34,28,27.27589285714286,25.897321428571431,"PKACG","SC",5,434.14285714285711,2.5624999999999782,"S",0.59024350115168966,2.6944598167619747,0.99918800043809575,1.0320541760722348,1.6488330341113104,"AQT0231",15,1000,40,68,28,43.670535714285712,43.158035714285717,"PKACG","SC",5,230.50824175824175,5.357142857142918,"M",2.3240569691913739,0.61640808541322589,0.998150319115225,1.011094674556213,1.6535573122529645,"AQT0231",15,1000,58,82,24,22.515109890109883,23.586538461538467,"PKACG","SC",5,146.25974025974023,2.9285714285714439,"M",2.002308648552666,1.6832110487699614,0.99028207108379585,0.98641784452296821,1.1134209023415191,"AQT0231",15,12.31,2,42,40,14.91883116883117,14.333116883116881]
["PRKCA (PKCα [alpha])","PRKCA","PKCa","PKCa","PKCA","AGC","31_01",21.85,"PKCA","Carna",1,2526.7857142857138,46.26373626373627,"VS",1.8309323185648281,2.6260083528805995,0.99624462651565837,0.96454360303647468,1.4493431707755984,"AQT0462",15,21.85,34,60,26,49.610439560439559,51.46098901098901,"PKCA","Carna",1,2404.1586229086229,49.335585585585477,"VS",2.052093614600929,1.4540410507119854,0.99678649365983463,0.98238962944845298,2.0533349681216282,"AQT0462",15,1000,20,90,70,47.09646074646075,49.069884169884169,"PKCA","Carna",1,4274.0348139255702,121.87575030011998,"VS",2.8515385486104834,1.7824385114213941,0.9990182863898629,0.97994359135067377,2.7865567268552343,"AQT0462",15,1000,2,100,98,83.043181272509017,87.918211284513816,"PKCA","Carna",1,1456.9117647058822,59.450280112044567,"VS",4.0805683331170188,4.3003813435024938,0.99901037295720818,0.95290423861852436,1.5032724767481915,"AQT0462",15,21.85,22,90,68,27.949229691876752,30.327240896358536]
["PRKCB1 (PKCβ1 [beta1])","PRKCB1","PKCb","PKCb","PKCB1","AGC","31_02",11.81,"PKCB1","Carna",1,2029.589160839161,7.0367132867133355,"VS",0.34670629024269678,1.0452586206896552,0.99494205878146103,0.91634767995518629,1.2109474449899982,"AQT0462",15,11.81,26,48,22,40.732517482517487,40.451048951048953,"PKCB1","Carna",1,2046.0400444938819,123.69299221357026,"VS",6.0454824697317955,7.2288835598188124,0.99498454136314973,0.96516587677725119,1.9104803493449782,"AQT0462",15,1000,40,98,58,38.446941045606238,43.394660734149049,"PKCB1","Carna",1,3287.8907946157183,0.44100086843243946,"VS",1.341288065755185E-2,0.75818011447095179,0.99860157578710396,0.99126001456664237,2.3739039665970774,"AQT0462",15,1000,6,100,94,65.74899587494572,65.766635909683018,"PKCB1","Carna",1,1021.1189516129032,16.068548387096726,"VS",1.5736216002764158,1.3296454278858971,0.9965070502961263,0.99008059516429014,1.4596391263057931,"AQT0462",15,11.81,50,110,60,20.10100806451613,20.743749999999999]
["PRKCB2 (PKCβ2 [beta2])","PRKCB2","PKCb","PKCb","PKCB2","AGC","31_03",19.09,"PKCB2","Carna",1,2059.0073529411766,21.268382352941195,"VS",1.0329434871886447,3.1345809913132343,0.99535990909086869,0.97820660522273428,1.365350508727714,"AQT0462",15,19.09,28,58,30,40.754779411764709,41.605514705882356,"PKCB2","Carna",1,2441.9368315508027,125.23395721925128,"VS",5.1284683371485436,3.3786878072112594,0.99538856934941466,0.9812025685931115,2.0676467073024982,"AQT0462",15,1000,30,94,64,46.334057486631018,51.34341577540107,"PKCB2","Carna",1,3396.9952431289639,25.638653981677706,"VS",0.75474506576176437,0.51100686465362033,0.99804803281981225,0.98955255382017726,2.3282720273738238,"AQT0462",15,1000,4,90,86,67.427131782945722,68.45267794221283,"PKCB2","Carna",1,1107.6996991978606,43.670621657753991,"VS",3.9424603698437419,4.4641979787901462,0.99659159370852857,0.98558100084817646,1.4669228977405078,"AQT0462",15,19.09,40,104,64,21.28058155080214,23.027406417112299]
["PRKCD (PKCδ [delta])","PRKCD","PKCd","PKCd","PKCD","AGC","31_04",29.09,"PKCD","Carna",1,1420.6766917293232,3.3552631578947607,"VS",0.23617359089706441,1.2440476190476191,0.99521145152482426,0.98915207006369432,1.2431024503183483,"AQT0462",15,29.09,12,50,38,28.346428571428572,28.480639097744362,"PKCD","Carna",1,1898.1062291434928,81.220800889877509,"VS",4.2790440093823321,5.118863619636417,0.99709978086405426,0.99461736484905217,1.537439183576599,"AQT0462",15,1000,2,60,58,36.337708565072305,39.586540600667405,"PKCD","Carna",1,2940.1136363636365,22.954545454545357,"VS",0.78073667529857049,3.1344205135655399,0.99712781895394509,1.0120158781246646,1.2688506981740064,"AQT0462",15,1000,2,22,20,58.343181818181819,59.261363636363633,"PKCD","Carna",1,720.26495726495716,52.23076923076917,"S",7.2516049412015917,11.638822839143995,0.99667947128519807,0.98559670781893005,1.292473875777856,"AQT0462",15,29.09,50,100,50,13.360683760683763,15.44991452991453]
["PRKCE (PKCe [epsilon])","PRKCE","PKCe","PKCe","PKCE","AGC","31_05",11.37,"PKCE","Carna",3,397.63781638781637,1.1105748605748051,"S",0.27929306891969774,0.67180800133216778,0.99629953548481331,0.98715906828588496,1.5109600842347086,"AQT0462",15,11.37,50,120,70,23.791634491634497,23.924903474903473,"PKCE","Carna",3,854.56857956857959,0.22385022385028228,"S",2.6194530105856553E-2,1.2134839249121623,0.99592495768941458,0.99176334106728536,2.0235871647509578,"AQT0462",15,1000,50,102,52,51.287545787545788,51.260683760683754,"PKCE","Carna",3,1546.4743589743593,5.4258241758242081,"VS",0.35085122131754459,0.7891090898138664,0.99860042211672462,1.0021447721179624,2.5451545484545157,"AQT0462",15,1000,68,92,24,92.462912087912088,93.114010989010993,"PKCE","Carna",3,284.1111111111112,9.5227920227920038,"M",3.3517844429068444,1.7961508943857372,0.99565143525004074,0.95897557505335551,1.297896662094193,"AQT0462",15,11.37,50,100,50,16.475299145299147,17.618034188034187]
["PRKCG (PKCγ [gamma])","PRKCG","PKCg","PKCg","PKCG","AGC","31_06",65.13,"PKCG","Carna",2,186.53477822580643,12.001008064516126,"M",6.4336571328208372,3.1008941093969145,0.96144957703434308,0.99613825062753425,1.1376472788479521,"AQT0462",15,65.13,60,120,60,6.981350806451613,7.9414314516129032,"PKCG","Carna",2,514.90384615384619,65.247252747253071,"S",12.671735360811054,19.959916668864221,0.98936041226107529,0.95669066392412294,1.3441887905604719,"AQT0462",15,1000,96,120,24,17.986263736263741,23.206043956043956,"PKCG","Carna",2,497.70292207792204,3.66071428571435,"S",0.73552195965231171,10.819365421087703,0.98796648126532993,1.00849580655702,1.4131183991106169,"AQT0462",15,1000,80,120,40,19.76168831168831,20.054545454545458,"PKCG","Carna",2,132.13961693548387,5.7636088709677509,"M",4.3617569088169734,27.897635512857672,0.95890945471323097,0.9888754534461911,1.0901724736659335,"AQT0462",15,65.13,60,120,60,5.0550403225806448,5.5161290322580649]
["PRKCH (PKCη [eta])","PRKCH","PKCh","PKCh","PKCH","AGC","31_07",18.829999999999998,"PKCH","Carna",3,434.17948717948718,19.014245014244995,"S",4.3793512995662605,1.2208089373443705,0.99620812502860989,0.99215023847376793,1.5513216284005402,"AQT0462",15,18.829999999999998,70,120,50,24.909914529914531,27.19162393162393,"PKCH","Carna",3,740.97293447293453,3.5071225071225363,"S",0.47331317298616399,1.2915613763370739,0.99805817636616778,0.97257709251101321,1.9648943421949556,"AQT0462",15,1000,70,120,50,44.247948717948717,44.668803418803421,"PKCH","Carna",3,1006.7167919799499,7.2055137844688019E-2,"VS",7.1574387572272751E-3,2.2543034003222253,0.99775716792581393,1.0023369449755684,2.2710713515843932,"AQT0462",15,1000,78,116,38,60.407330827067668,60.398684210526305,"PKCH","Carna",3,311.93149987267634,6.7042271454035953,"S",2.1492626259740089,0.93988225824271221,0.99584112539102954,0.9859976662777129,1.4190465482347649,"AQT0462",15,18.829999999999998,54,120,66,18.313636363636363,19.118143621084794]
["PRKCI (PKCι [iota])","PRKCI","PKCi","PKCi","PKCI","AGC","31_08",22.81,"PKCI","Carna",3,444.15349143610013,20.480425371729744,"S",4.6111143482199202,4.3882110328235084,0.99787121668526979,0.98419911184550246,1.5311244979919678,"AQT0462",15,22.81,78,120,42,27.878035008469791,25.420383963862221,"PKCI","Carna",3,503.86676701331874,3.2589855865717907,"S",0.64679510535880325,2.7957216986127289,0.99719565498746832,1.0102017157431022,1.6430699559051365,"AQT0462",15,1000,60,114,54,30.036466885604817,30.427545155993432,"PKCI","Carna",3,692.44071146245062,3.3020421607378836,"S",0.47687002021644498,2.1704322121486368,0.99720285984374513,0.99596378313515876,1.9094880699003025,"AQT0462",15,1000,76,120,44,41.348320158102759,41.744565217391305,"PKCI","Carna",3,246.40318627450984,3.3333333333333366,"M",1.3527963593862693,2.2826086956521738,0.98450415884626119,0.98300855513307983,1.3202599210953818,"AQT0462",15,22.81,90,120,30,14.984191176470588,14.584191176470588]
["PRKCQ (PKCᶿ [theta])","PRKCQ","PKCt","PKCt","PKCQ","AGC","31_09",16.170000000000002,"PKCQ","Carna",0.75,5116.060606060606,39.191919191919069,"VS",0.7660565855199486,0.55841293166789119,0.99637917564877887,0.99137085703079031,1.4014354537410285,"AQT0462",15,16.170000000000002,10,28,18,77.328787878787878,76.153030303030306,"PKCQ","Carna",0.75,4883.8289875499177,281.57975099835534,"VS",5.7655530469263239,4.5486264139856027,0.99609747914928426,1.0201859832161488,2.5993890977443606,"AQT0462",15,1000,0,86,86,69.033738548273433,77.481131078224095,"PKCQ","Carna",0.75,6280.0174735327382,55.004625346900099,"VS",0.87586739334274499,0.41937181547640123,0.99700765827163074,1.0618153364632237,3.1038026721479959,"AQT0462",15,1000,0,90,90,93.37519272278756,95.025331483194563,"PKCQ","Carna",0.75,3115.369565217391,79.644927536232288,"VS",2.5565161971618173,0.80276069127123606,0.99883384133331221,1.0009156461027813,1.5118632632407512,"AQT0462",15,16.170000000000002,4,50,46,45.535869565217382,47.925217391304351]
["PRKCZ (PKCζ [zeta])","PRKCZ","PKCz","PKCz","PKCZ","AGC","31_10",11.17,"PKCZ","Carna",5,281.35714285714278,4.2236842105263328,"M",1.5011825069146656,1.7755185869788459,0.99456570007037914,0.98387569627675164,1.467139978892833,"AQT0462",15,11.17,70,108,38,28.558082706766921,27.713345864661655,"PKCZ","Carna",5,577.87549407114625,11.250705815923181,"S",1.9469082754594242,0.91290691871899499,0.99797746685680211,1.0111074452875839,2.049237718802936,"AQT0462",15,1000,54,96,42,56.662478825522307,58.912619988706943,"PKCZ","Carna",5,530.7894088669949,9.3189655172414003,"S",1.7556803812520203,3.2946336748980882,0.9980214559477748,1.0231727125067678,2.228697571743929,"AQT0462",15,1000,64,120,56,54.01083743842365,52.147044334975369,"PKCZ","Carna",5,211.66153846153847,2.5096153846153868,"M",1.1856737897950294,2.2195691668829483,0.99515581360052785,0.97243697478991598,1.4220615620549895,"AQT0462",15,11.17,70,118,48,20.915192307692305,21.417115384615382]
["PRKD1 (PKD1)","PRKD1","PKD1","PKD1","PKD1","CAMK","16_06",11.23,"PKD1","Carna",5,312.97499999999997,37.132692307692473,"S",11.864427608496678,7.0777849601379019,0.99530331009627537,0.97893850042122998,1.5937819856704198,"AQT0803",15,11.23,40,88,48,27.584230769230768,35.010769230769235,"PKD1","Carna",5,421.51301319648087,34.82908724340173,"S",8.2628735419769264,5.2963265913146937,0.99847578167048456,1.0136930028755307,2.2407735459108356,"AQT0803",15,1000,40,102,62,38.668392595307921,45.634210043988269,"PKD1","Carna",5,491.67582417582429,39.670329670329664,"S",8.068391350505669,5.5284039577233299,0.99461389445040271,0.98957637311238811,2.0144989951191503,"AQT0803",15,1000,62,86,24,45.200549450549453,53.134615384615387,"PKD1","Carna",5,259.61363636363632,"NA","M","NA","NA",0.99539205355019145,0.99374161823871254,1.697339593114241,"AQT0803",15,11.23,88,108,20,"",25.961363636363636]
["PRKD2 (PKD2)","PRKD2","PKD2","PKD2","PKD2","CAMK","16_07",11.87,"PKD2","Carna",2,1009.2158119658119,36.014957264957289,"VS",3.568608105218364,1.9550382706005411,0.99875066448647221,0.98968378560215298,1.5481542830099384,"AQT0803",15,11.87,10,60,50,38.928034188034189,41.809230769230773,"PKD2","Carna",2,1782.0454545454545,15.852272727272874,"VS",0.88955490371126955,1.2938265988000115,0.9963797874925665,1.0481246552675123,1.4601324122049513,"AQT0803",15,1000,0,20,20,71.915909090909096,70.647727272727266,"PKD2","Carna",2,1916.8706293706293,47.465034965035002,"VS",2.4761731041087165,5.1357129577988472,0.99813653009725811,1.027034052508448,1.4847911315398135,"AQT0803",15,1000,0,22,22,74.776223776223773,78.573426573426573,"PKD2","Carna",2,902.5,7.6206140350876685,"S",0.84438936676871668,4.5637944947547746,0.99658198637274009,0.99146150562117552,1.3489374349829097,"AQT0803",15,11.87,14,50,36,26.338596491228074,25.728947368421061]
["PRKD3 (PKD3)","PRKD3","PKD3","PKD3","PKD3","CAMK","16_08",9.5009999999999994,"PKD3","Carna",5,181.32687165775403,9.9339906417111994,"M",5.4784988848542762,3.9028513187660026,0.9973617419984333,0.98036415565869328,1.4639685359045926,"AQT0803",15,9.5009999999999994,56,120,64,17.139288101604276,19.126086229946516,"PKD3","Carna",5,394.34210526315786,6.6408668730650069,"S",1.6840369781546232,2.6103907110772098,0.99873447799867565,0.9981670594396439,1.3641160949868074,"AQT0803",15,1000,0,34,34,38.770123839009287,40.098297213622288,"PKD3","Carna",5,371.20710784313718,11.56862745098042,"S",3.1164886680642527,2.1439473993190088,0.99829190663160439,0.99586721770430608,1.3500558971492453,"AQT0803",15,1000,4,36,32,35.963848039215684,38.277573529411768,"PKD3","Carna",5,211.64035087719293,8.3201754385964932,"M",3.93128030836822,3.4993346734237423,0.9940692716596301,1.008280069726903,1.5720000000000001,"AQT0803",15,9.5009999999999994,64,100,36,20.332017543859653,21.996052631578952]
["PKN1","PKN1","PKN1","PKN1","PKN1","AGC","16_09",24.44,"PKN1","Carna",1.5,395.9510567296997,8.1627734519836768,"S",2.0615612241075754,3.2885237739606672,0.99514071785532487,0.96034728521446155,1.1850981476361626,"AQT0462",15,24.44,16,74,58,11.633648498331482,12.123414905450502,"PKN1","Carna",1.5,677.44047619047626,13.482142857142955,"S",1.9901590369914912,1.5328019619865114,0.99344052322562404,0.99508532423208196,1.2375127420998981,"AQT0462",15,1000,16,44,28,19.918749999999996,20.727678571428573,"PKN1","Carna",1.5,592.25146198830384,8.0409356725146104,"S",1.3576894593927415,14.935650257899747,0.99227028592977606,1.0028775006851192,1.3061016455511867,"AQT0462",15,1000,24,60,36,17.526315789473685,18.008771929824562,"PKN1","Carna",1.5,360.1919934640523,19.566993464052285,"S",5.432378792174652,3.2976002611960604,0.99459591009670267,0.9793347487615004,1.1625808392239434,"AQT0462",15,24.44,26,58,32,10.21875,11.392769607843137]
["PKN2","PKN2","PKN2","PKN2","PKN2","AGC","16_10",16.14,"PKN2","Carna",10,196.3980769230769,0.43846153846155644,"M",0.22325144183223769,0.86536723893119916,0.99339139585538905,0.96385259827757919,1.4861015247537179,"AQT0426",15,16.14,72,120,48,39.191923076923068,39.367307692307691,"PKN2","Carna",10,261.86622807017545,5.8377192982456263,"M",2.2292753598914716,2.3343017363691638,0.99462821178380245,1.0230614224942161,1.8716432225063939,"AQT0426",15,1000,80,116,36,53.540789473684214,51.205701754385963,"PKN2","Carna",10,306.96428571428578,5.8653846153845626,"S",1.910771020718647,1.278046659572764,0.9815140200837762,0.98950168979650532,2.0333538272363971,"AQT0426",15,1000,96,120,24,60.219780219780219,62.565934065934044,"PKN2","Carna",10,157.38736263736263,1.8912087912088003,"M",1.2016268393583469,3.962073782790914,0.97769219486549852,0.99364675984752227,1.3713017751479288,"AQT0426",15,16.14,94,120,26,31.983516483516482,32.74]
["PKN3","PKN3","PKN3","PKN3","PKN3","AGC","16_11",36.840000000000003,"PKN3","Carna",5,255.36413043478262,5.5336956521739102,"M",2.1669823568220985,1.6561732794804784,0.99680962052320976,0.89433365758754868,1.5463395638629285,"AQT0509",15,36.840000000000003,74,120,46,24.983043478260871,26.089782608695653,"PKN3","Carna",5,202.04779411764704,0.18382352941175734,"M",9.0980220899972708E-2,2.1063651591289783,0.99540023252598731,1.0194264569842739,1.4988302139037433,"AQT0509",15,1000,48,78,30,20.223161764705882,20.18639705882353,"PKN3","Carna",5,301.80514705882348,23.080882352941195,"S",7.6476105785043504,1.599099099099099,0.99532084408956378,0.99553623869376251,1.5787278415015642,"AQT0509",15,1000,58,88,30,27.872426470588234,32.488602941176474,"PKN3","Carna",5,186.09041184041183,3.8256113256113085,"M",2.0557809979442099,2.0695747885528908,0.99903216139201412,0.99379524301964839,1.8427065026362039,"AQT0509",15,36.840000000000003,50,120,70,18.226480051480053,18.991602316602314]
["EIF2AK2 (PKR)","EIF2AK2","PKR","PKR","PKR","Other","23_08",19.970977849589723,"PKR","Carna",20,78.210227272727266,0.37368881118881259,"W",0.47780044147643314,8.4811529933481147,0.99074483375504707,0.99380014587892052,1.1271138669673055,"AQT0355",15,19.970977849589723,0,22,22,31.134615384615383,31.433566433566433,"PKR","Carna",20,161.625,2.0113636363636367,"M",1.2444631934191102,4.3917677324513047,0.99003117813961006,1.023607427055703,1.2512697386646967,"AQT0355",15,1000,0,18,18,63.845454545454544,65.454545454545453,"PKR","Carna",20,136.90934065934064,4.8076923076916238E-2,"M",3.5115882411954479E-2,1.2369663584497343,0.97995070603088708,1.0192655027092112,1.1766034327009938,"AQT0355",15,1000,0,24,24,54.782967032967036,54.744505494505503,"PKR","Carna",20,77.41477272727272,0.7320804195804208,"W",0.94565984474241516,7.9052882531426087,0.98681497178324973,1.012745670363884,1.1546816856079654,"AQT0355",15,19.970977849589723,0,22,22,30.673076923076923,31.25874125874126]
["PLK1","PLK1","PLK1","PLK1","PLK1","Other","21_01",34.83,"PLK1","INVT",10,71.804945054945051,2.8434065934065917,"W",3.9599035849561903,10.061887570912841,0.96535875433473661,0.94087381916329282,1.1170851297658297,"AQT0686",15,34.83,64,90,26,14.92967032967033,13.792307692307693,"PLK1","INVT",10,119.5467032967033,4.3475274725274726,"M",3.6366770079283004,20.351738889329003,0.98442278901665248,0.99022100528065715,1.0952334248724989,"AQT0686",15,1000,2,26,24,23.039835164835164,24.778846153846153,"PLK1","INVT",10,62.454044117647051,1.1427696078431369,"W",1.8297767966642133,4.7579088696819669,0.98752007177874535,0.97109342270632593,1.0762702643890762,"AQT0686",15,1000,8,40,32,12.719362745098039,12.262254901960784,"PLK1","INVT",10,59.869260204081634,0.67614795918366599,"W",1.1293741677762859,6.2171308578553148,0.99680950500351839,0.96698113207547165,1.2049134036144578,"AQT0686",15,34.83,12,108,96,12.10908163265306,11.838622448979594]
["PLK2","PLK2","PLK2","PLK2","PLK2","Other","27_01",141.30000000000001,"PLK2","INVT",40,10.632554945054945,0.25824175824175843,"VW",2.4287836703055374,7.7241379310344831,0.99219314114264701,0.97746378107673049,1.0678330838323353,"AQT0686",15,141.30000000000001,42,68,26,8.7126373626373628,8.2994505494505493,"PLK2","INVT",40,30.656711822660096,1.1040640394088672,"W",3.6013778835628139,8.3033317378727656,0.99773731495105511,0.98962859145059567,1.233084822056548,"AQT0686",15,1000,20,76,56,25.408620689655173,23.642118226600985,"PLK2","INVT",40,18.889470443349754,0.51462438423645396,"VW",2.7243981549394527,8.0148541114058354,0.99594686397763288,0.9751643535427319,1.1699968615964011,"AQT0686",15,1000,14,70,56,15.523275862068967,14.699876847290641,"PLK2","INVT",40,18.650052694281523,0.57877795087976514,"VW",3.1033582605223948,1.1042755516840883,0.98957632959792796,1.0053368044256428,1.2270270270270269,"AQT0686",15,141.30000000000001,58,120,62,14.457019794721408,15.383064516129032]
["PLK3","PLK3","PLK3","PLK3","PLK3","Other","27_02",60.07,"PLK3","SC",10,17.119453044375643,1.3609391124871004,"VW",7.9496646823901767,48.611111111111107,0.86206022766120916,0.9852913796313536,1.0034618713337822,"AQT0686",15,60.07,8,42,34,3.6960784313725492,3.151702786377709,"PLK3","SC",10,63.172649572649568,0.16452991452991392,"W",0.260444853339105,7.3632172576763608,0.98742239534790555,1.0024771055397088,1.2016876995590695,"AQT0686",15,1000,70,120,50,12.667435897435897,12.601623931623932,"PLK3","SC",10,54.746921182265993,1.2555418719211795,"W",2.2933561281759958,5.0087398696964875,0.9929023926592796,0.98747055043906617,1.2370548394144638,"AQT0686",15,1000,64,120,56,11.20049261083744,10.698275862068968,"PLK3","SC",10,26.565499717673628,0.15669113495200282,"VW",0.58982942770603541,28.117992064861134,0.94318351911663889,0.99487774894140146,1.0368686162026024,"AQT0686",15,60.07,14,56,42,5.3444381705251267,5.2817617165443256]
["PLK4","PLK4","PLK4","PLK4","PLK4","Other","26_11",13,"PLK4","INVT",5,120.94585020242911,0.45445344129559467,"M",0.37574951148383201,2.9419137659361128,0.99322787183077521,1.0036360631352781,1.2473016147137552,"AQT0686",15,13,44,120,76,12.140030364372473,12.049139676113354,"PLK4","INVT",5,239.40934065934064,2.1978021978021895,"M",0.91801021286361473,5.2894924946390285,0.98757040871826507,1.0232466895537029,1.1409003927888004,"AQT0686",15,1000,2,26,24,24.160714285714285,23.721153846153847,"PLK4","INVT",5,165.20015278838807,0.46103896103895531,"M",0.27907901612507574,3.6309926269358321,0.99508952746334656,0.98757115749525615,1.3659855769230771,"AQT0686",15,1000,54,120,66,16.566119174942703,16.473911382734912,"PLK4","INVT",5,114.49859943977587,9.5091036414565782,"M",8.3049955964380064,14.102143840555955,0.99158007626344025,1.0293816194055347,1.1942760342368044,"AQT0686",15,13,12,80,68,10.498949579831935,12.400770308123251]
["PRKX","PRKX","PRKX","PRKX","PRKX","AGC","17_07",42.65,"PRKX","Carna",5,361.62012987012986,"NA","S","NA","NA",0.99718956969210804,0.98724284564992526,1.5788975632836526,"AQT0186",15,42.65,50,90,40,36.162012987012986,"","PRKX","Carna",5,622.26612903225805,6.5846774193547821,"S",1.0581770583584882,1.3839227103879155,0.99831908573785266,1.0076681332495285,2.1107565483313389,"AQT0186",15,1000,10,70,60,62.885080645161281,61.568145161290325,"PRKX","Carna",5,450.91783216783216,7.4912587412587666,"S",1.6613356595909721,3.4683526218031147,0.99783629461938306,1.0047412090082972,1.4784659557013946,"AQT0186",15,1000,6,28,22,45.840909090909093,44.34265734265734,"PRKX","Carna",5,291.16330645161287,2.104838709677423,"M",0.72290658302000599,2.2245590875783794,0.99716054697453405,0.98256537982565384,1.6770368631134067,"AQT0186",15,42.65,60,120,60,28.905846774193549,29.326814516129033]
["PTK2 (FAK)","PTK2","FAK","FAK","PTK2","TK","06_03",28.87,"PTK2","SC",10,102.25574712643675,0.39272030651340539,"M",0.38405695283592839,213.21601104209799,0.93202510357684598,0.95512268618166163,1.003813770105201,"AQT0061",15,28.87,6,60,54,20.529693486590038,20.372605363984675,"PTK2","SC",10,283.79335370511842,3.5259740259740009,"M",1.2424441869198035,1.7195620450414315,0.99214444780393374,0.98262320432995565,1.1453085144507451,"AQT0061",15,1000,0,66,66,56.053475935828885,57.463865546218486,"PTK2","SC",10,221.73916361416354,7.782356532356526,"M",3.5096896757030205,11.938330216275835,0.98031481504523055,0.97993659883423667,1.096990246556993,"AQT0061",15,1000,8,60,52,45.904304029304029,42.791361416361418,"PTK2","SC",10,108.01432391138273,10.111344537815128,"M",9.3611145000645397,-7.2490426266557852,0.96820146146169495,0.82502440258848198,0.9123315868263473,"AQT0061",15,28.87,54,120,66,19.580595874713524,23.625133689839576]
["PTK2B (PYK2)","PTK2B","PYK2","PYK2","PTK2B","TK","06_04",47.82,"PTK2B","Carna",2,929.11764705882354,35.367647058823515,"S",3.8065843621399162,0.82569196807607415,0.99309256355987641,0.97810563897931324,1.3259894824245779,"AQT0101",15,47.82,80,110,30,35.75,38.579411764705881,"PTK2B","Carna",2,1377.958669354839,11.459173387096833,"VS",0.83160501413747212,0.96785402048913893,0.99815325628049911,0.99812459708140422,1.7138782091033113,"AQT0101",15,1000,60,120,60,54.659979838709674,55.576713709677421,"PTK2B","Carna",2,1621.9187062937062,10.576923076922993,"VS",0.65212411916085666,0.44429791509670935,0.98976221157921207,0.9915108408856258,1.6417991657094493,"AQT0101",15,1000,76,98,22,64.453671328671334,65.299825174825173,"PTK2B","Carna",2,849.44593450028231,16.946640316205563,"S",1.9950228293428758,0.86973082783138655,0.9926717223777114,0.98491687768358471,1.3333721336282156,"AQT0101",15,47.82,68,110,42,33.299971767363068,34.655702992659513]
["PTK6 (BRK)","PTK6","BRK","BRK","PTK6","TK","06_05",732.9,"PTK6","Carna",5,594.18956043956041,14.120879120879122,"S",2.3764939778532961,0.63782460716614697,0.99536797719595582,0.97424242424242424,1.4909629967500997,"AQT0101",15,732.9,90,114,24,58.006868131868131,60.831043956043956,"PTK6","Carna",5,551.72181372549016,1.3725490196078025,"S",0.24877555780143867,2.0969223550559422,0.99561411465786565,0.94295692665890574,1.5290970694882007,"AQT0101",15,1000,88,120,32,55.034926470588246,55.309436274509807,"PTK6","Carna",5,576.93111236589482,1.0855448898927378,"S",0.18815849355759404,1.0811981167712394,0.9989071929736868,0.98518178163230141,1.6033017425863649,"AQT0101",15,1000,78,120,42,57.801665725578772,57.584556747600224,"PTK6","Carna",5,546.82692307692321,9.1208791208791222,"S",1.667964530633776,2.4892271018611902,0.99745032975097947,0.98794726930320154,1.5615044840048187,"AQT0101",15,732.9,90,114,24,53.770604395604394,55.594780219780219]
["RAF1 [Y340E/Y341E]","RAF1, YY->EE","RAF1","RAF1","RAF1","TKL","22_01",125.6,"RAF1","SC",10,76.572282608695645,2.3461956521739142,"W",3.0640273115058965,3.5753676470588234,0.99703086057655987,0.97660488245931287,1.1613477280816231,"AQT0688",15,125.6,8,54,46,15.783695652173913,14.845217391304347,"RAF1","SC",10,86.894444444444446,1.1427350427350547,"W",1.31508412308874,4.7922298071196234,0.99589733215643506,0.99359842422750211,1.2217672698454629,"AQT0688",15,1000,0,50,50,17.607435897435899,17.150341880341877,"RAF1","SC",10,232.6109391124871,6.1687306501547923,"M",2.6519520851818958,3.3076865052425131,0.99459708232329525,0.98300433743471716,1.2685750752119609,"AQT0688",15,1000,0,34,34,47.75593395252838,45.288441692466463,"RAF1","SC",10,86.026348039215691,0.33088235294115087,"W",0.38462908223224346,1.4441704825642832,0.99532171416810111,0.96767322390677857,1.1309975160151653,"AQT0688",15,125.6,6,38,32,17.139093137254907,17.271446078431367]
["RET","RET","RET","RET","RET","TK","06_06",22.5,"RET","Carna",2,2304.1666666666665,94.621212121212039,"VS",4.1065263850073945,4.6335912608101957,0.99494693750810925,0.94999773335146653,1.1015390303646533,"AQT0102",15,22.5,0,18,18,88.38181818181819,95.951515151515153,"RET","Carna",2,2101.8547008547012,13.36538461538481,"VS",0.63588527836628728,1.3898102383466162,0.99901637547281619,0.99574887241432941,1.4438992829028954,"AQT0102",15,1000,0,50,50,83.539572649572634,84.608803418803419,"RET","Carna",2,3153.9772727272725,7.3295454545453609,"VS",0.23239056025940977,5.4086706821683705,0.99853415077355734,1.0086455331412103,1.2731625190719209,"AQT0102",15,1000,0,20,20,125.86590909090908,126.45227272727271,"RET","Carna",2,1879.7334558823529,44.88970588235297,"VS",2.3880888932352167,1.617056016076363,0.99630637593490501,0.97436770428015562,1.1981878827102106,"AQT0102",15,22.5,0,30,30,73.393749999999997,76.984926470588235]
["RIPK1","RIPK1","RIPK1","RIPK1","RIPK1","TKL","28_03",530.4,"RIPK1","SC",60,5.2537941709453344,5.1344004832376181E-2,"VW",0.97727476870563568,2.7881420904676721,0.95977049725015173,0.96023875114784207,1.086774101268237,"AQT0609",15,530.4,16,100,84,6.3661658109332517,6.2429401993355489,"RIPK1","SC",60,8.3793859649122808,0.13742690058479462,"VW",1.6400593212945915,30.128806619466008,0.99014207820744105,0.98379330593071046,1.0767412935323384,"AQT0609",15,1000,2,38,36,9.8903508771929847,10.220175438596492,"RIPK1","SC",60,7.4265485275979044,0.1096110854147388,"VW",1.4759357594905824,8.875833597967608,0.98973216903369221,1.0103122043519395,1.2112731572723689,"AQT0609",15,1000,28,120,92,8.7803249306197984,9.0433915356151715,"RIPK1","SC",60,3.3782637585991244,7.113821138211204E-3,"VW",0.21057625000722607,3.0831099195710454,0.9933932173044413,1.0009206690194874,1.1215181625671935,"AQT0609",15,530.4,12,90,78,4.0453799249530951,4.062453095684802]
["RIPK2","RIPK2","RIPK2","RIPK2","RIPK2","TKL","28_04",67.48,"RIPK2","INVT",20,33.350050403225801,0.26638104838710092,"W",0.79874256610219418,1.601907473639131,0.99197323907352186,0.99799818016378528,1.4193499849533553,"AQT0209",15,67.48,50,110,60,13.233467741935481,13.446572580645162,"RIPK2","INVT",20,32.094444444444441,0.44893162393162317,"W",1.3987829722640157,1.0523584361665321,0.99470523671286215,1.0065063091482649,1.2658429653248306,"AQT0209",15,1000,0,50,50,12.658205128205129,13.017350427350427,"RIPK2","INVT",20,91.377504355400703,1.0675087108013945,"W",1.1682401684439321,0.49373443491323088,0.99904574824006953,1.0351014040561624,2.0496767608029942,"AQT0209",15,1000,0,80,80,36.123998257839723,36.978005226480839,"RIPK2","INVT",20,13.968515037593985,0.24812030075187946,"VW",1.7762825904121093,2.3289665211062593,0.98629852241071647,1.0061168529846023,1.1416202844774275,"AQT0209",15,67.48,28,66,38,5.6866541353383457,5.4881578947368421]
["RIPK3","RIPK3","RIPK3","RIPK3","RIPK3","TKL","28_05",110,"RIPK3","SC",60,5.5384963768115938,0.21585144927536232,"VW",3.8972933191593757,-405.23373983739839,0.89154366814386532,0.95013850415512469,0.99387922669254314,"AQT0609",15,85,4,50,46,6.3871739130434779,6.9052173913043475,"RIPK3","SC",60,2.1024636485826003,0.11890579178885624,"VW",5.6555456675323699,15.277777777777779,0.9586399566922722,0.97515263382081496,1.0508009153318079,"AQT0609",15,1000,58,120,62,2.6656433284457477,2.3802694281524928,"RIPK3","SC",60,2.3638386123680242,6.8344645550528021E-2,"VW",2.8912568393179074,45.31448943213649,0.92935625559186941,0.94973262032085559,1.0157706093189964,"AQT0609",15,1000,20,120,100,2.7545927601809956,2.9186199095022629,"RIPK3","SC",60,2.6010101010101012,7.7020202020201919E-2,"VW",2.9611650485436853,141.2962962962963,0.85096177369662618,0.99198298429319376,1.0091016349233104,"AQT0609",15,85,0,18,18,3.2136363636363638,3.0287878787878793]
["DSTYK (RIPK5, SGK496)","DSTYK","SGK496","SGK496","RIPK5","TKL","28_06",525.29999999999995,"RIPK5","SC",20,35.208333333333321,4.6074786324786317,"W",13.086329843726297,18.435851152457651,0.98281302913300117,0.91777950310559009,1.0895064221665725,"AQT0609",15,525.29999999999995,60,110,50,12.240341880341878,15.926324786324789,"RIPK5","SC",20,5.1136592741935489,"NA","VW","NA","NA",0.92195881776002298,0.99535828256454884,1.0463965357253324,"AQT0609",15,1000,60,120,60,"",2.0454637096774198,"RIPK5","SC",20,26.797435897435893,0.55064102564102757,"VW",2.0548272892546247,1.3679303152987363,0.98682221597684894,1.0049658597144631,1.2073412698412698,"AQT0609",15,1000,70,120,50,10.498717948717948,10.93923076923077,"RIPK5","SC",20,12.730042016806721,0.73424369747899554,"VW",5.7678026239789082,1.6003714595263892,0.99373291737977221,1,1.1567861389502294,"AQT0609",15,525.29999999999995,42,110,68,4.7983193277310905,5.385714285714287]
["ROCK1","ROCK1","ROCK1","ROCK1","ROCK1","AGC","22_06",8.6,"ROCK1","Carna",5,139.83152173913041,3.5391304347825949,"M",2.5309961522017863,14.656964656964657,0.99679225167825969,0.83625508130081305,1.0643220112329499,"AQT0231",15,8.6,24,70,46,13.629239130434785,14.337065217391304,"ROCK1","Carna",5,180.35491451260029,"NA","M","NA","NA",0.99885667362187835,0.99647110719011911,1.6480429292929293,"AQT0231",15,1000,38,120,82,18.035491451260029,"","ROCK1","Carna",5,412.8636363636362,0.79545454545456806,"S",0.19266762083012776,0.88469877652160456,0.99051866540273803,1.0181924198250729,1.5686606926616613,"AQT0231",15,1000,42,62,20,41.365909090909092,41.206818181818178,"ROCK1","Carna",5,141.9367588932806,2.0087521174477714,"M",1.4152444603572438,1.4800594500866981,0.99654573850685246,0.98673935464859286,1.3398148148148148,"AQT0231",15,8.6,42,84,42,13.992800677583286,14.394551101072841]
["ROCK2","ROCK2","ROCK2","ROCK2","ROCK2","AGC","22_07",11.44,"ROCK2","Carna",5,142.55747126436779,2.5294198139025776,"M",1.7743158541384745,1.6049598323436953,0.9981189646570624,0.98842777334397447,1.2864948164752033,"AQT0231",15,11.44,26,80,54,14.50868910782704,14.002805145046525,"ROCK2","Carna",5,224.42820512820512,2.3170940170940209,"M",1.0324433222510405,2.8041341917993901,0.99875685002003434,1.0048118985126859,1.3528131799813492,"AQT0231",15,1000,0,50,50,22.674529914529913,22.211111111111109,"ROCK2","Carna",5,471.13235294117641,11.702205882352919,"S",2.4838468021350271,1.1961400359066428,0.99762508184009002,0.99236206110351122,1.3270314701737904,"AQT0231",15,1000,0,30,30,45.943014705882355,48.283455882352939,"ROCK2","Carna",5,123.50438596491225,6.2368421052631531,"M",5.0498952377570205,5.4851280027622948,0.99798499933784712,0.98931684003373632,1.1577468953282082,"AQT0231",15,11.44,12,48,36,11.726754385964913,12.974122807017544]
["ROS1 (ROS)","ROS1","ROS","ROS","ROS","TK","06_07",21.37,"ROS","Carna",0.5,5810.4385964912281,184.29824561403441,"VS",3.1718474010779034,1.171712028963986,0.99579507794495958,0.98929421094369552,1.3863683554817277,"AQT0101",15,21.37,40,76,36,56.261403508771942,59.94736842105263,"ROS","Carna",0.5,13875.695564516132,338.49798387096678,"VS",2.4395028148109326,1.2432568846711103,0.99911841391809353,1.0460214805404782,2.5214186453990699,"AQT0101",15,1000,20,80,60,135.37197580645164,142.14193548387098,"ROS","Carna",0.5,8645.9926470588234,69.742647058823337,"VS",0.80664707808360492,0.88424625468164797,0.99704876931478814,1.0070803591987105,1.6402110058745953,"AQT0101",15,1000,34,64,30,87.15735294117647,85.762500000000003,"ROS","Carna",0.5,9938.3241758241784,501.23626373626348,"VS",5.0434686459067564,1.4138688331634777,0.99841357103268269,0.98165384408457523,1.2970456183138408,"AQT0101",15,21.37,6,30,24,94.370879120879124,104.39560439560439]
["RPS6KA1 (RSK1)","RPS6KA1","RSK1","RSK1","RSK1","AGC","17_09",21.399436902405601,"RSK1","Carna",2,562.18803418803418,3.9209401709402232,"S",0.69744283629288206,1.5261462675255779,0.9889440561482985,1.0017482517482517,1.3435728188203435,"AQT0232",15,21.399436902405601,50,100,50,22.330683760683762,22.64435897435898,"RSK1","Carna",2,1152.2179487179487,39.32905982905978,"VS",3.4133351136232939,0.67149790572435353,0.99664136120143898,1.035075075075075,2.491748323878288,"AQT0232",15,1000,70,120,50,47.661880341880341,44.515555555555558,"RSK1","Carna",2,1112.9152097902097,23.688811188811158,"VS",2.1285369254030253,1.4890563329745246,0.99786095900002592,0.98279421885753615,1.3324387189121489,"AQT0232",15,1000,0,22,22,45.46416083916084,43.569055944055947,"RSK1","Carna",2,638.0372807017543,6.7324561403507834,"S",1.0551822509408848,2.9146941427643185,0.99283648548006265,1.0040364136035727,1.2596153846153846,"AQT0232",15,21.399436902405601,26,62,36,25.252192982456148,25.79078947368421]
["RPS6KA3 (RSK2)","RPS6KA3","RSK2","RSK2","RSK2","AGC","17_10",17.66,"RSK2","Carna",1,3065.340909090909,182.27272727272722,"VS",5.9462465245597764,3.7137069547602972,0.99488599777060427,1.0102238401363179,1.2391023571197932,"AQT0232",15,17.66,4,24,20,64.952272727272728,57.661363636363639,"RSK2","Carna",1,2942.2530241935483,14.15322580645153,"VS",0.48103360554216212,0.4630659580603963,0.99626398618481504,1.0740976916209668,2.062271062271062,"AQT0232",15,1000,0,60,60,58.561995967741936,59.128124999999997,"RSK2","Carna",1,3317.954545454546,53.181818181817768,"VS",1.6028495102404148,2.501080535945829,0.98741776076333088,1.0843989769820972,1.5976510702784619,"AQT0232",15,1000,0,20,20,65.295454545454547,67.422727272727258,"RSK2","Carna",1,1937.7213064713064,32.959401709401703,"VS",1.7009361252998001,1.4305340889575822,0.99561976429811416,1.0218905472636817,1.6206235011990406,"AQT0232",15,17.66,28,80,52,39.413614163614156,38.095238095238088]
["RPS6KA2 (RSK3)","RPS6KA2","RSK3","RSK3","RSK3","AGC","17_11",10.89,"RSK3","Carna",1,1188.8542825361512,15.558954393770906,"VS",1.3087351933980842,1.7639618602841018,0.99005568537821886,1.0002845759817871,1.2594668282338686,"AQT0232",15,10.89,22,80,58,23.465906562847607,24.088264738598443,"RSK3","Carna",1,2201.166666666667,34.846153846154053,"VS",1.5830765736119052,1.9277559423544828,0.9964782093561636,1.0039865454092438,1.5974626668428704,"AQT0232",15,1000,0,50,50,44.720256410256411,43.326410256410249,"RSK3","Carna",1,1904.2582417582416,48.46153846153846,"VS",2.544903700497728,4.8359032819343613,0.99724111186587083,1.0406277244986923,1.4364802933088909,"AQT0232",15,1000,2,28,26,39.054395604395602,37.115934065934063,"RSK3","Carna",1,1082.818675889328,25.333498023715425,"VS",2.3395882050989574,1.6137678868438052,0.98292820880816789,1.0213893967093235,1.3049850544788353,"AQT0232",15,10.89,26,70,44,21.149703557312254,22.163043478260871]
["RPS6KA6 (RSK4)","RPS6KA6","RSK4","RSK4","RSK4","AGC","17_12",16.25,"RSK4","Carna",1,3468.295454545454,148.29545454545431,"VS",4.2757445693129261,10.489800535424758,0.99796358129025509,0.97754850431509965,1.162795408507765,"AQT0232",15,16.25,0,20,20,66.400000000000006,72.331818181818178,"RSK4","Carna",1,3394.6389296187681,4.6325146627566474,"VS",0.13646560823707099,0.36359658154859964,0.99819586584073539,1.1428765080656094,2.3988189543425031,"AQT0232",15,1000,0,62,62,67.985428885630498,67.800128299120232,"RSK4","Carna",1,3005.7954545454545,21.477272727272734,"VS",0.7145287512759444,2.4114186947673608,0.98751783841614438,1.1432846988402543,1.6333268595843853,"AQT0232",15,1000,0,20,20,60.545454545454547,59.686363636363637,"RSK4","Carna",1,2857.5892857142858,38.973214285714334,"VS",1.363849398531481,1.3437771975630983,0.99475196584026193,1.0438612933458293,1.3749021143304621,"AQT0232",15,16.25,2,30,28,56.372321428571425,57.931249999999999]
["SBK1 (SBK)","SBK1","SBK","SBK","SBK1","Other","25_07",22.77,"SBK1","SC",10,78.873626373626351,0.28846153846153744,"W",0.36572622779519209,1.2065981060991751,0.99123762134651427,0.98271189608447806,1.1376569858712715,"AQT0694",15,22.77,34,60,26,15.717032967032969,15.832417582417584,"SBK1","SC",10,118.9486249045073,1.4854851031321648,"M",1.2488459654953736,4.2704316817905079,0.99917520490569689,1.0083632019115889,1.6295376977970835,"AQT0694",15,1000,24,90,66,24.086822001527885,23.492627960275019,"SBK1","SC",10,129.33931623931622,1.4811965811965777,"M",1.1452021119826576,3.0502818853352354,0.99873554749878535,0.99952409280190357,1.7208422645315848,"AQT0694",15,1000,70,120,50,26.164102564102564,25.571623931623932,"SBK1","SC",10,70.465825534759361,1.2408088235294199,"W",1.7608660852449023,9.5738677375749699,0.99776609383564308,1.0111787179850007,1.3434989586432611,"AQT0694",15,22.77,20,84,64,14.341326871657754,13.845003342245986]
["SGK1 (SGK)","SGK1","SGK","SGK1","SGK","AGC","16_12",17.18,"SGK","Carna",3,190.26629072681706,1.434837092731837,"M",0.75412049462401387,3.2008052340211375,0.98384736218099922,0.98004956629491946,1.2654642618570473,"AQT0536",15,17.18,78,116,38,11.329887218045112,11.502067669172932,"SGK","Carna",3,1627.5919117647059,80.153186274509849,"VS",4.9246488444148317,4.7457929830131764,0.99807332974082474,1.0641354540790149,1.8465260045692782,"AQT0536",15,1000,0,30,30,92.846323529411762,102.46470588235294,"SGK","Carna",3,1576.0531135531139,13.347069597069467,"VS",0.8468667383283377,0.74984378254530304,0.99820828976150577,1.0396357106208312,1.6384308510638297,"AQT0536",15,1000,0,24,24,95.364010989010993,93.762362637362656,"SGK","Carna",3,631.22507122507125,26.742165242165207,"S",4.236549918757893,2.9437093518726174,0.99766484531752297,1.0028451429345617,2.2413144180660103,"AQT0536",15,17.18,70,120,50,36.268974358974361,39.478034188034187]
["SGK2","SGK2","SGK2","SGK2","SGK2","AGC","17_01",60.95,"SGK2","Carna",2,1612.6420454545457,3.8352272727273369,"VS",0.23782260195543423,1.1387451997044109,0.99875622671526532,1.0017067086779572,1.9645256651437786,"AQT0536",15,60.95,16,60,44,64.35227272727272,64.659090909090907,"SGK2","Carna",2,3069.5804195804194,20.454545454545499,"VS",0.66636291149333782,1.0890738445192136,0.99910756495965192,1.0379746835443038,1.7503321817698645,"AQT0536",15,1000,0,22,22,121.96503496503496,123.6013986013986,"SGK2","Carna",2,2170.94696969697,45.037878787878853,"VS",2.074572959014537,2.7395163758800125,0.99932516056028886,1.0301600328272467,1.6917213635401227,"AQT0536",15,1000,0,18,18,88.639393939393941,85.036363636363632,"SGK2","Carna",2,1430.7138480392157,15.471813725490156,"VS",1.0814051843206929,1.8359015209977347,0.99958417216359863,0.99826689774696709,1.649265008929798,"AQT0536",15,60.95,12,44,32,56.609681372549019,57.847426470588232]
["SGK3","SGK3","SGK3","SGK3","SGK3","AGC","17_02",14.25,"SGK3","Carna",1,2706.156015037594,58.853383458646746,"VS",2.174796395019714,0.94495792523106636,0.99717051588767336,0.99563260984647961,1.9911129340989882,"AQT0536",15,14.25,32,70,38,55.300187969924821,52.946052631578951,"SGK3","Carna",1,6670.2272727272739,22.272727272727618,"VS",0.33391256942315412,0.55926798391102994,0.99891538326091089,1.0580628475365317,1.7613743121728627,"AQT0536",15,1000,0,20,20,133.85000000000002,132.95909090909092,"SGK3","Carna",1,4072.5087412587413,74.388111888111638,"VS",1.8265918286309086,2.0191470844212356,0.99943581284895466,1.0586134453781513,1.8299024918743227,"AQT0536",15,1000,0,22,22,82.937937062937053,79.962412587412587,"SGK3","Carna",1,2629.7390109890107,21.214896214896228,"VS",0.806730102350255,0.99715099715099709,0.99956285763358621,0.99854957805907174,1.8458781362007168,"AQT0536",15,14.25,10,62,52,52.170482295482294,53.019078144078144]
["SIK1 (SIK)","SIK1","SIK","SIK","SIK1","CAMK","20_10",59.12,"SIK1","Carna",3,450.28195488721803,6.1967418546365973,"S",1.376191470117583,0.8966711564364056,0.99630930567890008,1.0174084165909778,1.8098800062334424,"AQT0508",15,59.12,68,106,38,27.388721804511277,26.645112781954886,"SIK1","Carna",3,629.66450216450221,4.0476190476190625,"S",0.64282153967790401,0.42400521852576645,0.99943039525734345,1.0277360066833752,1.792783324575232,"AQT0508",15,1000,22,62,40,38.022727272727273,37.537012987012986,"SIK1","Carna",3,325.63988095238102,1.9940476190476157,"S",0.61234748434858,0.99502487562189057,0.99915463458357512,0.99972352778545759,1.6474377745241582,"AQT0508",15,1000,34,62,28,19.658035714285717,19.418750000000003,"SIK1","Carna",3,335.68134763786935,1.9221720308676933,"S",0.5726180630510691,1.0478577704274123,0.9977621274363524,1.0058646378189888,1.5706407137064071,"AQT0508",15,59.12,58,100,42,20.025550536420102,20.256211180124225]
["SIK2 (QIK)","SIK2","QIK","QIK","SIK2","CAMK","20_11",21.63,"SIK2","Carna",3,501.56862745098039,3.7377450980392206,"S",0.74521110242376964,2.5070803295571578,0.99871327532407772,1.0083012155351319,1.5981826582473433,"AQT0508",15,21.63,46,76,30,29.869852941176472,30.318382352941178,"SIK2","Carna",3,672.58986928104571,0.23488562091511508,"S",3.4922563012462909E-2,3.1423149905123333,0.99952414098257591,1.0302211717035286,1.5464480874316939,"AQT0508",15,1000,6,38,32,40.369485294117645,40.341299019607831,"SIK2","Carna",3,543.81313131313129,17.424242424242415,"S",3.2040863710239127,1.7166212534059946,0.99918078401827215,1.0450573457127252,1.4176386913229018,"AQT0508",15,1000,2,20,18,31.583333333333332,33.674242424242422,"SIK2","Carna",3,396.26623376623371,5.8062770562770538,"S",1.4652464836815509,3.4151644170667637,0.99821316113076597,1.0128350934199837,1.7834078489816194,"AQT0508",15,21.63,70,110,40,24.124350649350649,23.427597402597403]
["SIK3 (QSK)","SIK3","QSK","QSK","SIK3","CAMK","20_12",64.38,"SIK3","INVT",6,91.014194139194132,3.3195970695970574,"W",3.6473399572380703,3.5892398367840408,0.98402969074162439,1.0200899550224887,1.3116485534976274,"AQT0508",15,64.38,88,112,24,11.320054945054945,10.523351648351651,"SIK3","INVT",6,125.45292002528846,1.8566263632053157,"M",1.4799387394339341,0.47423071530486849,0.99910128733308345,1.0123517786561265,1.5600752008203727,"AQT0508",15,1000,48,120,72,14.831555239449976,15.277145566619252,"SIK3","INVT",6,95.51776960784315,0.93137254901961197,"W",0.97507778169805082,3.7572254335260116,0.99268843427446163,1.0053176602294991,1.604895104895105,"AQT0508",15,1000,90,120,30,11.350367647058823,11.57389705882353,"SIK3","INVT",6,50.352328431372548,0.76593137254901877,"W",1.5211439002129585,2.2624434389140271,0.97608154887034737,1,1.1522693997071742,"AQT0508",15,64.38,70,102,32,6.1341911764705879,5.9503676470588234]
["SLK","SLK","SLK","SLK","SLK","STE","16_02",15.87,"SLK","Carna",2,821.72794117647049,52.95955882352937,"S",6.4449017941031679,5.7056063522617908,0.99794581859168285,0.96492805755395683,1.5726884387487943,"AQT0505",15,15.87,56,86,30,30.750735294117646,34.987499999999997,"SLK","Carna",2,1828.1842697961117,63.789118065433918,"VS",3.4892061549434512,3.113974960196273,0.99943867458481417,1.015828078754343,2.9197418268556197,"AQT0505",15,1000,20,92,72,70.575806069227127,75.678935514461841,"SLK","Carna",2,2015.7001879699249,52.462406015037644,"VS",2.6026889478972657,7.2564852492370298,0.9984579885326389,0.99723061430010074,3.1684820074451951,"AQT0505",15,1000,64,102,38,78.529511278195486,82.726503759398497,"SLK","Carna",2,716.42857142857156,28.549107142857096,"S",3.9849202392821463,3.5925285937628568,0.99721802450497643,0.97158608990670059,1.6096313017306245,"AQT0505",15,15.87,60,88,28,27.515178571428574,29.799107142857142]
["SNRK","SNRK","SNRK","SNRK","SNRK","CAMK","25_03",21.16,"SNRK","SC",10,109.80618466898954,0.79006968641118092,"M",0.71951292069098283,1.30982731748604,0.99752666649148014,0.98184443985970704,1.3401957961416642,"AQT0426",15,21.16,40,120,80,21.803222996515668,22.119250871080141,"SNRK","SC",10,249.40909090909091,3.7272727272727297,"M",1.494441406961911,5.0119986287281444,0.99772012824466394,0.99684240742512675,1.2885262116716123,"AQT0426",15,1000,16,34,18,50.627272727272725,49.136363636363633,"SNRK","SC",10,288.85302197802196,2.1909340659340688,"M",0.758494424233779,5.1721109940288024,0.99938490797743906,1.0056827277093006,1.2894671623296159,"AQT0426",15,1000,8,32,24,58.208791208791212,57.332417582417584,"SNRK","SC",10,95.450427350427347,2.3555555555555503,"W",2.4678313350107848,12.122192563832943,0.99422196883088887,1.0167052596758188,1.2439295485636115,"AQT0426",15,21.16,30,80,50,19.561196581196583,18.618974358974363]
["SRC","SRC","SRC","SRC","SRC","TK","06_08",21.29,"SRC","Carna",0.32,8179.6683517156862,553.00245098039147,"VS",6.7606952654064409,1.2036856086103693,0.9918961357959557,0.99596107055961069,1.4104338164739154,"AQT0104",15,21.29,56,88,32,48.810661764705891,55.889093137254903,"SRC","Carna",0.32,19468.749999999996,554.33238636363728,"VS",2.8472931562819257,0.99896603833611719,0.99474740234615044,1.0361673714667261,1.3231369444758565,"AQT0104",15,1000,0,20,20,121.05227272727272,128.14772727272728,"SRC","Carna",0.32,12131.267170329667,92.075892857143003,"VS",0.75899649693924631,0.67404550577627509,0.98751986846760131,0.99694817445344575,2.0163457623174916,"AQT0104",15,1000,96,120,24,77.050824175824161,78.229395604395592,"SRC","Carna",0.32,7901.2706043956041,141.39766483516499,"VS",1.7895560336397438,1.2538962879002551,0.99134302872335922,0.97962100603992808,1.3401609716130898,"AQT0104",15,21.29,54,80,26,49.663186813186812,51.473076923076924]
["SRC N1","SRC N1","SRC","SRC","SRC N1","TK","32_09",59,"SRC N1","INVT",0.75,9.4405594405594417,10.314685314685317,"VW",109.25925925925928,4.416666666666667,7.9424902852485088E-2,1.0641025641025641,1.0588235294117647,"AQT0794",15,59,4,26,22,-1.3111888111888112E-2,0.29632867132867136,"SRC N1","INVT",0.75,13987.150308202945,339.99525841630975,"VS",2.4307686049310209,1.1861004819188217,0.99745621896634062,1.079520898931901,3.0446530508689587,"AQT0794",15,1000,0,72,72,204.70732574679946,214.90718349928875,"SRC N1","INVT",0.75,23752.121212121216,532.42424242424136,"VS",2.241586078436371,0.6469328688297018,0.99708413384300776,1.0782393931375143,3.1549765596826544,"AQT0794",15,1000,20,40,20,364.2681818181818,348.29545454545456,"SRC N1","INVT",0.75,8066.9466403162078,126.82806324110676,"VS",1.5721941509722861,2.6814392951441115,0.99822245890803307,1.0268488745980708,1.6581751311590676,"AQT0794",15,59,6,50,44,119.10177865612648,122.90662055335969]
["SRMS (SRM)","SRMS","SRM","SRM","SRM","TK","06_09",47.63,"SRM","Carna",2,942.20467032967042,27.472527472527549,"S",2.9157706746364473,7.4542320006567602,0.99009523698342594,0.98505441596870458,1.1938353330575093,"AQT0104",15,47.63,38,62,24,36.589285714285715,38.78708791208792,"SRM","Carna",2,1411.0150166852059,70.385150166852114,"VS",4.9882637204104876,1.8997641509433962,0.99816282868132278,1.0002228288117654,1.4898053485819904,"AQT0104",15,1000,22,80,58,53.625194660734145,59.256006674082315,"SRM","Carna",2,1597.995199146515,17.016358463726888,"VS",1.0648566699584128,0.93951849677040511,0.99897057053296745,0.99584176219375142,1.5996126987852826,"AQT0104",15,1000,12,84,72,63.239153627311524,64.600462304409675,"SRM","Carna",2,699.07467532467513,23.85551948051949,"S",3.4124422357940714,5.8504875406283858,0.98217589585067377,0.99853624066222491,1.2435227692470054,"AQT0104",15,47.63,50,90,40,27.008766233766227,28.917207792207787]
["SRPK1","SRPK1","SRPK1","SRPK1","SRPK1","CMGC","27_08",25.75,"SRPK1","SC",5,166.12393162393161,1.7094017094017033,"M",1.0289918452396229,0.74835819375859092,0.99862116526582634,0.97929334428923587,1.2561885384876228,"AQT0360",15,25.75,0,50,50,16.783333333333335,16.441452991452994,"SRPK1","SC",5,610.26239316239298,7.9025641025640061,"S",1.294945287651226,3.4794770446944359,0.99800849282445236,1.029496059230953,1.8145524790727623,"AQT0360",15,1000,0,50,50,60.235982905982915,61.816495726495717,"SRPK1","SC",5,438.89230769230767,8.6576923076923133,"S",1.972623387549076,0.80034987972884331,0.99830126748716985,1.0290620871862615,1.91993562663448,"AQT0360",15,1000,2,50,48,44.755000000000003,43.02346153846154,"SRPK1","SC",5,511.09090909090907,19.795454545454515,"S",3.8731768054073226,1.4359707090551885,0.98992676059161211,1.0731414868105515,1.4475905733380232,"AQT0360",15,25.75,0,20,20,49.129545454545458,53.088636363636361]
["SRPK2","SRPK2","SRPK2","SRPK2","SRPK2","CMGC","24_08",33.25,"SRPK2","Carna",2,746.29173508483848,0.2360426929392645,"S",3.1628742734559581E-2,1.046444518696273,0.99554901797193274,1.0029013539651837,1.3381750197742144,"AQT0360",15,33.25,36,90,54,29.842227695675973,29.861111111111114,"SRPK2","Carna",2,992.4658400809717,3.477985829959529,"S",0.35043884529826969,0.97058597058597051,0.99826573241500194,1.0022190236296029,1.4288197797952482,"AQT0360",15,1000,14,90,76,39.837753036437249,39.559514170040487,"SRPK2","Carna",2,945.00370553359687,4.3231225296391784E-2,"S",4.5747148972269105E-3,1.4938157398841949,0.99626707083718469,0.98706324635117204,1.9140456182472989,"AQT0360",15,1000,68,112,44,37.801877470355734,37.798418972332023,"SRPK2","Carna",2,741.51086956521738,15.888586956521733,"S",2.1427314970902529,0.88463639200998745,0.99485568299235894,0.99089975047702916,1.3271056661562022,"AQT0360",15,33.25,34,80,46,29.024891304347825,30.295978260869564]
["STK16 (MPSK1, PKL12, TSF1)","STK16","MPSK1","MPSK1","STK16","Other","32_08",49,"STK16","INVT",30,10.682234432234432,0.49908424908424953,"VW",4.6720960137162493,7.7827969132316959,0.97401616187573259,0.98486932599724897,1.1322760543743464,"AQT0360",15,49,58,84,26,6.1098901098901095,6.7087912087912089,"STK16","INVT",30,13.402402402402402,8.5585585585585086E-2,"VW",0.63858391216670041,1.8558109151374784,0.99113174237772605,1.0261453879047038,1.2450556647020301,"AQT0360",15,1000,50,120,70,8.0927927927927925,7.9900900900900904,"STK16","INVT",30,14.779569892473114,5.8803763440851134E-3,"VW",3.978719534375523E-2,4.6235921754593958,0.99346523416479038,1.0070646414694455,1.3146800969968289,"AQT0360",15,1000,40,100,60,8.8712701612903206,8.8642137096774185,"STK16","INVT",30,8.4741263440860219,0.54620295698924493,"VW",6.4455370950473556,2.9333489310677621,0.97328936652860609,1.0270553325187641,1.1913933715078953,"AQT0360",15,49,60,120,60,4.7567540322580646,5.4121975806451585]
["STK33","STK33","STK33","STK33","STK33","CAMK","17_08",80.13,"STK33","Carna",80,18.453044871794873,1.3354700854700807E-2,"VW",7.2371258767777738E-2,2.3474244317463882,0.99181313158001716,1.0048295454545455,1.5363680861478217,"AQT0355",15,80.13,50,100,50,29.546239316239316,29.503504273504273,"STK33","Carna",80,33.941402218782244,0.46310629514964002,"W",1.3644288829451179,2.1201853128110884,0.99455211712822267,1.0109343936381709,2.1143323413650763,"AQT0355",15,1000,82,116,34,55.047213622291025,53.565273477812177,"STK33","Carna",80,23.758585164835157,1.5848214285714233,"VW",6.6705210667051897,0.97991180793728561,0.99281371911802729,0.99791955617198336,2.1316563695204471,"AQT0355",15,1000,92,116,24,35.478021978021985,40.54945054945054,"STK33","Carna",80,16.058189655172413,0.22455506117908691,"VW",1.3983834168178275,0.82056608673071929,0.99697047002467498,1.0027120546151689,1.3825370020860235,"AQT0355",15,80.13,22,80,58,25.333815350389326,26.052391546162404]
["SYK","SYK","SYK","SYK","SYK","TK","06_10",29.99,"SYK","Carna",0.1,59509.065934065933,253.0219780219802,"VS",0.42518223744650968,17.435045700744752,0.99568040722764539,1.0264976958525345,1.24019921736037,"AQT0794",15,29.99,0,26,26,118.51208791208791,119.52417582417583,"SYK","Carna",0.1,116858.33333333333,3757.5757575757571,"VS",3.2154966191905507,4.6663954434499599,0.99031162556965535,1.0510622297424328,1.3784303914398985,"AQT0794",15,1000,0,18,18,226.20151515151514,241.23181818181817,"SYK","Carna",0.1,107747.72727272728,1709.0909090908965,"VS",1.5861967137041373,0.79610197778587732,0.97296415677025683,1.0237917631816575,1.3791351654066162,"AQT0794",15,1000,0,20,20,218.91363636363636,212.07727272727277,"SYK","Carna",0.1,54830.357142857145,377.06043956044152,"VS",0.68768554357221057,2.5706862759993316,0.99647070800171644,0.99672501000691383,1.1889531629035268,"AQT0794",15,29.99,0,24,24,110.41483516483517,108.9065934065934]
["TAOK1 (TAO1)","TAOK1","TAO1","TAO1","TAOK1","STE","12_08",878.9,"TAOK1","SC",20,42.028867871259173,0.39208074534161408,"W",0.932884384472637,1.484768529623411,0.99875434931605256,1.0066493206128939,1.5786259541984733,"AQT0253",15,878.9,18,60,42,16.968379446640316,16.654714850367025,"TAOK1","SC",20,34.296634615384612,0.17980769230768745,"W",0.52427211685379249,1.0762463343108506,0.99877995709137013,1.0166607585962424,1.5057471264367817,"AQT0253",15,1000,2,50,48,13.79057692307692,13.64673076923077,"TAOK1","SC",20,33.621066433566433,0.38024475524475626,"W",1.1309717257068603,2.5660964230171075,0.9945996768399421,1.0081022125272672,1.4193022497554613,"AQT0253",15,1000,30,52,22,13.29632867132867,13.600524475524475,"TAOK1","SC",20,31.448863636363637,0.24756493506493227,"W",0.78719834817394907,0.92566084550052485,0.99890404301049485,1.0016334531198954,1.3388794567062818,"AQT0253",15,878.9,0,40,40,12.480519480519483,12.678571428571429]
["TAOK2 (TAO2)","TAOK2","TAO2","TAO2","TAOK2","STE","12_09",192.6,"TAOK2","Carna",15,34.609563123495015,0.74991400068799507,"W",2.1667826259815142,3.3864788036089477,0.99693087091979204,1.0139605462822459,1.2877720870678617,"AQT0253",15,192.6,10,44,34,10.607843137254902,10.157894736842104,"TAOK2","Carna",15,30.423116615067084,0.19263845889232908,"W",0.63319764812302193,2.5686188169675619,0.99695002954324008,1.0363573407202216,1.2744742567077592,"AQT0253",15,1000,2,36,34,9.1847265221878232,9.0691434468524257,"TAOK2","Carna",15,32.868937048503611,0.26401788785689995,"W",0.80324437467295462,2.6471397139713968,0.99775059384292697,1.022925411688731,1.2762393162393162,"AQT0253",15,1000,4,38,34,9.9398864809081537,9.7814757481940138,"TAOK2","Carna",15,20.870098039215687,0.21691176470588194,"VW",1.0393423370522588,2.4305555555555554,0.99571673529521609,0.99716211422490242,1.1790714812085481,"AQT0253",15,192.6,12,42,30,6.1959558823529415,6.3261029411764707]
["TAOK3 (TAO3)","TAOK3","TAO3","TAO3","TAOK3","STE","12_10",233.4,"TAOK3","SC",20,24.953296703296701,1.2541208791208789,"VW",5.0258725090829017,5.8545918367346941,0.99462850935064295,1.0054131054131055,1.1663201663201663,"AQT0253",15,233.4,2,28,26,9.4796703296703289,10.482967032967032,"TAOK3","SC",20,25.857142857142858,0.16964285714285765,"VW",0.65607734806630036,1.6458333333333333,0.99664703169653457,1.0142653352353781,1.239610632721827,"AQT0253",15,1000,0,28,28,10.410714285714286,10.275,"TAOK3","SC",20,30.968406593406591,6.8681318681318437E-3,"W",2.2177866489243657E-2,2.291589248110987,0.9975570229554962,1.0054382597568778,1.2095848801889977,"AQT0253",15,1000,0,24,24,12.384615384615385,12.390109890109891,"TAOK3","SC",20,22.64772727272727,3.9772727272726627E-2,"VW",0.17561465127947534,3.076216712580349,0.99332390537531146,1.0179856115107915,1.1475409836065573,"AQT0253",15,233.4,0,20,20,9.043181818181818,9.0749999999999993]
["TBK1","TBK1","TBK1","TBK1","TBK1","Other","15_11",25.77,"TBK1","Carna",1,1924.5866935483875,4.7832661290321701,"VS",0.24853471891220419,7.0592020896525289,0.98759119682740415,0.95338390896386505,1.2365535429245611,"AQT0215",15,25.77,60,120,60,38.587399193548386,38.396068548387099,"TBK1","Carna",1,3195.1915322580644,57.469758064516263,"VS",1.7986326479746888,1.2774908228567716,0.99820986125148148,1.0154998340996351,1.3907910271546635,"AQT0215",15,1000,0,60,60,65.053225806451607,62.754435483870957,"TBK1","Carna",1,3447.802197802198,10.164835164835395,"VS",0.29482071713148078,0.72485653881002721,0.99175034979959409,1.0054526652251574,1.1801304327129052,"AQT0215",15,1000,2,28,26,69.159340659340657,68.752747252747241,"TBK1","Carna",1,1941.7857142857144,14.058441558441537,"VS",0.7239955189191889,1.737944248331303,0.99129421356712788,0.98999541456500895,1.1999300485288331,"AQT0215",15,25.77,30,70,40,39.116883116883109,38.554545454545448]
["TEC","TEC","TEC","TEC","TEC","TK","06_11",50.42,"TEC","Carna",5,732.34004127966978,2.7167182662538631,"S",0.37096404854591158,5.128538943567845,0.99754717850879049,0.99262714414685527,1.3276515151515151,"AQT0101",15,50.42,22,56,34,72.96233230134159,73.505675954592363,"TEC","Carna",5,1158.8324175824177,48.612637362637223,"VS",4.1949669878975255,1.8614398422090732,0.9961739303349042,0.98798307475317348,1.4724244365499972,"AQT0101",15,1000,18,42,24,111.02197802197804,120.74450549450549,"TEC","Carna",5,1069.9650349650349,"NA","VS","NA","NA",0.99697663486252375,0.97872712437347009,1.3946304675716441,"AQT0101",15,1000,14,36,22,"",106.99650349650349,"TEC","Carna",5,572.54220779220759,5.8733766233765987,"S",1.0258416835371935,0.77702126339624977,0.99482341546621766,0.96290785418216596,1.5158201265610125,"AQT0101",15,50.42,50,90,40,56.66688311688312,57.841558441558441]
["TEK (TIE2)","TEK","TIE2","TIE2","TEK","TK","06_12",191.9,"TEK","Carna",2,1467.0454545454547,0.7386363636364911,"VS",5.0348567002332457E-2,6.5609960704666879,0.99389155527822226,0.97930073960234365,1.205920592059206,"AQT0101",15,191.9,28,48,20,58.711363636363636,58.652272727272717,"TEK","Carna",2,1741.489130434783,38.72554347826113,"VS",2.223702853005626,1.7117732823036267,0.99852632684359433,0.9848337124905211,1.5220046806324561,"AQT0101",15,1000,30,76,46,68.110543478260851,71.208586956521742,"TEK","Carna",2,1834.3968531468529,50.85227272727284,"VS",2.7721522003288048,1.6251885369532431,0.99581328790720147,0.99738359992864367,1.4127754949570415,"AQT0101",15,1000,32,54,22,71.341783216783213,75.40996503496504,"TEK","Carna",2,1312.6923076923076,63.873626373626372,"VS",4.8658490645012771,2.5774609267891417,0.99628721521316654,1.010382759007745,1.3349698988836285,"AQT0101",15,191.9,38,64,26,55.062637362637361,49.952747252747251]
["TESK2","TESK2","TESK2","TESK2","TESK2","TKL","25_08",178.3,"TESK2","SC",88,4.136566558441559,4.0584415584415445E-2,"VW",0.98111356389501747,2.4242424242424243,0.95978736305754797,1.0177514792899409,1.0708557907190746,"AQT0538",15,178.3,0,28,28,7.2089285714285722,7.3517857142857146,"TESK2","SC",88,3.1927021841794572,0.25014757969303431,"VW",7.8349800658693027,4.5159386068476977,0.97409438000576154,1.007422500363848,1.148489032060132,"AQT0538",15,1000,80,120,40,6.0594155844155848,5.1788961038961041,"TESK2","SC",88,3.5258352758352762,6.8327505827505727E-2,"VW",1.9379097570381767,36.228679722046749,0.97410279559036239,1.0619136960600375,1.195287441401431,"AQT0538",15,1000,70,120,50,6.3257264957264958,6.0852136752136756,"TESK2","SC",88,3.5059400826446279,0.40030991735536986,"VW",11.418047882136223,20.076369510941401,0.93854566150743279,1.0625,1.1052005438477226,"AQT0538",15,178.3,0,20,20,6.8750000000000009,5.4659090909090917]
["TLK1","TLK1","TLK1","TLK1","TLK1","Other","27_11",27.83,"TLK1","Carna",100,4.0393939393939391,0.31742424242424211,"VW",7.8582145536384029,20.029761904761902,0.9603410315393377,1.006852131012745,1.047144661147748,"AQT0739",15,27.83,0,18,18,8.713636363636363,7.4439393939393943,"TLK1","Carna",100,9.5628224974200204,3.482972136223061E-3,"VW",3.6422009685558226E-2,17.697594501718214,0.99304588130317295,1.0058755379013571,1.1293103448275863,"AQT0739",15,1000,0,34,34,19.118679050567597,19.132610939112489,"TLK1","Carna",100,3.3974903474903502,9.7393822393822202E-2,"VW",2.8666401500085152,7.2376857509240402,0.97550352471579771,1.00114198705748,1.1946610281485397,"AQT0739",15,1000,30,100,70,5.6001930501930506,5.9897683397683394,"TLK1","Carna",100,7.9693181818181822,1.931818181818112E-2,"VW",0.2424069585056236,5.0805080508050802,0.96884790979986413,1.0286351367210422,1.1091367511105776,"AQT0739",15,27.83,0,20,20,15.977272727272727,15.900000000000002]
["TLK2","TLK2","TLK2","TLK2","TLK2","Other","27_12",12.97,"TLK2","Carna",30,4.819052419354839,0.2928427419354836,"VW",6.0767702123208807,21.137233460907598,0.94075948381377872,0.99005855917200059,1.041126446396208,"AQT0739",15,12.97,0,60,60,2.715725806451613,3.0671370967741933,"TLK2","Carna",30,19.482985092864126,0.31089626099706741,"VW",1.5957321709953822,13.112844408427875,0.98912303437397531,1.0223115413009598,1.1609285341679709,"AQT0739",15,1000,8,70,62,11.876328812316716,11.503253299120235,"TLK2","Carna",30,9.3561827956989241,0.2814180107526883,"VW",3.0078293348656819,10.504152984353873,0.97356281482102114,0.99463421018191334,1.1143522322651327,"AQT0739",15,1000,20,80,60,5.4448588709677423,5.7825604838709683,"TLK2","Carna",30,5.98622311827957,0.56468413978494592,"VW",9.433062026382256,1.9077775578864042,0.95511964943600025,1.0225170399221033,1.0968623722367483,"AQT0739",15,12.97,30,90,60,3.2529233870967751,3.9305443548387102]
["TNIK (ZC2)","TNIK","ZC2/TNIK","TNIK","TNIK","STE","18_09",21.17,"TNIK","Carna",1.5,1603.6607142857147,31.964285714285854,"VS",1.9932075051500555,2.9321571098508716,0.99949160173292706,1.020231993525762,1.9035012809564473,"AQT0181",15,21.17,6,34,28,49.068750000000009,47.150892857142857,"TNIK","Carna",1.5,1662.6050420168069,50.095704948646144,"VS",3.0130851093701745,1.0833790455293473,0.99870628793447047,1.0560789591745177,2.7626299250664732,"AQT0181",15,1000,0,68,68,48.37528011204482,51.381022408963588,"TNIK","Carna",1.5,2700.5050505050513,48.181818181818173,"VS",1.7841780437628567,2.8330319469559977,0.99484497845112418,1.0619543317662861,1.5800699300699299,"AQT0181",15,1000,0,18,18,79.569696969696977,82.460606060606068,"TNIK","Carna",1.5,1481.9696969696972,44.621212121212274,"VS",3.0109395767304052,2.8936798098204775,0.9988360341824909,1.012150324950551,1.6529290550485722,"AQT0181",15,21.17,6,26,20,45.797727272727272,43.120454545454535]
["TNK1","TNK1","TNK1","TNK1","TNK1","TK","07_03",111.1,"TNK1","SC",20,44.292763157894733,0.14035087719298289,"W",0.31687089986384553,3.7071124333811349,0.97339485022904348,0.94338276108159547,1.2082839234287652,"AQT0515",15,111.1,70,106,36,17.660964912280701,17.773245614035087,"TNK1","SC",20,51.446428571428577,1.7751623376623373,"W",3.450506452936164,3.4826040070378572,0.99113129472182937,0.97721250662427128,1.4740648660865634,"AQT0515",15,1000,80,120,40,19.868506493506491,21.28863636363636,"TNK1","SC",20,52.79501748251748,2.6267482517482499,"W",4.9753714971646144,6.491827022553279,0.98533835604366071,0.98246190945960754,1.3773717498243148,"AQT0515",15,1000,78,100,22,20.067307692307693,22.168706293706293,"TNK1","SC",20,46.747807017543863,0.31578947368421151,"W",0.67551719285077849,1.8448417403995259,0.99085962017641183,0.96336741784969726,1.2407175636211933,"AQT0515",15,111.1,48,84,36,18.572807017543859,18.825438596491228]
["TNK2 (ACK)","TNK2","ACK","ACK","TNK2","TK","07_04",104.5,"TNK2","SC",20,15.770757020757019,0.26022588522588541,"VW",1.6500532275234698,115.50637774704164,0.88647550364858918,0.96235109013261411,1.0135264073637538,"AQT0681",15,104.5,68,120,52,6.4123931623931627,6.2042124542124544,"TNK2","SC",20,28.838205645161288,"NA","VW","NA","NA",0.96956935125891663,0.99566675985462683,1.1871266952427799,"AQT0681",15,1000,60,120,60,"",11.535282258064516,"TNK2","SC",20,32.081140350877192,1.4999999999999969,"W",4.6756442682343202,20.218957435429576,0.96187750796953375,0.98922299095263433,1.1134852801519468,"AQT0681",15,1000,74,110,36,12.232456140350877,13.432456140350874,"TNK2","SC",20,21.681199596774192,1.3356854838709695,"VW",6.1605700270832697,27.997067448680351,0.96430385644257821,0.97143367255847168,1.0663289917993246,"AQT0681",15,104.5,60,120,60,8.1382056451612907,9.2067540322580665]
["PBK (TOPK)","PBK","PBK","PBK","TOPK","Other","25_09",14.14,"TOPK","SC",100,21.25344827586207,3.9716748768475085E-2,"VW",0.18687202308522388,0.54110371714727423,0.99971934282124542,1.0161678706570347,1.6219689621726481,"AQT0766",15,14.14,4,60,56,42.427463054187186,42.586330049261086,"TOPK","SC",100,27.369873573851372,0.18187634905951275,"VW",0.66451293086451724,0.62574223131226492,0.99934822543900581,1.0654138055655944,3.0261337432744044,"AQT0766",15,1000,0,90,90,54.375994449583729,55.10349984582178,"TOPK","SC",100,31.382692307692313,0.59700854700854744,"W",1.9023496810125904,1.7474609077662513,0.99717232148650992,1.0854154561301568,2.0908249807247494,"AQT0766",15,1000,0,50,50,63.95940170940171,61.57136752136752,"TOPK","SC",100,16.64172794117647,0.14338235294117574,"VW",0.86158332504887392,0.87776943297033416,0.99906112100886535,1.0399851218151386,1.5221568627450979,"AQT0766",15,14.14,8,38,30,33.570220588235294,32.996691176470591]
["TSSK1B (TSSK1)","TSSK1B","TSSK1","TSSK1","TSSK1","CAMK","12_02",14.18,"TSSK1","Carna",8,88.444368131868131,3.0082417582417587,"W",3.4012813046010488,8.927108927108927,0.99425776143485045,0.97463604982740504,1.190127686079103,"AQT0394",15,14.18,28,54,26,14.632417582417583,13.66978021978022,"TSSK1","Carna",8,150.01216629588433,2.2128754171301552,"M",1.4751306322485038,0.62182154415164126,0.99863720792825805,1.0104311543810849,1.5223691360260823,"AQT0394",15,1000,2,60,58,23.647886540600666,24.356006674082316,"TSSK1","Carna",8,146.02120535714283,1.6796874999999931,"M",1.1503038177857563,1.6574585635359116,0.99709388318430481,1.0091649694501019,1.3192239858906527,"AQT0394",15,1000,10,38,28,23.094642857142858,23.632142857142856,"TSSK1","Carna",8,77.281709558823522,0.98345588235294046,"W",1.2725596884012718,1.0806317539484622,0.99168568627855713,0.98067785872663926,1.1961839530332681,"AQT0394",15,14.18,30,60,30,12.207720588235293,12.522426470588234]
["TSSK2","TSSK2","TSSK2","TSSK2","TSSK2","CAMK","12_03",16.809999999999999,"TSSK2","SC",2,135.6749452654625,4.6592775041050851,"M",3.4341473254245374,3.1914893617021276,0.97210832529896241,0.97030514028261317,1.0796610169491525,"AQT0426",15,16.809999999999999,50,104,54,5.6133689107827038,5.240626710454297,"TSSK2","SC",2,775.876976284585,5.4100790513833985,"S",0.69728568017193338,0.5653405591821653,0.99785930941306655,0.98882817243472976,1.4448645242596094,"AQT0426",15,1000,20,64,44,30.818675889328063,31.251482213438734,"TSSK2","SC",2,758.37053571428567,0.40178571428568499,"S",5.2980132450327268E-2,1.4528735632183909,0.99697907614955295,0.98818385915160112,1.2669694366024302,"AQT0426",15,1000,16,44,28,30.350892857142856,30.318750000000001,"TSSK2","SC",2,306.83760683760687,1.3226495726495369,"S",0.43105849582171535,2.9225375851142723,0.990893930920273,0.97927142124166244,1.1209711620016964,"AQT0426",15,16.809999999999999,10,60,50,12.326410256410256,12.220598290598293]
["TSSK3","TSSK3","TSSK3","TSSK3","TSSK3","CAMK","12_04",41.91,"TSSK3","Carna",4,330.45923913043481,7.7201086956521827,"S",2.3361757764639153,5.0960475400773912,0.99779595098639939,0.97480908459783799,1.2463738508682329,"AQT0426",15,41.91,8,54,46,25.819130434782608,27.054347826086957,"TSSK3","Carna",4,507.13686790505676,6.8820949432404346,"S",1.357048832136744,6.7591264147935606,0.99861267522647157,1.0014510278113664,1.3465075814069103,"AQT0426",15,1000,2,36,34,41.121517027863774,40.020381836945305,"TSSK3","Carna",4,543.99201127819538,2.3308270676691389,"S",0.4284671501319462,2.1740506329113924,0.99908098367324483,0.98196059814858772,1.3887795275590551,"AQT0426",15,1000,0,38,38,43.332894736842114,43.705827067669176,"TSSK3","Carna",4,307.66697303921575,0.59742647058822473,"S",0.19417959122706219,4.6124653335279522,0.99407495742049545,0.98342599391587115,1.260532270229501,"AQT0426",15,41.91,24,56,32,24.661151960784313,24.565563725490197]
["TSSK6 (SSTK)","TSSK6","SSTK","SSTK","TSSK6","CAMK","12_05",74.790000000000006,"TSSK6","Carna",40,5.2743566176470589,0.10523897058823503,"VW",1.995294937701485,7.8478107344632768,0.97978924733950201,0.97826685006877578,1.2082352941176471,"AQT0252",15,74.790000000000006,88,118,30,4.1352941176470592,4.3036764705882353,"TSSK6","Carna",40,8.5029038211029082,2.2033081849760491E-2,"VW",0.25912420407576231,1.679704837993786,0.99839695814039087,0.99706314243759175,1.4680585852290435,"AQT0252",15,1000,26,120,94,6.8199495223621351,6.7846965914025184,"TSSK6","Carna",40,9.2406031468531467,7.8671328671329185E-2,"VW",0.85136573252927117,2.3750345208505936,0.9900407128645945,0.98044771890053839,1.3691131498470948,"AQT0252",15,1000,80,102,22,7.4554195804195809,7.3295454545454541,"TSSK6","Carna",40,5.6490384615384608,0.13876748251748228,"VW",2.4564796905222397,4.2822545134302068,0.97006178310282443,0.9898756146948221,1.2307926829268294,"AQT0252",15,74.790000000000006,90,112,22,4.4082167832167833,4.630244755244755]
["TTBK1","TTBK1","TTBK1","TTBK1","TTBK1","CK1","26_04",10.49,"TTBK1","SC",5,173.52240896358543,1.2037815126050511,"M",0.69373259614997096,5.4382000393004519,0.99596023698602054,0.98581023555008984,1.2786241257066207,"AQT0686",15,10.49,22,90,68,17.472619047619048,17.231862745098038,"TTBK1","SC",5,200.60085470085471,2.2743589743589605,"M",1.1337733220282584,1.6081185107301781,0.99576649296401687,0.97702060221870046,1.4749594249942035,"AQT0686",15,1000,70,120,50,19.832649572649572,20.287521367521364,"TTBK1","SC",5,11.433794466403162,1.2984189723320239,"VW",11.355976147264784,35.57692307692308,0.87523056551804224,0.99430012057437245,1.0120495886919245,"AQT0686",15,1000,32,120,88,1.2732213438735178,1.0135375494071148,"TTBK1","SC",5,175.69143446852425,5.8023735810113468,"M",3.3025933213897587,15.018427518427519,0.99538312511336102,1.0231692180388912,1.1707393812270581,"AQT0686",15,10.49,10,44,34,18.149380804953559,16.988906088751289]
["TTBK2","TTBK2","TTBK2","TTBK2","TTBK2","CK1","26_05",12.48,"TTBK2","Carna",5,364.26354679802955,11.241379310344859,"S",3.0860566227830044,10.078074170461941,0.99855195837802257,1.0040216821122574,1.7094413706942708,"AQT0686",15,36,60,116,56,37.550492610837438,35.302216748768465,"TTBK2","Carna",5,562.78376068376065,20.924786324786307,"S",3.7180863746607571,2.5567725946308961,0.99853234949160652,1.0006441915396178,2.4430817259449213,"AQT0686",15,1000,70,120,50,58.3708547008547,54.185897435897438,"TTBK2","Carna",5,445.46301524562386,3.217108977978568,"S",0.72219440624148923,2.4884511461692673,0.99889095757003754,1.0072963113092825,1.7842105263157895,"AQT0686",15,1000,50,92,42,44.224590626764538,44.868012422360252,"TTBK2","Carna",5,341.16964285714289,7.4285714285714723,"S",2.1773834759624315,2.4851431658562939,0.99758378558433369,1.000981932443048,1.617741289547457,"AQT0686",15,36,72,100,28,33.374107142857135,34.859821428571429]
["TTK","TTK","TTK","TTK","TTK","Other","26_12",33.94,"TTK","Carna",5,34.698879551820731,2.6344537815126041,"W",7.5923309788092812,3.946731234866828,0.95273414062987649,0.98829845814977979,1.0865864396830056,"AQT0897",15,33.94,32,100,68,3.2064425770308125,3.7333333333333334,"TTK","Carna",5,111.19424054206662,0.31761716544325574,"M",0.28564174177986845,4.1636460296747373,0.99188491698576264,1.0096247960848288,1.3306962025316456,"AQT0897",15,1000,48,90,42,11.087662337662337,11.151185770750988,"TTK","Carna",5,51.422163362952823,0.57433356117567058,"W",1.1168988693102126,1.3308625336927222,0.99618266368192043,1.0047916943963795,1.1813257305773344,"AQT0897",15,1000,10,120,110,5.1996496924128506,5.0847829801777165,"TTK","Carna",5,47.582505729564545,1.3605805958747073,"W",2.8594135071565487,3.5919356896771726,0.98031355589970681,1.0023313646254275,1.15244708994709,"AQT0897",15,33.94,24,90,66,4.6221925133689847,4.8943086325439262]
["TXK","TXK","TXK","TXK","TXK","TK","07_05",118.7,"TXK","Carna",10,228.6642156862745,1.6605392156862739,"M",0.72619111420762072,6.866242335221842,0.99549299301830196,0.96072013093289688,1.2203685911433313,"AQT0101",15,118.7,4,36,32,45.400735294117645,46.064950980392155,"TXK","Carna",10,372.61363636363632,15.613636363636335,"S",4.1903019213174675,11.15247832851745,0.99693391925331498,1.012885794450795,1.3416875522138678,"AQT0101",15,1000,2,22,20,71.400000000000006,77.645454545454541,"TXK","Carna",10,278.09742647058823,10.297794117647053,"M",3.7029447731103526,1.24278972207656,0.99632138088079991,0.95773925530823678,2.033716392020815,"AQT0101",15,1000,50,80,30,53.559926470588238,57.679044117647059,"TXK","Carna",10,197.14705882352939,1.0900735294117678,"M",0.55292406385200821,2.4096858638743455,0.99733199394467154,0.98332346556147621,1.4836422566595766,"AQT0101",15,118.7,30,60,30,39.211397058823529,39.647426470588236]
["TYK2 [JH1]","TYK2 [JH1]","TYK2","TYK2","TYK2(JH1)","TK","07_06",57.72,"TYK2(JH1)","Carna",10,96.041254940711454,5.2680335968379488,"W",5.485177802070611,41.748575813926024,0.98064477555927965,0.9801385681293302,1.0990984930032293,"AQT0663",15,57.72,6,50,44,18.154644268774703,20.261857707509883,"TYK2(JH1)","Carna",10,106.06617647058822,8.6296791443850367,"M",8.1361273042382329,13.868171739568636,0.99396502773422535,0.97435048816812841,1.2733806719778316,"AQT0663",15,1000,20,84,64,19.487299465240635,22.939171122994651,"TYK2(JH1)","Carna",10,124.59615384615384,7.8846153846153912,"M",6.3281370581879974,13.08315565031983,0.9802463258388745,0.97586701544173482,1.1446209635641513,"AQT0663",15,1000,18,44,26,23.342307692307692,26.496153846153849,"TYK2(JH1)","Carna",10,50.746100164203618,4.8785577449370612,"W",9.6136604175514631,21.559905100830367,0.9652943063006274,0.99043026706231452,1.0636034404708012,"AQT0663",15,57.72,6,60,54,9.1735084838533112,11.124931581828136]
["TYK2 [JH1-JH2]","TYK2 [JH1-JH2]","TYK2","TYK2_b","TYK2(JH1JH2)","TK","07_07",347.9,"TYK2(JH1JH2)","SC",50,6.0082417582417582,1.9879120879120868,"VW",33.086419753086403,19.417332150251408,0.52753553718807744,1.058736426456071,1.0558607529057999,"AQT0663",15,347.9,84,110,26,7.9961538461538471,4.0203296703296703,"TYK2(JH1JH2)","SC",50,5.1661290322580653,0.27625139043381575,"VW",5.3473575419595925,-12.962962962962962,0.92948127831043537,0.93464001851994749,0.93046594982078856,"AQT0663",15,1000,38,96,58,5.4423804226918797,4.8898776418242482,"TYK2(JH1JH2)","SC",50,5.2015444015444015,0.18220720720720696,"VW",3.5029443784639702,68.445495969155274,0.95772539176276728,0.95966873148397525,1.0217078682462508,"AQT0663",15,1000,50,120,70,5.3837516087516084,5.0193371943371945,"TYK2(JH1JH2)","SC",50,4.4090909090909092,1.6795454545454551,"VW",38.092783505154657,-37.148976677772488,0.38990854201804298,0.97417606724176065,0.95612725393361664,"AQT0663",15,347.9,70,90,20,2.7295454545454549,6.0886363636363638]
["TYRO3","TYRO3","TYRO3","TYRO3","TYRO3","TK","07_08",32.33,"TYRO3","Carna",3,1235.9523809523807,14.269480519480501,"VS",1.1545331955657507,0.64380243890230149,0.99754939763778772,0.98707651869158874,1.9259508834980532,"AQT0104",15,32.33,48,88,40,73.300974025974014,75.013311688311674,"TYRO3","Carna",3,1269.3933823529412,22.683823529411857,"VS",1.7869813916443484,3.8959532207165402,0.99884597993549351,1.0210071942446044,1.5226038028715561,"AQT0104",15,1000,4,34,30,74.80257352941176,77.524632352941182,"TYRO3","Carna",3,1459.5535714285713,"NA","VS","NA","NA",0.99920407876736095,1.0143757384797165,1.5580055621771951,"AQT0104",15,1000,2,30,28,"",87.573214285714272,"TYRO3","Carna",3,962.70833333333348,47.27678571428585,"S",4.9108108943642508,1.5299634398346846,0.99306923092070698,1.0063206130994706,1.6793553089819389,"AQT0104",15,32.33,54,82,28,54.925892857142856,60.599107142857157]
["ULK1","ULK1","ULK1","ULK1","ULK1","Other","24_05",27.05,"ULK1","SC",5,162.73701298701297,6.1883116883116953,"M",3.8026454920894648,29.832340307607037,0.97881244234873721,0.96668288848126382,1.0414705764048109,"AQT0332",15,27.05,52,92,40,15.65487012987013,16.892532467532469,"ULK1","SC",5,344.07224958949092,13.321702244116016,"S",3.8717746810473677,5.5292684308947697,0.99304645832110161,0.98097479650877706,1.3977804659969495,"AQT0332",15,1000,66,120,54,35.739395183360699,33.075054734537495,"ULK1","SC",5,348.90909090909082,1.2727272727272521,"S",0.36477331943720104,6.4710218556372396,0.98656061148331131,0.97450677924819351,1.4005794047932578,"AQT0332",15,1000,64,84,20,35.018181818181816,34.763636363636365,"ULK1","SC",5,259.58834586466162,4.8176691729323373,"M",1.8558880819110679,6.9787176724137936,0.98355359941252574,0.9787092741620439,1.1539482415394824,"AQT0332",15,27.05,60,98,38,25.477067669172932,26.4406015037594]
["ULK2","ULK2","ULK2","ULK2","ULK2","Other","24_06",10.220000000000001,"ULK2","SC",10,118.49316239316239,0.84487179487179975,"M",0.71301312059551614,9.7525904460835964,0.98537283629306682,0.98376077547662477,1.13442799048569,"AQT0332",15,10.220000000000001,40,90,50,23.867606837606839,23.529658119658119,"ULK2","SC",10,145.51416256157637,4.3355911330049404,"M",2.9794977043353246,1.4657462642330967,0.99327539149669064,0.97500745304581138,1.3388762378859291,"AQT0332",15,1000,64,120,56,28.235714285714284,29.96995073891626,"ULK2","SC",10,126.44642857142857,9.3336466165413494,"M",7.381502761281113,16.180823680823682,0.99621171274183817,0.8707166359040206,1.1329000256563755,"AQT0332",15,1000,32,70,38,23.422556390977444,27.156015037593985,"ULK2","SC",10,97.07350427350427,4.6179487179487202,"W",4.7571670071141821,3.6303455580564017,0.97920423339654938,1.0026324186343332,1.123517156341681,"AQT0332",15,10.220000000000001,30,80,50,18.49111111111111,20.338290598290598]
["ULK3","ULK3","ULK3","ULK3","ULK3","Other","24_07",49.44,"ULK3","Carna",10,18.037020905923349,2.8571428571428585,"VW",15.840436577886175,-64.853658536585371,0.79291135580147165,0.93667375094557115,0.96254260778364609,"AQT0686",15,9.1999999999999993,30,110,80,4.1788327526132427,3.0359756097560981,"ULK3","Carna",10,32.760898473635528,1.31735661424607,"W",4.0211248031131328,39.414464158629663,0.92244264855291125,0.98574266682248457,1.0357894736842104,"AQT0686",15,1000,20,112,92,6.28870837187789,6.8156510175763181,"ULK3","Carna",10,29.359234234234233,1.1967503217503215,"VW",4.0762313901050424,18.768518518518519,0.93618519283334045,0.976128,1.0613706102966245,"AQT0686",15,1000,50,120,70,6.1111969111969113,5.6324967824967827,"ULK3","Carna",10,32.074780058651022,0.53060850439882834,"W",1.6542857142857188,23.536960985626283,0.85810056321749195,1.0241423125794156,1.074530359260818,"AQT0686",15,9.1999999999999993,28,90,62,6.3088343108504397,6.521077712609971]
["WEE1","WEE1 ","WEE1","Wee1","WEE1","Other","32_07","NA","WEE1","Carna",60,0.46381578947368413,0.26133040935672519,"VW",56.343577620173377,-28.823737195337333,0.12943609058816721,0.96778622729193076,0.95737986270022879,"AQT0728",15,"NA",76,112,36,0.87017543859649127,0.24298245614035088,"WEE1","Carna",60,1.6298034694773826,0.16134167764602522,"VW",9.8994560183235762,19.285714285714285,0.90281843557157593,0.9946289752650177,1.0530805687203793,"AQT0728",15,1000,32,120,88,2.1493741765480894,1.7621541501976288,"WEE1","Carna",60,1.0964912280701757,7.6951951951951994E-2,"VW",7.0180180180180196,30.376028202115158,0.88000025540791438,0.99274761707418147,1.0634858044164037,"AQT0728",15,1000,48,120,72,1.4081318160265528,1.223447131341868,"WEE1","Carna",60,0.17424242424242423,0.34469696969696967,"VW",197.82608695652175,-60.671936758893274,1.730030251001554E-2,1.0094916947670789,0.97275849816415971,"AQT0728",15,"NA",62,82,20,0.62272727272727268,-0.20454545454545456]
["YES1 (YES)","YES1","YES","YES","YES","TK","07_09",16.22,"YES","Carna",1,4669.0559440559437,307.47377622377599,"VS",6.5853521548657605,19.219058916567814,0.9989008210289021,1.0082268253268694,1.3101773493266613,"AQT0104",15,16.22,0,22,22,87.23164335664336,99.5305944055944,"YES","Carna",1,6371.8497983870984,"NA","VS","NA","NA",0.99615111856398197,1.0937529895723717,2.6438841835729763,"AQT0104",15,1000,0,60,60,"",127.43699596774196,"YES","Carna",1,6503.522727272727,365.68181818181807,"VS",5.622826789676922,4.8982771260997069,0.99263351834541069,1.0536925760806357,1.5845035844053816,"AQT0104",15,1000,0,20,20,122.75681818181818,137.3840909090909,"YES","Carna",1,3992.9195804195806,234.83391608391597,"VS",5.8812583462860362,9.2061453576864523,0.99614580019715404,0.99935343085751227,1.2822619623006282,"AQT0104",15,16.22,0,22,22,75.161713286713294,84.555069930069934]
["STK25 (YSK1)","STK25","YSK1","YSK1","YSK1","STE","18_10",40.83,"YSK1","Carna",3,135.64393939393943,6.1904761904762049,"M",4.5637690988151842,3.6152704707945502,0.99161183912900475,0.9489514933276848,1.3137777777777777,"AQT0505",15,40.83,80,120,40,8.5100649350649356,7.7672077922077909,"YSK1","Carna",3,425.60733384262801,3.058950853068509,"S",0.71872606739421985,0.50460092536046619,0.99930343689482326,1.0007684918347743,2.1719942256135285,"AQT0505",15,1000,50,116,66,25.719977081741789,25.352902979373567,"YSK1","Carna",3,569.45970695970709,10.920329670329624,"S",1.9176650317600619,1.0145177684444699,0.99823877573755615,1.0207222306871857,1.6573254670599804,"AQT0505",15,1000,40,64,24,34.82280219780219,33.512362637362635,"YSK1","Carna",3,125.79656862745098,3.0759803921568629,"M",2.4452021432050661,1.7189703808180536,0.98521889634027082,1.0044052863436124,1.3424293648877084,"AQT0505",15,40.83,90,120,30,7.7323529411764707,7.3632352941176471]
["MAP3K19 (YSK4)","MAP3K19","MAP3K19","MAP3K19","YSK4","STE","25_06",18.510000000000002,"YSK4","SC",4,364.44444444444451,9.1185897435897232,"S",2.5020520637898627,4.2754542754542753,0.99786569772545342,0.99243450767841013,1.3347432734108802,"AQT0742",15,18.510000000000002,0,50,50,29.885042735042731,28.426068376068375,"YSK4","SC",4,588.34829059829065,8.4059829059829116,"S",1.4287426411037716,6.1367771855525675,0.99856424768001972,1.0015746260263187,1.5871435594886922,"AQT0742",15,1000,0,50,50,47.74034188034188,46.395384615384614,"YSK4","SC",4,754.99653983934002,15.587175694746012,"S",2.0645360438423856,1.1275557231439586,0.999008469341779,1.0106199770378874,2.2188744765601065,"AQT0742",15,1000,0,94,94,59.152749131567518,61.64669724272688,"YSK4","SC",4,456.13636363636357,4.005681818181861,"S",0.8781763826606972,1.672462328200033,0.99857236319436049,1.0272224585282859,1.2433510638297873,"AQT0742",15,18.510000000000002,0,20,20,36.811363636363637,36.17045454545454]
["MAP3K20 (MLK7, ZAK)","MAP3K20","ZAK","ZAK","ZAK","TKL","18_11",44.06,"ZAK","Carna",8,55.088110902255629,3.3094454887218014,"W",6.007549423130234,8.0250000000000004,0.98847363681942968,1.00979468826521,1.195541650371529,"AQT0742",15,44.06,22,60,38,9.3436090225563895,8.2845864661654129,"ZAK","Carna",8,115.37946428571428,5.7183441558441572,"M",4.9561195237341513,15.305082277559343,0.99478260794022244,0.9817704535511157,1.2054342704570442,"AQT0742",15,1000,0,40,40,19.375649350649351,17.54577922077922,"ZAK","Carna",8,190.23164335664336,4.3597027972027913,"M",2.2917863296955741,6.8673883626522327,0.99777551931044894,1.0179052077238151,1.1838308457711442,"AQT0742",15,1000,0,22,22,29.73951048951049,31.134615384615383,"ZAK","Carna",8,53.021978021978029,3.7374084249084309,"W",7.0487910189982834,9.9576826573793209,0.99286323457233494,1.0126732673267327,1.2000809225166904,"AQT0742",15,44.06,8,60,52,9.0815018315018321,7.8855311355311342]
["ZAP70","ZAP70","ZAP70","ZAP70","ZAP70","TK","07_10",58.44,"ZAP70","Carna",1,678.50389321468299,85.130700778643046,"S",12.546825689577457,38.908554572271385,0.93425370344766057,0.98350618936099032,1.0260987198099512,"AQT0734",15,58.44,2,60,58,11.867463848720801,15.272691879866519,"ZAP70","Carna",1,4767.8335777126103,10.302877565982271,"VS",0.21609138402278552,1.782605784681307,0.99798125623034228,1.0040814626629462,1.540711625982623,"AQT0734",15,1000,8,70,62,95.150614002932556,95.562729105571847,"ZAP70","Carna",1,6446.704545454545,51.249999999999567,"VS",0.79497981703124609,2.4132418914041152,0.99569994876474277,0.99971206449755257,1.215543239057788,"AQT0734",15,1000,2,22,20,127.90909090909091,129.95909090909089,"ZAP70","Carna",1,3136.3636363636351,199.52922077922071,"VS",6.3618012422360248,3.3111203665139524,0.990935742553535,0.96978904721989379,1.3128573934397474,"AQT0734",15,58.44,40,80,40,58.736688311688312,66.717857142857142]

{"sheet":"Table of 400+ Kinases","index":43,"n_rows":51,"n_cols":10,"rows_kept":51,"cut":false,"hidden":false,"merged":[[0,4,0,5]]}
[null,null,null,null,"AQT Common Name"]
[null,"AAK1","CDK12/K","DAPK3","FYNB","LATS2","MST1","PDHK3","RSK2"]
[null,"ABL1","CDK13/K","DCAML1","GAK","LCK","MST1R","PDHK4","RSK3"]
[null,"ABL2","CDK14","DCAML2","GCK","LIMK1","MST2","PDK1","RSK4"]
[null,"AKT1","CDK16","DDR1","GCN2","LIMK2","MST3","PEK","SBK1"]
[null,"AKT2","CDK17","DDR2","GLK/KHS2","LKB1","MST4","PGK","SGK"]
[null,"AKT3","CDK17/P35","DMPK1","GRK1","LOK","mTOR","PGK2","SGK2"]
[null,"ALK","CDK18","DMPK2","GRK2","LRRK2","MUSK","PHKG1","SGK3"]
[null,"AMPK111","CDK2/A1","DNA-PK","GRK3","LTK","MYLK2","PHKG2","SIK1"]
[null,"AMPK112","CDK2/A2","DRAK1","GRK4","LYNA","MYLK3","PIM1","SIK2"]
[null,"AMPK113","CDK2/D1","DRAK2","GRK5","LYNB","MYLK4","PIM2","SIK3"]
[null,"AMPK121","CDK2/E1","DYRK1A","GRK6","MAK","MYO3A","PIM3","SLK"]
[null,"AMPK122","CDK2/E2","DYRK1B","GRK7","MAP3K1","MYO3B","PINK","SNRK"]
[null,"AMPK123","CDK2/O","DYRK2","GSK3A","MAP3K10","MYT1","PKACA","SRC"]
[null,"AMPK211","CDK3/E1","DYRK3","GSK3B","MAP3K11","NDR1","PKACB","SRC N1"]
[null,"AMPK212","CDK3/E2","DYRK4","HASPIN","MAP3K12","NDR2","PKACG","SRM"]
[null,"AMPK213","CDK4/D1","EEF2K","HCK","MAP3K13","NEK1","PKCA","SRPK1"]
[null,"AMPK221","CDK4/D2","EGFR","HER2","MAP3K14","NEK10","PKCB1","SRPK2"]
[null,"AMPK222","CDK4/D3","EPHA1","HER4","MAP3K2","NEK11","PKCB2","STK16"]
[null,"AMPK223","CDK5/P25","EPHA2","HGK","MAP3K3","NEK2","PKCD","STK33"]
[null,"AURA","CDK5/P35","EPHA3","HIPK1","MAP3K5","NEK3","PKCE","SYK"]
[null,"AURB","CDK6/D1","EPHA4","HIPK2","MAP3K6","NEK4","PKCG","TAOK1"]
[null,"AURC","CDK6/D2","EPHA5","HIPK3","MAP3K7","NEK5","PKCH","TAOK2"]
[null,"AXL","CDK6/D3","EPHA6","HIPK4","MAP3K8","NEK6","PKCI","TAOK3"]
[null,"BCKDK","CDK7","EPHA7","HPK1","MAP3K9","NEK7","PKCQ","TBK1"]
[null,"BCR RET","CDK7/H1","EPHA8","HRI","MARK1","NEK8","PKCZ","TEC"]
[null,"BIKE","CDK9/K","EPHB1","HUNK","MARK2","NEK9","PKD1","TEK"]
[null,"BLK","CDK9/T1","EPHB2","ICK","MARK3","NIM1","PKD2","TESK2"]
[null,"BMX","CDK9/T2","EPHB3","IGF1R","MARK4","NLK","PKD3","TLK1"]
[null,"BRAF","CDKL5","EPHB4","IKKA","MAST3","NTRK1","PKN1","TLK2"]
[null,"BRAF(V600E)","CHAK1","ERK1","IKKB","MASTL","NTRK2","PKN2","TNIK"]
[null,"BRSK1","CHK1","ERK2","IKKE","MEK1","NTRK3","PKN3","TNK1"]
[null,"BRSK2","CHK2","ERK3","INSR","MEK2","NUAK1","PKR","TNK2"]
[null,"BTK","CK1A1","ERK5","INSRR","MEK3","NUAK2","PLK1","TOPK"]
[null,"BUB1","CK1A1L","ERK7","IRAK1","MEK4(HIS)","P38A","PLK2","TSSK1"]
[null,"CAMK1A","CK1D","ERN1","IRAK4","MELK","P38B","PLK3","TSSK2"]
[null,"CAMK1B","CK1E","ERN2","ITK","MERTK","P38D","PLK4","TSSK3"]
[null,"CAMK1D","CK1G1","FAM20C","JAK1(JH1)","MET","P38G","PRKX","TSSK6"]
[null,"CAMK1G","CK1G2","FER","JAK1(JH1JH2)","MINK","P70S6KA","PTK2","TTBK1"]
[null,"CAMK2A","CK1G3","FES","JAK2(JH1)","MK2","P70S6KB","PTK2B","TTBK2"]
[null,"CAMK2B","CK2A1","FGFR1","JAK2(JH1JH2)","MK3","PAK1","PTK6","TTK"]
[null,"CAMK2D","CK2A2","FGFR2","JAK3(JH1)","MK5","PAK2","RAF1","TXK"]
[null,"CAMK2G","CLK1","FGFR3","JNK1","MLCK","PAK3","RET","TYK2(JH1)"]
[null,"CAMK4","CLK2","FGFR4","JNK2","MLK4","PAK4","RIPK1","TYK2(JH1JH2)"]
[null,"CAMKK1","CLK3","FGR","JNK3","MNK1","PAK5","RIPK2","TYRO3"]
[null,"CAMKK2","CLK4","FLT1","KDR","MNK2","PAK6","RIPK3","ULK1"]
[null,"CDC7","CRIK","FLT3","KHS1","MRCKA","PASK","RIPK5","ULK2"]
[null,"CDK1/A1","CSK","FLT4","KIT","MRCKB","PDGFRA","ROCK1","ULK3"]
[null,"CDK1/A2","CTK","FMS/CSF1R","KSR1","MSK1","PDGFRB","ROCK2","WEE1","YSK4"]
[null,"CDK1/B1","DAPK1","FRK","KSR2","MSK2","PDHK1","ROS","YES","ZAK"]
[null,"CDK1/E1","DAPK2","FYNA","LATS1","MSSK1","PDHK2","RSK1","YSK1","ZAP70"]

{"sheet":"Assay Conditions","index":44,"n_rows":0,"n_cols":0,"rows_kept":0,"cut":false,"hidden":false,"merged":[]}